{"text_format":"1","workbook":"xlsx","n_sheets":22,"sheets":["menu","1","2","3","4","5","6","7","8","9","10","11","12","13","14","15","16","17","18","19","20","mes"],"not_rendered":{"charts":0,"images":1,"macros":1,"external_links":0,"defined_names":1,"comments":2,"pivot_tables":0},"unopened":[],"bounds":{"document_bytes":16777216,"sheet_cells":100000,"rows_first":2000,"rows_last":500,"rows_between":2000,"halvings":0,"cell_chars":16384,"cell_head_chars":4096},"cells_cut":0,"cells_raw":0,"read":"whole","date_system":"1900"}

{"sheet":"menu","index":0,"n_rows":41,"n_cols":19,"rows_kept":41,"cut":false,"hidden":false,"merged":[[1,15,3,15],[1,16,3,16],[6,18,8,18],[39,14,39,16],[29,1,29,2],[30,1,30,2],[31,1,31,2],[32,1,32,2]]}
[]
[null,null,null,null,null,null,null,null,null,null,null,null,null,null,null,"AÑO"]
[]
[]
[]
[null,"SECCIONES","IR","SIN FECHA","ENERO","FEBR.","MARZO","ABRIL","MAYO","JUNIO","JULIO","AGOS.","SEPT.","OCT.","NOV.","DIC.","TOTAL"]
[null,"NOMINA",null,{"$f":"'1'!W306","v":0},{"$f":"'1'!K306","v":0},{"$f":"'1'!L306","v":0},{"$f":"'1'!M306","v":0},{"$f":"'1'!N306","v":0},{"$f":"'1'!O306","v":0},{"$f":"'1'!P306","v":0},{"$f":"'1'!Q306","v":0},{"$f":"'1'!R306","v":0},{"$f":"'1'!S306","v":0},{"$f":"'1'!T306","v":0},{"$f":"'1'!U306","v":0},{"$f":"'1'!V306","v":0},{"$f":"SUM(D7:P7)","v":0},null," %  GASTOS POR SECCION"]
[null,"OTROS INGRESOS",null,{"$f":"'2'!W306","v":0},{"$f":"'2'!K306","v":0},{"$f":"'2'!L306","v":0},{"$f":"'2'!M306","v":0},{"$f":"'2'!N306","v":0},{"$f":"'2'!O306","v":0},{"$f":"'2'!P306","v":0},{"$f":"'2'!Q306","v":0},{"$f":"'2'!R306","v":0},{"$f":"'2'!S306","v":0},{"$f":"'2'!T306","v":0},{"$f":"'2'!U306","v":0},{"$f":"'2'!V306","v":0},{"$f":"SUM(D8:P8)","v":0}]
[]
[null,"ALIMENTACION",null,{"$f":"'3'!W306","v":0},{"$f":"'3'!K306","v":0},{"$f":"'3'!L306","v":0},{"$f":"'3'!M306","v":0},{"$f":"'3'!N306","v":0},{"$f":"'3'!O306","v":0},{"$f":"'3'!P306","v":0},{"$f":"'3'!Q306","v":0},{"$f":"'3'!R306","v":0},{"$f":"'3'!S306","v":0},{"$f":"'3'!T306","v":0},{"$f":"'3'!U306","v":0},{"$f":"'3'!V306","v":0},{"$f":"SUM(D10:P10)","v":0},null,{"$f":"IF($Q$32=0,0,Q10/$Q$32)","v":0}]
[null,"ENERGIA",null,{"$f":"'4'!W306","v":0},{"$f":"'4'!K306","v":0},{"$f":"'4'!L306","v":0},{"$f":"'4'!M306","v":0},{"$f":"'4'!N306","v":0},{"$f":"'4'!O306","v":0},{"$f":"'4'!P306","v":0},{"$f":"'4'!Q306","v":0},{"$f":"'4'!R306","v":0},{"$f":"'4'!S306","v":0},{"$f":"'4'!T306","v":0},{"$f":"'4'!U306","v":0},{"$f":"'4'!V306","v":0},0,null,{"$f":"IF($Q$32=0,0,Q11/$Q$32)","v":0}]
[null,"MOBILIARIO",null,{"$f":"'5'!W306","v":0},{"$f":"'5'!K306","v":0},{"$f":"'5'!L306","v":0},{"$f":"'5'!M306","v":0},{"$f":"'5'!N306","v":0},{"$f":"'5'!O306","v":0},{"$f":"'5'!P306","v":0},{"$f":"'5'!Q306","v":0},{"$f":"'5'!R306","v":0},{"$f":"'5'!S306","v":0},{"$f":"'5'!T306","v":0},{"$f":"'5'!U306","v":0},{"$f":"'5'!V306","v":0},0,null,0]
[null,"VESTIR",null,{"$f":"'6'!W306","v":0},{"$f":"'6'!K306","v":0},{"$f":"'6'!L306","v":0},{"$f":"'6'!M306","v":0},{"$f":"'6'!N306","v":0},{"$f":"'6'!O306","v":0},{"$f":"'6'!P306","v":0},{"$f":"'6'!Q306","v":0},{"$f":"'6'!R306","v":0},{"$f":"'6'!S306","v":0},{"$f":"'6'!T306","v":0},{"$f":"'6'!U306","v":0},{"$f":"'6'!V306","v":0},0,null,0]
[null,"LIMPIEZA",null,{"$f":"'7'!W306","v":0},{"$f":"'7'!K306","v":0},{"$f":"'7'!L306","v":0},{"$f":"'7'!M306","v":0},{"$f":"'7'!N306","v":0},{"$f":"'7'!O306","v":0},{"$f":"'7'!P306","v":0},{"$f":"'7'!Q306","v":0},{"$f":"'7'!R306","v":0},{"$f":"'7'!S306","v":0},{"$f":"'7'!T306","v":0},{"$f":"'7'!U306","v":0},{"$f":"'7'!V306","v":0},0,null,0]
[null,"COMUNICACIÓN",null,{"$f":"'8'!W306","v":0},{"$f":"'8'!K306","v":0},{"$f":"'8'!L306","v":0},{"$f":"'8'!M306","v":0},{"$f":"'8'!N306","v":0},{"$f":"'8'!O306","v":0},{"$f":"'8'!P306","v":0},{"$f":"'8'!Q306","v":0},{"$f":"'8'!R306","v":0},{"$f":"'8'!S306","v":0},{"$f":"'8'!T306","v":0},{"$f":"'8'!U306","v":0},{"$f":"'8'!V306","v":0},0,null,0]
[null,"COCHE",null,{"$f":"'9'!W306","v":0},{"$f":"'9'!K306","v":0},{"$f":"'9'!L306","v":0},{"$f":"'9'!M306","v":0},{"$f":"'9'!N306","v":0},{"$f":"'9'!O306","v":0},{"$f":"'9'!P306","v":0},{"$f":"'9'!Q306","v":0},{"$f":"'9'!R306","v":0},{"$f":"'9'!S306","v":0},{"$f":"'9'!T306","v":0},{"$f":"'9'!U306","v":0},{"$f":"'9'!V306","v":0},0,null,0]
[null,"OCIO Y HOBIES",null,{"$f":"'10'!W306","v":0},{"$f":"'10'!K306","v":0},{"$f":"'10'!L306","v":0},{"$f":"'10'!M306","v":0},{"$f":"'10'!N306","v":0},{"$f":"'10'!O306","v":0},{"$f":"'10'!P306","v":0},{"$f":"'10'!Q306","v":0},{"$f":"'10'!R306","v":0},{"$f":"'10'!S306","v":0},{"$f":"'10'!T306","v":0},{"$f":"'10'!U306","v":0},{"$f":"'10'!V306","v":0},0,null,0]
[null,"IMPUESTOS",null,{"$f":"'11'!W306","v":0},{"$f":"'11'!K306","v":0},{"$f":"'11'!L306","v":0},{"$f":"'11'!M306","v":0},{"$f":"'11'!N306","v":0},{"$f":"'11'!O306","v":0},{"$f":"'11'!P306","v":0},{"$f":"'11'!Q306","v":0},{"$f":"'11'!R306","v":0},{"$f":"'11'!S306","v":0},{"$f":"'11'!T306","v":0},{"$f":"'11'!U306","v":0},{"$f":"'11'!V306","v":0},0,null,0]
[null,"SEGUROS, CREDITOS",null,{"$f":"'12'!W306","v":0},{"$f":"'12'!K306","v":0},{"$f":"'12'!L306","v":0},{"$f":"'12'!M306","v":0},{"$f":"'12'!N306","v":0},{"$f":"'12'!O306","v":0},{"$f":"'12'!P306","v":0},{"$f":"'12'!Q306","v":0},{"$f":"'12'!R306","v":0},{"$f":"'12'!S306","v":0},{"$f":"'12'!T306","v":0},{"$f":"'12'!U306","v":0},{"$f":"'12'!V306","v":0},0,null,0]
[null,"GASTOS VARIOS",null,{"$f":"'13'!W306","v":0},{"$f":"'13'!K306","v":0},{"$f":"'13'!L306","v":0},{"$f":"'13'!M306","v":0},{"$f":"'13'!N306","v":0},{"$f":"'13'!O306","v":0},{"$f":"'13'!P306","v":0},{"$f":"'13'!Q306","v":0},{"$f":"'13'!R306","v":0},{"$f":"'13'!S306","v":0},{"$f":"'13'!T306","v":0},{"$f":"'13'!U306","v":0},{"$f":"'13'!V306","v":0},0,null,0]
[null,"NUEVA SECCCION",null,{"$f":"'14'!W306","v":0},{"$f":"'14'!K306","v":0},{"$f":"'14'!L306","v":0},{"$f":"'14'!M306","v":0},{"$f":"'14'!N306","v":0},{"$f":"'14'!O306","v":0},{"$f":"'14'!P306","v":0},{"$f":"'14'!Q306","v":0},{"$f":"'14'!R306","v":0},{"$f":"'14'!S306","v":0},{"$f":"'14'!T306","v":0},{"$f":"'14'!U306","v":0},{"$f":"'14'!V306","v":0},0,null,0]
[null,"NUEVA SECCCION",null,{"$f":"'15'!W306","v":0},{"$f":"'15'!K306","v":0},{"$f":"'15'!L306","v":0},{"$f":"'15'!M306","v":0},{"$f":"'15'!N306","v":0},{"$f":"'15'!O306","v":0},{"$f":"'15'!P306","v":0},{"$f":"'15'!Q306","v":0},{"$f":"'15'!R306","v":0},{"$f":"'15'!S306","v":0},{"$f":"'15'!T306","v":0},{"$f":"'15'!U306","v":0},{"$f":"'15'!V306","v":0},0,null,0]
[null,"NUEVA SECCCION",null,{"$f":"'16'!W306","v":0},{"$f":"'16'!K306","v":0},{"$f":"'16'!L306","v":0},{"$f":"'16'!M306","v":0},{"$f":"'16'!N306","v":0},{"$f":"'16'!O306","v":0},{"$f":"'16'!P306","v":0},{"$f":"'16'!Q306","v":0},{"$f":"'16'!R306","v":0},{"$f":"'16'!S306","v":0},{"$f":"'16'!T306","v":0},{"$f":"'16'!U306","v":0},{"$f":"'16'!V306","v":0},0,null,0]
[null,"NUEVA SECCCION",null,{"$f":"'17'!W306","v":0},{"$f":"'17'!K306","v":0},{"$f":"'17'!L306","v":0},{"$f":"'17'!M306","v":0},{"$f":"'17'!N306","v":0},{"$f":"'17'!O306","v":0},{"$f":"'17'!P306","v":0},{"$f":"'17'!Q306","v":0},{"$f":"'17'!R306","v":0},{"$f":"'17'!S306","v":0},{"$f":"'17'!T306","v":0},{"$f":"'17'!U306","v":0},{"$f":"'17'!V306","v":0},0,null,0]
[null,"NUEVA SECCCION",null,{"$f":"'18'!W306","v":0},{"$f":"'18'!K306","v":0},{"$f":"'18'!L306","v":0},{"$f":"'18'!M306","v":0},{"$f":"'18'!N306","v":0},{"$f":"'18'!O306","v":0},{"$f":"'18'!P306","v":0},{"$f":"'18'!Q306","v":0},{"$f":"'18'!R306","v":0},{"$f":"'18'!S306","v":0},{"$f":"'18'!T306","v":0},{"$f":"'18'!U306","v":0},{"$f":"'18'!V306","v":0},0,null,0]
[null,"NUEVA SECCCION",null,{"$f":"'19'!W306","v":0},{"$f":"'19'!K306","v":0},{"$f":"'19'!L306","v":0},{"$f":"'19'!M306","v":0},{"$f":"'19'!N306","v":0},{"$f":"'19'!O306","v":0},{"$f":"'19'!P306","v":0},{"$f":"'19'!Q306","v":0},{"$f":"'19'!R306","v":0},{"$f":"'19'!S306","v":0},{"$f":"'19'!T306","v":0},{"$f":"'19'!U306","v":0},{"$f":"'19'!V306","v":0},0,null,0]
[null,"NUEVA SECCCION",null,{"$f":"'20'!W306","v":0},{"$f":"'20'!K306","v":0},{"$f":"'20'!L306","v":0},{"$f":"'20'!M306","v":0},{"$f":"'20'!N306","v":0},{"$f":"'20'!O306","v":0},{"$f":"'20'!P306","v":0},{"$f":"'20'!Q306","v":0},{"$f":"'20'!R306","v":0},{"$f":"'20'!S306","v":0},{"$f":"'20'!T306","v":0},{"$f":"'20'!U306","v":0},{"$f":"'20'!V306","v":0},0,null,0]
[]
[]
[null,"TOTALES",null,"SIN FECHA","ENERO","FEBR.","MARZO","ABRIL","MAYO","JUNIO","JULIO","AGOS.","SEPT.","OCT.","NOV.","DIC.","TOTAL AÑO"]
[null,"INGRESOS POR MES",null,{"$f":"SUM(D7:D8)","v":0},{"$f":"SUM(E7:E8)","v":0},0,0,0,0,0,0,0,0,0,0,0,{"$f":"SUM(Q7:Q8)","v":0}]
[null,"GASTOS POR MESES",null,{"$f":"SUM(D10:D27)","v":0},{"$f":"SUM(E10:E27)","v":0},0,0,0,0,0,0,0,0,0,0,0,{"$f":"SUM(Q10:Q27)","v":0}]
[null,"RESULTADO POR MES",null,{"$f":"+D31-D32","v":0},{"$f":"+E31-E32","v":0},0,0,0,0,0,0,0,0,0,0,0,0]
[]
[]
[null,"Esta hoja es un resumen por meses de todas las anotaciones que realicemos en el libro. En todas las hojas hay un botón en la parte superior que nos"]
[null,"permitirá volver aquí. Esta hoja es solo de consulta. Solo podrá escribir aquí el año y el nombre de las secciones."]
[null,"Para ir a cada una de las secciones, haga clic en la flecha al lado del nombre correspondiente. Para contabilizar por meses, es necesario que elija un mes"]
[null,"cuando haga la anotación. Si no lo hace, el gasto o ingreso será contabilizado en la columna \"SIN FECHA\"."]
[null,"Los campos en verde son para ingresos y los naranja para gastos."]
[null,"Para borrar los datos de una o varias celdas, selecciónelas y con un clic del botón derecho, elija \"Borrar contenido\"."]

{"sheet":"1","index":1,"n_rows":306,"n_cols":23,"rows_kept":306,"cut":false,"hidden":false,"merged":[]}
[]
[null,null,{"$f":"menu!B7","v":"NOMINA"}]
[]
[null,null,null,null,null,null,null,null,null,"Enero"]
[null,null,"DIA","MES","CONCEPTO","TOTAL",null,null,null,"Febrero","Enero","Febrero","Marzo","Abril","Mayo","Junio","Julio","Agosto","Septiembre","Octubre","Noviembre","Diciembre"]
[null,1,null,null,null,null,null,null,null,"Marzo",{"$f":"IF($D6=K$5,$F6,0)","v":0},0,0,0,0,0,0,0,0,0,0,0,0]
[null,2,null,null,null,null,null,null,null,"Abril",0,0,0,0,0,0,0,0,0,0,0,0,0]
[null,3,null,null,null,null,null,null,null,"Mayo",0,0,0,0,0,0,0,0,0,0,0,0,0]
[null,4,null,null,null,null,null,null,null,"Junio",0,0,0,0,0,0,0,0,0,0,0,0,0]
[null,5,null,null,null,null,null,null,null,"Julio",0,0,0,0,0,0,0,0,0,0,0,0,0]
[null,6,null,null,null,null,null,null,null,"Agosto",0,0,0,0,0,0,0,0,0,0,0,0,0]
[null,7,null,null,null,null,null,null,null,"Septiembre",0,0,0,0,0,0,0,0,0,0,0,0,0]
[null,8,null,null,null,null,null,null,null,"Octubre",0,0,0,0,0,0,0,0,0,0,0,0,0]
[null,9,null,null,null,null,null,null,null,"Noviembre",0,0,0,0,0,0,0,0,0,0,0,0,0]
[null,10,null,null,null,null,null,null,null,"Diciembre",0,0,0,0,0,0,0,0,0,0,0,0,0]
[null,11,null,null,null,null,null,null,null,null,{"$f":"IF($D16=K$5,$F16,0)","v":0},0,0,0,0,0,0,0,0,0,0,0,0]
[null,12,null,null,null,null,null,null,null,null,0,0,0,0,0,0,0,0,0,0,0,0,0]
[null,13,null,null,null,null,null,null,null,null,0,0,0,0,0,0,0,0,0,0,0,0,0]
[null,14,null,null,null,null,null,null,null,null,0,0,0,0,0,0,0,0,0,0,0,0,0]
[null,15,null,null,null,null,null,null,null,null,0,0,0,0,0,0,0,0,0,0,0,0,0]
[null,16,null,null,null,null,null,null,null,null,0,0,0,0,0,0,0,0,0,0,0,0,0]
[null,17,null,null,null,null,null,null,null,null,0,0,0,0,0,0,0,0,0,0,0,0,0]
[null,18,null,null,null,null,null,null,null,null,0,0,0,0,0,0,0,0,0,0,0,0,0]
[null,19,null,null,null,null,null,null,null,null,0,0,0,0,0,0,0,0,0,0,0,0,0]
[null,20,null,null,null,null,null,null,null,null,0,0,0,0,0,0,0,0,0,0,0,0,0]
[null,21,null,null,null,null,null,null,null,null,{"$f":"IF($D26=K$5,$F26,0)","v":0},0,0,0,0,0,0,0,0,0,0,0,0]
[null,22,null,null,null,null,null,null,null,null,0,0,0,0,0,0,0,0,0,0,0,0,0]
[null,23,null,null,null,null,null,null,null,null,0,0,0,0,0,0,0,0,0,0,0,0,0]
[null,24,null,null,null,null,null,null,null,null,0,0,0,0,0,0,0,0,0,0,0,0,0]
[null,25,null,null,null,null,null,null,null,null,0,0,0,0,0,0,0,0,0,0,0,0,0]
[null,26,null,null,null,null,null,null,null,null,0,0,0,0,0,0,0,0,0,0,0,0,0]
[null,27,null,null,null,null,null,null,null,null,0,0,0,0,0,0,0,0,0,0,0,0,0]
[null,28,null,null,null,null,null,null,null,null,0,0,0,0,0,0,0,0,0,0,0,0,0]
[null,29,null,null,null,null,null,null,null,null,0,0,0,0,0,0,0,0,0,0,0,0,0]
[null,30,null,null,null,null,null,null,null,null,0,0,0,0,0,0,0,0,0,0,0,0,0]
[null,31,null,null,null,null,null,null,null,null,{"$f":"IF($D36=K$5,$F36,0)","v":0},0,0,0,0,0,0,0,0,0,0,0,0]
[null,32,null,null,null,null,null,null,null,null,0,0,0,0,0,0,0,0,0,0,0,0,0]
[null,33,null,null,null,null,null,null,null,null,0,0,0,0,0,0,0,0,0,0,0,0,0]
[null,34,null,null,null,null,null,null,null,null,0,0,0,0,0,0,0,0,0,0,0,0,0]
[null,35,null,null,null,null,null,null,null,null,0,0,0,0,0,0,0,0,0,0,0,0,0]
[null,36,null,null,null,null,null,null,null,null,0,0,0,0,0,0,0,0,0,0,0,0,0]
[null,37,null,null,null,null,null,null,null,null,0,0,0,0,0,0,0,0,0,0,0,0,0]
[null,38,null,null,null,null,null,null,null,null,0,0,0,0,0,0,0,0,0,0,0,0,0]
[null,39,null,null,null,null,null,null,null,null,0,0,0,0,0,0,0,0,0,0,0,0,0]
[null,40,null,null,null,null,null,null,null,null,0,0,0,0,0,0,0,0,0,0,0,0,0]
[null,41,null,null,null,null,null,null,null,null,{"$f":"IF($D46=K$5,$F46,0)","v":0},0,0,0,0,0,0,0,0,0,0,0,0]
[null,42,null,null,null,null,null,null,null,null,0,0,0,0,0,0,0,0,0,0,0,0,0]
[null,43,null,null,null,null,null,null,null,null,0,0,0,0,0,0,0,0,0,0,0,0,0]
[null,44,null,null,null,null,null,null,null,null,0,0,0,0,0,0,0,0,0,0,0,0,0]
[null,45,null,null,null,null,null,null,null,null,0,0,0,0,0,0,0,0,0,0,0,0,0]
[null,46,null,null,null,null,null,null,null,null,0,0,0,0,0,0,0,0,0,0,0,0,0]
[null,47,null,null,null,null,null,null,null,null,0,0,0,0,0,0,0,0,0,0,0,0,0]
[null,48,null,null,null,null,null,null,null,null,0,0,0,0,0,0,0,0,0,0,0,0,0]
[null,49,null,null,null,null,null,null,null,null,0,0,0,0,0,0,0,0,0,0,0,0,0]
[null,50,null,null,null,null,null,null,null,null,0,0,0,0,0,0,0,0,0,0,0,0,0]
[null,51,null,null,null,null,null,null,null,null,{"$f":"IF($D56=K$5,$F56,0)","v":0},0,0,0,0,0,0,0,0,0,0,0,0]
[null,52,null,null,null,null,null,null,null,null,0,0,0,0,0,0,0,0,0,0,0,0,0]
[null,53,null,null,null,null,null,null,null,null,0,0,0,0,0,0,0,0,0,0,0,0,0]
[null,54,null,null,null,null,null,null,null,null,0,0,0,0,0,0,0,0,0,0,0,0,0]
[null,55,null,null,null,null,null,null,null,null,0,0,0,0,0,0,0,0,0,0,0,0,0]
[null,56,null,null,null,null,null,null,null,null,0,0,0,0,0,0,0,0,0,0,0,0,0]
[null,57,null,null,null,null,null,null,null,null,0,0,0,0,0,0,0,0,0,0,0,0,0]
[null,58,null,null,null,null,null,null,null,null,0,0,0,0,0,0,0,0,0,0,0,0,0]
[null,59,null,null,null,null,null,null,null,null,0,0,0,0,0,0,0,0,0,0,0,0,0]
[null,60,null,null,null,null,null,null,null,null,0,0,0,0,0,0,0,0,0,0,0,0,0]
[null,61,null,null,null,null,null,null,null,null,{"$f":"IF($D66=K$5,$F66,0)","v":0},0,0,0,0,0,0,0,0,0,0,0,0]
[null,62,null,null,null,null,null,null,null,null,0,0,0,0,0,0,0,0,0,0,0,0,0]
[null,63,null,null,null,null,null,null,null,null,0,0,0,0,0,0,0,0,0,0,0,0,0]
[null,64,null,null,null,null,null,null,null,null,0,0,0,0,0,0,0,0,0,0,0,0,0]
[null,65,null,null,null,null,null,null,null,null,0,0,0,0,0,0,0,0,0,0,0,0,0]
[null,66,null,null,null,null,null,null,null,null,0,0,0,0,0,0,0,0,0,0,0,0,0]
[null,67,null,null,null,null,null,null,null,null,0,0,0,0,0,0,0,0,0,0,0,0,0]
[null,68,null,null,null,null,null,null,null,null,0,0,0,0,0,0,0,0,0,0,0,0,0]
[null,69,null,null,null,null,null,null,null,null,0,0,0,0,0,0,0,0,0,0,0,0,0]
[null,70,null,null,null,null,null,null,null,null,0,0,0,0,0,0,0,0,0,0,0,0,0]
[null,71,null,null,null,null,null,null,null,null,{"$f":"IF($D76=K$5,$F76,0)","v":0},0,0,0,0,0,0,0,0,0,0,0,0]
[null,72,null,null,null,null,null,null,null,null,0,0,0,0,0,0,0,0,0,0,0,0,0]
[null,73,null,null,null,null,null,null,null,null,0,0,0,0,0,0,0,0,0,0,0,0,0]
[null,74,null,null,null,null,null,null,null,null,0,0,0,0,0,0,0,0,0,0,0,0,0]
[null,75,null,null,null,null,null,null,null,null,0,0,0,0,0,0,0,0,0,0,0,0,0]
[null,76,null,null,null,null,null,null,null,null,0,0,0,0,0,0,0,0,0,0,0,0,0]
[null,77,null,null,null,null,null,null,null,null,0,0,0,0,0,0,0,0,0,0,0,0,0]
[null,78,null,null,null,null,null,null,null,null,0,0,0,0,0,0,0,0,0,0,0,0,0]
[null,79,null,null,null,null,null,null,null,null,0,0,0,0,0,0,0,0,0,0,0,0,0]
[null,80,null,null,null,null,null,null,null,null,0,0,0,0,0,0,0,0,0,0,0,0,0]
[null,81,null,null,null,null,null,null,null,null,{"$f":"IF($D86=K$5,$F86,0)","v":0},0,0,0,0,0,0,0,0,0,0,0,0]
[null,82,null,null,null,null,null,null,null,null,0,0,0,0,0,0,0,0,0,0,0,0,0]
[null,83,null,null,null,null,null,null,null,null,0,0,0,0,0,0,0,0,0,0,0,0,0]
[null,84,null,null,null,null,null,null,null,null,0,0,0,0,0,0,0,0,0,0,0,0,0]
[null,85,null,null,null,null,null,null,null,null,0,0,0,0,0,0,0,0,0,0,0,0,0]
[null,86,null,null,null,null,null,null,null,null,0,0,0,0,0,0,0,0,0,0,0,0,0]
[null,87,null,null,null,null,null,null,null,null,0,0,0,0,0,0,0,0,0,0,0,0,0]
[null,88,null,null,null,null,null,null,null,null,0,0,0,0,0,0,0,0,0,0,0,0,0]
[null,89,null,null,null,null,null,null,null,null,0,0,0,0,0,0,0,0,0,0,0,0,0]
[null,90,null,null,null,null,null,null,null,null,0,0,0,0,0,0,0,0,0,0,0,0,0]
[null,91,null,null,null,null,null,null,null,null,{"$f":"IF($D96=K$5,$F96,0)","v":0},0,0,0,0,0,0,0,0,0,0,0,0]
[null,92,null,null,null,null,null,null,null,null,0,0,0,0,0,0,0,0,0,0,0,0,0]
[null,93,null,null,null,null,null,null,null,null,0,0,0,0,0,0,0,0,0,0,0,0,0]
[null,94,null,null,null,null,null,null,null,null,0,0,0,0,0,0,0,0,0,0,0,0,0]
[null,95,null,null,null,null,null,null,null,null,0,0,0,0,0,0,0,0,0,0,0,0,0]
[null,96,null,null,null,null,null,null,null,null,0,0,0,0,0,0,0,0,0,0,0,0,0]
[null,97,null,null,null,null,null,null,null,null,0,0,0,0,0,0,0,0,0,0,0,0,0]
[null,98,null,null,null,null,null,null,null,null,0,0,0,0,0,0,0,0,0,0,0,0,0]
[null,99,null,null,null,null,null,null,null,null,0,0,0,0,0,0,0,0,0,0,0,0,0]
[null,100,null,null,null,null,null,null,null,null,0,0,0,0,0,0,0,0,0,0,0,0,0]
[null,101,null,null,null,null,null,null,null,null,{"$f":"IF($D106=K$5,$F106,0)","v":0},0,0,0,0,0,0,0,0,0,0,0,0]
[null,102,null,null,null,null,null,null,null,null,0,0,0,0,0,0,0,0,0,0,0,0,0]
[null,103,null,null,null,null,null,null,null,null,0,0,0,0,0,0,0,0,0,0,0,0,0]
[null,104,null,null,null,null,null,null,null,null,0,0,0,0,0,0,0,0,0,0,0,0,0]
[null,105,null,null,null,null,null,null,null,null,0,0,0,0,0,0,0,0,0,0,0,0,0]
[null,106,null,null,null,null,null,null,null,null,0,0,0,0,0,0,0,0,0,0,0,0,0]
[null,107,null,null,null,null,null,null,null,null,0,0,0,0,0,0,0,0,0,0,0,0,0]
[null,108,null,null,null,null,null,null,null,null,0,0,0,0,0,0,0,0,0,0,0,0,0]
[null,109,null,null,null,null,null,null,null,null,0,0,0,0,0,0,0,0,0,0,0,0,0]
[null,110,null,null,null,null,null,null,null,null,0,0,0,0,0,0,0,0,0,0,0,0,0]
[null,111,null,null,null,null,null,null,null,null,{"$f":"IF($D116=K$5,$F116,0)","v":0},0,0,0,0,0,0,0,0,0,0,0,0]
[null,112,null,null,null,null,null,null,null,null,0,0,0,0,0,0,0,0,0,0,0,0,0]
[null,113,null,null,null,null,null,null,null,null,0,0,0,0,0,0,0,0,0,0,0,0,0]
[null,114,null,null,null,null,null,null,null,null,0,0,0,0,0,0,0,0,0,0,0,0,0]
[null,115,null,null,null,null,null,null,null,null,0,0,0,0,0,0,0,0,0,0,0,0,0]
[null,116,null,null,null,null,null,null,null,null,0,0,0,0,0,0,0,0,0,0,0,0,0]
[null,117,null,null,null,null,null,null,null,null,0,0,0,0,0,0,0,0,0,0,0,0,0]
[null,118,null,null,null,null,null,null,null,null,0,0,0,0,0,0,0,0,0,0,0,0,0]
[null,119,null,null,null,null,null,null,null,null,0,0,0,0,0,0,0,0,0,0,0,0,0]
[null,120,null,null,null,null,null,null,null,null,0,0,0,0,0,0,0,0,0,0,0,0,0]
[null,121,null,null,null,null,null,null,null,null,{"$f":"IF($D126=K$5,$F126,0)","v":0},0,0,0,0,0,0,0,0,0,0,0,0]
[null,122,null,null,null,null,null,null,null,null,0,0,0,0,0,0,0,0,0,0,0,0,0]
[null,123,null,null,null,null,null,null,null,null,0,0,0,0,0,0,0,0,0,0,0,0,0]
[null,124,null,null,null,null,null,null,null,null,0,0,0,0,0,0,0,0,0,0,0,0,0]
[null,125,null,null,null,null,null,null,null,null,0,0,0,0,0,0,0,0,0,0,0,0,0]
[null,126,null,null,null,null,null,null,null,null,0,0,0,0,0,0,0,0,0,0,0,0,0]
[null,127,null,null,null,null,null,null,null,null,0,0,0,0,0,0,0,0,0,0,0,0,0]
[null,128,null,null,null,null,null,null,null,null,0,0,0,0,0,0,0,0,0,0,0,0,0]
[null,129,null,null,null,null,null,null,null,null,0,0,0,0,0,0,0,0,0,0,0,0,0]
[null,130,null,null,null,null,null,null,null,null,0,0,0,0,0,0,0,0,0,0,0,0,0]
[null,131,null,null,null,null,null,null,null,null,{"$f":"IF($D136=K$5,$F136,0)","v":0},0,0,0,0,0,0,0,0,0,0,0,0]
[null,132,null,null,null,null,null,null,null,null,0,0,0,0,0,0,0,0,0,0,0,0,0]
[null,133,null,null,null,null,null,null,null,null,0,0,0,0,0,0,0,0,0,0,0,0,0]
[null,134,null,null,null,null,null,null,null,null,0,0,0,0,0,0,0,0,0,0,0,0,0]
[null,135,null,null,null,null,null,null,null,null,0,0,0,0,0,0,0,0,0,0,0,0,0]
[null,136,null,null,null,null,null,null,null,null,0,0,0,0,0,0,0,0,0,0,0,0,0]
[null,137,null,null,null,null,null,null,null,null,0,0,0,0,0,0,0,0,0,0,0,0,0]
[null,138,null,null,null,null,null,null,null,null,0,0,0,0,0,0,0,0,0,0,0,0,0]
[null,139,null,null,null,null,null,null,null,null,0,0,0,0,0,0,0,0,0,0,0,0,0]
[null,140,null,null,null,null,null,null,null,null,0,0,0,0,0,0,0,0,0,0,0,0,0]
[null,141,null,null,null,null,null,null,null,null,{"$f":"IF($D146=K$5,$F146,0)","v":0},0,0,0,0,0,0,0,0,0,0,0,0]
[null,142,null,null,null,null,null,null,null,null,0,0,0,0,0,0,0,0,0,0,0,0,0]
[null,143,null,null,null,null,null,null,null,null,0,0,0,0,0,0,0,0,0,0,0,0,0]
[null,144,null,null,null,null,null,null,null,null,0,0,0,0,0,0,0,0,0,0,0,0,0]
[null,145,null,null,null,null,null,null,null,null,0,0,0,0,0,0,0,0,0,0,0,0,0]
[null,146,null,null,null,null,null,null,null,null,0,0,0,0,0,0,0,0,0,0,0,0,0]
[null,147,null,null,null,null,null,null,null,null,0,0,0,0,0,0,0,0,0,0,0,0,0]
[null,148,null,null,null,null,null,null,null,null,0,0,0,0,0,0,0,0,0,0,0,0,0]
[null,149,null,null,null,null,null,null,null,null,0,0,0,0,0,0,0,0,0,0,0,0,0]
[null,150,null,null,null,null,null,null,null,null,0,0,0,0,0,0,0,0,0,0,0,0,0]
[null,151,null,null,null,null,null,null,null,null,{"$f":"IF($D156=K$5,$F156,0)","v":0},0,0,0,0,0,0,0,0,0,0,0,0]
[null,152,null,null,null,null,null,null,null,null,0,0,0,0,0,0,0,0,0,0,0,0,0]
[null,153,null,null,null,null,null,null,null,null,0,0,0,0,0,0,0,0,0,0,0,0,0]
[null,154,null,null,null,null,null,null,null,null,0,0,0,0,0,0,0,0,0,0,0,0,0]
[null,155,null,null,null,null,null,null,null,null,0,0,0,0,0,0,0,0,0,0,0,0,0]
[null,156,null,null,null,null,null,null,null,null,0,0,0,0,0,0,0,0,0,0,0,0,0]
[null,157,null,null,null,null,null,null,null,null,0,0,0,0,0,0,0,0,0,0,0,0,0]
[null,158,null,null,null,null,null,null,null,null,0,0,0,0,0,0,0,0,0,0,0,0,0]
[null,159,null,null,null,null,null,null,null,null,0,0,0,0,0,0,0,0,0,0,0,0,0]
[null,160,null,null,null,null,null,null,null,null,0,0,0,0,0,0,0,0,0,0,0,0,0]
[null,161,null,null,null,null,null,null,null,null,{"$f":"IF($D166=K$5,$F166,0)","v":0},0,0,0,0,0,0,0,0,0,0,0,0]
[null,162,null,null,null,null,null,null,null,null,0,0,0,0,0,0,0,0,0,0,0,0,0]
[null,163,null,null,null,null,null,null,null,null,0,0,0,0,0,0,0,0,0,0,0,0,0]
[null,164,null,null,null,null,null,null,null,null,0,0,0,0,0,0,0,0,0,0,0,0,0]
[null,165,null,null,null,null,null,null,null,null,0,0,0,0,0,0,0,0,0,0,0,0,0]
[null,166,null,null,null,null,null,null,null,null,0,0,0,0,0,0,0,0,0,0,0,0,0]
[null,167,null,null,null,null,null,null,null,null,0,0,0,0,0,0,0,0,0,0,0,0,0]
[null,168,null,null,null,null,null,null,null,null,0,0,0,0,0,0,0,0,0,0,0,0,0]
[null,169,null,null,null,null,null,null,null,null,0,0,0,0,0,0,0,0,0,0,0,0,0]
[null,170,null,null,null,null,null,null,null,null,0,0,0,0,0,0,0,0,0,0,0,0,0]
[null,171,null,null,null,null,null,null,null,null,{"$f":"IF($D176=K$5,$F176,0)","v":0},0,0,0,0,0,0,0,0,0,0,0,0]
[null,172,null,null,null,null,null,null,null,null,0,0,0,0,0,0,0,0,0,0,0,0,0]
[null,173,null,null,null,null,null,null,null,null,0,0,0,0,0,0,0,0,0,0,0,0,0]
[null,174,null,null,null,null,null,null,null,null,0,0,0,0,0,0,0,0,0,0,0,0,0]
[null,175,null,null,null,null,null,null,null,null,0,0,0,0,0,0,0,0,0,0,0,0,0]
[null,176,null,null,null,null,null,null,null,null,0,0,0,0,0,0,0,0,0,0,0,0,0]
[null,177,null,null,null,null,null,null,null,null,0,0,0,0,0,0,0,0,0,0,0,0,0]
[null,178,null,null,null,null,null,null,null,null,0,0,0,0,0,0,0,0,0,0,0,0,0]
[null,179,null,null,null,null,null,null,null,null,0,0,0,0,0,0,0,0,0,0,0,0,0]
[null,180,null,null,null,null,null,null,null,null,0,0,0,0,0,0,0,0,0,0,0,0,0]
[null,181,null,null,null,null,null,null,null,null,{"$f":"IF($D186=K$5,$F186,0)","v":0},0,0,0,0,0,0,0,0,0,0,0,0]
[null,182,null,null,null,null,null,null,null,null,0,0,0,0,0,0,0,0,0,0,0,0,0]
[null,183,null,null,null,null,null,null,null,null,0,0,0,0,0,0,0,0,0,0,0,0,0]
[null,184,null,null,null,null,null,null,null,null,0,0,0,0,0,0,0,0,0,0,0,0,0]
[null,185,null,null,null,null,null,null,null,null,0,0,0,0,0,0,0,0,0,0,0,0,0]
[null,186,null,null,null,null,null,null,null,null,0,0,0,0,0,0,0,0,0,0,0,0,0]
[null,187,null,null,null,null,null,null,null,null,0,0,0,0,0,0,0,0,0,0,0,0,0]
[null,188,null,null,null,null,null,null,null,null,0,0,0,0,0,0,0,0,0,0,0,0,0]
[null,189,null,null,null,null,null,null,null,null,0,0,0,0,0,0,0,0,0,0,0,0,0]
[null,190,null,null,null,null,null,null,null,null,0,0,0,0,0,0,0,0,0,0,0,0,0]
[null,191,null,null,null,null,null,null,null,null,{"$f":"IF($D196=K$5,$F196,0)","v":0},0,0,0,0,0,0,0,0,0,0,0,0]
[null,192,null,null,null,null,null,null,null,null,0,0,0,0,0,0,0,0,0,0,0,0,0]
[null,193,null,null,null,null,null,null,null,null,0,0,0,0,0,0,0,0,0,0,0,0,0]
[null,194,null,null,null,null,null,null,null,null,0,0,0,0,0,0,0,0,0,0,0,0,0]
[null,195,null,null,null,null,null,null,null,null,0,0,0,0,0,0,0,0,0,0,0,0,0]
[null,196,null,null,null,null,null,null,null,null,0,0,0,0,0,0,0,0,0,0,0,0,0]
[null,197,null,null,null,null,null,null,null,null,0,0,0,0,0,0,0,0,0,0,0,0,0]
[null,198,null,null,null,null,null,null,null,null,0,0,0,0,0,0,0,0,0,0,0,0,0]
[null,199,null,null,null,null,null,null,null,null,0,0,0,0,0,0,0,0,0,0,0,0,0]
[null,200,null,null,null,null,null,null,null,null,0,0,0,0,0,0,0,0,0,0,0,0,0]
[null,201,null,null,null,null,null,null,null,null,{"$f":"IF($D206=K$5,$F206,0)","v":0},0,0,0,0,0,0,0,0,0,0,0,0]
[null,202,null,null,null,null,null,null,null,null,0,0,0,0,0,0,0,0,0,0,0,0,0]
[null,203,null,null,null,null,null,null,null,null,0,0,0,0,0,0,0,0,0,0,0,0,0]
[null,204,null,null,null,null,null,null,null,null,0,0,0,0,0,0,0,0,0,0,0,0,0]
[null,205,null,null,null,null,null,null,null,null,0,0,0,0,0,0,0,0,0,0,0,0,0]
[null,206,null,null,null,null,null,null,null,null,0,0,0,0,0,0,0,0,0,0,0,0,0]
[null,207,null,null,null,null,null,null,null,null,0,0,0,0,0,0,0,0,0,0,0,0,0]
[null,208,null,null,null,null,null,null,null,null,0,0,0,0,0,0,0,0,0,0,0,0,0]
[null,209,null,null,null,null,null,null,null,null,0,0,0,0,0,0,0,0,0,0,0,0,0]
[null,210,null,null,null,null,null,null,null,null,0,0,0,0,0,0,0,0,0,0,0,0,0]
[null,211,null,null,null,null,null,null,null,null,{"$f":"IF($D216=K$5,$F216,0)","v":0},0,0,0,0,0,0,0,0,0,0,0,0]
[null,212,null,null,null,null,null,null,null,null,0,0,0,0,0,0,0,0,0,0,0,0,0]
[null,213,null,null,null,null,null,null,null,null,0,0,0,0,0,0,0,0,0,0,0,0,0]
[null,214,null,null,null,null,null,null,null,null,0,0,0,0,0,0,0,0,0,0,0,0,0]
[null,215,null,null,null,null,null,null,null,null,0,0,0,0,0,0,0,0,0,0,0,0,0]
[null,216,null,null,null,null,null,null,null,null,0,0,0,0,0,0,0,0,0,0,0,0,0]
[null,217,null,null,null,null,null,null,null,null,0,0,0,0,0,0,0,0,0,0,0,0,0]
[null,218,null,null,null,null,null,null,null,null,0,0,0,0,0,0,0,0,0,0,0,0,0]
[null,219,null,null,null,null,null,null,null,null,0,0,0,0,0,0,0,0,0,0,0,0,0]
[null,220,null,null,null,null,null,null,null,null,0,0,0,0,0,0,0,0,0,0,0,0,0]
[null,221,null,null,null,null,null,null,null,null,{"$f":"IF($D226=K$5,$F226,0)","v":0},0,0,0,0,0,0,0,0,0,0,0,0]
[null,222,null,null,null,null,null,null,null,null,0,0,0,0,0,0,0,0,0,0,0,0,0]
[null,223,null,null,null,null,null,null,null,null,0,0,0,0,0,0,0,0,0,0,0,0,0]
[null,224,null,null,null,null,null,null,null,null,0,0,0,0,0,0,0,0,0,0,0,0,0]
[null,225,null,null,null,null,null,null,null,null,0,0,0,0,0,0,0,0,0,0,0,0,0]
[null,226,null,null,null,null,null,null,null,null,0,0,0,0,0,0,0,0,0,0,0,0,0]
[null,227,null,null,null,null,null,null,null,null,0,0,0,0,0,0,0,0,0,0,0,0,0]
[null,228,null,null,null,null,null,null,null,null,0,0,0,0,0,0,0,0,0,0,0,0,0]
[null,229,null,null,null,null,null,null,null,null,0,0,0,0,0,0,0,0,0,0,0,0,0]
[null,230,null,null,null,null,null,null,null,null,0,0,0,0,0,0,0,0,0,0,0,0,0]
[null,231,null,null,null,null,null,null,null,null,{"$f":"IF($D236=K$5,$F236,0)","v":0},0,0,0,0,0,0,0,0,0,0,0,0]
[null,232,null,null,null,null,null,null,null,null,0,0,0,0,0,0,0,0,0,0,0,0,0]
[null,233,null,null,null,null,null,null,null,null,0,0,0,0,0,0,0,0,0,0,0,0,0]
[null,234,null,null,null,null,null,null,null,null,0,0,0,0,0,0,0,0,0,0,0,0,0]
[null,235,null,null,null,null,null,null,null,null,0,0,0,0,0,0,0,0,0,0,0,0,0]
[null,236,null,null,null,null,null,null,null,null,0,0,0,0,0,0,0,0,0,0,0,0,0]
[null,237,null,null,null,null,null,null,null,null,0,0,0,0,0,0,0,0,0,0,0,0,0]
[null,238,null,null,null,null,null,null,null,null,0,0,0,0,0,0,0,0,0,0,0,0,0]
[null,239,null,null,null,null,null,null,null,null,0,0,0,0,0,0,0,0,0,0,0,0,0]
[null,240,null,null,null,null,null,null,null,null,0,0,0,0,0,0,0,0,0,0,0,0,0]
[null,241,null,null,null,null,null,null,null,null,{"$f":"IF($D246=K$5,$F246,0)","v":0},0,0,0,0,0,0,0,0,0,0,0,0]
[null,242,null,null,null,null,null,null,null,null,0,0,0,0,0,0,0,0,0,0,0,0,0]
[null,243,null,null,null,null,null,null,null,null,0,0,0,0,0,0,0,0,0,0,0,0,0]
[null,244,null,null,null,null,null,null,null,null,0,0,0,0,0,0,0,0,0,0,0,0,0]
[null,245,null,null,null,null,null,null,null,null,0,0,0,0,0,0,0,0,0,0,0,0,0]
[null,246,null,null,null,null,null,null,null,null,0,0,0,0,0,0,0,0,0,0,0,0,0]
[null,247,null,null,null,null,null,null,null,null,0,0,0,0,0,0,0,0,0,0,0,0,0]
[null,248,null,null,null,null,null,null,null,null,0,0,0,0,0,0,0,0,0,0,0,0,0]
[null,249,null,null,null,null,null,null,null,null,0,0,0,0,0,0,0,0,0,0,0,0,0]
[null,250,null,null,null,null,null,null,null,null,0,0,0,0,0,0,0,0,0,0,0,0,0]
[null,251,null,null,null,null,null,null,null,null,{"$f":"IF($D256=K$5,$F256,0)","v":0},0,0,0,0,0,0,0,0,0,0,0,0]
[null,252,null,null,null,null,null,null,null,null,0,0,0,0,0,0,0,0,0,0,0,0,0]
[null,253,null,null,null,null,null,null,null,null,0,0,0,0,0,0,0,0,0,0,0,0,0]
[null,254,null,null,null,null,null,null,null,null,0,0,0,0,0,0,0,0,0,0,0,0,0]
[null,255,null,null,null,null,null,null,null,null,0,0,0,0,0,0,0,0,0,0,0,0,0]
[null,256,null,null,null,null,null,null,null,null,0,0,0,0,0,0,0,0,0,0,0,0,0]
[null,257,null,null,null,null,null,null,null,null,0,0,0,0,0,0,0,0,0,0,0,0,0]
[null,258,null,null,null,null,null,null,null,null,0,0,0,0,0,0,0,0,0,0,0,0,0]
[null,259,null,null,null,null,null,null,null,null,0,0,0,0,0,0,0,0,0,0,0,0,0]
[null,260,null,null,null,null,null,null,null,null,0,0,0,0,0,0,0,0,0,0,0,0,0]
[null,261,null,null,null,null,null,null,null,null,{"$f":"IF($D266=K$5,$F266,0)","v":0},0,0,0,0,0,0,0,0,0,0,0,0]
[null,262,null,null,null,null,null,null,null,null,0,0,0,0,0,0,0,0,0,0,0,0,0]
[null,263,null,null,null,null,null,null,null,null,0,0,0,0,0,0,0,0,0,0,0,0,0]
[null,264,null,null,null,null,null,null,null,null,0,0,0,0,0,0,0,0,0,0,0,0,0]
[null,265,null,null,null,null,null,null,null,null,0,0,0,0,0,0,0,0,0,0,0,0,0]
[null,266,null,null,null,null,null,null,null,null,0,0,0,0,0,0,0,0,0,0,0,0,0]
[null,267,null,null,null,null,null,null,null,null,0,0,0,0,0,0,0,0,0,0,0,0,0]
[null,268,null,null,null,null,null,null,null,null,0,0,0,0,0,0,0,0,0,0,0,0,0]
[null,269,null,null,null,null,null,null,null,null,0,0,0,0,0,0,0,0,0,0,0,0,0]
[null,270,null,null,null,null,null,null,null,null,0,0,0,0,0,0,0,0,0,0,0,0,0]
[null,271,null,null,null,null,null,null,null,null,{"$f":"IF($D276=K$5,$F276,0)","v":0},0,0,0,0,0,0,0,0,0,0,0,0]
[null,272,null,null,null,null,null,null,null,null,0,0,0,0,0,0,0,0,0,0,0,0,0]
[null,273,null,null,null,null,null,null,null,null,0,0,0,0,0,0,0,0,0,0,0,0,0]
[null,274,null,null,null,null,null,null,null,null,0,0,0,0,0,0,0,0,0,0,0,0,0]
[null,275,null,null,null,null,null,null,null,null,0,0,0,0,0,0,0,0,0,0,0,0,0]
[null,276,null,null,null,null,null,null,null,null,0,0,0,0,0,0,0,0,0,0,0,0,0]
[null,277,null,null,null,null,null,null,null,null,0,0,0,0,0,0,0,0,0,0,0,0,0]
[null,278,null,null,null,null,null,null,null,null,0,0,0,0,0,0,0,0,0,0,0,0,0]
[null,279,null,null,null,null,null,null,null,null,0,0,0,0,0,0,0,0,0,0,0,0,0]
[null,280,null,null,null,null,null,null,null,null,0,0,0,0,0,0,0,0,0,0,0,0,0]
[null,281,null,null,null,null,null,null,null,null,{"$f":"IF($D286=K$5,$F286,0)","v":0},0,0,0,0,0,0,0,0,0,0,0,0]
[null,282,null,null,null,null,null,null,null,null,0,0,0,0,0,0,0,0,0,0,0,0,0]
[null,283,null,null,null,null,null,null,null,null,0,0,0,0,0,0,0,0,0,0,0,0,0]
[null,284,null,null,null,null,null,null,null,null,0,0,0,0,0,0,0,0,0,0,0,0,0]
[null,285,null,null,null,null,null,null,null,null,0,0,0,0,0,0,0,0,0,0,0,0,0]
[null,286,null,null,null,null,null,null,null,null,0,0,0,0,0,0,0,0,0,0,0,0,0]
[null,287,null,null,null,null,null,null,null,null,0,0,0,0,0,0,0,0,0,0,0,0,0]
[null,288,null,null,null,null,null,null,null,null,0,0,0,0,0,0,0,0,0,0,0,0,0]
[null,289,null,null,null,null,null,null,null,null,0,0,0,0,0,0,0,0,0,0,0,0,0]
[null,290,null,null,null,null,null,null,null,null,0,0,0,0,0,0,0,0,0,0,0,0,0]
[null,291,null,null,null,null,null,null,null,null,{"$f":"IF($D296=K$5,$F296,0)","v":0},0,0,0,0,0,0,0,0,0,0,0,0]
[null,292,null,null,null,null,null,null,null,null,0,0,0,0,0,0,0,0,0,0,0,0,0]
[null,293,null,null,null,null,null,null,null,null,0,0,0,0,0,0,0,0,0,0,0,0,0]
[null,294,null,null,null,null,null,null,null,null,0,0,0,0,0,0,0,0,0,0,0,0,0]
[null,295,null,null,null,null,null,null,null,null,0,0,0,0,0,0,0,0,0,0,0,0,0]
[null,296,null,null,null,null,null,null,null,null,0,0,0,0,0,0,0,0,0,0,0,0,0]
[null,297,null,null,null,null,null,null,null,null,0,0,0,0,0,0,0,0,0,0,0,0,0]
[null,298,null,null,null,null,null,null,null,null,0,0,0,0,0,0,0,0,0,0,0,0,0]
[null,299,null,null,null,null,null,null,null,null,0,0,0,0,0,0,0,0,0,0,0,0,0]
[null,300,null,null,null,null,null,null,null,null,0,0,0,0,0,0,0,0,0,0,0,0,0]
[null,null,null,null,null,null,null,null,null,null,{"$f":"SUM(K6:K305)","v":0},0,0,0,0,0,0,0,0,0,0,0,0]

{"sheet":"2","index":2,"n_rows":306,"n_cols":23,"rows_kept":306,"cut":false,"hidden":false,"merged":[]}
[]
[null,null,{"$f":"menu!B8","v":"OTROS INGRESOS"}]
[]
[null,null,null,null,null,null,null,null,null,"Enero"]
[null,null,"DIA","MES","CONCEPTO","TOTAL",null,null,null,"Febrero","Enero","Febrero","Marzo","Abril","Mayo","Junio","Julio","Agosto","Septiembre","Octubre","Noviembre","Diciembre"]
[null,1,null,null,null,null,null,null,null,"Marzo",{"$f":"IF($D6=K$5,$F6,0)","v":0},0,0,0,0,0,0,0,0,0,0,0,0]
[null,2,null,null,null,null,null,null,null,"Abril",0,0,0,0,0,0,0,0,0,0,0,0,0]
[null,3,null,null,null,null,null,null,null,"Mayo",0,0,0,0,0,0,0,0,0,0,0,0,0]
[null,4,null,null,null,null,null,null,null,"Junio",0,0,0,0,0,0,0,0,0,0,0,0,0]
[null,5,null,null,null,null,null,null,null,"Julio",0,0,0,0,0,0,0,0,0,0,0,0,0]
[null,6,null,null,null,null,null,null,null,"Agosto",0,0,0,0,0,0,0,0,0,0,0,0,0]
[null,7,null,null,null,null,null,null,null,"Septiembre",0,0,0,0,0,0,0,0,0,0,0,0,0]
[null,8,null,null,null,null,null,null,null,"Octubre",0,0,0,0,0,0,0,0,0,0,0,0,0]
[null,9,null,null,null,null,null,null,null,"Noviembre",0,0,0,0,0,0,0,0,0,0,0,0,0]
[null,10,null,null,null,null,null,null,null,"Diciembre",0,0,0,0,0,0,0,0,0,0,0,0,0]
[null,11,null,null,null,null,null,null,null,null,{"$f":"IF($D16=K$5,$F16,0)","v":0},0,0,0,0,0,0,0,0,0,0,0,0]
[null,12,null,null,null,null,null,null,null,null,0,0,0,0,0,0,0,0,0,0,0,0,0]
[null,13,null,null,null,null,null,null,null,null,0,0,0,0,0,0,0,0,0,0,0,0,0]
[null,14,null,null,null,null,null,null,null,null,0,0,0,0,0,0,0,0,0,0,0,0,0]
[null,15,null,null,null,null,null,null,null,null,0,0,0,0,0,0,0,0,0,0,0,0,0]
[null,16,null,null,null,null,null,null,null,null,0,0,0,0,0,0,0,0,0,0,0,0,0]
[null,17,null,null,null,null,null,null,null,null,0,0,0,0,0,0,0,0,0,0,0,0,0]
[null,18,null,null,null,null,null,null,null,null,0,0,0,0,0,0,0,0,0,0,0,0,0]
[null,19,null,null,null,null,null,null,null,null,0,0,0,0,0,0,0,0,0,0,0,0,0]
[null,20,null,null,null,null,null,null,null,null,0,0,0,0,0,0,0,0,0,0,0,0,0]
[null,21,null,null,null,null,null,null,null,null,{"$f":"IF($D26=K$5,$F26,0)","v":0},0,0,0,0,0,0,0,0,0,0,0,0]
[null,22,null,null,null,null,null,null,null,null,0,0,0,0,0,0,0,0,0,0,0,0,0]
[null,23,null,null,null,null,null,null,null,null,0,0,0,0,0,0,0,0,0,0,0,0,0]
[null,24,null,null,null,null,null,null,null,null,0,0,0,0,0,0,0,0,0,0,0,0,0]
[null,25,null,null,null,null,null,null,null,null,0,0,0,0,0,0,0,0,0,0,0,0,0]
[null,26,null,null,null,null,null,null,null,null,0,0,0,0,0,0,0,0,0,0,0,0,0]
[null,27,null,null,null,null,null,null,null,null,0,0,0,0,0,0,0,0,0,0,0,0,0]
[null,28,null,null,null,null,null,null,null,null,0,0,0,0,0,0,0,0,0,0,0,0,0]
[null,29,null,null,null,null,null,null,null,null,0,0,0,0,0,0,0,0,0,0,0,0,0]
[null,30,null,null,null,null,null,null,null,null,0,0,0,0,0,0,0,0,0,0,0,0,0]
[null,31,null,null,null,null,null,null,null,null,{"$f":"IF($D36=K$5,$F36,0)","v":0},0,0,0,0,0,0,0,0,0,0,0,0]
[null,32,null,null,null,null,null,null,null,null,0,0,0,0,0,0,0,0,0,0,0,0,0]
[null,33,null,null,null,null,null,null,null,null,0,0,0,0,0,0,0,0,0,0,0,0,0]
[null,34,null,null,null,null,null,null,null,null,0,0,0,0,0,0,0,0,0,0,0,0,0]
[null,35,null,null,null,null,null,null,null,null,0,0,0,0,0,0,0,0,0,0,0,0,0]
[null,36,null,null,null,null,null,null,null,null,0,0,0,0,0,0,0,0,0,0,0,0,0]
[null,37,null,null,null,null,null,null,null,null,0,0,0,0,0,0,0,0,0,0,0,0,0]
[null,38,null,null,null,null,null,null,null,null,0,0,0,0,0,0,0,0,0,0,0,0,0]
[null,39,null,null,null,null,null,null,null,null,0,0,0,0,0,0,0,0,0,0,0,0,0]
[null,40,null,null,null,null,null,null,null,null,0,0,0,0,0,0,0,0,0,0,0,0,0]
[null,41,null,null,null,null,null,null,null,null,{"$f":"IF($D46=K$5,$F46,0)","v":0},0,0,0,0,0,0,0,0,0,0,0,0]
[null,42,null,null,null,null,null,null,null,null,0,0,0,0,0,0,0,0,0,0,0,0,0]
[null,43,null,null,null,null,null,null,null,null,0,0,0,0,0,0,0,0,0,0,0,0,0]
[null,44,null,null,null,null,null,null,null,null,0,0,0,0,0,0,0,0,0,0,0,0,0]
[null,45,null,null,null,null,null,null,null,null,0,0,0,0,0,0,0,0,0,0,0,0,0]
[null,46,null,null,null,null,null,null,null,null,0,0,0,0,0,0,0,0,0,0,0,0,0]
[null,47,null,null,null,null,null,null,null,null,0,0,0,0,0,0,0,0,0,0,0,0,0]
[null,48,null,null,null,null,null,null,null,null,0,0,0,0,0,0,0,0,0,0,0,0,0]
[null,49,null,null,null,null,null,null,null,null,0,0,0,0,0,0,0,0,0,0,0,0,0]
[null,50,null,null,null,null,null,null,null,null,0,0,0,0,0,0,0,0,0,0,0,0,0]
[null,51,null,null,null,null,null,null,null,null,{"$f":"IF($D56=K$5,$F56,0)","v":0},0,0,0,0,0,0,0,0,0,0,0,0]
[null,52,null,null,null,null,null,null,null,null,0,0,0,0,0,0,0,0,0,0,0,0,0]
[null,53,null,null,null,null,null,null,null,null,0,0,0,0,0,0,0,0,0,0,0,0,0]
[null,54,null,null,null,null,null,null,null,null,0,0,0,0,0,0,0,0,0,0,0,0,0]
[null,55,null,null,null,null,null,null,null,null,0,0,0,0,0,0,0,0,0,0,0,0,0]
[null,56,null,null,null,null,null,null,null,null,0,0,0,0,0,0,0,0,0,0,0,0,0]
[null,57,null,null,null,null,null,null,null,null,0,0,0,0,0,0,0,0,0,0,0,0,0]
[null,58,null,null,null,null,null,null,null,null,0,0,0,0,0,0,0,0,0,0,0,0,0]
[null,59,null,null,null,null,null,null,null,null,0,0,0,0,0,0,0,0,0,0,0,0,0]
[null,60,null,null,null,null,null,null,null,null,0,0,0,0,0,0,0,0,0,0,0,0,0]
[null,61,null,null,null,null,null,null,null,null,{"$f":"IF($D66=K$5,$F66,0)","v":0},0,0,0,0,0,0,0,0,0,0,0,0]
[null,62,null,null,null,null,null,null,null,null,0,0,0,0,0,0,0,0,0,0,0,0,0]
[null,63,null,null,null,null,null,null,null,null,0,0,0,0,0,0,0,0,0,0,0,0,0]
[null,64,null,null,null,null,null,null,null,null,0,0,0,0,0,0,0,0,0,0,0,0,0]
[null,65,null,null,null,null,null,null,null,null,0,0,0,0,0,0,0,0,0,0,0,0,0]
[null,66,null,null,null,null,null,null,null,null,0,0,0,0,0,0,0,0,0,0,0,0,0]
[null,67,null,null,null,null,null,null,null,null,0,0,0,0,0,0,0,0,0,0,0,0,0]
[null,68,null,null,null,null,null,null,null,null,0,0,0,0,0,0,0,0,0,0,0,0,0]
[null,69,null,null,null,null,null,null,null,null,0,0,0,0,0,0,0,0,0,0,0,0,0]
[null,70,null,null,null,null,null,null,null,null,0,0,0,0,0,0,0,0,0,0,0,0,0]
[null,71,null,null,null,null,null,null,null,null,{"$f":"IF($D76=K$5,$F76,0)","v":0},0,0,0,0,0,0,0,0,0,0,0,0]
[null,72,null,null,null,null,null,null,null,null,0,0,0,0,0,0,0,0,0,0,0,0,0]
[null,73,null,null,null,null,null,null,null,null,0,0,0,0,0,0,0,0,0,0,0,0,0]
[null,74,null,null,null,null,null,null,null,null,0,0,0,0,0,0,0,0,0,0,0,0,0]
[null,75,null,null,null,null,null,null,null,null,0,0,0,0,0,0,0,0,0,0,0,0,0]
[null,76,null,null,null,null,null,null,null,null,0,0,0,0,0,0,0,0,0,0,0,0,0]
[null,77,null,null,null,null,null,null,null,null,0,0,0,0,0,0,0,0,0,0,0,0,0]
[null,78,null,null,null,null,null,null,null,null,0,0,0,0,0,0,0,0,0,0,0,0,0]
[null,79,null,null,null,null,null,null,null,null,0,0,0,0,0,0,0,0,0,0,0,0,0]
[null,80,null,null,null,null,null,null,null,null,0,0,0,0,0,0,0,0,0,0,0,0,0]
[null,81,null,null,null,null,null,null,null,null,{"$f":"IF($D86=K$5,$F86,0)","v":0},0,0,0,0,0,0,0,0,0,0,0,0]
[null,82,null,null,null,null,null,null,null,null,0,0,0,0,0,0,0,0,0,0,0,0,0]
[null,83,null,null,null,null,null,null,null,null,0,0,0,0,0,0,0,0,0,0,0,0,0]
[null,84,null,null,null,null,null,null,null,null,0,0,0,0,0,0,0,0,0,0,0,0,0]
[null,85,null,null,null,null,null,null,null,null,0,0,0,0,0,0,0,0,0,0,0,0,0]
[null,86,null,null,null,null,null,null,null,null,0,0,0,0,0,0,0,0,0,0,0,0,0]
[null,87,null,null,null,null,null,null,null,null,0,0,0,0,0,0,0,0,0,0,0,0,0]
[null,88,null,null,null,null,null,null,null,null,0,0,0,0,0,0,0,0,0,0,0,0,0]
[null,89,null,null,null,null,null,null,null,null,0,0,0,0,0,0,0,0,0,0,0,0,0]
[null,90,null,null,null,null,null,null,null,null,0,0,0,0,0,0,0,0,0,0,0,0,0]
[null,91,null,null,null,null,null,null,null,null,{"$f":"IF($D96=K$5,$F96,0)","v":0},0,0,0,0,0,0,0,0,0,0,0,0]
[null,92,null,null,null,null,null,null,null,null,0,0,0,0,0,0,0,0,0,0,0,0,0]
[null,93,null,null,null,null,null,null,null,null,0,0,0,0,0,0,0,0,0,0,0,0,0]
[null,94,null,null,null,null,null,null,null,null,0,0,0,0,0,0,0,0,0,0,0,0,0]
[null,95,null,null,null,null,null,null,null,null,0,0,0,0,0,0,0,0,0,0,0,0,0]
[null,96,null,null,null,null,null,null,null,null,0,0,0,0,0,0,0,0,0,0,0,0,0]
[null,97,null,null,null,null,null,null,null,null,0,0,0,0,0,0,0,0,0,0,0,0,0]
[null,98,null,null,null,null,null,null,null,null,0,0,0,0,0,0,0,0,0,0,0,0,0]
[null,99,null,null,null,null,null,null,null,null,0,0,0,0,0,0,0,0,0,0,0,0,0]
[null,100,null,null,null,null,null,null,null,null,0,0,0,0,0,0,0,0,0,0,0,0,0]
[null,101,null,null,null,null,null,null,null,null,{"$f":"IF($D106=K$5,$F106,0)","v":0},0,0,0,0,0,0,0,0,0,0,0,0]
[null,102,null,null,null,null,null,null,null,null,0,0,0,0,0,0,0,0,0,0,0,0,0]
[null,103,null,null,null,null,null,null,null,null,0,0,0,0,0,0,0,0,0,0,0,0,0]
[null,104,null,null,null,null,null,null,null,null,0,0,0,0,0,0,0,0,0,0,0,0,0]
[null,105,null,null,null,null,null,null,null,null,0,0,0,0,0,0,0,0,0,0,0,0,0]
[null,106,null,null,null,null,null,null,null,null,0,0,0,0,0,0,0,0,0,0,0,0,0]
[null,107,null,null,null,null,null,null,null,null,0,0,0,0,0,0,0,0,0,0,0,0,0]
[null,108,null,null,null,null,null,null,null,null,0,0,0,0,0,0,0,0,0,0,0,0,0]
[null,109,null,null,null,null,null,null,null,null,0,0,0,0,0,0,0,0,0,0,0,0,0]
[null,110,null,null,null,null,null,null,null,null,0,0,0,0,0,0,0,0,0,0,0,0,0]
[null,111,null,null,null,null,null,null,null,null,{"$f":"IF($D116=K$5,$F116,0)","v":0},0,0,0,0,0,0,0,0,0,0,0,0]
[null,112,null,null,null,null,null,null,null,null,0,0,0,0,0,0,0,0,0,0,0,0,0]
[null,113,null,null,null,null,null,null,null,null,0,0,0,0,0,0,0,0,0,0,0,0,0]
[null,114,null,null,null,null,null,null,null,null,0,0,0,0,0,0,0,0,0,0,0,0,0]
[null,115,null,null,null,null,null,null,null,null,0,0,0,0,0,0,0,0,0,0,0,0,0]
[null,116,null,null,null,null,null,null,null,null,0,0,0,0,0,0,0,0,0,0,0,0,0]
[null,117,null,null,null,null,null,null,null,null,0,0,0,0,0,0,0,0,0,0,0,0,0]
[null,118,null,null,null,null,null,null,null,null,0,0,0,0,0,0,0,0,0,0,0,0,0]
[null,119,null,null,null,null,null,null,null,null,0,0,0,0,0,0,0,0,0,0,0,0,0]
[null,120,null,null,null,null,null,null,null,null,0,0,0,0,0,0,0,0,0,0,0,0,0]
[null,121,null,null,null,null,null,null,null,null,{"$f":"IF($D126=K$5,$F126,0)","v":0},0,0,0,0,0,0,0,0,0,0,0,0]
[null,122,null,null,null,null,null,null,null,null,0,0,0,0,0,0,0,0,0,0,0,0,0]
[null,123,null,null,null,null,null,null,null,null,0,0,0,0,0,0,0,0,0,0,0,0,0]
[null,124,null,null,null,null,null,null,null,null,0,0,0,0,0,0,0,0,0,0,0,0,0]
[null,125,null,null,null,null,null,null,null,null,0,0,0,0,0,0,0,0,0,0,0,0,0]
[null,126,null,null,null,null,null,null,null,null,0,0,0,0,0,0,0,0,0,0,0,0,0]
[null,127,null,null,null,null,null,null,null,null,0,0,0,0,0,0,0,0,0,0,0,0,0]
[null,128,null,null,null,null,null,null,null,null,0,0,0,0,0,0,0,0,0,0,0,0,0]
[null,129,null,null,null,null,null,null,null,null,0,0,0,0,0,0,0,0,0,0,0,0,0]
[null,130,null,null,null,null,null,null,null,null,0,0,0,0,0,0,0,0,0,0,0,0,0]
[null,131,null,null,null,null,null,null,null,null,{"$f":"IF($D136=K$5,$F136,0)","v":0},0,0,0,0,0,0,0,0,0,0,0,0]
[null,132,null,null,null,null,null,null,null,null,0,0,0,0,0,0,0,0,0,0,0,0,0]
[null,133,null,null,null,null,null,null,null,null,0,0,0,0,0,0,0,0,0,0,0,0,0]
[null,134,null,null,null,null,null,null,null,null,0,0,0,0,0,0,0,0,0,0,0,0,0]
[null,135,null,null,null,null,null,null,null,null,0,0,0,0,0,0,0,0,0,0,0,0,0]
[null,136,null,null,null,null,null,null,null,null,0,0,0,0,0,0,0,0,0,0,0,0,0]
[null,137,null,null,null,null,null,null,null,null,0,0,0,0,0,0,0,0,0,0,0,0,0]
[null,138,null,null,null,null,null,null,null,null,0,0,0,0,0,0,0,0,0,0,0,0,0]
[null,139,null,null,null,null,null,null,null,null,0,0,0,0,0,0,0,0,0,0,0,0,0]
[null,140,null,null,null,null,null,null,null,null,0,0,0,0,0,0,0,0,0,0,0,0,0]
[null,141,null,null,null,null,null,null,null,null,{"$f":"IF($D146=K$5,$F146,0)","v":0},0,0,0,0,0,0,0,0,0,0,0,0]
[null,142,null,null,null,null,null,null,null,null,0,0,0,0,0,0,0,0,0,0,0,0,0]
[null,143,null,null,null,null,null,null,null,null,0,0,0,0,0,0,0,0,0,0,0,0,0]
[null,144,null,null,null,null,null,null,null,null,0,0,0,0,0,0,0,0,0,0,0,0,0]
[null,145,null,null,null,null,null,null,null,null,0,0,0,0,0,0,0,0,0,0,0,0,0]
[null,146,null,null,null,null,null,null,null,null,0,0,0,0,0,0,0,0,0,0,0,0,0]
[null,147,null,null,null,null,null,null,null,null,0,0,0,0,0,0,0,0,0,0,0,0,0]
[null,148,null,null,null,null,null,null,null,null,0,0,0,0,0,0,0,0,0,0,0,0,0]
[null,149,null,null,null,null,null,null,null,null,0,0,0,0,0,0,0,0,0,0,0,0,0]
[null,150,null,null,null,null,null,null,null,null,0,0,0,0,0,0,0,0,0,0,0,0,0]
[null,151,null,null,null,null,null,null,null,null,{"$f":"IF($D156=K$5,$F156,0)","v":0},0,0,0,0,0,0,0,0,0,0,0,0]
[null,152,null,null,null,null,null,null,null,null,0,0,0,0,0,0,0,0,0,0,0,0,0]
[null,153,null,null,null,null,null,null,null,null,0,0,0,0,0,0,0,0,0,0,0,0,0]
[null,154,null,null,null,null,null,null,null,null,0,0,0,0,0,0,0,0,0,0,0,0,0]
[null,155,null,null,null,null,null,null,null,null,0,0,0,0,0,0,0,0,0,0,0,0,0]
[null,156,null,null,null,null,null,null,null,null,0,0,0,0,0,0,0,0,0,0,0,0,0]
[null,157,null,null,null,null,null,null,null,null,0,0,0,0,0,0,0,0,0,0,0,0,0]
[null,158,null,null,null,null,null,null,null,null,0,0,0,0,0,0,0,0,0,0,0,0,0]
[null,159,null,null,null,null,null,null,null,null,0,0,0,0,0,0,0,0,0,0,0,0,0]
[null,160,null,null,null,null,null,null,null,null,0,0,0,0,0,0,0,0,0,0,0,0,0]
[null,161,null,null,null,null,null,null,null,null,{"$f":"IF($D166=K$5,$F166,0)","v":0},0,0,0,0,0,0,0,0,0,0,0,0]
[null,162,null,null,null,null,null,null,null,null,0,0,0,0,0,0,0,0,0,0,0,0,0]
[null,163,null,null,null,null,null,null,null,null,0,0,0,0,0,0,0,0,0,0,0,0,0]
[null,164,null,null,null,null,null,null,null,null,0,0,0,0,0,0,0,0,0,0,0,0,0]
[null,165,null,null,null,null,null,null,null,null,0,0,0,0,0,0,0,0,0,0,0,0,0]
[null,166,null,null,null,null,null,null,null,null,0,0,0,0,0,0,0,0,0,0,0,0,0]
[null,167,null,null,null,null,null,null,null,null,0,0,0,0,0,0,0,0,0,0,0,0,0]
[null,168,null,null,null,null,null,null,null,null,0,0,0,0,0,0,0,0,0,0,0,0,0]
[null,169,null,null,null,null,null,null,null,null,0,0,0,0,0,0,0,0,0,0,0,0,0]
[null,170,null,null,null,null,null,null,null,null,0,0,0,0,0,0,0,0,0,0,0,0,0]
[null,171,null,null,null,null,null,null,null,null,{"$f":"IF($D176=K$5,$F176,0)","v":0},0,0,0,0,0,0,0,0,0,0,0,0]
[null,172,null,null,null,null,null,null,null,null,0,0,0,0,0,0,0,0,0,0,0,0,0]
[null,173,null,null,null,null,null,null,null,null,0,0,0,0,0,0,0,0,0,0,0,0,0]
[null,174,null,null,null,null,null,null,null,null,0,0,0,0,0,0,0,0,0,0,0,0,0]
[null,175,null,null,null,null,null,null,null,null,0,0,0,0,0,0,0,0,0,0,0,0,0]
[null,176,null,null,null,null,null,null,null,null,0,0,0,0,0,0,0,0,0,0,0,0,0]
[null,177,null,null,null,null,null,null,null,null,0,0,0,0,0,0,0,0,0,0,0,0,0]
[null,178,null,null,null,null,null,null,null,null,0,0,0,0,0,0,0,0,0,0,0,0,0]
[null,179,null,null,null,null,null,null,null,null,0,0,0,0,0,0,0,0,0,0,0,0,0]
[null,180,null,null,null,null,null,null,null,null,0,0,0,0,0,0,0,0,0,0,0,0,0]
[null,181,null,null,null,null,null,null,null,null,{"$f":"IF($D186=K$5,$F186,0)","v":0},0,0,0,0,0,0,0,0,0,0,0,0]
[null,182,null,null,null,null,null,null,null,null,0,0,0,0,0,0,0,0,0,0,0,0,0]
[null,183,null,null,null,null,null,null,null,null,0,0,0,0,0,0,0,0,0,0,0,0,0]
[null,184,null,null,null,null,null,null,null,null,0,0,0,0,0,0,0,0,0,0,0,0,0]
[null,185,null,null,null,null,null,null,null,null,0,0,0,0,0,0,0,0,0,0,0,0,0]
[null,186,null,null,null,null,null,null,null,null,0,0,0,0,0,0,0,0,0,0,0,0,0]
[null,187,null,null,null,null,null,null,null,null,0,0,0,0,0,0,0,0,0,0,0,0,0]
[null,188,null,null,null,null,null,null,null,null,0,0,0,0,0,0,0,0,0,0,0,0,0]
[null,189,null,null,null,null,null,null,null,null,0,0,0,0,0,0,0,0,0,0,0,0,0]
[null,190,null,null,null,null,null,null,null,null,0,0,0,0,0,0,0,0,0,0,0,0,0]
[null,191,null,null,null,null,null,null,null,null,{"$f":"IF($D196=K$5,$F196,0)","v":0},0,0,0,0,0,0,0,0,0,0,0,0]
[null,192,null,null,null,null,null,null,null,null,0,0,0,0,0,0,0,0,0,0,0,0,0]
[null,193,null,null,null,null,null,null,null,null,0,0,0,0,0,0,0,0,0,0,0,0,0]
[null,194,null,null,null,null,null,null,null,null,0,0,0,0,0,0,0,0,0,0,0,0,0]
[null,195,null,null,null,null,null,null,null,null,0,0,0,0,0,0,0,0,0,0,0,0,0]
[null,196,null,null,null,null,null,null,null,null,0,0,0,0,0,0,0,0,0,0,0,0,0]
[null,197,null,null,null,null,null,null,null,null,0,0,0,0,0,0,0,0,0,0,0,0,0]
[null,198,null,null,null,null,null,null,null,null,0,0,0,0,0,0,0,0,0,0,0,0,0]
[null,199,null,null,null,null,null,null,null,null,0,0,0,0,0,0,0,0,0,0,0,0,0]
[null,200,null,null,null,null,null,null,null,null,0,0,0,0,0,0,0,0,0,0,0,0,0]
[null,201,null,null,null,null,null,null,null,null,{"$f":"IF($D206=K$5,$F206,0)","v":0},0,0,0,0,0,0,0,0,0,0,0,0]
[null,202,null,null,null,null,null,null,null,null,0,0,0,0,0,0,0,0,0,0,0,0,0]
[null,203,null,null,null,null,null,null,null,null,0,0,0,0,0,0,0,0,0,0,0,0,0]
[null,204,null,null,null,null,null,null,null,null,0,0,0,0,0,0,0,0,0,0,0,0,0]
[null,205,null,null,null,null,null,null,null,null,0,0,0,0,0,0,0,0,0,0,0,0,0]
[null,206,null,null,null,null,null,null,null,null,0,0,0,0,0,0,0,0,0,0,0,0,0]
[null,207,null,null,null,null,null,null,null,null,0,0,0,0,0,0,0,0,0,0,0,0,0]
[null,208,null,null,null,null,null,null,null,null,0,0,0,0,0,0,0,0,0,0,0,0,0]
[null,209,null,null,null,null,null,null,null,null,0,0,0,0,0,0,0,0,0,0,0,0,0]
[null,210,null,null,null,null,null,null,null,null,0,0,0,0,0,0,0,0,0,0,0,0,0]
[null,211,null,null,null,null,null,null,null,null,{"$f":"IF($D216=K$5,$F216,0)","v":0},0,0,0,0,0,0,0,0,0,0,0,0]
[null,212,null,null,null,null,null,null,null,null,0,0,0,0,0,0,0,0,0,0,0,0,0]
[null,213,null,null,null,null,null,null,null,null,0,0,0,0,0,0,0,0,0,0,0,0,0]
[null,214,null,null,null,null,null,null,null,null,0,0,0,0,0,0,0,0,0,0,0,0,0]
[null,215,null,null,null,null,null,null,null,null,0,0,0,0,0,0,0,0,0,0,0,0,0]
[null,216,null,null,null,null,null,null,null,null,0,0,0,0,0,0,0,0,0,0,0,0,0]
[null,217,null,null,null,null,null,null,null,null,0,0,0,0,0,0,0,0,0,0,0,0,0]
[null,218,null,null,null,null,null,null,null,null,0,0,0,0,0,0,0,0,0,0,0,0,0]
[null,219,null,null,null,null,null,null,null,null,0,0,0,0,0,0,0,0,0,0,0,0,0]
[null,220,null,null,null,null,null,null,null,null,0,0,0,0,0,0,0,0,0,0,0,0,0]
[null,221,null,null,null,null,null,null,null,null,{"$f":"IF($D226=K$5,$F226,0)","v":0},0,0,0,0,0,0,0,0,0,0,0,0]
[null,222,null,null,null,null,null,null,null,null,0,0,0,0,0,0,0,0,0,0,0,0,0]
[null,223,null,null,null,null,null,null,null,null,0,0,0,0,0,0,0,0,0,0,0,0,0]
[null,224,null,null,null,null,null,null,null,null,0,0,0,0,0,0,0,0,0,0,0,0,0]
[null,225,null,null,null,null,null,null,null,null,0,0,0,0,0,0,0,0,0,0,0,0,0]
[null,226,null,null,null,null,null,null,null,null,0,0,0,0,0,0,0,0,0,0,0,0,0]
[null,227,null,null,null,null,null,null,null,null,0,0,0,0,0,0,0,0,0,0,0,0,0]
[null,228,null,null,null,null,null,null,null,null,0,0,0,0,0,0,0,0,0,0,0,0,0]
[null,229,null,null,null,null,null,null,null,null,0,0,0,0,0,0,0,0,0,0,0,0,0]
[null,230,null,null,null,null,null,null,null,null,0,0,0,0,0,0,0,0,0,0,0,0,0]
[null,231,null,null,null,null,null,null,null,null,{"$f":"IF($D236=K$5,$F236,0)","v":0},0,0,0,0,0,0,0,0,0,0,0,0]
[null,232,null,null,null,null,null,null,null,null,0,0,0,0,0,0,0,0,0,0,0,0,0]
[null,233,null,null,null,null,null,null,null,null,0,0,0,0,0,0,0,0,0,0,0,0,0]
[null,234,null,null,null,null,null,null,null,null,0,0,0,0,0,0,0,0,0,0,0,0,0]
[null,235,null,null,null,null,null,null,null,null,0,0,0,0,0,0,0,0,0,0,0,0,0]
[null,236,null,null,null,null,null,null,null,null,0,0,0,0,0,0,0,0,0,0,0,0,0]
[null,237,null,null,null,null,null,null,null,null,0,0,0,0,0,0,0,0,0,0,0,0,0]
[null,238,null,null,null,null,null,null,null,null,0,0,0,0,0,0,0,0,0,0,0,0,0]
[null,239,null,null,null,null,null,null,null,null,0,0,0,0,0,0,0,0,0,0,0,0,0]
[null,240,null,null,null,null,null,null,null,null,0,0,0,0,0,0,0,0,0,0,0,0,0]
[null,241,null,null,null,null,null,null,null,null,{"$f":"IF($D246=K$5,$F246,0)","v":0},0,0,0,0,0,0,0,0,0,0,0,0]
[null,242,null,null,null,null,null,null,null,null,0,0,0,0,0,0,0,0,0,0,0,0,0]
[null,243,null,null,null,null,null,null,null,null,0,0,0,0,0,0,0,0,0,0,0,0,0]
[null,244,null,null,null,null,null,null,null,null,0,0,0,0,0,0,0,0,0,0,0,0,0]
[null,245,null,null,null,null,null,null,null,null,0,0,0,0,0,0,0,0,0,0,0,0,0]
[null,246,null,null,null,null,null,null,null,null,0,0,0,0,0,0,0,0,0,0,0,0,0]
[null,247,null,null,null,null,null,null,null,null,0,0,0,0,0,0,0,0,0,0,0,0,0]
[null,248,null,null,null,null,null,null,null,null,0,0,0,0,0,0,0,0,0,0,0,0,0]
[null,249,null,null,null,null,null,null,null,null,0,0,0,0,0,0,0,0,0,0,0,0,0]
[null,250,null,null,null,null,null,null,null,null,0,0,0,0,0,0,0,0,0,0,0,0,0]
[null,251,null,null,null,null,null,null,null,null,{"$f":"IF($D256=K$5,$F256,0)","v":0},0,0,0,0,0,0,0,0,0,0,0,0]
[null,252,null,null,null,null,null,null,null,null,0,0,0,0,0,0,0,0,0,0,0,0,0]
[null,253,null,null,null,null,null,null,null,null,0,0,0,0,0,0,0,0,0,0,0,0,0]
[null,254,null,null,null,null,null,null,null,null,0,0,0,0,0,0,0,0,0,0,0,0,0]
[null,255,null,null,null,null,null,null,null,null,0,0,0,0,0,0,0,0,0,0,0,0,0]
[null,256,null,null,null,null,null,null,null,null,0,0,0,0,0,0,0,0,0,0,0,0,0]
[null,257,null,null,null,null,null,null,null,null,0,0,0,0,0,0,0,0,0,0,0,0,0]
[null,258,null,null,null,null,null,null,null,null,0,0,0,0,0,0,0,0,0,0,0,0,0]
[null,259,null,null,null,null,null,null,null,null,0,0,0,0,0,0,0,0,0,0,0,0,0]
[null,260,null,null,null,null,null,null,null,null,0,0,0,0,0,0,0,0,0,0,0,0,0]
[null,261,null,null,null,null,null,null,null,null,{"$f":"IF($D266=K$5,$F266,0)","v":0},0,0,0,0,0,0,0,0,0,0,0,0]
[null,262,null,null,null,null,null,null,null,null,0,0,0,0,0,0,0,0,0,0,0,0,0]
[null,263,null,null,null,null,null,null,null,null,0,0,0,0,0,0,0,0,0,0,0,0,0]
[null,264,null,null,null,null,null,null,null,null,0,0,0,0,0,0,0,0,0,0,0,0,0]
[null,265,null,null,null,null,null,null,null,null,0,0,0,0,0,0,0,0,0,0,0,0,0]
[null,266,null,null,null,null,null,null,null,null,0,0,0,0,0,0,0,0,0,0,0,0,0]
[null,267,null,null,null,null,null,null,null,null,0,0,0,0,0,0,0,0,0,0,0,0,0]
[null,268,null,null,null,null,null,null,null,null,0,0,0,0,0,0,0,0,0,0,0,0,0]
[null,269,null,null,null,null,null,null,null,null,0,0,0,0,0,0,0,0,0,0,0,0,0]
[null,270,null,null,null,null,null,null,null,null,0,0,0,0,0,0,0,0,0,0,0,0,0]
[null,271,null,null,null,null,null,null,null,null,{"$f":"IF($D276=K$5,$F276,0)","v":0},0,0,0,0,0,0,0,0,0,0,0,0]
[null,272,null,null,null,null,null,null,null,null,0,0,0,0,0,0,0,0,0,0,0,0,0]
[null,273,null,null,null,null,null,null,null,null,0,0,0,0,0,0,0,0,0,0,0,0,0]
[null,274,null,null,null,null,null,null,null,null,0,0,0,0,0,0,0,0,0,0,0,0,0]
[null,275,null,null,null,null,null,null,null,null,0,0,0,0,0,0,0,0,0,0,0,0,0]
[null,276,null,null,null,null,null,null,null,null,0,0,0,0,0,0,0,0,0,0,0,0,0]
[null,277,null,null,null,null,null,null,null,null,0,0,0,0,0,0,0,0,0,0,0,0,0]
[null,278,null,null,null,null,null,null,null,null,0,0,0,0,0,0,0,0,0,0,0,0,0]
[null,279,null,null,null,null,null,null,null,null,0,0,0,0,0,0,0,0,0,0,0,0,0]
[null,280,null,null,null,null,null,null,null,null,0,0,0,0,0,0,0,0,0,0,0,0,0]
[null,281,null,null,null,null,null,null,null,null,{"$f":"IF($D286=K$5,$F286,0)","v":0},0,0,0,0,0,0,0,0,0,0,0,0]
[null,282,null,null,null,null,null,null,null,null,0,0,0,0,0,0,0,0,0,0,0,0,0]
[null,283,null,null,null,null,null,null,null,null,0,0,0,0,0,0,0,0,0,0,0,0,0]
[null,284,null,null,null,null,null,null,null,null,0,0,0,0,0,0,0,0,0,0,0,0,0]
[null,285,null,null,null,null,null,null,null,null,0,0,0,0,0,0,0,0,0,0,0,0,0]
[null,286,null,null,null,null,null,null,null,null,0,0,0,0,0,0,0,0,0,0,0,0,0]
[null,287,null,null,null,null,null,null,null,null,0,0,0,0,0,0,0,0,0,0,0,0,0]
[null,288,null,null,null,null,null,null,null,null,0,0,0,0,0,0,0,0,0,0,0,0,0]
[null,289,null,null,null,null,null,null,null,null,0,0,0,0,0,0,0,0,0,0,0,0,0]
[null,290,null,null,null,null,null,null,null,null,0,0,0,0,0,0,0,0,0,0,0,0,0]
[null,291,null,null,null,null,null,null,null,null,{"$f":"IF($D296=K$5,$F296,0)","v":0},0,0,0,0,0,0,0,0,0,0,0,0]
[null,292,null,null,null,null,null,null,null,null,0,0,0,0,0,0,0,0,0,0,0,0,0]
[null,293,null,null,null,null,null,null,null,null,0,0,0,0,0,0,0,0,0,0,0,0,0]
[null,294,null,null,null,null,null,null,null,null,0,0,0,0,0,0,0,0,0,0,0,0,0]
[null,295,null,null,null,null,null,null,null,null,0,0,0,0,0,0,0,0,0,0,0,0,0]
[null,296,null,null,null,null,null,null,null,null,0,0,0,0,0,0,0,0,0,0,0,0,0]
[null,297,null,null,null,null,null,null,null,null,0,0,0,0,0,0,0,0,0,0,0,0,0]
[null,298,null,null,null,null,null,null,null,null,0,0,0,0,0,0,0,0,0,0,0,0,0]
[null,299,null,null,null,null,null,null,null,null,0,0,0,0,0,0,0,0,0,0,0,0,0]
[null,300,null,null,null,null,null,null,null,null,0,0,0,0,0,0,0,0,0,0,0,0,0]
[null,null,null,null,null,null,null,null,null,null,{"$f":"SUM(K6:K305)","v":0},0,0,0,0,0,0,0,0,0,0,0,0]

{"sheet":"3","index":3,"n_rows":306,"n_cols":23,"rows_kept":306,"cut":false,"hidden":false,"merged":[]}
[]
[null,null,{"$f":"menu!B10","v":"ALIMENTACION"}]
[]
[null,null,null,null,null,null,null,null,null,"Enero"]
[null,null,"DIA","MES","CONCEPTO","TOTAL",null,null,null,"Febrero","Enero","Febrero","Marzo","Abril","Mayo","Junio","Julio","Agosto","Septiembre","Octubre","Noviembre","Diciembre"]
[null,1,null,null,null,null,null,null,null,"Marzo",{"$f":"IF($D6=K$5,$F6,0)","v":0},0,0,0,0,0,0,0,0,0,0,0,0]
[null,2,null,null,null,null,null,null,null,"Abril",0,0,0,0,0,0,0,0,0,0,0,0,0]
[null,3,null,null,null,null,null,null,null,"Mayo",0,0,0,0,0,0,0,0,0,0,0,0,0]
[null,4,null,null,null,null,null,null,null,"Junio",0,0,0,0,0,0,0,0,0,0,0,0,0]
[null,5,null,null,null,null,null,null,null,"Julio",0,0,0,0,0,0,0,0,0,0,0,0,0]
[null,6,null,null,null,null,null,null,null,"Agosto",0,0,0,0,0,0,0,0,0,0,0,0,0]
[null,7,null,null,null,null,null,null,null,"Septiembre",0,0,0,0,0,0,0,0,0,0,0,0,0]
[null,8,null,null,null,null,null,null,null,"Octubre",0,0,0,0,0,0,0,0,0,0,0,0,0]
[null,9,null,null,null,null,null,null,null,"Noviembre",0,0,0,0,0,0,0,0,0,0,0,0,0]
[null,10,null,null,null,null,null,null,null,"Diciembre",0,0,0,0,0,0,0,0,0,0,0,0,0]
[null,11,null,null,null,null,null,null,null,null,{"$f":"IF($D16=K$5,$F16,0)","v":0},0,0,0,0,0,0,0,0,0,0,0,0]
[null,12,null,null,null,null,null,null,null,null,0,0,0,0,0,0,0,0,0,0,0,0,0]
[null,13,null,null,null,null,null,null,null,null,0,0,0,0,0,0,0,0,0,0,0,0,0]
[null,14,null,null,null,null,null,null,null,null,0,0,0,0,0,0,0,0,0,0,0,0,0]
[null,15,null,null,null,null,null,null,null,null,0,0,0,0,0,0,0,0,0,0,0,0,0]
[null,16,null,null,null,null,null,null,null,null,0,0,0,0,0,0,0,0,0,0,0,0,0]
[null,17,null,null,null,null,null,null,null,null,0,0,0,0,0,0,0,0,0,0,0,0,0]
[null,18,null,null,null,null,null,null,null,null,0,0,0,0,0,0,0,0,0,0,0,0,0]
[null,19,null,null,null,null,null,null,null,null,0,0,0,0,0,0,0,0,0,0,0,0,0]
[null,20,null,null,null,null,null,null,null,null,0,0,0,0,0,0,0,0,0,0,0,0,0]
[null,21,null,null,null,null,null,null,null,null,{"$f":"IF($D26=K$5,$F26,0)","v":0},0,0,0,0,0,0,0,0,0,0,0,0]
[null,22,null,null,null,null,null,null,null,null,0,0,0,0,0,0,0,0,0,0,0,0,0]
[null,23,null,null,null,null,null,null,null,null,0,0,0,0,0,0,0,0,0,0,0,0,0]
[null,24,null,null,null,null,null,null,null,null,0,0,0,0,0,0,0,0,0,0,0,0,0]
[null,25,null,null,null,null,null,null,null,null,0,0,0,0,0,0,0,0,0,0,0,0,0]
[null,26,null,null,null,null,null,null,null,null,0,0,0,0,0,0,0,0,0,0,0,0,0]
[null,27,null,null,null,null,null,null,null,null,0,0,0,0,0,0,0,0,0,0,0,0,0]
[null,28,null,null,null,null,null,null,null,null,0,0,0,0,0,0,0,0,0,0,0,0,0]
[null,29,null,null,null,null,null,null,null,null,0,0,0,0,0,0,0,0,0,0,0,0,0]
[null,30,null,null,null,null,null,null,null,null,0,0,0,0,0,0,0,0,0,0,0,0,0]
[null,31,null,null,null,null,null,null,null,null,{"$f":"IF($D36=K$5,$F36,0)","v":0},0,0,0,0,0,0,0,0,0,0,0,0]
[null,32,null,null,null,null,null,null,null,null,0,0,0,0,0,0,0,0,0,0,0,0,0]
[null,33,null,null,null,null,null,null,null,null,0,0,0,0,0,0,0,0,0,0,0,0,0]
[null,34,null,null,null,null,null,null,null,null,0,0,0,0,0,0,0,0,0,0,0,0,0]
[null,35,null,null,null,null,null,null,null,null,0,0,0,0,0,0,0,0,0,0,0,0,0]
[null,36,null,null,null,null,null,null,null,null,0,0,0,0,0,0,0,0,0,0,0,0,0]
[null,37,null,null,null,null,null,null,null,null,0,0,0,0,0,0,0,0,0,0,0,0,0]
[null,38,null,null,null,null,null,null,null,null,0,0,0,0,0,0,0,0,0,0,0,0,0]
[null,39,null,null,null,null,null,null,null,null,0,0,0,0,0,0,0,0,0,0,0,0,0]
[null,40,null,null,null,null,null,null,null,null,0,0,0,0,0,0,0,0,0,0,0,0,0]
[null,41,null,null,null,null,null,null,null,null,{"$f":"IF($D46=K$5,$F46,0)","v":0},0,0,0,0,0,0,0,0,0,0,0,0]
[null,42,null,null,null,null,null,null,null,null,0,0,0,0,0,0,0,0,0,0,0,0,0]
[null,43,null,null,null,null,null,null,null,null,0,0,0,0,0,0,0,0,0,0,0,0,0]
[null,44,null,null,null,null,null,null,null,null,0,0,0,0,0,0,0,0,0,0,0,0,0]
[null,45,null,null,null,null,null,null,null,null,0,0,0,0,0,0,0,0,0,0,0,0,0]
[null,46,null,null,null,null,null,null,null,null,0,0,0,0,0,0,0,0,0,0,0,0,0]
[null,47,null,null,null,null,null,null,null,null,0,0,0,0,0,0,0,0,0,0,0,0,0]
[null,48,null,null,null,null,null,null,null,null,0,0,0,0,0,0,0,0,0,0,0,0,0]
[null,49,null,null,null,null,null,null,null,null,0,0,0,0,0,0,0,0,0,0,0,0,0]
[null,50,null,null,null,null,null,null,null,null,0,0,0,0,0,0,0,0,0,0,0,0,0]
[null,51,null,null,null,null,null,null,null,null,{"$f":"IF($D56=K$5,$F56,0)","v":0},0,0,0,0,0,0,0,0,0,0,0,0]
[null,52,null,null,null,null,null,null,null,null,0,0,0,0,0,0,0,0,0,0,0,0,0]
[null,53,null,null,null,null,null,null,null,null,0,0,0,0,0,0,0,0,0,0,0,0,0]
[null,54,null,null,null,null,null,null,null,null,0,0,0,0,0,0,0,0,0,0,0,0,0]
[null,55,null,null,null,null,null,null,null,null,0,0,0,0,0,0,0,0,0,0,0,0,0]
[null,56,null,null,null,null,null,null,null,null,0,0,0,0,0,0,0,0,0,0,0,0,0]
[null,57,null,null,null,null,null,null,null,null,0,0,0,0,0,0,0,0,0,0,0,0,0]
[null,58,null,null,null,null,null,null,null,null,0,0,0,0,0,0,0,0,0,0,0,0,0]
[null,59,null,null,null,null,null,null,null,null,0,0,0,0,0,0,0,0,0,0,0,0,0]
[null,60,null,null,null,null,null,null,null,null,0,0,0,0,0,0,0,0,0,0,0,0,0]
[null,61,null,null,null,null,null,null,null,null,{"$f":"IF($D66=K$5,$F66,0)","v":0},0,0,0,0,0,0,0,0,0,0,0,0]
[null,62,null,null,null,null,null,null,null,null,0,0,0,0,0,0,0,0,0,0,0,0,0]
[null,63,null,null,null,null,null,null,null,null,0,0,0,0,0,0,0,0,0,0,0,0,0]
[null,64,null,null,null,null,null,null,null,null,0,0,0,0,0,0,0,0,0,0,0,0,0]
[null,65,null,null,null,null,null,null,null,null,0,0,0,0,0,0,0,0,0,0,0,0,0]
[null,66,null,null,null,null,null,null,null,null,0,0,0,0,0,0,0,0,0,0,0,0,0]
[null,67,null,null,null,null,null,null,null,null,0,0,0,0,0,0,0,0,0,0,0,0,0]
[null,68,null,null,null,null,null,null,null,null,0,0,0,0,0,0,0,0,0,0,0,0,0]
[null,69,null,null,null,null,null,null,null,null,0,0,0,0,0,0,0,0,0,0,0,0,0]
[null,70,null,null,null,null,null,null,null,null,0,0,0,0,0,0,0,0,0,0,0,0,0]
[null,71,null,null,null,null,null,null,null,null,{"$f":"IF($D76=K$5,$F76,0)","v":0},0,0,0,0,0,0,0,0,0,0,0,0]
[null,72,null,null,null,null,null,null,null,null,0,0,0,0,0,0,0,0,0,0,0,0,0]
[null,73,null,null,null,null,null,null,null,null,0,0,0,0,0,0,0,0,0,0,0,0,0]
[null,74,null,null,null,null,null,null,null,null,0,0,0,0,0,0,0,0,0,0,0,0,0]
[null,75,null,null,null,null,null,null,null,null,0,0,0,0,0,0,0,0,0,0,0,0,0]
[null,76,null,null,null,null,null,null,null,null,0,0,0,0,0,0,0,0,0,0,0,0,0]
[null,77,null,null,null,null,null,null,null,null,0,0,0,0,0,0,0,0,0,0,0,0,0]
[null,78,null,null,null,null,null,null,null,null,0,0,0,0,0,0,0,0,0,0,0,0,0]
[null,79,null,null,null,null,null,null,null,null,0,0,0,0,0,0,0,0,0,0,0,0,0]
[null,80,null,null,null,null,null,null,null,null,0,0,0,0,0,0,0,0,0,0,0,0,0]
[null,81,null,null,null,null,null,null,null,null,{"$f":"IF($D86=K$5,$F86,0)","v":0},0,0,0,0,0,0,0,0,0,0,0,0]
[null,82,null,null,null,null,null,null,null,null,0,0,0,0,0,0,0,0,0,0,0,0,0]
[null,83,null,null,null,null,null,null,null,null,0,0,0,0,0,0,0,0,0,0,0,0,0]
[null,84,null,null,null,null,null,null,null,null,0,0,0,0,0,0,0,0,0,0,0,0,0]
[null,85,null,null,null,null,null,null,null,null,0,0,0,0,0,0,0,0,0,0,0,0,0]
[null,86,null,null,null,null,null,null,null,null,0,0,0,0,0,0,0,0,0,0,0,0,0]
[null,87,null,null,null,null,null,null,null,null,0,0,0,0,0,0,0,0,0,0,0,0,0]
[null,88,null,null,null,null,null,null,null,null,0,0,0,0,0,0,0,0,0,0,0,0,0]
[null,89,null,null,null,null,null,null,null,null,0,0,0,0,0,0,0,0,0,0,0,0,0]
[null,90,null,null,null,null,null,null,null,null,0,0,0,0,0,0,0,0,0,0,0,0,0]
[null,91,null,null,null,null,null,null,null,null,{"$f":"IF($D96=K$5,$F96,0)","v":0},0,0,0,0,0,0,0,0,0,0,0,0]
[null,92,null,null,null,null,null,null,null,null,0,0,0,0,0,0,0,0,0,0,0,0,0]
[null,93,null,null,null,null,null,null,null,null,0,0,0,0,0,0,0,0,0,0,0,0,0]
[null,94,null,null,null,null,null,null,null,null,0,0,0,0,0,0,0,0,0,0,0,0,0]
[null,95,null,null,null,null,null,null,null,null,0,0,0,0,0,0,0,0,0,0,0,0,0]
[null,96,null,null,null,null,null,null,null,null,0,0,0,0,0,0,0,0,0,0,0,0,0]
[null,97,null,null,null,null,null,null,null,null,0,0,0,0,0,0,0,0,0,0,0,0,0]
[null,98,null,null,null,null,null,null,null,null,0,0,0,0,0,0,0,0,0,0,0,0,0]
[null,99,null,null,null,null,null,null,null,null,0,0,0,0,0,0,0,0,0,0,0,0,0]
[null,100,null,null,null,null,null,null,null,null,0,0,0,0,0,0,0,0,0,0,0,0,0]
[null,101,null,null,null,null,null,null,null,null,{"$f":"IF($D106=K$5,$F106,0)","v":0},0,0,0,0,0,0,0,0,0,0,0,0]
[null,102,null,null,null,null,null,null,null,null,0,0,0,0,0,0,0,0,0,0,0,0,0]
[null,103,null,null,null,null,null,null,null,null,0,0,0,0,0,0,0,0,0,0,0,0,0]
[null,104,null,null,null,null,null,null,null,null,0,0,0,0,0,0,0,0,0,0,0,0,0]
[null,105,null,null,null,null,null,null,null,null,0,0,0,0,0,0,0,0,0,0,0,0,0]
[null,106,null,null,null,null,null,null,null,null,0,0,0,0,0,0,0,0,0,0,0,0,0]
[null,107,null,null,null,null,null,null,null,null,0,0,0,0,0,0,0,0,0,0,0,0,0]
[null,108,null,null,null,null,null,null,null,null,0,0,0,0,0,0,0,0,0,0,0,0,0]
[null,109,null,null,null,null,null,null,null,null,0,0,0,0,0,0,0,0,0,0,0,0,0]
[null,110,null,null,null,null,null,null,null,null,0,0,0,0,0,0,0,0,0,0,0,0,0]
[null,111,null,null,null,null,null,null,null,null,{"$f":"IF($D116=K$5,$F116,0)","v":0},0,0,0,0,0,0,0,0,0,0,0,0]
[null,112,null,null,null,null,null,null,null,null,0,0,0,0,0,0,0,0,0,0,0,0,0]
[null,113,null,null,null,null,null,null,null,null,0,0,0,0,0,0,0,0,0,0,0,0,0]
[null,114,null,null,null,null,null,null,null,null,0,0,0,0,0,0,0,0,0,0,0,0,0]
[null,115,null,null,null,null,null,null,null,null,0,0,0,0,0,0,0,0,0,0,0,0,0]
[null,116,null,null,null,null,null,null,null,null,0,0,0,0,0,0,0,0,0,0,0,0,0]
[null,117,null,null,null,null,null,null,null,null,0,0,0,0,0,0,0,0,0,0,0,0,0]
[null,118,null,null,null,null,null,null,null,null,0,0,0,0,0,0,0,0,0,0,0,0,0]
[null,119,null,null,null,null,null,null,null,null,0,0,0,0,0,0,0,0,0,0,0,0,0]
[null,120,null,null,null,null,null,null,null,null,0,0,0,0,0,0,0,0,0,0,0,0,0]
[null,121,null,null,null,null,null,null,null,null,{"$f":"IF($D126=K$5,$F126,0)","v":0},0,0,0,0,0,0,0,0,0,0,0,0]
[null,122,null,null,null,null,null,null,null,null,0,0,0,0,0,0,0,0,0,0,0,0,0]
[null,123,null,null,null,null,null,null,null,null,0,0,0,0,0,0,0,0,0,0,0,0,0]
[null,124,null,null,null,null,null,null,null,null,0,0,0,0,0,0,0,0,0,0,0,0,0]
[null,125,null,null,null,null,null,null,null,null,0,0,0,0,0,0,0,0,0,0,0,0,0]
[null,126,null,null,null,null,null,null,null,null,0,0,0,0,0,0,0,0,0,0,0,0,0]
[null,127,null,null,null,null,null,null,null,null,0,0,0,0,0,0,0,0,0,0,0,0,0]
[null,128,null,null,null,null,null,null,null,null,0,0,0,0,0,0,0,0,0,0,0,0,0]
[null,129,null,null,null,null,null,null,null,null,0,0,0,0,0,0,0,0,0,0,0,0,0]
[null,130,null,null,null,null,null,null,null,null,0,0,0,0,0,0,0,0,0,0,0,0,0]
[null,131,null,null,null,null,null,null,null,null,{"$f":"IF($D136=K$5,$F136,0)","v":0},0,0,0,0,0,0,0,0,0,0,0,0]
[null,132,null,null,null,null,null,null,null,null,0,0,0,0,0,0,0,0,0,0,0,0,0]
[null,133,null,null,null,null,null,null,null,null,0,0,0,0,0,0,0,0,0,0,0,0,0]
[null,134,null,null,null,null,null,null,null,null,0,0,0,0,0,0,0,0,0,0,0,0,0]
[null,135,null,null,null,null,null,null,null,null,0,0,0,0,0,0,0,0,0,0,0,0,0]
[null,136,null,null,null,null,null,null,null,null,0,0,0,0,0,0,0,0,0,0,0,0,0]
[null,137,null,null,null,null,null,null,null,null,0,0,0,0,0,0,0,0,0,0,0,0,0]
[null,138,null,null,null,null,null,null,null,null,0,0,0,0,0,0,0,0,0,0,0,0,0]
[null,139,null,null,null,null,null,null,null,null,0,0,0,0,0,0,0,0,0,0,0,0,0]
[null,140,null,null,null,null,null,null,null,null,0,0,0,0,0,0,0,0,0,0,0,0,0]
[null,141,null,null,null,null,null,null,null,null,{"$f":"IF($D146=K$5,$F146,0)","v":0},0,0,0,0,0,0,0,0,0,0,0,0]
[null,142,null,null,null,null,null,null,null,null,0,0,0,0,0,0,0,0,0,0,0,0,0]
[null,143,null,null,null,null,null,null,null,null,0,0,0,0,0,0,0,0,0,0,0,0,0]
[null,144,null,null,null,null,null,null,null,null,0,0,0,0,0,0,0,0,0,0,0,0,0]
[null,145,null,null,null,null,null,null,null,null,0,0,0,0,0,0,0,0,0,0,0,0,0]
[null,146,null,null,null,null,null,null,null,null,0,0,0,0,0,0,0,0,0,0,0,0,0]
[null,147,null,null,null,null,null,null,null,null,0,0,0,0,0,0,0,0,0,0,0,0,0]
[null,148,null,null,null,null,null,null,null,null,0,0,0,0,0,0,0,0,0,0,0,0,0]
[null,149,null,null,null,null,null,null,null,null,0,0,0,0,0,0,0,0,0,0,0,0,0]
[null,150,null,null,null,null,null,null,null,null,0,0,0,0,0,0,0,0,0,0,0,0,0]
[null,151,null,null,null,null,null,null,null,null,{"$f":"IF($D156=K$5,$F156,0)","v":0},0,0,0,0,0,0,0,0,0,0,0,0]
[null,152,null,null,null,null,null,null,null,null,0,0,0,0,0,0,0,0,0,0,0,0,0]
[null,153,null,null,null,null,null,null,null,null,0,0,0,0,0,0,0,0,0,0,0,0,0]
[null,154,null,null,null,null,null,null,null,null,0,0,0,0,0,0,0,0,0,0,0,0,0]
[null,155,null,null,null,null,null,null,null,null,0,0,0,0,0,0,0,0,0,0,0,0,0]
[null,156,null,null,null,null,null,null,null,null,0,0,0,0,0,0,0,0,0,0,0,0,0]
[null,157,null,null,null,null,null,null,null,null,0,0,0,0,0,0,0,0,0,0,0,0,0]
[null,158,null,null,null,null,null,null,null,null,0,0,0,0,0,0,0,0,0,0,0,0,0]
[null,159,null,null,null,null,null,null,null,null,0,0,0,0,0,0,0,0,0,0,0,0,0]
[null,160,null,null,null,null,null,null,null,null,0,0,0,0,0,0,0,0,0,0,0,0,0]
[null,161,null,null,null,null,null,null,null,null,{"$f":"IF($D166=K$5,$F166,0)","v":0},0,0,0,0,0,0,0,0,0,0,0,0]
[null,162,null,null,null,null,null,null,null,null,0,0,0,0,0,0,0,0,0,0,0,0,0]
[null,163,null,null,null,null,null,null,null,null,0,0,0,0,0,0,0,0,0,0,0,0,0]
[null,164,null,null,null,null,null,null,null,null,0,0,0,0,0,0,0,0,0,0,0,0,0]
[null,165,null,null,null,null,null,null,null,null,0,0,0,0,0,0,0,0,0,0,0,0,0]
[null,166,null,null,null,null,null,null,null,null,0,0,0,0,0,0,0,0,0,0,0,0,0]
[null,167,null,null,null,null,null,null,null,null,0,0,0,0,0,0,0,0,0,0,0,0,0]
[null,168,null,null,null,null,null,null,null,null,0,0,0,0,0,0,0,0,0,0,0,0,0]
[null,169,null,null,null,null,null,null,null,null,0,0,0,0,0,0,0,0,0,0,0,0,0]
[null,170,null,null,null,null,null,null,null,null,0,0,0,0,0,0,0,0,0,0,0,0,0]
[null,171,null,null,null,null,null,null,null,null,{"$f":"IF($D176=K$5,$F176,0)","v":0},0,0,0,0,0,0,0,0,0,0,0,0]
[null,172,null,null,null,null,null,null,null,null,0,0,0,0,0,0,0,0,0,0,0,0,0]
[null,173,null,null,null,null,null,null,null,null,0,0,0,0,0,0,0,0,0,0,0,0,0]
[null,174,null,null,null,null,null,null,null,null,0,0,0,0,0,0,0,0,0,0,0,0,0]
[null,175,null,null,null,null,null,null,null,null,0,0,0,0,0,0,0,0,0,0,0,0,0]
[null,176,null,null,null,null,null,null,null,null,0,0,0,0,0,0,0,0,0,0,0,0,0]
[null,177,null,null,null,null,null,null,null,null,0,0,0,0,0,0,0,0,0,0,0,0,0]
[null,178,null,null,null,null,null,null,null,null,0,0,0,0,0,0,0,0,0,0,0,0,0]
[null,179,null,null,null,null,null,null,null,null,0,0,0,0,0,0,0,0,0,0,0,0,0]
[null,180,null,null,null,null,null,null,null,null,0,0,0,0,0,0,0,0,0,0,0,0,0]
[null,181,null,null,null,null,null,null,null,null,{"$f":"IF($D186=K$5,$F186,0)","v":0},0,0,0,0,0,0,0,0,0,0,0,0]
[null,182,null,null,null,null,null,null,null,null,0,0,0,0,0,0,0,0,0,0,0,0,0]
[null,183,null,null,null,null,null,null,null,null,0,0,0,0,0,0,0,0,0,0,0,0,0]
[null,184,null,null,null,null,null,null,null,null,0,0,0,0,0,0,0,0,0,0,0,0,0]
[null,185,null,null,null,null,null,null,null,null,0,0,0,0,0,0,0,0,0,0,0,0,0]
[null,186,null,null,null,null,null,null,null,null,0,0,0,0,0,0,0,0,0,0,0,0,0]
[null,187,null,null,null,null,null,null,null,null,0,0,0,0,0,0,0,0,0,0,0,0,0]
[null,188,null,null,null,null,null,null,null,null,0,0,0,0,0,0,0,0,0,0,0,0,0]
[null,189,null,null,null,null,null,null,null,null,0,0,0,0,0,0,0,0,0,0,0,0,0]
[null,190,null,null,null,null,null,null,null,null,0,0,0,0,0,0,0,0,0,0,0,0,0]
[null,191,null,null,null,null,null,null,null,null,{"$f":"IF($D196=K$5,$F196,0)","v":0},0,0,0,0,0,0,0,0,0,0,0,0]
[null,192,null,null,null,null,null,null,null,null,0,0,0,0,0,0,0,0,0,0,0,0,0]
[null,193,null,null,null,null,null,null,null,null,0,0,0,0,0,0,0,0,0,0,0,0,0]
[null,194,null,null,null,null,null,null,null,null,0,0,0,0,0,0,0,0,0,0,0,0,0]
[null,195,null,null,null,null,null,null,null,null,0,0,0,0,0,0,0,0,0,0,0,0,0]
[null,196,null,null,null,null,null,null,null,null,0,0,0,0,0,0,0,0,0,0,0,0,0]
[null,197,null,null,null,null,null,null,null,null,0,0,0,0,0,0,0,0,0,0,0,0,0]
[null,198,null,null,null,null,null,null,null,null,0,0,0,0,0,0,0,0,0,0,0,0,0]
[null,199,null,null,null,null,null,null,null,null,0,0,0,0,0,0,0,0,0,0,0,0,0]
[null,200,null,null,null,null,null,null,null,null,0,0,0,0,0,0,0,0,0,0,0,0,0]
[null,201,null,null,null,null,null,null,null,null,{"$f":"IF($D206=K$5,$F206,0)","v":0},0,0,0,0,0,0,0,0,0,0,0,0]
[null,202,null,null,null,null,null,null,null,null,0,0,0,0,0,0,0,0,0,0,0,0,0]
[null,203,null,null,null,null,null,null,null,null,0,0,0,0,0,0,0,0,0,0,0,0,0]
[null,204,null,null,null,null,null,null,null,null,0,0,0,0,0,0,0,0,0,0,0,0,0]
[null,205,null,null,null,null,null,null,null,null,0,0,0,0,0,0,0,0,0,0,0,0,0]
[null,206,null,null,null,null,null,null,null,null,0,0,0,0,0,0,0,0,0,0,0,0,0]
[null,207,null,null,null,null,null,null,null,null,0,0,0,0,0,0,0,0,0,0,0,0,0]
[null,208,null,null,null,null,null,null,null,null,0,0,0,0,0,0,0,0,0,0,0,0,0]
[null,209,null,null,null,null,null,null,null,null,0,0,0,0,0,0,0,0,0,0,0,0,0]
[null,210,null,null,null,null,null,null,null,null,0,0,0,0,0,0,0,0,0,0,0,0,0]
[null,211,null,null,null,null,null,null,null,null,{"$f":"IF($D216=K$5,$F216,0)","v":0},0,0,0,0,0,0,0,0,0,0,0,0]
[null,212,null,null,null,null,null,null,null,null,0,0,0,0,0,0,0,0,0,0,0,0,0]
[null,213,null,null,null,null,null,null,null,null,0,0,0,0,0,0,0,0,0,0,0,0,0]
[null,214,null,null,null,null,null,null,null,null,0,0,0,0,0,0,0,0,0,0,0,0,0]
[null,215,null,null,null,null,null,null,null,null,0,0,0,0,0,0,0,0,0,0,0,0,0]
[null,216,null,null,null,null,null,null,null,null,0,0,0,0,0,0,0,0,0,0,0,0,0]
[null,217,null,null,null,null,null,null,null,null,0,0,0,0,0,0,0,0,0,0,0,0,0]
[null,218,null,null,null,null,null,null,null,null,0,0,0,0,0,0,0,0,0,0,0,0,0]
[null,219,null,null,null,null,null,null,null,null,0,0,0,0,0,0,0,0,0,0,0,0,0]
[null,220,null,null,null,null,null,null,null,null,0,0,0,0,0,0,0,0,0,0,0,0,0]
[null,221,null,null,null,null,null,null,null,null,{"$f":"IF($D226=K$5,$F226,0)","v":0},0,0,0,0,0,0,0,0,0,0,0,0]
[null,222,null,null,null,null,null,null,null,null,0,0,0,0,0,0,0,0,0,0,0,0,0]
[null,223,null,null,null,null,null,null,null,null,0,0,0,0,0,0,0,0,0,0,0,0,0]
[null,224,null,null,null,null,null,null,null,null,0,0,0,0,0,0,0,0,0,0,0,0,0]
[null,225,null,null,null,null,null,null,null,null,0,0,0,0,0,0,0,0,0,0,0,0,0]
[null,226,null,null,null,null,null,null,null,null,0,0,0,0,0,0,0,0,0,0,0,0,0]
[null,227,null,null,null,null,null,null,null,null,0,0,0,0,0,0,0,0,0,0,0,0,0]
[null,228,null,null,null,null,null,null,null,null,0,0,0,0,0,0,0,0,0,0,0,0,0]
[null,229,null,null,null,null,null,null,null,null,0,0,0,0,0,0,0,0,0,0,0,0,0]
[null,230,null,null,null,null,null,null,null,null,0,0,0,0,0,0,0,0,0,0,0,0,0]
[null,231,null,null,null,null,null,null,null,null,{"$f":"IF($D236=K$5,$F236,0)","v":0},0,0,0,0,0,0,0,0,0,0,0,0]
[null,232,null,null,null,null,null,null,null,null,0,0,0,0,0,0,0,0,0,0,0,0,0]
[null,233,null,null,null,null,null,null,null,null,0,0,0,0,0,0,0,0,0,0,0,0,0]
[null,234,null,null,null,null,null,null,null,null,0,0,0,0,0,0,0,0,0,0,0,0,0]
[null,235,null,null,null,null,null,null,null,null,0,0,0,0,0,0,0,0,0,0,0,0,0]
[null,236,null,null,null,null,null,null,null,null,0,0,0,0,0,0,0,0,0,0,0,0,0]
[null,237,null,null,null,null,null,null,null,null,0,0,0,0,0,0,0,0,0,0,0,0,0]
[null,238,null,null,null,null,null,null,null,null,0,0,0,0,0,0,0,0,0,0,0,0,0]
[null,239,null,null,null,null,null,null,null,null,0,0,0,0,0,0,0,0,0,0,0,0,0]
[null,240,null,null,null,null,null,null,null,null,0,0,0,0,0,0,0,0,0,0,0,0,0]
[null,241,null,null,null,null,null,null,null,null,{"$f":"IF($D246=K$5,$F246,0)","v":0},0,0,0,0,0,0,0,0,0,0,0,0]
[null,242,null,null,null,null,null,null,null,null,0,0,0,0,0,0,0,0,0,0,0,0,0]
[null,243,null,null,null,null,null,null,null,null,0,0,0,0,0,0,0,0,0,0,0,0,0]
[null,244,null,null,null,null,null,null,null,null,0,0,0,0,0,0,0,0,0,0,0,0,0]
[null,245,null,null,null,null,null,null,null,null,0,0,0,0,0,0,0,0,0,0,0,0,0]
[null,246,null,null,null,null,null,null,null,null,0,0,0,0,0,0,0,0,0,0,0,0,0]
[null,247,null,null,null,null,null,null,null,null,0,0,0,0,0,0,0,0,0,0,0,0,0]
[null,248,null,null,null,null,null,null,null,null,0,0,0,0,0,0,0,0,0,0,0,0,0]
[null,249,null,null,null,null,null,null,null,null,0,0,0,0,0,0,0,0,0,0,0,0,0]
[null,250,null,null,null,null,null,null,null,null,0,0,0,0,0,0,0,0,0,0,0,0,0]
[null,251,null,null,null,null,null,null,null,null,{"$f":"IF($D256=K$5,$F256,0)","v":0},0,0,0,0,0,0,0,0,0,0,0,0]
[null,252,null,null,null,null,null,null,null,null,0,0,0,0,0,0,0,0,0,0,0,0,0]
[null,253,null,null,null,null,null,null,null,null,0,0,0,0,0,0,0,0,0,0,0,0,0]
[null,254,null,null,null,null,null,null,null,null,0,0,0,0,0,0,0,0,0,0,0,0,0]
[null,255,null,null,null,null,null,null,null,null,0,0,0,0,0,0,0,0,0,0,0,0,0]
[null,256,null,null,null,null,null,null,null,null,0,0,0,0,0,0,0,0,0,0,0,0,0]
[null,257,null,null,null,null,null,null,null,null,0,0,0,0,0,0,0,0,0,0,0,0,0]
[null,258,null,null,null,null,null,null,null,null,0,0,0,0,0,0,0,0,0,0,0,0,0]
[null,259,null,null,null,null,null,null,null,null,0,0,0,0,0,0,0,0,0,0,0,0,0]
[null,260,null,null,null,null,null,null,null,null,0,0,0,0,0,0,0,0,0,0,0,0,0]
[null,261,null,null,null,null,null,null,null,null,{"$f":"IF($D266=K$5,$F266,0)","v":0},0,0,0,0,0,0,0,0,0,0,0,0]
[null,262,null,null,null,null,null,null,null,null,0,0,0,0,0,0,0,0,0,0,0,0,0]
[null,263,null,null,null,null,null,null,null,null,0,0,0,0,0,0,0,0,0,0,0,0,0]
[null,264,null,null,null,null,null,null,null,null,0,0,0,0,0,0,0,0,0,0,0,0,0]
[null,265,null,null,null,null,null,null,null,null,0,0,0,0,0,0,0,0,0,0,0,0,0]
[null,266,null,null,null,null,null,null,null,null,0,0,0,0,0,0,0,0,0,0,0,0,0]
[null,267,null,null,null,null,null,null,null,null,0,0,0,0,0,0,0,0,0,0,0,0,0]
[null,268,null,null,null,null,null,null,null,null,0,0,0,0,0,0,0,0,0,0,0,0,0]
[null,269,null,null,null,null,null,null,null,null,0,0,0,0,0,0,0,0,0,0,0,0,0]
[null,270,null,null,null,null,null,null,null,null,0,0,0,0,0,0,0,0,0,0,0,0,0]
[null,271,null,null,null,null,null,null,null,null,{"$f":"IF($D276=K$5,$F276,0)","v":0},0,0,0,0,0,0,0,0,0,0,0,0]
[null,272,null,null,null,null,null,null,null,null,0,0,0,0,0,0,0,0,0,0,0,0,0]
[null,273,null,null,null,null,null,null,null,null,0,0,0,0,0,0,0,0,0,0,0,0,0]
[null,274,null,null,null,null,null,null,null,null,0,0,0,0,0,0,0,0,0,0,0,0,0]
[null,275,null,null,null,null,null,null,null,null,0,0,0,0,0,0,0,0,0,0,0,0,0]
[null,276,null,null,null,null,null,null,null,null,0,0,0,0,0,0,0,0,0,0,0,0,0]
[null,277,null,null,null,null,null,null,null,null,0,0,0,0,0,0,0,0,0,0,0,0,0]
[null,278,null,null,null,null,null,null,null,null,0,0,0,0,0,0,0,0,0,0,0,0,0]
[null,279,null,null,null,null,null,null,null,null,0,0,0,0,0,0,0,0,0,0,0,0,0]
[null,280,null,null,null,null,null,null,null,null,0,0,0,0,0,0,0,0,0,0,0,0,0]
[null,281,null,null,null,null,null,null,null,null,{"$f":"IF($D286=K$5,$F286,0)","v":0},0,0,0,0,0,0,0,0,0,0,0,0]
[null,282,null,null,null,null,null,null,null,null,0,0,0,0,0,0,0,0,0,0,0,0,0]
[null,283,null,null,null,null,null,null,null,null,0,0,0,0,0,0,0,0,0,0,0,0,0]
[null,284,null,null,null,null,null,null,null,null,0,0,0,0,0,0,0,0,0,0,0,0,0]
[null,285,null,null,null,null,null,null,null,null,0,0,0,0,0,0,0,0,0,0,0,0,0]
[null,286,null,null,null,null,null,null,null,null,0,0,0,0,0,0,0,0,0,0,0,0,0]
[null,287,null,null,null,null,null,null,null,null,0,0,0,0,0,0,0,0,0,0,0,0,0]
[null,288,null,null,null,null,null,null,null,null,0,0,0,0,0,0,0,0,0,0,0,0,0]
[null,289,null,null,null,null,null,null,null,null,0,0,0,0,0,0,0,0,0,0,0,0,0]
[null,290,null,null,null,null,null,null,null,null,0,0,0,0,0,0,0,0,0,0,0,0,0]
[null,291,null,null,null,null,null,null,null,null,{"$f":"IF($D296=K$5,$F296,0)","v":0},0,0,0,0,0,0,0,0,0,0,0,0]
[null,292,null,null,null,null,null,null,null,null,0,0,0,0,0,0,0,0,0,0,0,0,0]
[null,293,null,null,null,null,null,null,null,null,0,0,0,0,0,0,0,0,0,0,0,0,0]
[null,294,null,null,null,null,null,null,null,null,0,0,0,0,0,0,0,0,0,0,0,0,0]
[null,295,null,null,null,null,null,null,null,null,0,0,0,0,0,0,0,0,0,0,0,0,0]
[null,296,null,null,null,null,null,null,null,null,0,0,0,0,0,0,0,0,0,0,0,0,0]
[null,297,null,null,null,null,null,null,null,null,0,0,0,0,0,0,0,0,0,0,0,0,0]
[null,298,null,null,null,null,null,null,null,null,0,0,0,0,0,0,0,0,0,0,0,0,0]
[null,299,null,null,null,null,null,null,null,null,0,0,0,0,0,0,0,0,0,0,0,0,0]
[null,300,null,null,null,null,null,null,null,null,0,0,0,0,0,0,0,0,0,0,0,0,0]
[null,null,null,null,null,null,null,null,null,null,{"$f":"SUM(K6:K305)","v":0},{"$f":"SUM(L6:L305)","v":0},0,0,0,0,0,0,0,0,0,0,0]

{"sheet":"4","index":4,"n_rows":306,"n_cols":23,"rows_kept":306,"cut":false,"hidden":false,"merged":[]}
[]
[null,null,{"$f":"menu!B11","v":"ENERGIA"}]
[]
[null,null,null,null,null,null,null,null,null,"Enero"]
[null,null,"DIA","MES","CONCEPTO","TOTAL",null,null,null,"Febrero","Enero","Febrero","Marzo","Abril","Mayo","Junio","Julio","Agosto","Septiembre","Octubre","Noviembre","Diciembre"]
[null,1,null,null,null,null,null,null,null,"Marzo",{"$f":"IF($D6=K$5,$F6,0)","v":0},0,0,0,0,0,0,0,0,0,0,0,0]
[null,2,null,null,null,null,null,null,null,"Abril",0,0,0,0,0,0,0,0,0,0,0,0,0]
[null,3,null,null,null,null,null,null,null,"Mayo",0,0,0,0,0,0,0,0,0,0,0,0,0]
[null,4,null,null,null,null,null,null,null,"Junio",0,0,0,0,0,0,0,0,0,0,0,0,0]
[null,5,null,null,null,null,null,null,null,"Julio",0,0,0,0,0,0,0,0,0,0,0,0,0]
[null,6,null,null,null,null,null,null,null,"Agosto",0,0,0,0,0,0,0,0,0,0,0,0,0]
[null,7,null,null,null,null,null,null,null,"Septiembre",0,0,0,0,0,0,0,0,0,0,0,0,0]
[null,8,null,null,null,null,null,null,null,"Octubre",0,0,0,0,0,0,0,0,0,0,0,0,0]
[null,9,null,null,null,null,null,null,null,"Noviembre",0,0,0,0,0,0,0,0,0,0,0,0,0]
[null,10,null,null,null,null,null,null,null,"Diciembre",0,0,0,0,0,0,0,0,0,0,0,0,0]
[null,11,null,null,null,null,null,null,null,null,{"$f":"IF($D16=K$5,$F16,0)","v":0},0,0,0,0,0,0,0,0,0,0,0,0]
[null,12,null,null,null,null,null,null,null,null,0,0,0,0,0,0,0,0,0,0,0,0,0]
[null,13,null,null,null,null,null,null,null,null,0,0,0,0,0,0,0,0,0,0,0,0,0]
[null,14,null,null,null,null,null,null,null,null,0,0,0,0,0,0,0,0,0,0,0,0,0]
[null,15,null,null,null,null,null,null,null,null,0,0,0,0,0,0,0,0,0,0,0,0,0]
[null,16,null,null,null,null,null,null,null,null,0,0,0,0,0,0,0,0,0,0,0,0,0]
[null,17,null,null,null,null,null,null,null,null,0,0,0,0,0,0,0,0,0,0,0,0,0]
[null,18,null,null,null,null,null,null,null,null,0,0,0,0,0,0,0,0,0,0,0,0,0]
[null,19,null,null,null,null,null,null,null,null,0,0,0,0,0,0,0,0,0,0,0,0,0]
[null,20,null,null,null,null,null,null,null,null,0,0,0,0,0,0,0,0,0,0,0,0,0]
[null,21,null,null,null,null,null,null,null,null,{"$f":"IF($D26=K$5,$F26,0)","v":0},0,0,0,0,0,0,0,0,0,0,0,0]
[null,22,null,null,null,null,null,null,null,null,0,0,0,0,0,0,0,0,0,0,0,0,0]
[null,23,null,null,null,null,null,null,null,null,0,0,0,0,0,0,0,0,0,0,0,0,0]
[null,24,null,null,null,null,null,null,null,null,0,0,0,0,0,0,0,0,0,0,0,0,0]
[null,25,null,null,null,null,null,null,null,null,0,0,0,0,0,0,0,0,0,0,0,0,0]
[null,26,null,null,null,null,null,null,null,null,0,0,0,0,0,0,0,0,0,0,0,0,0]
[null,27,null,null,null,null,null,null,null,null,0,0,0,0,0,0,0,0,0,0,0,0,0]
[null,28,null,null,null,null,null,null,null,null,0,0,0,0,0,0,0,0,0,0,0,0,0]
[null,29,null,null,null,null,null,null,null,null,0,0,0,0,0,0,0,0,0,0,0,0,0]
[null,30,null,null,null,null,null,null,null,null,0,0,0,0,0,0,0,0,0,0,0,0,0]
[null,31,null,null,null,null,null,null,null,null,{"$f":"IF($D36=K$5,$F36,0)","v":0},0,0,0,0,0,0,0,0,0,0,0,0]
[null,32,null,null,null,null,null,null,null,null,0,0,0,0,0,0,0,0,0,0,0,0,0]
[null,33,null,null,null,null,null,null,null,null,0,0,0,0,0,0,0,0,0,0,0,0,0]
[null,34,null,null,null,null,null,null,null,null,0,0,0,0,0,0,0,0,0,0,0,0,0]
[null,35,null,null,null,null,null,null,null,null,0,0,0,0,0,0,0,0,0,0,0,0,0]
[null,36,null,null,null,null,null,null,null,null,0,0,0,0,0,0,0,0,0,0,0,0,0]
[null,37,null,null,null,null,null,null,null,null,0,0,0,0,0,0,0,0,0,0,0,0,0]
[null,38,null,null,null,null,null,null,null,null,0,0,0,0,0,0,0,0,0,0,0,0,0]
[null,39,null,null,null,null,null,null,null,null,0,0,0,0,0,0,0,0,0,0,0,0,0]
[null,40,null,null,null,null,null,null,null,null,0,0,0,0,0,0,0,0,0,0,0,0,0]
[null,41,null,null,null,null,null,null,null,null,{"$f":"IF($D46=K$5,$F46,0)","v":0},0,0,0,0,0,0,0,0,0,0,0,0]
[null,42,null,null,null,null,null,null,null,null,0,0,0,0,0,0,0,0,0,0,0,0,0]
[null,43,null,null,null,null,null,null,null,null,0,0,0,0,0,0,0,0,0,0,0,0,0]
[null,44,null,null,null,null,null,null,null,null,0,0,0,0,0,0,0,0,0,0,0,0,0]
[null,45,null,null,null,null,null,null,null,null,0,0,0,0,0,0,0,0,0,0,0,0,0]
[null,46,null,null,null,null,null,null,null,null,0,0,0,0,0,0,0,0,0,0,0,0,0]
[null,47,null,null,null,null,null,null,null,null,0,0,0,0,0,0,0,0,0,0,0,0,0]
[null,48,null,null,null,null,null,null,null,null,0,0,0,0,0,0,0,0,0,0,0,0,0]
[null,49,null,null,null,null,null,null,null,null,0,0,0,0,0,0,0,0,0,0,0,0,0]
[null,50,null,null,null,null,null,null,null,null,0,0,0,0,0,0,0,0,0,0,0,0,0]
[null,51,null,null,null,null,null,null,null,null,{"$f":"IF($D56=K$5,$F56,0)","v":0},0,0,0,0,0,0,0,0,0,0,0,0]
[null,52,null,null,null,null,null,null,null,null,0,0,0,0,0,0,0,0,0,0,0,0,0]
[null,53,null,null,null,null,null,null,null,null,0,0,0,0,0,0,0,0,0,0,0,0,0]
[null,54,null,null,null,null,null,null,null,null,0,0,0,0,0,0,0,0,0,0,0,0,0]
[null,55,null,null,null,null,null,null,null,null,0,0,0,0,0,0,0,0,0,0,0,0,0]
[null,56,null,null,null,null,null,null,null,null,0,0,0,0,0,0,0,0,0,0,0,0,0]
[null,57,null,null,null,null,null,null,null,null,0,0,0,0,0,0,0,0,0,0,0,0,0]
[null,58,null,null,null,null,null,null,null,null,0,0,0,0,0,0,0,0,0,0,0,0,0]
[null,59,null,null,null,null,null,null,null,null,0,0,0,0,0,0,0,0,0,0,0,0,0]
[null,60,null,null,null,null,null,null,null,null,0,0,0,0,0,0,0,0,0,0,0,0,0]
[null,61,null,null,null,null,null,null,null,null,{"$f":"IF($D66=K$5,$F66,0)","v":0},0,0,0,0,0,0,0,0,0,0,0,0]
[null,62,null,null,null,null,null,null,null,null,0,0,0,0,0,0,0,0,0,0,0,0,0]
[null,63,null,null,null,null,null,null,null,null,0,0,0,0,0,0,0,0,0,0,0,0,0]
[null,64,null,null,null,null,null,null,null,null,0,0,0,0,0,0,0,0,0,0,0,0,0]
[null,65,null,null,null,null,null,null,null,null,0,0,0,0,0,0,0,0,0,0,0,0,0]
[null,66,null,null,null,null,null,null,null,null,0,0,0,0,0,0,0,0,0,0,0,0,0]
[null,67,null,null,null,null,null,null,null,null,0,0,0,0,0,0,0,0,0,0,0,0,0]
[null,68,null,null,null,null,null,null,null,null,0,0,0,0,0,0,0,0,0,0,0,0,0]
[null,69,null,null,null,null,null,null,null,null,0,0,0,0,0,0,0,0,0,0,0,0,0]
[null,70,null,null,null,null,null,null,null,null,0,0,0,0,0,0,0,0,0,0,0,0,0]
[null,71,null,null,null,null,null,null,null,null,{"$f":"IF($D76=K$5,$F76,0)","v":0},0,0,0,0,0,0,0,0,0,0,0,0]
[null,72,null,null,null,null,null,null,null,null,0,0,0,0,0,0,0,0,0,0,0,0,0]
[null,73,null,null,null,null,null,null,null,null,0,0,0,0,0,0,0,0,0,0,0,0,0]
[null,74,null,null,null,null,null,null,null,null,0,0,0,0,0,0,0,0,0,0,0,0,0]
[null,75,null,null,null,null,null,null,null,null,0,0,0,0,0,0,0,0,0,0,0,0,0]
[null,76,null,null,null,null,null,null,null,null,0,0,0,0,0,0,0,0,0,0,0,0,0]
[null,77,null,null,null,null,null,null,null,null,0,0,0,0,0,0,0,0,0,0,0,0,0]
[null,78,null,null,null,null,null,null,null,null,0,0,0,0,0,0,0,0,0,0,0,0,0]
[null,79,null,null,null,null,null,null,null,null,0,0,0,0,0,0,0,0,0,0,0,0,0]
[null,80,null,null,null,null,null,null,null,null,0,0,0,0,0,0,0,0,0,0,0,0,0]
[null,81,null,null,null,null,null,null,null,null,{"$f":"IF($D86=K$5,$F86,0)","v":0},0,0,0,0,0,0,0,0,0,0,0,0]
[null,82,null,null,null,null,null,null,null,null,0,0,0,0,0,0,0,0,0,0,0,0,0]
[null,83,null,null,null,null,null,null,null,null,0,0,0,0,0,0,0,0,0,0,0,0,0]
[null,84,null,null,null,null,null,null,null,null,0,0,0,0,0,0,0,0,0,0,0,0,0]
[null,85,null,null,null,null,null,null,null,null,0,0,0,0,0,0,0,0,0,0,0,0,0]
[null,86,null,null,null,null,null,null,null,null,0,0,0,0,0,0,0,0,0,0,0,0,0]
[null,87,null,null,null,null,null,null,null,null,0,0,0,0,0,0,0,0,0,0,0,0,0]
[null,88,null,null,null,null,null,null,null,null,0,0,0,0,0,0,0,0,0,0,0,0,0]
[null,89,null,null,null,null,null,null,null,null,0,0,0,0,0,0,0,0,0,0,0,0,0]
[null,90,null,null,null,null,null,null,null,null,0,0,0,0,0,0,0,0,0,0,0,0,0]
[null,91,null,null,null,null,null,null,null,null,{"$f":"IF($D96=K$5,$F96,0)","v":0},0,0,0,0,0,0,0,0,0,0,0,0]
[null,92,null,null,null,null,null,null,null,null,0,0,0,0,0,0,0,0,0,0,0,0,0]
[null,93,null,null,null,null,null,null,null,null,0,0,0,0,0,0,0,0,0,0,0,0,0]
[null,94,null,null,null,null,null,null,null,null,0,0,0,0,0,0,0,0,0,0,0,0,0]
[null,95,null,null,null,null,null,null,null,null,0,0,0,0,0,0,0,0,0,0,0,0,0]
[null,96,null,null,null,null,null,null,null,null,0,0,0,0,0,0,0,0,0,0,0,0,0]
[null,97,null,null,null,null,null,null,null,null,0,0,0,0,0,0,0,0,0,0,0,0,0]
[null,98,null,null,null,null,null,null,null,null,0,0,0,0,0,0,0,0,0,0,0,0,0]
[null,99,null,null,null,null,null,null,null,null,0,0,0,0,0,0,0,0,0,0,0,0,0]
[null,100,null,null,null,null,null,null,null,null,0,0,0,0,0,0,0,0,0,0,0,0,0]
[null,101,null,null,null,null,null,null,null,null,{"$f":"IF($D106=K$5,$F106,0)","v":0},0,0,0,0,0,0,0,0,0,0,0,0]
[null,102,null,null,null,null,null,null,null,null,0,0,0,0,0,0,0,0,0,0,0,0,0]
[null,103,null,null,null,null,null,null,null,null,0,0,0,0,0,0,0,0,0,0,0,0,0]
[null,104,null,null,null,null,null,null,null,null,0,0,0,0,0,0,0,0,0,0,0,0,0]
[null,105,null,null,null,null,null,null,null,null,0,0,0,0,0,0,0,0,0,0,0,0,0]
[null,106,null,null,null,null,null,null,null,null,0,0,0,0,0,0,0,0,0,0,0,0,0]
[null,107,null,null,null,null,null,null,null,null,0,0,0,0,0,0,0,0,0,0,0,0,0]
[null,108,null,null,null,null,null,null,null,null,0,0,0,0,0,0,0,0,0,0,0,0,0]
[null,109,null,null,null,null,null,null,null,null,0,0,0,0,0,0,0,0,0,0,0,0,0]
[null,110,null,null,null,null,null,null,null,null,0,0,0,0,0,0,0,0,0,0,0,0,0]
[null,111,null,null,null,null,null,null,null,null,{"$f":"IF($D116=K$5,$F116,0)","v":0},0,0,0,0,0,0,0,0,0,0,0,0]
[null,112,null,null,null,null,null,null,null,null,0,0,0,0,0,0,0,0,0,0,0,0,0]
[null,113,null,null,null,null,null,null,null,null,0,0,0,0,0,0,0,0,0,0,0,0,0]
[null,114,null,null,null,null,null,null,null,null,0,0,0,0,0,0,0,0,0,0,0,0,0]
[null,115,null,null,null,null,null,null,null,null,0,0,0,0,0,0,0,0,0,0,0,0,0]
[null,116,null,null,null,null,null,null,null,null,0,0,0,0,0,0,0,0,0,0,0,0,0]
[null,117,null,null,null,null,null,null,null,null,0,0,0,0,0,0,0,0,0,0,0,0,0]
[null,118,null,null,null,null,null,null,null,null,0,0,0,0,0,0,0,0,0,0,0,0,0]
[null,119,null,null,null,null,null,null,null,null,0,0,0,0,0,0,0,0,0,0,0,0,0]
[null,120,null,null,null,null,null,null,null,null,0,0,0,0,0,0,0,0,0,0,0,0,0]
[null,121,null,null,null,null,null,null,null,null,{"$f":"IF($D126=K$5,$F126,0)","v":0},0,0,0,0,0,0,0,0,0,0,0,0]
[null,122,null,null,null,null,null,null,null,null,0,0,0,0,0,0,0,0,0,0,0,0,0]
[null,123,null,null,null,null,null,null,null,null,0,0,0,0,0,0,0,0,0,0,0,0,0]
[null,124,null,null,null,null,null,null,null,null,0,0,0,0,0,0,0,0,0,0,0,0,0]
[null,125,null,null,null,null,null,null,null,null,0,0,0,0,0,0,0,0,0,0,0,0,0]
[null,126,null,null,null,null,null,null,null,null,0,0,0,0,0,0,0,0,0,0,0,0,0]
[null,127,null,null,null,null,null,null,null,null,0,0,0,0,0,0,0,0,0,0,0,0,0]
[null,128,null,null,null,null,null,null,null,null,0,0,0,0,0,0,0,0,0,0,0,0,0]
[null,129,null,null,null,null,null,null,null,null,0,0,0,0,0,0,0,0,0,0,0,0,0]
[null,130,null,null,null,null,null,null,null,null,0,0,0,0,0,0,0,0,0,0,0,0,0]
[null,131,null,null,null,null,null,null,null,null,{"$f":"IF($D136=K$5,$F136,0)","v":0},0,0,0,0,0,0,0,0,0,0,0,0]
[null,132,null,null,null,null,null,null,null,null,0,0,0,0,0,0,0,0,0,0,0,0,0]
[null,133,null,null,null,null,null,null,null,null,0,0,0,0,0,0,0,0,0,0,0,0,0]
[null,134,null,null,null,null,null,null,null,null,0,0,0,0,0,0,0,0,0,0,0,0,0]
[null,135,null,null,null,null,null,null,null,null,0,0,0,0,0,0,0,0,0,0,0,0,0]
[null,136,null,null,null,null,null,null,null,null,0,0,0,0,0,0,0,0,0,0,0,0,0]
[null,137,null,null,null,null,null,null,null,null,0,0,0,0,0,0,0,0,0,0,0,0,0]
[null,138,null,null,null,null,null,null,null,null,0,0,0,0,0,0,0,0,0,0,0,0,0]
[null,139,null,null,null,null,null,null,null,null,0,0,0,0,0,0,0,0,0,0,0,0,0]
[null,140,null,null,null,null,null,null,null,null,0,0,0,0,0,0,0,0,0,0,0,0,0]
[null,141,null,null,null,null,null,null,null,null,{"$f":"IF($D146=K$5,$F146,0)","v":0},0,0,0,0,0,0,0,0,0,0,0,0]
[null,142,null,null,null,null,null,null,null,null,0,0,0,0,0,0,0,0,0,0,0,0,0]
[null,143,null,null,null,null,null,null,null,null,0,0,0,0,0,0,0,0,0,0,0,0,0]
[null,144,null,null,null,null,null,null,null,null,0,0,0,0,0,0,0,0,0,0,0,0,0]
[null,145,null,null,null,null,null,null,null,null,0,0,0,0,0,0,0,0,0,0,0,0,0]
[null,146,null,null,null,null,null,null,null,null,0,0,0,0,0,0,0,0,0,0,0,0,0]
[null,147,null,null,null,null,null,null,null,null,0,0,0,0,0,0,0,0,0,0,0,0,0]
[null,148,null,null,null,null,null,null,null,null,0,0,0,0,0,0,0,0,0,0,0,0,0]
[null,149,null,null,null,null,null,null,null,null,0,0,0,0,0,0,0,0,0,0,0,0,0]
[null,150,null,null,null,null,null,null,null,null,0,0,0,0,0,0,0,0,0,0,0,0,0]
[null,151,null,null,null,null,null,null,null,null,{"$f":"IF($D156=K$5,$F156,0)","v":0},0,0,0,0,0,0,0,0,0,0,0,0]
[null,152,null,null,null,null,null,null,null,null,0,0,0,0,0,0,0,0,0,0,0,0,0]
[null,153,null,null,null,null,null,null,null,null,0,0,0,0,0,0,0,0,0,0,0,0,0]
[null,154,null,null,null,null,null,null,null,null,0,0,0,0,0,0,0,0,0,0,0,0,0]
[null,155,null,null,null,null,null,null,null,null,0,0,0,0,0,0,0,0,0,0,0,0,0]
[null,156,null,null,null,null,null,null,null,null,0,0,0,0,0,0,0,0,0,0,0,0,0]
[null,157,null,null,null,null,null,null,null,null,0,0,0,0,0,0,0,0,0,0,0,0,0]
[null,158,null,null,null,null,null,null,null,null,0,0,0,0,0,0,0,0,0,0,0,0,0]
[null,159,null,null,null,null,null,null,null,null,0,0,0,0,0,0,0,0,0,0,0,0,0]
[null,160,null,null,null,null,null,null,null,null,0,0,0,0,0,0,0,0,0,0,0,0,0]
[null,161,null,null,null,null,null,null,null,null,{"$f":"IF($D166=K$5,$F166,0)","v":0},0,0,0,0,0,0,0,0,0,0,0,0]
[null,162,null,null,null,null,null,null,null,null,0,0,0,0,0,0,0,0,0,0,0,0,0]
[null,163,null,null,null,null,null,null,null,null,0,0,0,0,0,0,0,0,0,0,0,0,0]
[null,164,null,null,null,null,null,null,null,null,0,0,0,0,0,0,0,0,0,0,0,0,0]
[null,165,null,null,null,null,null,null,null,null,0,0,0,0,0,0,0,0,0,0,0,0,0]
[null,166,null,null,null,null,null,null,null,null,0,0,0,0,0,0,0,0,0,0,0,0,0]
[null,167,null,null,null,null,null,null,null,null,0,0,0,0,0,0,0,0,0,0,0,0,0]
[null,168,null,null,null,null,null,null,null,null,0,0,0,0,0,0,0,0,0,0,0,0,0]
[null,169,null,null,null,null,null,null,null,null,0,0,0,0,0,0,0,0,0,0,0,0,0]
[null,170,null,null,null,null,null,null,null,null,0,0,0,0,0,0,0,0,0,0,0,0,0]
[null,171,null,null,null,null,null,null,null,null,{"$f":"IF($D176=K$5,$F176,0)","v":0},0,0,0,0,0,0,0,0,0,0,0,0]
[null,172,null,null,null,null,null,null,null,null,0,0,0,0,0,0,0,0,0,0,0,0,0]
[null,173,null,null,null,null,null,null,null,null,0,0,0,0,0,0,0,0,0,0,0,0,0]
[null,174,null,null,null,null,null,null,null,null,0,0,0,0,0,0,0,0,0,0,0,0,0]
[null,175,null,null,null,null,null,null,null,null,0,0,0,0,0,0,0,0,0,0,0,0,0]
[null,176,null,null,null,null,null,null,null,null,0,0,0,0,0,0,0,0,0,0,0,0,0]
[null,177,null,null,null,null,null,null,null,null,0,0,0,0,0,0,0,0,0,0,0,0,0]
[null,178,null,null,null,null,null,null,null,null,0,0,0,0,0,0,0,0,0,0,0,0,0]
[null,179,null,null,null,null,null,null,null,null,0,0,0,0,0,0,0,0,0,0,0,0,0]
[null,180,null,null,null,null,null,null,null,null,0,0,0,0,0,0,0,0,0,0,0,0,0]
[null,181,null,null,null,null,null,null,null,null,{"$f":"IF($D186=K$5,$F186,0)","v":0},0,0,0,0,0,0,0,0,0,0,0,0]
[null,182,null,null,null,null,null,null,null,null,0,0,0,0,0,0,0,0,0,0,0,0,0]
[null,183,null,null,null,null,null,null,null,null,0,0,0,0,0,0,0,0,0,0,0,0,0]
[null,184,null,null,null,null,null,null,null,null,0,0,0,0,0,0,0,0,0,0,0,0,0]
[null,185,null,null,null,null,null,null,null,null,0,0,0,0,0,0,0,0,0,0,0,0,0]
[null,186,null,null,null,null,null,null,null,null,0,0,0,0,0,0,0,0,0,0,0,0,0]
[null,187,null,null,null,null,null,null,null,null,0,0,0,0,0,0,0,0,0,0,0,0,0]
[null,188,null,null,null,null,null,null,null,null,0,0,0,0,0,0,0,0,0,0,0,0,0]
[null,189,null,null,null,null,null,null,null,null,0,0,0,0,0,0,0,0,0,0,0,0,0]
[null,190,null,null,null,null,null,null,null,null,0,0,0,0,0,0,0,0,0,0,0,0,0]
[null,191,null,null,null,null,null,null,null,null,{"$f":"IF($D196=K$5,$F196,0)","v":0},0,0,0,0,0,0,0,0,0,0,0,0]
[null,192,null,null,null,null,null,null,null,null,0,0,0,0,0,0,0,0,0,0,0,0,0]
[null,193,null,null,null,null,null,null,null,null,0,0,0,0,0,0,0,0,0,0,0,0,0]
[null,194,null,null,null,null,null,null,null,null,0,0,0,0,0,0,0,0,0,0,0,0,0]
[null,195,null,null,null,null,null,null,null,null,0,0,0,0,0,0,0,0,0,0,0,0,0]
[null,196,null,null,null,null,null,null,null,null,0,0,0,0,0,0,0,0,0,0,0,0,0]
[null,197,null,null,null,null,null,null,null,null,0,0,0,0,0,0,0,0,0,0,0,0,0]
[null,198,null,null,null,null,null,null,null,null,0,0,0,0,0,0,0,0,0,0,0,0,0]
[null,199,null,null,null,null,null,null,null,null,0,0,0,0,0,0,0,0,0,0,0,0,0]
[null,200,null,null,null,null,null,null,null,null,0,0,0,0,0,0,0,0,0,0,0,0,0]
[null,201,null,null,null,null,null,null,null,null,{"$f":"IF($D206=K$5,$F206,0)","v":0},0,0,0,0,0,0,0,0,0,0,0,0]
[null,202,null,null,null,null,null,null,null,null,0,0,0,0,0,0,0,0,0,0,0,0,0]
[null,203,null,null,null,null,null,null,null,null,0,0,0,0,0,0,0,0,0,0,0,0,0]
[null,204,null,null,null,null,null,null,null,null,0,0,0,0,0,0,0,0,0,0,0,0,0]
[null,205,null,null,null,null,null,null,null,null,0,0,0,0,0,0,0,0,0,0,0,0,0]
[null,206,null,null,null,null,null,null,null,null,0,0,0,0,0,0,0,0,0,0,0,0,0]
[null,207,null,null,null,null,null,null,null,null,0,0,0,0,0,0,0,0,0,0,0,0,0]
[null,208,null,null,null,null,null,null,null,null,0,0,0,0,0,0,0,0,0,0,0,0,0]
[null,209,null,null,null,null,null,null,null,null,0,0,0,0,0,0,0,0,0,0,0,0,0]
[null,210,null,null,null,null,null,null,null,null,0,0,0,0,0,0,0,0,0,0,0,0,0]
[null,211,null,null,null,null,null,null,null,null,{"$f":"IF($D216=K$5,$F216,0)","v":0},0,0,0,0,0,0,0,0,0,0,0,0]
[null,212,null,null,null,null,null,null,null,null,0,0,0,0,0,0,0,0,0,0,0,0,0]
[null,213,null,null,null,null,null,null,null,null,0,0,0,0,0,0,0,0,0,0,0,0,0]
[null,214,null,null,null,null,null,null,null,null,0,0,0,0,0,0,0,0,0,0,0,0,0]
[null,215,null,null,null,null,null,null,null,null,0,0,0,0,0,0,0,0,0,0,0,0,0]
[null,216,null,null,null,null,null,null,null,null,0,0,0,0,0,0,0,0,0,0,0,0,0]
[null,217,null,null,null,null,null,null,null,null,0,0,0,0,0,0,0,0,0,0,0,0,0]
[null,218,null,null,null,null,null,null,null,null,0,0,0,0,0,0,0,0,0,0,0,0,0]
[null,219,null,null,null,null,null,null,null,null,0,0,0,0,0,0,0,0,0,0,0,0,0]
[null,220,null,null,null,null,null,null,null,null,0,0,0,0,0,0,0,0,0,0,0,0,0]
[null,221,null,null,null,null,null,null,null,null,{"$f":"IF($D226=K$5,$F226,0)","v":0},0,0,0,0,0,0,0,0,0,0,0,0]
[null,222,null,null,null,null,null,null,null,null,0,0,0,0,0,0,0,0,0,0,0,0,0]
[null,223,null,null,null,null,null,null,null,null,0,0,0,0,0,0,0,0,0,0,0,0,0]
[null,224,null,null,null,null,null,null,null,null,0,0,0,0,0,0,0,0,0,0,0,0,0]
[null,225,null,null,null,null,null,null,null,null,0,0,0,0,0,0,0,0,0,0,0,0,0]
[null,226,null,null,null,null,null,null,null,null,0,0,0,0,0,0,0,0,0,0,0,0,0]
[null,227,null,null,null,null,null,null,null,null,0,0,0,0,0,0,0,0,0,0,0,0,0]
[null,228,null,null,null,null,null,null,null,null,0,0,0,0,0,0,0,0,0,0,0,0,0]
[null,229,null,null,null,null,null,null,null,null,0,0,0,0,0,0,0,0,0,0,0,0,0]
[null,230,null,null,null,null,null,null,null,null,0,0,0,0,0,0,0,0,0,0,0,0,0]
[null,231,null,null,null,null,null,null,null,null,{"$f":"IF($D236=K$5,$F236,0)","v":0},0,0,0,0,0,0,0,0,0,0,0,0]
[null,232,null,null,null,null,null,null,null,null,0,0,0,0,0,0,0,0,0,0,0,0,0]
[null,233,null,null,null,null,null,null,null,null,0,0,0,0,0,0,0,0,0,0,0,0,0]
[null,234,null,null,null,null,null,null,null,null,0,0,0,0,0,0,0,0,0,0,0,0,0]
[null,235,null,null,null,null,null,null,null,null,0,0,0,0,0,0,0,0,0,0,0,0,0]
[null,236,null,null,null,null,null,null,null,null,0,0,0,0,0,0,0,0,0,0,0,0,0]
[null,237,null,null,null,null,null,null,null,null,0,0,0,0,0,0,0,0,0,0,0,0,0]
[null,238,null,null,null,null,null,null,null,null,0,0,0,0,0,0,0,0,0,0,0,0,0]
[null,239,null,null,null,null,null,null,null,null,0,0,0,0,0,0,0,0,0,0,0,0,0]
[null,240,null,null,null,null,null,null,null,null,0,0,0,0,0,0,0,0,0,0,0,0,0]
[null,241,null,null,null,null,null,null,null,null,{"$f":"IF($D246=K$5,$F246,0)","v":0},0,0,0,0,0,0,0,0,0,0,0,0]
[null,242,null,null,null,null,null,null,null,null,0,0,0,0,0,0,0,0,0,0,0,0,0]
[null,243,null,null,null,null,null,null,null,null,0,0,0,0,0,0,0,0,0,0,0,0,0]
[null,244,null,null,null,null,null,null,null,null,0,0,0,0,0,0,0,0,0,0,0,0,0]
[null,245,null,null,null,null,null,null,null,null,0,0,0,0,0,0,0,0,0,0,0,0,0]
[null,246,null,null,null,null,null,null,null,null,0,0,0,0,0,0,0,0,0,0,0,0,0]
[null,247,null,null,null,null,null,null,null,null,0,0,0,0,0,0,0,0,0,0,0,0,0]
[null,248,null,null,null,null,null,null,null,null,0,0,0,0,0,0,0,0,0,0,0,0,0]
[null,249,null,null,null,null,null,null,null,null,0,0,0,0,0,0,0,0,0,0,0,0,0]
[null,250,null,null,null,null,null,null,null,null,0,0,0,0,0,0,0,0,0,0,0,0,0]
[null,251,null,null,null,null,null,null,null,null,{"$f":"IF($D256=K$5,$F256,0)","v":0},0,0,0,0,0,0,0,0,0,0,0,0]
[null,252,null,null,null,null,null,null,null,null,0,0,0,0,0,0,0,0,0,0,0,0,0]
[null,253,null,null,null,null,null,null,null,null,0,0,0,0,0,0,0,0,0,0,0,0,0]
[null,254,null,null,null,null,null,null,null,null,0,0,0,0,0,0,0,0,0,0,0,0,0]
[null,255,null,null,null,null,null,null,null,null,0,0,0,0,0,0,0,0,0,0,0,0,0]
[null,256,null,null,null,null,null,null,null,null,0,0,0,0,0,0,0,0,0,0,0,0,0]
[null,257,null,null,null,null,null,null,null,null,0,0,0,0,0,0,0,0,0,0,0,0,0]
[null,258,null,null,null,null,null,null,null,null,0,0,0,0,0,0,0,0,0,0,0,0,0]
[null,259,null,null,null,null,null,null,null,null,0,0,0,0,0,0,0,0,0,0,0,0,0]
[null,260,null,null,null,null,null,null,null,null,0,0,0,0,0,0,0,0,0,0,0,0,0]
[null,261,null,null,null,null,null,null,null,null,{"$f":"IF($D266=K$5,$F266,0)","v":0},0,0,0,0,0,0,0,0,0,0,0,0]
[null,262,null,null,null,null,null,null,null,null,0,0,0,0,0,0,0,0,0,0,0,0,0]
[null,263,null,null,null,null,null,null,null,null,0,0,0,0,0,0,0,0,0,0,0,0,0]
[null,264,null,null,null,null,null,null,null,null,0,0,0,0,0,0,0,0,0,0,0,0,0]
[null,265,null,null,null,null,null,null,null,null,0,0,0,0,0,0,0,0,0,0,0,0,0]
[null,266,null,null,null,null,null,null,null,null,0,0,0,0,0,0,0,0,0,0,0,0,0]
[null,267,null,null,null,null,null,null,null,null,0,0,0,0,0,0,0,0,0,0,0,0,0]
[null,268,null,null,null,null,null,null,null,null,0,0,0,0,0,0,0,0,0,0,0,0,0]
[null,269,null,null,null,null,null,null,null,null,0,0,0,0,0,0,0,0,0,0,0,0,0]
[null,270,null,null,null,null,null,null,null,null,0,0,0,0,0,0,0,0,0,0,0,0,0]
[null,271,null,null,null,null,null,null,null,null,{"$f":"IF($D276=K$5,$F276,0)","v":0},0,0,0,0,0,0,0,0,0,0,0,0]
[null,272,null,null,null,null,null,null,null,null,0,0,0,0,0,0,0,0,0,0,0,0,0]
[null,273,null,null,null,null,null,null,null,null,0,0,0,0,0,0,0,0,0,0,0,0,0]
[null,274,null,null,null,null,null,null,null,null,0,0,0,0,0,0,0,0,0,0,0,0,0]
[null,275,null,null,null,null,null,null,null,null,0,0,0,0,0,0,0,0,0,0,0,0,0]
[null,276,null,null,null,null,null,null,null,null,0,0,0,0,0,0,0,0,0,0,0,0,0]
[null,277,null,null,null,null,null,null,null,null,0,0,0,0,0,0,0,0,0,0,0,0,0]
[null,278,null,null,null,null,null,null,null,null,0,0,0,0,0,0,0,0,0,0,0,0,0]
[null,279,null,null,null,null,null,null,null,null,0,0,0,0,0,0,0,0,0,0,0,0,0]
[null,280,null,null,null,null,null,null,null,null,0,0,0,0,0,0,0,0,0,0,0,0,0]
[null,281,null,null,null,null,null,null,null,null,{"$f":"IF($D286=K$5,$F286,0)","v":0},0,0,0,0,0,0,0,0,0,0,0,0]
[null,282,null,null,null,null,null,null,null,null,0,0,0,0,0,0,0,0,0,0,0,0,0]
[null,283,null,null,null,null,null,null,null,null,0,0,0,0,0,0,0,0,0,0,0,0,0]
[null,284,null,null,null,null,null,null,null,null,0,0,0,0,0,0,0,0,0,0,0,0,0]
[null,285,null,null,null,null,null,null,null,null,0,0,0,0,0,0,0,0,0,0,0,0,0]
[null,286,null,null,null,null,null,null,null,null,0,0,0,0,0,0,0,0,0,0,0,0,0]
[null,287,null,null,null,null,null,null,null,null,0,0,0,0,0,0,0,0,0,0,0,0,0]
[null,288,null,null,null,null,null,null,null,null,0,0,0,0,0,0,0,0,0,0,0,0,0]
[null,289,null,null,null,null,null,null,null,null,0,0,0,0,0,0,0,0,0,0,0,0,0]
[null,290,null,null,null,null,null,null,null,null,0,0,0,0,0,0,0,0,0,0,0,0,0]
[null,291,null,null,null,null,null,null,null,null,{"$f":"IF($D296=K$5,$F296,0)","v":0},0,0,0,0,0,0,0,0,0,0,0,0]
[null,292,null,null,null,null,null,null,null,null,0,0,0,0,0,0,0,0,0,0,0,0,0]
[null,293,null,null,null,null,null,null,null,null,0,0,0,0,0,0,0,0,0,0,0,0,0]
[null,294,null,null,null,null,null,null,null,null,0,0,0,0,0,0,0,0,0,0,0,0,0]
[null,295,null,null,null,null,null,null,null,null,0,0,0,0,0,0,0,0,0,0,0,0,0]
[null,296,null,null,null,null,null,null,null,null,0,0,0,0,0,0,0,0,0,0,0,0,0]
[null,297,null,null,null,null,null,null,null,null,0,0,0,0,0,0,0,0,0,0,0,0,0]
[null,298,null,null,null,null,null,null,null,null,0,0,0,0,0,0,0,0,0,0,0,0,0]
[null,299,null,null,null,null,null,null,null,null,0,0,0,0,0,0,0,0,0,0,0,0,0]
[null,300,null,null,null,null,null,null,null,null,0,0,0,0,0,0,0,0,0,0,0,0,0]
[null,null,null,null,null,null,null,null,null,null,{"$f":"SUM(K6:K305)","v":0},{"$f":"SUM(L6:L305)","v":0},0,0,0,0,0,0,0,0,0,0,0]

{"sheet":"5","index":5,"n_rows":306,"n_cols":23,"rows_kept":306,"cut":false,"hidden":false,"merged":[]}
[]
[null,null,{"$f":"menu!B12","v":"MOBILIARIO"}]
[]
[null,null,null,null,null,null,null,null,null,"Enero"]
[null,null,"DIA","MES","CONCEPTO","TOTAL",null,null,null,"Febrero","Enero","Febrero","Marzo","Abril","Mayo","Junio","Julio","Agosto","Septiembre","Octubre","Noviembre","Diciembre"]
[null,1,null,null,null,null,null,null,null,"Marzo",{"$f":"IF($D6=K$5,$F6,0)","v":0},0,0,0,0,0,0,0,0,0,0,0,0]
[null,2,null,null,null,null,null,null,null,"Abril",0,0,0,0,0,0,0,0,0,0,0,0,0]
[null,3,null,null,null,null,null,null,null,"Mayo",0,0,0,0,0,0,0,0,0,0,0,0,0]
[null,4,null,null,null,null,null,null,null,"Junio",0,0,0,0,0,0,0,0,0,0,0,0,0]
[null,5,null,null,null,null,null,null,null,"Julio",0,0,0,0,0,0,0,0,0,0,0,0,0]
[null,6,null,null,null,null,null,null,null,"Agosto",0,0,0,0,0,0,0,0,0,0,0,0,0]
[null,7,null,null,null,null,null,null,null,"Septiembre",0,0,0,0,0,0,0,0,0,0,0,0,0]
[null,8,null,null,null,null,null,null,null,"Octubre",0,0,0,0,0,0,0,0,0,0,0,0,0]
[null,9,null,null,null,null,null,null,null,"Noviembre",0,0,0,0,0,0,0,0,0,0,0,0,0]
[null,10,null,null,null,null,null,null,null,"Diciembre",0,0,0,0,0,0,0,0,0,0,0,0,0]
[null,11,null,null,null,null,null,null,null,null,{"$f":"IF($D16=K$5,$F16,0)","v":0},0,0,0,0,0,0,0,0,0,0,0,0]
[null,12,null,null,null,null,null,null,null,null,0,0,0,0,0,0,0,0,0,0,0,0,0]
[null,13,null,null,null,null,null,null,null,null,0,0,0,0,0,0,0,0,0,0,0,0,0]
[null,14,null,null,null,null,null,null,null,null,0,0,0,0,0,0,0,0,0,0,0,0,0]
[null,15,null,null,null,null,null,null,null,null,0,0,0,0,0,0,0,0,0,0,0,0,0]
[null,16,null,null,null,null,null,null,null,null,0,0,0,0,0,0,0,0,0,0,0,0,0]
[null,17,null,null,null,null,null,null,null,null,0,0,0,0,0,0,0,0,0,0,0,0,0]
[null,18,null,null,null,null,null,null,null,null,0,0,0,0,0,0,0,0,0,0,0,0,0]
[null,19,null,null,null,null,null,null,null,null,0,0,0,0,0,0,0,0,0,0,0,0,0]
[null,20,null,null,null,null,null,null,null,null,0,0,0,0,0,0,0,0,0,0,0,0,0]
[null,21,null,null,null,null,null,null,null,null,{"$f":"IF($D26=K$5,$F26,0)","v":0},0,0,0,0,0,0,0,0,0,0,0,0]
[null,22,null,null,null,null,null,null,null,null,0,0,0,0,0,0,0,0,0,0,0,0,0]
[null,23,null,null,null,null,null,null,null,null,0,0,0,0,0,0,0,0,0,0,0,0,0]
[null,24,null,null,null,null,null,null,null,null,0,0,0,0,0,0,0,0,0,0,0,0,0]
[null,25,null,null,null,null,null,null,null,null,0,0,0,0,0,0,0,0,0,0,0,0,0]
[null,26,null,null,null,null,null,null,null,null,0,0,0,0,0,0,0,0,0,0,0,0,0]
[null,27,null,null,null,null,null,null,null,null,0,0,0,0,0,0,0,0,0,0,0,0,0]
[null,28,null,null,null,null,null,null,null,null,0,0,0,0,0,0,0,0,0,0,0,0,0]
[null,29,null,null,null,null,null,null,null,null,0,0,0,0,0,0,0,0,0,0,0,0,0]
[null,30,null,null,null,null,null,null,null,null,0,0,0,0,0,0,0,0,0,0,0,0,0]
[null,31,null,null,null,null,null,null,null,null,{"$f":"IF($D36=K$5,$F36,0)","v":0},0,0,0,0,0,0,0,0,0,0,0,0]
[null,32,null,null,null,null,null,null,null,null,0,0,0,0,0,0,0,0,0,0,0,0,0]
[null,33,null,null,null,null,null,null,null,null,0,0,0,0,0,0,0,0,0,0,0,0,0]
[null,34,null,null,null,null,null,null,null,null,0,0,0,0,0,0,0,0,0,0,0,0,0]
[null,35,null,null,null,null,null,null,null,null,0,0,0,0,0,0,0,0,0,0,0,0,0]
[null,36,null,null,null,null,null,null,null,null,0,0,0,0,0,0,0,0,0,0,0,0,0]
[null,37,null,null,null,null,null,null,null,null,0,0,0,0,0,0,0,0,0,0,0,0,0]
[null,38,null,null,null,null,null,null,null,null,0,0,0,0,0,0,0,0,0,0,0,0,0]
[null,39,null,null,null,null,null,null,null,null,0,0,0,0,0,0,0,0,0,0,0,0,0]
[null,40,null,null,null,null,null,null,null,null,0,0,0,0,0,0,0,0,0,0,0,0,0]
[null,41,null,null,null,null,null,null,null,null,{"$f":"IF($D46=K$5,$F46,0)","v":0},0,0,0,0,0,0,0,0,0,0,0,0]
[null,42,null,null,null,null,null,null,null,null,0,0,0,0,0,0,0,0,0,0,0,0,0]
[null,43,null,null,null,null,null,null,null,null,0,0,0,0,0,0,0,0,0,0,0,0,0]
[null,44,null,null,null,null,null,null,null,null,0,0,0,0,0,0,0,0,0,0,0,0,0]
[null,45,null,null,null,null,null,null,null,null,0,0,0,0,0,0,0,0,0,0,0,0,0]
[null,46,null,null,null,null,null,null,null,null,0,0,0,0,0,0,0,0,0,0,0,0,0]
[null,47,null,null,null,null,null,null,null,null,0,0,0,0,0,0,0,0,0,0,0,0,0]
[null,48,null,null,null,null,null,null,null,null,0,0,0,0,0,0,0,0,0,0,0,0,0]
[null,49,null,null,null,null,null,null,null,null,0,0,0,0,0,0,0,0,0,0,0,0,0]
[null,50,null,null,null,null,null,null,null,null,0,0,0,0,0,0,0,0,0,0,0,0,0]
[null,51,null,null,null,null,null,null,null,null,{"$f":"IF($D56=K$5,$F56,0)","v":0},0,0,0,0,0,0,0,0,0,0,0,0]
[null,52,null,null,null,null,null,null,null,null,0,0,0,0,0,0,0,0,0,0,0,0,0]
[null,53,null,null,null,null,null,null,null,null,0,0,0,0,0,0,0,0,0,0,0,0,0]
[null,54,null,null,null,null,null,null,null,null,0,0,0,0,0,0,0,0,0,0,0,0,0]
[null,55,null,null,null,null,null,null,null,null,0,0,0,0,0,0,0,0,0,0,0,0,0]
[null,56,null,null,null,null,null,null,null,null,0,0,0,0,0,0,0,0,0,0,0,0,0]
[null,57,null,null,null,null,null,null,null,null,0,0,0,0,0,0,0,0,0,0,0,0,0]
[null,58,null,null,null,null,null,null,null,null,0,0,0,0,0,0,0,0,0,0,0,0,0]
[null,59,null,null,null,null,null,null,null,null,0,0,0,0,0,0,0,0,0,0,0,0,0]
[null,60,null,null,null,null,null,null,null,null,0,0,0,0,0,0,0,0,0,0,0,0,0]
[null,61,null,null,null,null,null,null,null,null,{"$f":"IF($D66=K$5,$F66,0)","v":0},0,0,0,0,0,0,0,0,0,0,0,0]
[null,62,null,null,null,null,null,null,null,null,0,0,0,0,0,0,0,0,0,0,0,0,0]
[null,63,null,null,null,null,null,null,null,null,0,0,0,0,0,0,0,0,0,0,0,0,0]
[null,64,null,null,null,null,null,null,null,null,0,0,0,0,0,0,0,0,0,0,0,0,0]
[null,65,null,null,null,null,null,null,null,null,0,0,0,0,0,0,0,0,0,0,0,0,0]
[null,66,null,null,null,null,null,null,null,null,0,0,0,0,0,0,0,0,0,0,0,0,0]
[null,67,null,null,null,null,null,null,null,null,0,0,0,0,0,0,0,0,0,0,0,0,0]
[null,68,null,null,null,null,null,null,null,null,0,0,0,0,0,0,0,0,0,0,0,0,0]
[null,69,null,null,null,null,null,null,null,null,0,0,0,0,0,0,0,0,0,0,0,0,0]
[null,70,null,null,null,null,null,null,null,null,0,0,0,0,0,0,0,0,0,0,0,0,0]
[null,71,null,null,null,null,null,null,null,null,{"$f":"IF($D76=K$5,$F76,0)","v":0},0,0,0,0,0,0,0,0,0,0,0,0]
[null,72,null,null,null,null,null,null,null,null,0,0,0,0,0,0,0,0,0,0,0,0,0]
[null,73,null,null,null,null,null,null,null,null,0,0,0,0,0,0,0,0,0,0,0,0,0]
[null,74,null,null,null,null,null,null,null,null,0,0,0,0,0,0,0,0,0,0,0,0,0]
[null,75,null,null,null,null,null,null,null,null,0,0,0,0,0,0,0,0,0,0,0,0,0]
[null,76,null,null,null,null,null,null,null,null,0,0,0,0,0,0,0,0,0,0,0,0,0]
[null,77,null,null,null,null,null,null,null,null,0,0,0,0,0,0,0,0,0,0,0,0,0]
[null,78,null,null,null,null,null,null,null,null,0,0,0,0,0,0,0,0,0,0,0,0,0]
[null,79,null,null,null,null,null,null,null,null,0,0,0,0,0,0,0,0,0,0,0,0,0]
[null,80,null,null,null,null,null,null,null,null,0,0,0,0,0,0,0,0,0,0,0,0,0]
[null,81,null,null,null,null,null,null,null,null,{"$f":"IF($D86=K$5,$F86,0)","v":0},0,0,0,0,0,0,0,0,0,0,0,0]
[null,82,null,null,null,null,null,null,null,null,0,0,0,0,0,0,0,0,0,0,0,0,0]
[null,83,null,null,null,null,null,null,null,null,0,0,0,0,0,0,0,0,0,0,0,0,0]
[null,84,null,null,null,null,null,null,null,null,0,0,0,0,0,0,0,0,0,0,0,0,0]
[null,85,null,null,null,null,null,null,null,null,0,0,0,0,0,0,0,0,0,0,0,0,0]
[null,86,null,null,null,null,null,null,null,null,0,0,0,0,0,0,0,0,0,0,0,0,0]
[null,87,null,null,null,null,null,null,null,null,0,0,0,0,0,0,0,0,0,0,0,0,0]
[null,88,null,null,null,null,null,null,null,null,0,0,0,0,0,0,0,0,0,0,0,0,0]
[null,89,null,null,null,null,null,null,null,null,0,0,0,0,0,0,0,0,0,0,0,0,0]
[null,90,null,null,null,null,null,null,null,null,0,0,0,0,0,0,0,0,0,0,0,0,0]
[null,91,null,null,null,null,null,null,null,null,{"$f":"IF($D96=K$5,$F96,0)","v":0},0,0,0,0,0,0,0,0,0,0,0,0]
[null,92,null,null,null,null,null,null,null,null,0,0,0,0,0,0,0,0,0,0,0,0,0]
[null,93,null,null,null,null,null,null,null,null,0,0,0,0,0,0,0,0,0,0,0,0,0]
[null,94,null,null,null,null,null,null,null,null,0,0,0,0,0,0,0,0,0,0,0,0,0]
[null,95,null,null,null,null,null,null,null,null,0,0,0,0,0,0,0,0,0,0,0,0,0]
[null,96,null,null,null,null,null,null,null,null,0,0,0,0,0,0,0,0,0,0,0,0,0]
[null,97,null,null,null,null,null,null,null,null,0,0,0,0,0,0,0,0,0,0,0,0,0]
[null,98,null,null,null,null,null,null,null,null,0,0,0,0,0,0,0,0,0,0,0,0,0]
[null,99,null,null,null,null,null,null,null,null,0,0,0,0,0,0,0,0,0,0,0,0,0]
[null,100,null,null,null,null,null,null,null,null,0,0,0,0,0,0,0,0,0,0,0,0,0]
[null,101,null,null,null,null,null,null,null,null,{"$f":"IF($D106=K$5,$F106,0)","v":0},0,0,0,0,0,0,0,0,0,0,0,0]
[null,102,null,null,null,null,null,null,null,null,0,0,0,0,0,0,0,0,0,0,0,0,0]
[null,103,null,null,null,null,null,null,null,null,0,0,0,0,0,0,0,0,0,0,0,0,0]
[null,104,null,null,null,null,null,null,null,null,0,0,0,0,0,0,0,0,0,0,0,0,0]
[null,105,null,null,null,null,null,null,null,null,0,0,0,0,0,0,0,0,0,0,0,0,0]
[null,106,null,null,null,null,null,null,null,null,0,0,0,0,0,0,0,0,0,0,0,0,0]
[null,107,null,null,null,null,null,null,null,null,0,0,0,0,0,0,0,0,0,0,0,0,0]
[null,108,null,null,null,null,null,null,null,null,0,0,0,0,0,0,0,0,0,0,0,0,0]
[null,109,null,null,null,null,null,null,null,null,0,0,0,0,0,0,0,0,0,0,0,0,0]
[null,110,null,null,null,null,null,null,null,null,0,0,0,0,0,0,0,0,0,0,0,0,0]
[null,111,null,null,null,null,null,null,null,null,{"$f":"IF($D116=K$5,$F116,0)","v":0},0,0,0,0,0,0,0,0,0,0,0,0]
[null,112,null,null,null,null,null,null,null,null,0,0,0,0,0,0,0,0,0,0,0,0,0]
[null,113,null,null,null,null,null,null,null,null,0,0,0,0,0,0,0,0,0,0,0,0,0]
[null,114,null,null,null,null,null,null,null,null,0,0,0,0,0,0,0,0,0,0,0,0,0]
[null,115,null,null,null,null,null,null,null,null,0,0,0,0,0,0,0,0,0,0,0,0,0]
[null,116,null,null,null,null,null,null,null,null,0,0,0,0,0,0,0,0,0,0,0,0,0]
[null,117,null,null,null,null,null,null,null,null,0,0,0,0,0,0,0,0,0,0,0,0,0]
[null,118,null,null,null,null,null,null,null,null,0,0,0,0,0,0,0,0,0,0,0,0,0]
[null,119,null,null,null,null,null,null,null,null,0,0,0,0,0,0,0,0,0,0,0,0,0]
[null,120,null,null,null,null,null,null,null,null,0,0,0,0,0,0,0,0,0,0,0,0,0]
[null,121,null,null,null,null,null,null,null,null,{"$f":"IF($D126=K$5,$F126,0)","v":0},0,0,0,0,0,0,0,0,0,0,0,0]
[null,122,null,null,null,null,null,null,null,null,0,0,0,0,0,0,0,0,0,0,0,0,0]
[null,123,null,null,null,null,null,null,null,null,0,0,0,0,0,0,0,0,0,0,0,0,0]
[null,124,null,null,null,null,null,null,null,null,0,0,0,0,0,0,0,0,0,0,0,0,0]
[null,125,null,null,null,null,null,null,null,null,0,0,0,0,0,0,0,0,0,0,0,0,0]
[null,126,null,null,null,null,null,null,null,null,0,0,0,0,0,0,0,0,0,0,0,0,0]
[null,127,null,null,null,null,null,null,null,null,0,0,0,0,0,0,0,0,0,0,0,0,0]
[null,128,null,null,null,null,null,null,null,null,0,0,0,0,0,0,0,0,0,0,0,0,0]
[null,129,null,null,null,null,null,null,null,null,0,0,0,0,0,0,0,0,0,0,0,0,0]
[null,130,null,null,null,null,null,null,null,null,0,0,0,0,0,0,0,0,0,0,0,0,0]
[null,131,null,null,null,null,null,null,null,null,{"$f":"IF($D136=K$5,$F136,0)","v":0},0,0,0,0,0,0,0,0,0,0,0,0]
[null,132,null,null,null,null,null,null,null,null,0,0,0,0,0,0,0,0,0,0,0,0,0]
[null,133,null,null,null,null,null,null,null,null,0,0,0,0,0,0,0,0,0,0,0,0,0]
[null,134,null,null,null,null,null,null,null,null,0,0,0,0,0,0,0,0,0,0,0,0,0]
[null,135,null,null,null,null,null,null,null,null,0,0,0,0,0,0,0,0,0,0,0,0,0]
[null,136,null,null,null,null,null,null,null,null,0,0,0,0,0,0,0,0,0,0,0,0,0]
[null,137,null,null,null,null,null,null,null,null,0,0,0,0,0,0,0,0,0,0,0,0,0]
[null,138,null,null,null,null,null,null,null,null,0,0,0,0,0,0,0,0,0,0,0,0,0]
[null,139,null,null,null,null,null,null,null,null,0,0,0,0,0,0,0,0,0,0,0,0,0]
[null,140,null,null,null,null,null,null,null,null,0,0,0,0,0,0,0,0,0,0,0,0,0]
[null,141,null,null,null,null,null,null,null,null,{"$f":"IF($D146=K$5,$F146,0)","v":0},0,0,0,0,0,0,0,0,0,0,0,0]
[null,142,null,null,null,null,null,null,null,null,0,0,0,0,0,0,0,0,0,0,0,0,0]
[null,143,null,null,null,null,null,null,null,null,0,0,0,0,0,0,0,0,0,0,0,0,0]
[null,144,null,null,null,null,null,null,null,null,0,0,0,0,0,0,0,0,0,0,0,0,0]
[null,145,null,null,null,null,null,null,null,null,0,0,0,0,0,0,0,0,0,0,0,0,0]
[null,146,null,null,null,null,null,null,null,null,0,0,0,0,0,0,0,0,0,0,0,0,0]
[null,147,null,null,null,null,null,null,null,null,0,0,0,0,0,0,0,0,0,0,0,0,0]
[null,148,null,null,null,null,null,null,null,null,0,0,0,0,0,0,0,0,0,0,0,0,0]
[null,149,null,null,null,null,null,null,null,null,0,0,0,0,0,0,0,0,0,0,0,0,0]
[null,150,null,null,null,null,null,null,null,null,0,0,0,0,0,0,0,0,0,0,0,0,0]
[null,151,null,null,null,null,null,null,null,null,{"$f":"IF($D156=K$5,$F156,0)","v":0},0,0,0,0,0,0,0,0,0,0,0,0]
[null,152,null,null,null,null,null,null,null,null,0,0,0,0,0,0,0,0,0,0,0,0,0]
[null,153,null,null,null,null,null,null,null,null,0,0,0,0,0,0,0,0,0,0,0,0,0]
[null,154,null,null,null,null,null,null,null,null,0,0,0,0,0,0,0,0,0,0,0,0,0]
[null,155,null,null,null,null,null,null,null,null,0,0,0,0,0,0,0,0,0,0,0,0,0]
[null,156,null,null,null,null,null,null,null,null,0,0,0,0,0,0,0,0,0,0,0,0,0]
[null,157,null,null,null,null,null,null,null,null,0,0,0,0,0,0,0,0,0,0,0,0,0]
[null,158,null,null,null,null,null,null,null,null,0,0,0,0,0,0,0,0,0,0,0,0,0]
[null,159,null,null,null,null,null,null,null,null,0,0,0,0,0,0,0,0,0,0,0,0,0]
[null,160,null,null,null,null,null,null,null,null,0,0,0,0,0,0,0,0,0,0,0,0,0]
[null,161,null,null,null,null,null,null,null,null,{"$f":"IF($D166=K$5,$F166,0)","v":0},0,0,0,0,0,0,0,0,0,0,0,0]
[null,162,null,null,null,null,null,null,null,null,0,0,0,0,0,0,0,0,0,0,0,0,0]
[null,163,null,null,null,null,null,null,null,null,0,0,0,0,0,0,0,0,0,0,0,0,0]
[null,164,null,null,null,null,null,null,null,null,0,0,0,0,0,0,0,0,0,0,0,0,0]
[null,165,null,null,null,null,null,null,null,null,0,0,0,0,0,0,0,0,0,0,0,0,0]
[null,166,null,null,null,null,null,null,null,null,0,0,0,0,0,0,0,0,0,0,0,0,0]
[null,167,null,null,null,null,null,null,null,null,0,0,0,0,0,0,0,0,0,0,0,0,0]
[null,168,null,null,null,null,null,null,null,null,0,0,0,0,0,0,0,0,0,0,0,0,0]
[null,169,null,null,null,null,null,null,null,null,0,0,0,0,0,0,0,0,0,0,0,0,0]
[null,170,null,null,null,null,null,null,null,null,0,0,0,0,0,0,0,0,0,0,0,0,0]
[null,171,null,null,null,null,null,null,null,null,{"$f":"IF($D176=K$5,$F176,0)","v":0},0,0,0,0,0,0,0,0,0,0,0,0]
[null,172,null,null,null,null,null,null,null,null,0,0,0,0,0,0,0,0,0,0,0,0,0]
[null,173,null,null,null,null,null,null,null,null,0,0,0,0,0,0,0,0,0,0,0,0,0]
[null,174,null,null,null,null,null,null,null,null,0,0,0,0,0,0,0,0,0,0,0,0,0]
[null,175,null,null,null,null,null,null,null,null,0,0,0,0,0,0,0,0,0,0,0,0,0]
[null,176,null,null,null,null,null,null,null,null,0,0,0,0,0,0,0,0,0,0,0,0,0]
[null,177,null,null,null,null,null,null,null,null,0,0,0,0,0,0,0,0,0,0,0,0,0]
[null,178,null,null,null,null,null,null,null,null,0,0,0,0,0,0,0,0,0,0,0,0,0]
[null,179,null,null,null,null,null,null,null,null,0,0,0,0,0,0,0,0,0,0,0,0,0]
[null,180,null,null,null,null,null,null,null,null,0,0,0,0,0,0,0,0,0,0,0,0,0]
[null,181,null,null,null,null,null,null,null,null,{"$f":"IF($D186=K$5,$F186,0)","v":0},0,0,0,0,0,0,0,0,0,0,0,0]
[null,182,null,null,null,null,null,null,null,null,0,0,0,0,0,0,0,0,0,0,0,0,0]
[null,183,null,null,null,null,null,null,null,null,0,0,0,0,0,0,0,0,0,0,0,0,0]
[null,184,null,null,null,null,null,null,null,null,0,0,0,0,0,0,0,0,0,0,0,0,0]
[null,185,null,null,null,null,null,null,null,null,0,0,0,0,0,0,0,0,0,0,0,0,0]
[null,186,null,null,null,null,null,null,null,null,0,0,0,0,0,0,0,0,0,0,0,0,0]
[null,187,null,null,null,null,null,null,null,null,0,0,0,0,0,0,0,0,0,0,0,0,0]
[null,188,null,null,null,null,null,null,null,null,0,0,0,0,0,0,0,0,0,0,0,0,0]
[null,189,null,null,null,null,null,null,null,null,0,0,0,0,0,0,0,0,0,0,0,0,0]
[null,190,null,null,null,null,null,null,null,null,0,0,0,0,0,0,0,0,0,0,0,0,0]
[null,191,null,null,null,null,null,null,null,null,{"$f":"IF($D196=K$5,$F196,0)","v":0},0,0,0,0,0,0,0,0,0,0,0,0]
[null,192,null,null,null,null,null,null,null,null,0,0,0,0,0,0,0,0,0,0,0,0,0]
[null,193,null,null,null,null,null,null,null,null,0,0,0,0,0,0,0,0,0,0,0,0,0]
[null,194,null,null,null,null,null,null,null,null,0,0,0,0,0,0,0,0,0,0,0,0,0]
[null,195,null,null,null,null,null,null,null,null,0,0,0,0,0,0,0,0,0,0,0,0,0]
[null,196,null,null,null,null,null,null,null,null,0,0,0,0,0,0,0,0,0,0,0,0,0]
[null,197,null,null,null,null,null,null,null,null,0,0,0,0,0,0,0,0,0,0,0,0,0]
[null,198,null,null,null,null,null,null,null,null,0,0,0,0,0,0,0,0,0,0,0,0,0]
[null,199,null,null,null,null,null,null,null,null,0,0,0,0,0,0,0,0,0,0,0,0,0]
[null,200,null,null,null,null,null,null,null,null,0,0,0,0,0,0,0,0,0,0,0,0,0]
[null,201,null,null,null,null,null,null,null,null,{"$f":"IF($D206=K$5,$F206,0)","v":0},0,0,0,0,0,0,0,0,0,0,0,0]
[null,202,null,null,null,null,null,null,null,null,0,0,0,0,0,0,0,0,0,0,0,0,0]
[null,203,null,null,null,null,null,null,null,null,0,0,0,0,0,0,0,0,0,0,0,0,0]
[null,204,null,null,null,null,null,null,null,null,0,0,0,0,0,0,0,0,0,0,0,0,0]
[null,205,null,null,null,null,null,null,null,null,0,0,0,0,0,0,0,0,0,0,0,0,0]
[null,206,null,null,null,null,null,null,null,null,0,0,0,0,0,0,0,0,0,0,0,0,0]
[null,207,null,null,null,null,null,null,null,null,0,0,0,0,0,0,0,0,0,0,0,0,0]
[null,208,null,null,null,null,null,null,null,null,0,0,0,0,0,0,0,0,0,0,0,0,0]
[null,209,null,null,null,null,null,null,null,null,0,0,0,0,0,0,0,0,0,0,0,0,0]
[null,210,null,null,null,null,null,null,null,null,0,0,0,0,0,0,0,0,0,0,0,0,0]
[null,211,null,null,null,null,null,null,null,null,{"$f":"IF($D216=K$5,$F216,0)","v":0},0,0,0,0,0,0,0,0,0,0,0,0]
[null,212,null,null,null,null,null,null,null,null,0,0,0,0,0,0,0,0,0,0,0,0,0]
[null,213,null,null,null,null,null,null,null,null,0,0,0,0,0,0,0,0,0,0,0,0,0]
[null,214,null,null,null,null,null,null,null,null,0,0,0,0,0,0,0,0,0,0,0,0,0]
[null,215,null,null,null,null,null,null,null,null,0,0,0,0,0,0,0,0,0,0,0,0,0]
[null,216,null,null,null,null,null,null,null,null,0,0,0,0,0,0,0,0,0,0,0,0,0]
[null,217,null,null,null,null,null,null,null,null,0,0,0,0,0,0,0,0,0,0,0,0,0]
[null,218,null,null,null,null,null,null,null,null,0,0,0,0,0,0,0,0,0,0,0,0,0]
[null,219,null,null,null,null,null,null,null,null,0,0,0,0,0,0,0,0,0,0,0,0,0]
[null,220,null,null,null,null,null,null,null,null,0,0,0,0,0,0,0,0,0,0,0,0,0]
[null,221,null,null,null,null,null,null,null,null,{"$f":"IF($D226=K$5,$F226,0)","v":0},0,0,0,0,0,0,0,0,0,0,0,0]
[null,222,null,null,null,null,null,null,null,null,0,0,0,0,0,0,0,0,0,0,0,0,0]
[null,223,null,null,null,null,null,null,null,null,0,0,0,0,0,0,0,0,0,0,0,0,0]
[null,224,null,null,null,null,null,null,null,null,0,0,0,0,0,0,0,0,0,0,0,0,0]
[null,225,null,null,null,null,null,null,null,null,0,0,0,0,0,0,0,0,0,0,0,0,0]
[null,226,null,null,null,null,null,null,null,null,0,0,0,0,0,0,0,0,0,0,0,0,0]
[null,227,null,null,null,null,null,null,null,null,0,0,0,0,0,0,0,0,0,0,0,0,0]
[null,228,null,null,null,null,null,null,null,null,0,0,0,0,0,0,0,0,0,0,0,0,0]
[null,229,null,null,null,null,null,null,null,null,0,0,0,0,0,0,0,0,0,0,0,0,0]
[null,230,null,null,null,null,null,null,null,null,0,0,0,0,0,0,0,0,0,0,0,0,0]
[null,231,null,null,null,null,null,null,null,null,{"$f":"IF($D236=K$5,$F236,0)","v":0},0,0,0,0,0,0,0,0,0,0,0,0]
[null,232,null,null,null,null,null,null,null,null,0,0,0,0,0,0,0,0,0,0,0,0,0]
[null,233,null,null,null,null,null,null,null,null,0,0,0,0,0,0,0,0,0,0,0,0,0]
[null,234,null,null,null,null,null,null,null,null,0,0,0,0,0,0,0,0,0,0,0,0,0]
[null,235,null,null,null,null,null,null,null,null,0,0,0,0,0,0,0,0,0,0,0,0,0]
[null,236,null,null,null,null,null,null,null,null,0,0,0,0,0,0,0,0,0,0,0,0,0]
[null,237,null,null,null,null,null,null,null,null,0,0,0,0,0,0,0,0,0,0,0,0,0]
[null,238,null,null,null,null,null,null,null,null,0,0,0,0,0,0,0,0,0,0,0,0,0]
[null,239,null,null,null,null,null,null,null,null,0,0,0,0,0,0,0,0,0,0,0,0,0]
[null,240,null,null,null,null,null,null,null,null,0,0,0,0,0,0,0,0,0,0,0,0,0]
[null,241,null,null,null,null,null,null,null,null,{"$f":"IF($D246=K$5,$F246,0)","v":0},0,0,0,0,0,0,0,0,0,0,0,0]
[null,242,null,null,null,null,null,null,null,null,0,0,0,0,0,0,0,0,0,0,0,0,0]
[null,243,null,null,null,null,null,null,null,null,0,0,0,0,0,0,0,0,0,0,0,0,0]
[null,244,null,null,null,null,null,null,null,null,0,0,0,0,0,0,0,0,0,0,0,0,0]
[null,245,null,null,null,null,null,null,null,null,0,0,0,0,0,0,0,0,0,0,0,0,0]
[null,246,null,null,null,null,null,null,null,null,0,0,0,0,0,0,0,0,0,0,0,0,0]
[null,247,null,null,null,null,null,null,null,null,0,0,0,0,0,0,0,0,0,0,0,0,0]
[null,248,null,null,null,null,null,null,null,null,0,0,0,0,0,0,0,0,0,0,0,0,0]
[null,249,null,null,null,null,null,null,null,null,0,0,0,0,0,0,0,0,0,0,0,0,0]
[null,250,null,null,null,null,null,null,null,null,0,0,0,0,0,0,0,0,0,0,0,0,0]
[null,251,null,null,null,null,null,null,null,null,{"$f":"IF($D256=K$5,$F256,0)","v":0},0,0,0,0,0,0,0,0,0,0,0,0]
[null,252,null,null,null,null,null,null,null,null,0,0,0,0,0,0,0,0,0,0,0,0,0]
[null,253,null,null,null,null,null,null,null,null,0,0,0,0,0,0,0,0,0,0,0,0,0]
[null,254,null,null,null,null,null,null,null,null,0,0,0,0,0,0,0,0,0,0,0,0,0]
[null,255,null,null,null,null,null,null,null,null,0,0,0,0,0,0,0,0,0,0,0,0,0]
[null,256,null,null,null,null,null,null,null,null,0,0,0,0,0,0,0,0,0,0,0,0,0]
[null,257,null,null,null,null,null,null,null,null,0,0,0,0,0,0,0,0,0,0,0,0,0]
[null,258,null,null,null,null,null,null,null,null,0,0,0,0,0,0,0,0,0,0,0,0,0]
[null,259,null,null,null,null,null,null,null,null,0,0,0,0,0,0,0,0,0,0,0,0,0]
[null,260,null,null,null,null,null,null,null,null,0,0,0,0,0,0,0,0,0,0,0,0,0]
[null,261,null,null,null,null,null,null,null,null,{"$f":"IF($D266=K$5,$F266,0)","v":0},0,0,0,0,0,0,0,0,0,0,0,0]
[null,262,null,null,null,null,null,null,null,null,0,0,0,0,0,0,0,0,0,0,0,0,0]
[null,263,null,null,null,null,null,null,null,null,0,0,0,0,0,0,0,0,0,0,0,0,0]
[null,264,null,null,null,null,null,null,null,null,0,0,0,0,0,0,0,0,0,0,0,0,0]
[null,265,null,null,null,null,null,null,null,null,0,0,0,0,0,0,0,0,0,0,0,0,0]
[null,266,null,null,null,null,null,null,null,null,0,0,0,0,0,0,0,0,0,0,0,0,0]
[null,267,null,null,null,null,null,null,null,null,0,0,0,0,0,0,0,0,0,0,0,0,0]
[null,268,null,null,null,null,null,null,null,null,0,0,0,0,0,0,0,0,0,0,0,0,0]
[null,269,null,null,null,null,null,null,null,null,0,0,0,0,0,0,0,0,0,0,0,0,0]
[null,270,null,null,null,null,null,null,null,null,0,0,0,0,0,0,0,0,0,0,0,0,0]
[null,271,null,null,null,null,null,null,null,null,{"$f":"IF($D276=K$5,$F276,0)","v":0},0,0,0,0,0,0,0,0,0,0,0,0]
[null,272,null,null,null,null,null,null,null,null,0,0,0,0,0,0,0,0,0,0,0,0,0]
[null,273,null,null,null,null,null,null,null,null,0,0,0,0,0,0,0,0,0,0,0,0,0]
[null,274,null,null,null,null,null,null,null,null,0,0,0,0,0,0,0,0,0,0,0,0,0]
[null,275,null,null,null,null,null,null,null,null,0,0,0,0,0,0,0,0,0,0,0,0,0]
[null,276,null,null,null,null,null,null,null,null,0,0,0,0,0,0,0,0,0,0,0,0,0]
[null,277,null,null,null,null,null,null,null,null,0,0,0,0,0,0,0,0,0,0,0,0,0]
[null,278,null,null,null,null,null,null,null,null,0,0,0,0,0,0,0,0,0,0,0,0,0]
[null,279,null,null,null,null,null,null,null,null,0,0,0,0,0,0,0,0,0,0,0,0,0]
[null,280,null,null,null,null,null,null,null,null,0,0,0,0,0,0,0,0,0,0,0,0,0]
[null,281,null,null,null,null,null,null,null,null,{"$f":"IF($D286=K$5,$F286,0)","v":0},0,0,0,0,0,0,0,0,0,0,0,0]
[null,282,null,null,null,null,null,null,null,null,0,0,0,0,0,0,0,0,0,0,0,0,0]
[null,283,null,null,null,null,null,null,null,null,0,0,0,0,0,0,0,0,0,0,0,0,0]
[null,284,null,null,null,null,null,null,null,null,0,0,0,0,0,0,0,0,0,0,0,0,0]
[null,285,null,null,null,null,null,null,null,null,0,0,0,0,0,0,0,0,0,0,0,0,0]
[null,286,null,null,null,null,null,null,null,null,0,0,0,0,0,0,0,0,0,0,0,0,0]
[null,287,null,null,null,null,null,null,null,null,0,0,0,0,0,0,0,0,0,0,0,0,0]
[null,288,null,null,null,null,null,null,null,null,0,0,0,0,0,0,0,0,0,0,0,0,0]
[null,289,null,null,null,null,null,null,null,null,0,0,0,0,0,0,0,0,0,0,0,0,0]
[null,290,null,null,null,null,null,null,null,null,0,0,0,0,0,0,0,0,0,0,0,0,0]
[null,291,null,null,null,null,null,null,null,null,{"$f":"IF($D296=K$5,$F296,0)","v":0},0,0,0,0,0,0,0,0,0,0,0,0]
[null,292,null,null,null,null,null,null,null,null,0,0,0,0,0,0,0,0,0,0,0,0,0]
[null,293,null,null,null,null,null,null,null,null,0,0,0,0,0,0,0,0,0,0,0,0,0]
[null,294,null,null,null,null,null,null,null,null,0,0,0,0,0,0,0,0,0,0,0,0,0]
[null,295,null,null,null,null,null,null,null,null,0,0,0,0,0,0,0,0,0,0,0,0,0]
[null,296,null,null,null,null,null,null,null,null,0,0,0,0,0,0,0,0,0,0,0,0,0]
[null,297,null,null,null,null,null,null,null,null,0,0,0,0,0,0,0,0,0,0,0,0,0]
[null,298,null,null,null,null,null,null,null,null,0,0,0,0,0,0,0,0,0,0,0,0,0]
[null,299,null,null,null,null,null,null,null,null,0,0,0,0,0,0,0,0,0,0,0,0,0]
[null,300,null,null,null,null,null,null,null,null,0,0,0,0,0,0,0,0,0,0,0,0,0]
[null,null,null,null,null,null,null,null,null,null,{"$f":"SUM(K6:K305)","v":0},{"$f":"SUM(L6:L305)","v":0},0,0,0,0,0,0,0,0,0,0,0]

{"sheet":"6","index":6,"n_rows":306,"n_cols":23,"rows_kept":306,"cut":false,"hidden":false,"merged":[]}
[]
[null,null,{"$f":"menu!B13","v":"VESTIR"}]
[]
[null,null,null,null,null,null,null,null,null,"Enero"]
[null,null,"DIA","MES","CONCEPTO","TOTAL",null,null,null,"Febrero","Enero","Febrero","Marzo","Abril","Mayo","Junio","Julio","Agosto","Septiembre","Octubre","Noviembre","Diciembre"]
[null,1,null,null,null,null,null,null,null,"Marzo",{"$f":"IF($D6=K$5,$F6,0)","v":0},0,0,0,0,0,0,0,0,0,0,0,0]
[null,2,null,null,null,null,null,null,null,"Abril",0,0,0,0,0,0,0,0,0,0,0,0,0]
[null,3,null,null,null,null,null,null,null,"Mayo",0,0,0,0,0,0,0,0,0,0,0,0,0]
[null,4,null,null,null,null,null,null,null,"Junio",0,0,0,0,0,0,0,0,0,0,0,0,0]
[null,5,null,null,null,null,null,null,null,"Julio",0,0,0,0,0,0,0,0,0,0,0,0,0]
[null,6,null,null,null,null,null,null,null,"Agosto",0,0,0,0,0,0,0,0,0,0,0,0,0]
[null,7,null,null,null,null,null,null,null,"Septiembre",0,0,0,0,0,0,0,0,0,0,0,0,0]
[null,8,null,null,null,null,null,null,null,"Octubre",0,0,0,0,0,0,0,0,0,0,0,0,0]
[null,9,null,null,null,null,null,null,null,"Noviembre",0,0,0,0,0,0,0,0,0,0,0,0,0]
[null,10,null,null,null,null,null,null,null,"Diciembre",0,0,0,0,0,0,0,0,0,0,0,0,0]
[null,11,null,null,null,null,null,null,null,null,{"$f":"IF($D16=K$5,$F16,0)","v":0},0,0,0,0,0,0,0,0,0,0,0,0]
[null,12,null,null,null,null,null,null,null,null,0,0,0,0,0,0,0,0,0,0,0,0,0]
[null,13,null,null,null,null,null,null,null,null,0,0,0,0,0,0,0,0,0,0,0,0,0]
[null,14,null,null,null,null,null,null,null,null,0,0,0,0,0,0,0,0,0,0,0,0,0]
[null,15,null,null,null,null,null,null,null,null,0,0,0,0,0,0,0,0,0,0,0,0,0]
[null,16,null,null,null,null,null,null,null,null,0,0,0,0,0,0,0,0,0,0,0,0,0]
[null,17,null,null,null,null,null,null,null,null,0,0,0,0,0,0,0,0,0,0,0,0,0]
[null,18,null,null,null,null,null,null,null,null,0,0,0,0,0,0,0,0,0,0,0,0,0]
[null,19,null,null,null,null,null,null,null,null,0,0,0,0,0,0,0,0,0,0,0,0,0]
[null,20,null,null,null,null,null,null,null,null,0,0,0,0,0,0,0,0,0,0,0,0,0]
[null,21,null,null,null,null,null,null,null,null,{"$f":"IF($D26=K$5,$F26,0)","v":0},0,0,0,0,0,0,0,0,0,0,0,0]
[null,22,null,null,null,null,null,null,null,null,0,0,0,0,0,0,0,0,0,0,0,0,0]
[null,23,null,null,null,null,null,null,null,null,0,0,0,0,0,0,0,0,0,0,0,0,0]
[null,24,null,null,null,null,null,null,null,null,0,0,0,0,0,0,0,0,0,0,0,0,0]
[null,25,null,null,null,null,null,null,null,null,0,0,0,0,0,0,0,0,0,0,0,0,0]
[null,26,null,null,null,null,null,null,null,null,0,0,0,0,0,0,0,0,0,0,0,0,0]
[null,27,null,null,null,null,null,null,null,null,0,0,0,0,0,0,0,0,0,0,0,0,0]
[null,28,null,null,null,null,null,null,null,null,0,0,0,0,0,0,0,0,0,0,0,0,0]
[null,29,null,null,null,null,null,null,null,null,0,0,0,0,0,0,0,0,0,0,0,0,0]
[null,30,null,null,null,null,null,null,null,null,0,0,0,0,0,0,0,0,0,0,0,0,0]
[null,31,null,null,null,null,null,null,null,null,{"$f":"IF($D36=K$5,$F36,0)","v":0},0,0,0,0,0,0,0,0,0,0,0,0]
[null,32,null,null,null,null,null,null,null,null,0,0,0,0,0,0,0,0,0,0,0,0,0]
[null,33,null,null,null,null,null,null,null,null,0,0,0,0,0,0,0,0,0,0,0,0,0]
[null,34,null,null,null,null,null,null,null,null,0,0,0,0,0,0,0,0,0,0,0,0,0]
[null,35,null,null,null,null,null,null,null,null,0,0,0,0,0,0,0,0,0,0,0,0,0]
[null,36,null,null,null,null,null,null,null,null,0,0,0,0,0,0,0,0,0,0,0,0,0]
[null,37,null,null,null,null,null,null,null,null,0,0,0,0,0,0,0,0,0,0,0,0,0]
[null,38,null,null,null,null,null,null,null,null,0,0,0,0,0,0,0,0,0,0,0,0,0]
[null,39,null,null,null,null,null,null,null,null,0,0,0,0,0,0,0,0,0,0,0,0,0]
[null,40,null,null,null,null,null,null,null,null,0,0,0,0,0,0,0,0,0,0,0,0,0]
[null,41,null,null,null,null,null,null,null,null,{"$f":"IF($D46=K$5,$F46,0)","v":0},0,0,0,0,0,0,0,0,0,0,0,0]
[null,42,null,null,null,null,null,null,null,null,0,0,0,0,0,0,0,0,0,0,0,0,0]
[null,43,null,null,null,null,null,null,null,null,0,0,0,0,0,0,0,0,0,0,0,0,0]
[null,44,null,null,null,null,null,null,null,null,0,0,0,0,0,0,0,0,0,0,0,0,0]
[null,45,null,null,null,null,null,null,null,null,0,0,0,0,0,0,0,0,0,0,0,0,0]
[null,46,null,null,null,null,null,null,null,null,0,0,0,0,0,0,0,0,0,0,0,0,0]
[null,47,null,null,null,null,null,null,null,null,0,0,0,0,0,0,0,0,0,0,0,0,0]
[null,48,null,null,null,null,null,null,null,null,0,0,0,0,0,0,0,0,0,0,0,0,0]
[null,49,null,null,null,null,null,null,null,null,0,0,0,0,0,0,0,0,0,0,0,0,0]
[null,50,null,null,null,null,null,null,null,null,0,0,0,0,0,0,0,0,0,0,0,0,0]
[null,51,null,null,null,null,null,null,null,null,{"$f":"IF($D56=K$5,$F56,0)","v":0},0,0,0,0,0,0,0,0,0,0,0,0]
[null,52,null,null,null,null,null,null,null,null,0,0,0,0,0,0,0,0,0,0,0,0,0]
[null,53,null,null,null,null,null,null,null,null,0,0,0,0,0,0,0,0,0,0,0,0,0]
[null,54,null,null,null,null,null,null,null,null,0,0,0,0,0,0,0,0,0,0,0,0,0]
[null,55,null,null,null,null,null,null,null,null,0,0,0,0,0,0,0,0,0,0,0,0,0]
[null,56,null,null,null,null,null,null,null,null,0,0,0,0,0,0,0,0,0,0,0,0,0]
[null,57,null,null,null,null,null,null,null,null,0,0,0,0,0,0,0,0,0,0,0,0,0]
[null,58,null,null,null,null,null,null,null,null,0,0,0,0,0,0,0,0,0,0,0,0,0]
[null,59,null,null,null,null,null,null,null,null,0,0,0,0,0,0,0,0,0,0,0,0,0]
[null,60,null,null,null,null,null,null,null,null,0,0,0,0,0,0,0,0,0,0,0,0,0]
[null,61,null,null,null,null,null,null,null,null,{"$f":"IF($D66=K$5,$F66,0)","v":0},0,0,0,0,0,0,0,0,0,0,0,0]
[null,62,null,null,null,null,null,null,null,null,0,0,0,0,0,0,0,0,0,0,0,0,0]
[null,63,null,null,null,null,null,null,null,null,0,0,0,0,0,0,0,0,0,0,0,0,0]
[null,64,null,null,null,null,null,null,null,null,0,0,0,0,0,0,0,0,0,0,0,0,0]
[null,65,null,null,null,null,null,null,null,null,0,0,0,0,0,0,0,0,0,0,0,0,0]
[null,66,null,null,null,null,null,null,null,null,0,0,0,0,0,0,0,0,0,0,0,0,0]
[null,67,null,null,null,null,null,null,null,null,0,0,0,0,0,0,0,0,0,0,0,0,0]
[null,68,null,null,null,null,null,null,null,null,0,0,0,0,0,0,0,0,0,0,0,0,0]
[null,69,null,null,null,null,null,null,null,null,0,0,0,0,0,0,0,0,0,0,0,0,0]
[null,70,null,null,null,null,null,null,null,null,0,0,0,0,0,0,0,0,0,0,0,0,0]
[null,71,null,null,null,null,null,null,null,null,{"$f":"IF($D76=K$5,$F76,0)","v":0},0,0,0,0,0,0,0,0,0,0,0,0]
[null,72,null,null,null,null,null,null,null,null,0,0,0,0,0,0,0,0,0,0,0,0,0]
[null,73,null,null,null,null,null,null,null,null,0,0,0,0,0,0,0,0,0,0,0,0,0]
[null,74,null,null,null,null,null,null,null,null,0,0,0,0,0,0,0,0,0,0,0,0,0]
[null,75,null,null,null,null,null,null,null,null,0,0,0,0,0,0,0,0,0,0,0,0,0]
[null,76,null,null,null,null,null,null,null,null,0,0,0,0,0,0,0,0,0,0,0,0,0]
[null,77,null,null,null,null,null,null,null,null,0,0,0,0,0,0,0,0,0,0,0,0,0]
[null,78,null,null,null,null,null,null,null,null,0,0,0,0,0,0,0,0,0,0,0,0,0]
[null,79,null,null,null,null,null,null,null,null,0,0,0,0,0,0,0,0,0,0,0,0,0]
[null,80,null,null,null,null,null,null,null,null,0,0,0,0,0,0,0,0,0,0,0,0,0]
[null,81,null,null,null,null,null,null,null,null,{"$f":"IF($D86=K$5,$F86,0)","v":0},0,0,0,0,0,0,0,0,0,0,0,0]
[null,82,null,null,null,null,null,null,null,null,0,0,0,0,0,0,0,0,0,0,0,0,0]
[null,83,null,null,null,null,null,null,null,null,0,0,0,0,0,0,0,0,0,0,0,0,0]
[null,84,null,null,null,null,null,null,null,null,0,0,0,0,0,0,0,0,0,0,0,0,0]
[null,85,null,null,null,null,null,null,null,null,0,0,0,0,0,0,0,0,0,0,0,0,0]
[null,86,null,null,null,null,null,null,null,null,0,0,0,0,0,0,0,0,0,0,0,0,0]
[null,87,null,null,null,null,null,null,null,null,0,0,0,0,0,0,0,0,0,0,0,0,0]
[null,88,null,null,null,null,null,null,null,null,0,0,0,0,0,0,0,0,0,0,0,0,0]
[null,89,null,null,null,null,null,null,null,null,0,0,0,0,0,0,0,0,0,0,0,0,0]
[null,90,null,null,null,null,null,null,null,null,0,0,0,0,0,0,0,0,0,0,0,0,0]
[null,91,null,null,null,null,null,null,null,null,{"$f":"IF($D96=K$5,$F96,0)","v":0},0,0,0,0,0,0,0,0,0,0,0,0]
[null,92,null,null,null,null,null,null,null,null,0,0,0,0,0,0,0,0,0,0,0,0,0]
[null,93,null,null,null,null,null,null,null,null,0,0,0,0,0,0,0,0,0,0,0,0,0]
[null,94,null,null,null,null,null,null,null,null,0,0,0,0,0,0,0,0,0,0,0,0,0]
[null,95,null,null,null,null,null,null,null,null,0,0,0,0,0,0,0,0,0,0,0,0,0]
[null,96,null,null,null,null,null,null,null,null,0,0,0,0,0,0,0,0,0,0,0,0,0]
[null,97,null,null,null,null,null,null,null,null,0,0,0,0,0,0,0,0,0,0,0,0,0]
[null,98,null,null,null,null,null,null,null,null,0,0,0,0,0,0,0,0,0,0,0,0,0]
[null,99,null,null,null,null,null,null,null,null,0,0,0,0,0,0,0,0,0,0,0,0,0]
[null,100,null,null,null,null,null,null,null,null,0,0,0,0,0,0,0,0,0,0,0,0,0]
[null,101,null,null,null,null,null,null,null,null,{"$f":"IF($D106=K$5,$F106,0)","v":0},0,0,0,0,0,0,0,0,0,0,0,0]
[null,102,null,null,null,null,null,null,null,null,0,0,0,0,0,0,0,0,0,0,0,0,0]
[null,103,null,null,null,null,null,null,null,null,0,0,0,0,0,0,0,0,0,0,0,0,0]
[null,104,null,null,null,null,null,null,null,null,0,0,0,0,0,0,0,0,0,0,0,0,0]
[null,105,null,null,null,null,null,null,null,null,0,0,0,0,0,0,0,0,0,0,0,0,0]
[null,106,null,null,null,null,null,null,null,null,0,0,0,0,0,0,0,0,0,0,0,0,0]
[null,107,null,null,null,null,null,null,null,null,0,0,0,0,0,0,0,0,0,0,0,0,0]
[null,108,null,null,null,null,null,null,null,null,0,0,0,0,0,0,0,0,0,0,0,0,0]
[null,109,null,null,null,null,null,null,null,null,0,0,0,0,0,0,0,0,0,0,0,0,0]
[null,110,null,null,null,null,null,null,null,null,0,0,0,0,0,0,0,0,0,0,0,0,0]
[null,111,null,null,null,null,null,null,null,null,{"$f":"IF($D116=K$5,$F116,0)","v":0},0,0,0,0,0,0,0,0,0,0,0,0]
[null,112,null,null,null,null,null,null,null,null,0,0,0,0,0,0,0,0,0,0,0,0,0]
[null,113,null,null,null,null,null,null,null,null,0,0,0,0,0,0,0,0,0,0,0,0,0]
[null,114,null,null,null,null,null,null,null,null,0,0,0,0,0,0,0,0,0,0,0,0,0]
[null,115,null,null,null,null,null,null,null,null,0,0,0,0,0,0,0,0,0,0,0,0,0]
[null,116,null,null,null,null,null,null,null,null,0,0,0,0,0,0,0,0,0,0,0,0,0]
[null,117,null,null,null,null,null,null,null,null,0,0,0,0,0,0,0,0,0,0,0,0,0]
[null,118,null,null,null,null,null,null,null,null,0,0,0,0,0,0,0,0,0,0,0,0,0]
[null,119,null,null,null,null,null,null,null,null,0,0,0,0,0,0,0,0,0,0,0,0,0]
[null,120,null,null,null,null,null,null,null,null,0,0,0,0,0,0,0,0,0,0,0,0,0]
[null,121,null,null,null,null,null,null,null,null,{"$f":"IF($D126=K$5,$F126,0)","v":0},0,0,0,0,0,0,0,0,0,0,0,0]
[null,122,null,null,null,null,null,null,null,null,0,0,0,0,0,0,0,0,0,0,0,0,0]
[null,123,null,null,null,null,null,null,null,null,0,0,0,0,0,0,0,0,0,0,0,0,0]
[null,124,null,null,null,null,null,null,null,null,0,0,0,0,0,0,0,0,0,0,0,0,0]
[null,125,null,null,null,null,null,null,null,null,0,0,0,0,0,0,0,0,0,0,0,0,0]
[null,126,null,null,null,null,null,null,null,null,0,0,0,0,0,0,0,0,0,0,0,0,0]
[null,127,null,null,null,null,null,null,null,null,0,0,0,0,0,0,0,0,0,0,0,0,0]
[null,128,null,null,null,null,null,null,null,null,0,0,0,0,0,0,0,0,0,0,0,0,0]
[null,129,null,null,null,null,null,null,null,null,0,0,0,0,0,0,0,0,0,0,0,0,0]
[null,130,null,null,null,null,null,null,null,null,0,0,0,0,0,0,0,0,0,0,0,0,0]
[null,131,null,null,null,null,null,null,null,null,{"$f":"IF($D136=K$5,$F136,0)","v":0},0,0,0,0,0,0,0,0,0,0,0,0]
[null,132,null,null,null,null,null,null,null,null,0,0,0,0,0,0,0,0,0,0,0,0,0]
[null,133,null,null,null,null,null,null,null,null,0,0,0,0,0,0,0,0,0,0,0,0,0]
[null,134,null,null,null,null,null,null,null,null,0,0,0,0,0,0,0,0,0,0,0,0,0]
[null,135,null,null,null,null,null,null,null,null,0,0,0,0,0,0,0,0,0,0,0,0,0]
[null,136,null,null,null,null,null,null,null,null,0,0,0,0,0,0,0,0,0,0,0,0,0]
[null,137,null,null,null,null,null,null,null,null,0,0,0,0,0,0,0,0,0,0,0,0,0]
[null,138,null,null,null,null,null,null,null,null,0,0,0,0,0,0,0,0,0,0,0,0,0]
[null,139,null,null,null,null,null,null,null,null,0,0,0,0,0,0,0,0,0,0,0,0,0]
[null,140,null,null,null,null,null,null,null,null,0,0,0,0,0,0,0,0,0,0,0,0,0]
[null,141,null,null,null,null,null,null,null,null,{"$f":"IF($D146=K$5,$F146,0)","v":0},0,0,0,0,0,0,0,0,0,0,0,0]
[null,142,null,null,null,null,null,null,null,null,0,0,0,0,0,0,0,0,0,0,0,0,0]
[null,143,null,null,null,null,null,null,null,null,0,0,0,0,0,0,0,0,0,0,0,0,0]
[null,144,null,null,null,null,null,null,null,null,0,0,0,0,0,0,0,0,0,0,0,0,0]
[null,145,null,null,null,null,null,null,null,null,0,0,0,0,0,0,0,0,0,0,0,0,0]
[null,146,null,null,null,null,null,null,null,null,0,0,0,0,0,0,0,0,0,0,0,0,0]
[null,147,null,null,null,null,null,null,null,null,0,0,0,0,0,0,0,0,0,0,0,0,0]
[null,148,null,null,null,null,null,null,null,null,0,0,0,0,0,0,0,0,0,0,0,0,0]
[null,149,null,null,null,null,null,null,null,null,0,0,0,0,0,0,0,0,0,0,0,0,0]
[null,150,null,null,null,null,null,null,null,null,0,0,0,0,0,0,0,0,0,0,0,0,0]
[null,151,null,null,null,null,null,null,null,null,{"$f":"IF($D156=K$5,$F156,0)","v":0},0,0,0,0,0,0,0,0,0,0,0,0]
[null,152,null,null,null,null,null,null,null,null,0,0,0,0,0,0,0,0,0,0,0,0,0]
[null,153,null,null,null,null,null,null,null,null,0,0,0,0,0,0,0,0,0,0,0,0,0]
[null,154,null,null,null,null,null,null,null,null,0,0,0,0,0,0,0,0,0,0,0,0,0]
[null,155,null,null,null,null,null,null,null,null,0,0,0,0,0,0,0,0,0,0,0,0,0]
[null,156,null,null,null,null,null,null,null,null,0,0,0,0,0,0,0,0,0,0,0,0,0]
[null,157,null,null,null,null,null,null,null,null,0,0,0,0,0,0,0,0,0,0,0,0,0]
[null,158,null,null,null,null,null,null,null,null,0,0,0,0,0,0,0,0,0,0,0,0,0]
[null,159,null,null,null,null,null,null,null,null,0,0,0,0,0,0,0,0,0,0,0,0,0]
[null,160,null,null,null,null,null,null,null,null,0,0,0,0,0,0,0,0,0,0,0,0,0]
[null,161,null,null,null,null,null,null,null,null,{"$f":"IF($D166=K$5,$F166,0)","v":0},0,0,0,0,0,0,0,0,0,0,0,0]
[null,162,null,null,null,null,null,null,null,null,0,0,0,0,0,0,0,0,0,0,0,0,0]
[null,163,null,null,null,null,null,null,null,null,0,0,0,0,0,0,0,0,0,0,0,0,0]
[null,164,null,null,null,null,null,null,null,null,0,0,0,0,0,0,0,0,0,0,0,0,0]
[null,165,null,null,null,null,null,null,null,null,0,0,0,0,0,0,0,0,0,0,0,0,0]
[null,166,null,null,null,null,null,null,null,null,0,0,0,0,0,0,0,0,0,0,0,0,0]
[null,167,null,null,null,null,null,null,null,null,0,0,0,0,0,0,0,0,0,0,0,0,0]
[null,168,null,null,null,null,null,null,null,null,0,0,0,0,0,0,0,0,0,0,0,0,0]
[null,169,null,null,null,null,null,null,null,null,0,0,0,0,0,0,0,0,0,0,0,0,0]
[null,170,null,null,null,null,null,null,null,null,0,0,0,0,0,0,0,0,0,0,0,0,0]
[null,171,null,null,null,null,null,null,null,null,{"$f":"IF($D176=K$5,$F176,0)","v":0},0,0,0,0,0,0,0,0,0,0,0,0]
[null,172,null,null,null,null,null,null,null,null,0,0,0,0,0,0,0,0,0,0,0,0,0]
[null,173,null,null,null,null,null,null,null,null,0,0,0,0,0,0,0,0,0,0,0,0,0]
[null,174,null,null,null,null,null,null,null,null,0,0,0,0,0,0,0,0,0,0,0,0,0]
[null,175,null,null,null,null,null,null,null,null,0,0,0,0,0,0,0,0,0,0,0,0,0]
[null,176,null,null,null,null,null,null,null,null,0,0,0,0,0,0,0,0,0,0,0,0,0]
[null,177,null,null,null,null,null,null,null,null,0,0,0,0,0,0,0,0,0,0,0,0,0]
[null,178,null,null,null,null,null,null,null,null,0,0,0,0,0,0,0,0,0,0,0,0,0]
[null,179,null,null,null,null,null,null,null,null,0,0,0,0,0,0,0,0,0,0,0,0,0]
[null,180,null,null,null,null,null,null,null,null,0,0,0,0,0,0,0,0,0,0,0,0,0]
[null,181,null,null,null,null,null,null,null,null,{"$f":"IF($D186=K$5,$F186,0)","v":0},0,0,0,0,0,0,0,0,0,0,0,0]
[null,182,null,null,null,null,null,null,null,null,0,0,0,0,0,0,0,0,0,0,0,0,0]
[null,183,null,null,null,null,null,null,null,null,0,0,0,0,0,0,0,0,0,0,0,0,0]
[null,184,null,null,null,null,null,null,null,null,0,0,0,0,0,0,0,0,0,0,0,0,0]
[null,185,null,null,null,null,null,null,null,null,0,0,0,0,0,0,0,0,0,0,0,0,0]
[null,186,null,null,null,null,null,null,null,null,0,0,0,0,0,0,0,0,0,0,0,0,0]
[null,187,null,null,null,null,null,null,null,null,0,0,0,0,0,0,0,0,0,0,0,0,0]
[null,188,null,null,null,null,null,null,null,null,0,0,0,0,0,0,0,0,0,0,0,0,0]
[null,189,null,null,null,null,null,null,null,null,0,0,0,0,0,0,0,0,0,0,0,0,0]
[null,190,null,null,null,null,null,null,null,null,0,0,0,0,0,0,0,0,0,0,0,0,0]
[null,191,null,null,null,null,null,null,null,null,{"$f":"IF($D196=K$5,$F196,0)","v":0},0,0,0,0,0,0,0,0,0,0,0,0]
[null,192,null,null,null,null,null,null,null,null,0,0,0,0,0,0,0,0,0,0,0,0,0]
[null,193,null,null,null,null,null,null,null,null,0,0,0,0,0,0,0,0,0,0,0,0,0]
[null,194,null,null,null,null,null,null,null,null,0,0,0,0,0,0,0,0,0,0,0,0,0]
[null,195,null,null,null,null,null,null,null,null,0,0,0,0,0,0,0,0,0,0,0,0,0]
[null,196,null,null,null,null,null,null,null,null,0,0,0,0,0,0,0,0,0,0,0,0,0]
[null,197,null,null,null,null,null,null,null,null,0,0,0,0,0,0,0,0,0,0,0,0,0]
[null,198,null,null,null,null,null,null,null,null,0,0,0,0,0,0,0,0,0,0,0,0,0]
[null,199,null,null,null,null,null,null,null,null,0,0,0,0,0,0,0,0,0,0,0,0,0]
[null,200,null,null,null,null,null,null,null,null,0,0,0,0,0,0,0,0,0,0,0,0,0]
[null,201,null,null,null,null,null,null,null,null,{"$f":"IF($D206=K$5,$F206,0)","v":0},0,0,0,0,0,0,0,0,0,0,0,0]
[null,202,null,null,null,null,null,null,null,null,0,0,0,0,0,0,0,0,0,0,0,0,0]
[null,203,null,null,null,null,null,null,null,null,0,0,0,0,0,0,0,0,0,0,0,0,0]
[null,204,null,null,null,null,null,null,null,null,0,0,0,0,0,0,0,0,0,0,0,0,0]
[null,205,null,null,null,null,null,null,null,null,0,0,0,0,0,0,0,0,0,0,0,0,0]
[null,206,null,null,null,null,null,null,null,null,0,0,0,0,0,0,0,0,0,0,0,0,0]
[null,207,null,null,null,null,null,null,null,null,0,0,0,0,0,0,0,0,0,0,0,0,0]
[null,208,null,null,null,null,null,null,null,null,0,0,0,0,0,0,0,0,0,0,0,0,0]
[null,209,null,null,null,null,null,null,null,null,0,0,0,0,0,0,0,0,0,0,0,0,0]
[null,210,null,null,null,null,null,null,null,null,0,0,0,0,0,0,0,0,0,0,0,0,0]
[null,211,null,null,null,null,null,null,null,null,{"$f":"IF($D216=K$5,$F216,0)","v":0},0,0,0,0,0,0,0,0,0,0,0,0]
[null,212,null,null,null,null,null,null,null,null,0,0,0,0,0,0,0,0,0,0,0,0,0]
[null,213,null,null,null,null,null,null,null,null,0,0,0,0,0,0,0,0,0,0,0,0,0]
[null,214,null,null,null,null,null,null,null,null,0,0,0,0,0,0,0,0,0,0,0,0,0]
[null,215,null,null,null,null,null,null,null,null,0,0,0,0,0,0,0,0,0,0,0,0,0]
[null,216,null,null,null,null,null,null,null,null,0,0,0,0,0,0,0,0,0,0,0,0,0]
[null,217,null,null,null,null,null,null,null,null,0,0,0,0,0,0,0,0,0,0,0,0,0]
[null,218,null,null,null,null,null,null,null,null,0,0,0,0,0,0,0,0,0,0,0,0,0]
[null,219,null,null,null,null,null,null,null,null,0,0,0,0,0,0,0,0,0,0,0,0,0]
[null,220,null,null,null,null,null,null,null,null,0,0,0,0,0,0,0,0,0,0,0,0,0]
[null,221,null,null,null,null,null,null,null,null,{"$f":"IF($D226=K$5,$F226,0)","v":0},0,0,0,0,0,0,0,0,0,0,0,0]
[null,222,null,null,null,null,null,null,null,null,0,0,0,0,0,0,0,0,0,0,0,0,0]
[null,223,null,null,null,null,null,null,null,null,0,0,0,0,0,0,0,0,0,0,0,0,0]
[null,224,null,null,null,null,null,null,null,null,0,0,0,0,0,0,0,0,0,0,0,0,0]
[null,225,null,null,null,null,null,null,null,null,0,0,0,0,0,0,0,0,0,0,0,0,0]
[null,226,null,null,null,null,null,null,null,null,0,0,0,0,0,0,0,0,0,0,0,0,0]
[null,227,null,null,null,null,null,null,null,null,0,0,0,0,0,0,0,0,0,0,0,0,0]
[null,228,null,null,null,null,null,null,null,null,0,0,0,0,0,0,0,0,0,0,0,0,0]
[null,229,null,null,null,null,null,null,null,null,0,0,0,0,0,0,0,0,0,0,0,0,0]
[null,230,null,null,null,null,null,null,null,null,0,0,0,0,0,0,0,0,0,0,0,0,0]
[null,231,null,null,null,null,null,null,null,null,{"$f":"IF($D236=K$5,$F236,0)","v":0},0,0,0,0,0,0,0,0,0,0,0,0]
[null,232,null,null,null,null,null,null,null,null,0,0,0,0,0,0,0,0,0,0,0,0,0]
[null,233,null,null,null,null,null,null,null,null,0,0,0,0,0,0,0,0,0,0,0,0,0]
[null,234,null,null,null,null,null,null,null,null,0,0,0,0,0,0,0,0,0,0,0,0,0]
[null,235,null,null,null,null,null,null,null,null,0,0,0,0,0,0,0,0,0,0,0,0,0]
[null,236,null,null,null,null,null,null,null,null,0,0,0,0,0,0,0,0,0,0,0,0,0]
[null,237,null,null,null,null,null,null,null,null,0,0,0,0,0,0,0,0,0,0,0,0,0]
[null,238,null,null,null,null,null,null,null,null,0,0,0,0,0,0,0,0,0,0,0,0,0]
[null,239,null,null,null,null,null,null,null,null,0,0,0,0,0,0,0,0,0,0,0,0,0]
[null,240,null,null,null,null,null,null,null,null,0,0,0,0,0,0,0,0,0,0,0,0,0]
[null,241,null,null,null,null,null,null,null,null,{"$f":"IF($D246=K$5,$F246,0)","v":0},0,0,0,0,0,0,0,0,0,0,0,0]
[null,242,null,null,null,null,null,null,null,null,0,0,0,0,0,0,0,0,0,0,0,0,0]
[null,243,null,null,null,null,null,null,null,null,0,0,0,0,0,0,0,0,0,0,0,0,0]
[null,244,null,null,null,null,null,null,null,null,0,0,0,0,0,0,0,0,0,0,0,0,0]
[null,245,null,null,null,null,null,null,null,null,0,0,0,0,0,0,0,0,0,0,0,0,0]
[null,246,null,null,null,null,null,null,null,null,0,0,0,0,0,0,0,0,0,0,0,0,0]
[null,247,null,null,null,null,null,null,null,null,0,0,0,0,0,0,0,0,0,0,0,0,0]
[null,248,null,null,null,null,null,null,null,null,0,0,0,0,0,0,0,0,0,0,0,0,0]
[null,249,null,null,null,null,null,null,null,null,0,0,0,0,0,0,0,0,0,0,0,0,0]
[null,250,null,null,null,null,null,null,null,null,0,0,0,0,0,0,0,0,0,0,0,0,0]
[null,251,null,null,null,null,null,null,null,null,{"$f":"IF($D256=K$5,$F256,0)","v":0},0,0,0,0,0,0,0,0,0,0,0,0]
[null,252,null,null,null,null,null,null,null,null,0,0,0,0,0,0,0,0,0,0,0,0,0]
[null,253,null,null,null,null,null,null,null,null,0,0,0,0,0,0,0,0,0,0,0,0,0]
[null,254,null,null,null,null,null,null,null,null,0,0,0,0,0,0,0,0,0,0,0,0,0]
[null,255,null,null,null,null,null,null,null,null,0,0,0,0,0,0,0,0,0,0,0,0,0]
[null,256,null,null,null,null,null,null,null,null,0,0,0,0,0,0,0,0,0,0,0,0,0]
[null,257,null,null,null,null,null,null,null,null,0,0,0,0,0,0,0,0,0,0,0,0,0]
[null,258,null,null,null,null,null,null,null,null,0,0,0,0,0,0,0,0,0,0,0,0,0]
[null,259,null,null,null,null,null,null,null,null,0,0,0,0,0,0,0,0,0,0,0,0,0]
[null,260,null,null,null,null,null,null,null,null,0,0,0,0,0,0,0,0,0,0,0,0,0]
[null,261,null,null,null,null,null,null,null,null,{"$f":"IF($D266=K$5,$F266,0)","v":0},0,0,0,0,0,0,0,0,0,0,0,0]
[null,262,null,null,null,null,null,null,null,null,0,0,0,0,0,0,0,0,0,0,0,0,0]
[null,263,null,null,null,null,null,null,null,null,0,0,0,0,0,0,0,0,0,0,0,0,0]
[null,264,null,null,null,null,null,null,null,null,0,0,0,0,0,0,0,0,0,0,0,0,0]
[null,265,null,null,null,null,null,null,null,null,0,0,0,0,0,0,0,0,0,0,0,0,0]
[null,266,null,null,null,null,null,null,null,null,0,0,0,0,0,0,0,0,0,0,0,0,0]
[null,267,null,null,null,null,null,null,null,null,0,0,0,0,0,0,0,0,0,0,0,0,0]
[null,268,null,null,null,null,null,null,null,null,0,0,0,0,0,0,0,0,0,0,0,0,0]
[null,269,null,null,null,null,null,null,null,null,0,0,0,0,0,0,0,0,0,0,0,0,0]
[null,270,null,null,null,null,null,null,null,null,0,0,0,0,0,0,0,0,0,0,0,0,0]
[null,271,null,null,null,null,null,null,null,null,{"$f":"IF($D276=K$5,$F276,0)","v":0},0,0,0,0,0,0,0,0,0,0,0,0]
[null,272,null,null,null,null,null,null,null,null,0,0,0,0,0,0,0,0,0,0,0,0,0]
[null,273,null,null,null,null,null,null,null,null,0,0,0,0,0,0,0,0,0,0,0,0,0]
[null,274,null,null,null,null,null,null,null,null,0,0,0,0,0,0,0,0,0,0,0,0,0]
[null,275,null,null,null,null,null,null,null,null,0,0,0,0,0,0,0,0,0,0,0,0,0]
[null,276,null,null,null,null,null,null,null,null,0,0,0,0,0,0,0,0,0,0,0,0,0]
[null,277,null,null,null,null,null,null,null,null,0,0,0,0,0,0,0,0,0,0,0,0,0]
[null,278,null,null,null,null,null,null,null,null,0,0,0,0,0,0,0,0,0,0,0,0,0]
[null,279,null,null,null,null,null,null,null,null,0,0,0,0,0,0,0,0,0,0,0,0,0]
[null,280,null,null,null,null,null,null,null,null,0,0,0,0,0,0,0,0,0,0,0,0,0]
[null,281,null,null,null,null,null,null,null,null,{"$f":"IF($D286=K$5,$F286,0)","v":0},0,0,0,0,0,0,0,0,0,0,0,0]
[null,282,null,null,null,null,null,null,null,null,0,0,0,0,0,0,0,0,0,0,0,0,0]
[null,283,null,null,null,null,null,null,null,null,0,0,0,0,0,0,0,0,0,0,0,0,0]
[null,284,null,null,null,null,null,null,null,null,0,0,0,0,0,0,0,0,0,0,0,0,0]
[null,285,null,null,null,null,null,null,null,null,0,0,0,0,0,0,0,0,0,0,0,0,0]
[null,286,null,null,null,null,null,null,null,null,0,0,0,0,0,0,0,0,0,0,0,0,0]
[null,287,null,null,null,null,null,null,null,null,0,0,0,0,0,0,0,0,0,0,0,0,0]
[null,288,null,null,null,null,null,null,null,null,0,0,0,0,0,0,0,0,0,0,0,0,0]
[null,289,null,null,null,null,null,null,null,null,0,0,0,0,0,0,0,0,0,0,0,0,0]
[null,290,null,null,null,null,null,null,null,null,0,0,0,0,0,0,0,0,0,0,0,0,0]
[null,291,null,null,null,null,null,null,null,null,{"$f":"IF($D296=K$5,$F296,0)","v":0},0,0,0,0,0,0,0,0,0,0,0,0]
[null,292,null,null,null,null,null,null,null,null,0,0,0,0,0,0,0,0,0,0,0,0,0]
[null,293,null,null,null,null,null,null,null,null,0,0,0,0,0,0,0,0,0,0,0,0,0]
[null,294,null,null,null,null,null,null,null,null,0,0,0,0,0,0,0,0,0,0,0,0,0]
[null,295,null,null,null,null,null,null,null,null,0,0,0,0,0,0,0,0,0,0,0,0,0]
[null,296,null,null,null,null,null,null,null,null,0,0,0,0,0,0,0,0,0,0,0,0,0]
[null,297,null,null,null,null,null,null,null,null,0,0,0,0,0,0,0,0,0,0,0,0,0]
[null,298,null,null,null,null,null,null,null,null,0,0,0,0,0,0,0,0,0,0,0,0,0]
[null,299,null,null,null,null,null,null,null,null,0,0,0,0,0,0,0,0,0,0,0,0,0]
[null,300,null,null,null,null,null,null,null,null,0,0,0,0,0,0,0,0,0,0,0,0,0]
[null,null,null,null,null,null,null,null,null,null,{"$f":"SUM(K6:K305)","v":0},{"$f":"SUM(L6:L305)","v":0},0,0,0,0,0,0,0,0,0,0,0]

{"sheet":"7","index":7,"n_rows":306,"n_cols":23,"rows_kept":306,"cut":false,"hidden":false,"merged":[]}
[]
[null,null,{"$f":"menu!B14","v":"LIMPIEZA"}]
[]
[null,null,null,null,null,null,null,null,null,"Enero"]
[null,null,"DIA","MES","CONCEPTO","TOTAL",null,null,null,"Febrero","Enero","Febrero","Marzo","Abril","Mayo","Junio","Julio","Agosto","Septiembre","Octubre","Noviembre","Diciembre"]
[null,1,null,null,null,null,null,null,null,"Marzo",{"$f":"IF($D6=K$5,$F6,0)","v":0},0,0,0,0,0,0,0,0,0,0,0,0]
[null,2,null,null,null,null,null,null,null,"Abril",0,0,0,0,0,0,0,0,0,0,0,0,0]
[null,3,null,null,null,null,null,null,null,"Mayo",0,0,0,0,0,0,0,0,0,0,0,0,0]
[null,4,null,null,null,null,null,null,null,"Junio",0,0,0,0,0,0,0,0,0,0,0,0,0]
[null,5,null,null,null,null,null,null,null,"Julio",0,0,0,0,0,0,0,0,0,0,0,0,0]
[null,6,null,null,null,null,null,null,null,"Agosto",0,0,0,0,0,0,0,0,0,0,0,0,0]
[null,7,null,null,null,null,null,null,null,"Septiembre",0,0,0,0,0,0,0,0,0,0,0,0,0]
[null,8,null,null,null,null,null,null,null,"Octubre",0,0,0,0,0,0,0,0,0,0,0,0,0]
[null,9,null,null,null,null,null,null,null,"Noviembre",0,0,0,0,0,0,0,0,0,0,0,0,0]
[null,10,null,null,null,null,null,null,null,"Diciembre",0,0,0,0,0,0,0,0,0,0,0,0,0]
[null,11,null,null,null,null,null,null,null,null,{"$f":"IF($D16=K$5,$F16,0)","v":0},0,0,0,0,0,0,0,0,0,0,0,0]
[null,12,null,null,null,null,null,null,null,null,0,0,0,0,0,0,0,0,0,0,0,0,0]
[null,13,null,null,null,null,null,null,null,null,0,0,0,0,0,0,0,0,0,0,0,0,0]
[null,14,null,null,null,null,null,null,null,null,0,0,0,0,0,0,0,0,0,0,0,0,0]
[null,15,null,null,null,null,null,null,null,null,0,0,0,0,0,0,0,0,0,0,0,0,0]
[null,16,null,null,null,null,null,null,null,null,0,0,0,0,0,0,0,0,0,0,0,0,0]
[null,17,null,null,null,null,null,null,null,null,0,0,0,0,0,0,0,0,0,0,0,0,0]
[null,18,null,null,null,null,null,null,null,null,0,0,0,0,0,0,0,0,0,0,0,0,0]
[null,19,null,null,null,null,null,null,null,null,0,0,0,0,0,0,0,0,0,0,0,0,0]
[null,20,null,null,null,null,null,null,null,null,0,0,0,0,0,0,0,0,0,0,0,0,0]
[null,21,null,null,null,null,null,null,null,null,{"$f":"IF($D26=K$5,$F26,0)","v":0},0,0,0,0,0,0,0,0,0,0,0,0]
[null,22,null,null,null,null,null,null,null,null,0,0,0,0,0,0,0,0,0,0,0,0,0]
[null,23,null,null,null,null,null,null,null,null,0,0,0,0,0,0,0,0,0,0,0,0,0]
[null,24,null,null,null,null,null,null,null,null,0,0,0,0,0,0,0,0,0,0,0,0,0]
[null,25,null,null,null,null,null,null,null,null,0,0,0,0,0,0,0,0,0,0,0,0,0]
[null,26,null,null,null,null,null,null,null,null,0,0,0,0,0,0,0,0,0,0,0,0,0]
[null,27,null,null,null,null,null,null,null,null,0,0,0,0,0,0,0,0,0,0,0,0,0]
[null,28,null,null,null,null,null,null,null,null,0,0,0,0,0,0,0,0,0,0,0,0,0]
[null,29,null,null,null,null,null,null,null,null,0,0,0,0,0,0,0,0,0,0,0,0,0]
[null,30,null,null,null,null,null,null,null,null,0,0,0,0,0,0,0,0,0,0,0,0,0]
[null,31,null,null,null,null,null,null,null,null,{"$f":"IF($D36=K$5,$F36,0)","v":0},0,0,0,0,0,0,0,0,0,0,0,0]
[null,32,null,null,null,null,null,null,null,null,0,0,0,0,0,0,0,0,0,0,0,0,0]
[null,33,null,null,null,null,null,null,null,null,0,0,0,0,0,0,0,0,0,0,0,0,0]
[null,34,null,null,null,null,null,null,null,null,0,0,0,0,0,0,0,0,0,0,0,0,0]
[null,35,null,null,null,null,null,null,null,null,0,0,0,0,0,0,0,0,0,0,0,0,0]
[null,36,null,null,null,null,null,null,null,null,0,0,0,0,0,0,0,0,0,0,0,0,0]
[null,37,null,null,null,null,null,null,null,null,0,0,0,0,0,0,0,0,0,0,0,0,0]
[null,38,null,null,null,null,null,null,null,null,0,0,0,0,0,0,0,0,0,0,0,0,0]
[null,39,null,null,null,null,null,null,null,null,0,0,0,0,0,0,0,0,0,0,0,0,0]
[null,40,null,null,null,null,null,null,null,null,0,0,0,0,0,0,0,0,0,0,0,0,0]
[null,41,null,null,null,null,null,null,null,null,{"$f":"IF($D46=K$5,$F46,0)","v":0},0,0,0,0,0,0,0,0,0,0,0,0]
[null,42,null,null,null,null,null,null,null,null,0,0,0,0,0,0,0,0,0,0,0,0,0]
[null,43,null,null,null,null,null,null,null,null,0,0,0,0,0,0,0,0,0,0,0,0,0]
[null,44,null,null,null,null,null,null,null,null,0,0,0,0,0,0,0,0,0,0,0,0,0]
[null,45,null,null,null,null,null,null,null,null,0,0,0,0,0,0,0,0,0,0,0,0,0]
[null,46,null,null,null,null,null,null,null,null,0,0,0,0,0,0,0,0,0,0,0,0,0]
[null,47,null,null,null,null,null,null,null,null,0,0,0,0,0,0,0,0,0,0,0,0,0]
[null,48,null,null,null,null,null,null,null,null,0,0,0,0,0,0,0,0,0,0,0,0,0]
[null,49,null,null,null,null,null,null,null,null,0,0,0,0,0,0,0,0,0,0,0,0,0]
[null,50,null,null,null,null,null,null,null,null,0,0,0,0,0,0,0,0,0,0,0,0,0]
[null,51,null,null,null,null,null,null,null,null,{"$f":"IF($D56=K$5,$F56,0)","v":0},0,0,0,0,0,0,0,0,0,0,0,0]
[null,52,null,null,null,null,null,null,null,null,0,0,0,0,0,0,0,0,0,0,0,0,0]
[null,53,null,null,null,null,null,null,null,null,0,0,0,0,0,0,0,0,0,0,0,0,0]
[null,54,null,null,null,null,null,null,null,null,0,0,0,0,0,0,0,0,0,0,0,0,0]
[null,55,null,null,null,null,null,null,null,null,0,0,0,0,0,0,0,0,0,0,0,0,0]
[null,56,null,null,null,null,null,null,null,null,0,0,0,0,0,0,0,0,0,0,0,0,0]
[null,57,null,null,null,null,null,null,null,null,0,0,0,0,0,0,0,0,0,0,0,0,0]
[null,58,null,null,null,null,null,null,null,null,0,0,0,0,0,0,0,0,0,0,0,0,0]
[null,59,null,null,null,null,null,null,null,null,0,0,0,0,0,0,0,0,0,0,0,0,0]
[null,60,null,null,null,null,null,null,null,null,0,0,0,0,0,0,0,0,0,0,0,0,0]
[null,61,null,null,null,null,null,null,null,null,{"$f":"IF($D66=K$5,$F66,0)","v":0},0,0,0,0,0,0,0,0,0,0,0,0]
[null,62,null,null,null,null,null,null,null,null,0,0,0,0,0,0,0,0,0,0,0,0,0]
[null,63,null,null,null,null,null,null,null,null,0,0,0,0,0,0,0,0,0,0,0,0,0]
[null,64,null,null,null,null,null,null,null,null,0,0,0,0,0,0,0,0,0,0,0,0,0]
[null,65,null,null,null,null,null,null,null,null,0,0,0,0,0,0,0,0,0,0,0,0,0]
[null,66,null,null,null,null,null,null,null,null,0,0,0,0,0,0,0,0,0,0,0,0,0]
[null,67,null,null,null,null,null,null,null,null,0,0,0,0,0,0,0,0,0,0,0,0,0]
[null,68,null,null,null,null,null,null,null,null,0,0,0,0,0,0,0,0,0,0,0,0,0]
[null,69,null,null,null,null,null,null,null,null,0,0,0,0,0,0,0,0,0,0,0,0,0]
[null,70,null,null,null,null,null,null,null,null,0,0,0,0,0,0,0,0,0,0,0,0,0]
[null,71,null,null,null,null,null,null,null,null,{"$f":"IF($D76=K$5,$F76,0)","v":0},0,0,0,0,0,0,0,0,0,0,0,0]
[null,72,null,null,null,null,null,null,null,null,0,0,0,0,0,0,0,0,0,0,0,0,0]
[null,73,null,null,null,null,null,null,null,null,0,0,0,0,0,0,0,0,0,0,0,0,0]
[null,74,null,null,null,null,null,null,null,null,0,0,0,0,0,0,0,0,0,0,0,0,0]
[null,75,null,null,null,null,null,null,null,null,0,0,0,0,0,0,0,0,0,0,0,0,0]
[null,76,null,null,null,null,null,null,null,null,0,0,0,0,0,0,0,0,0,0,0,0,0]
[null,77,null,null,null,null,null,null,null,null,0,0,0,0,0,0,0,0,0,0,0,0,0]
[null,78,null,null,null,null,null,null,null,null,0,0,0,0,0,0,0,0,0,0,0,0,0]
[null,79,null,null,null,null,null,null,null,null,0,0,0,0,0,0,0,0,0,0,0,0,0]
[null,80,null,null,null,null,null,null,null,null,0,0,0,0,0,0,0,0,0,0,0,0,0]
[null,81,null,null,null,null,null,null,null,null,{"$f":"IF($D86=K$5,$F86,0)","v":0},0,0,0,0,0,0,0,0,0,0,0,0]
[null,82,null,null,null,null,null,null,null,null,0,0,0,0,0,0,0,0,0,0,0,0,0]
[null,83,null,null,null,null,null,null,null,null,0,0,0,0,0,0,0,0,0,0,0,0,0]
[null,84,null,null,null,null,null,null,null,null,0,0,0,0,0,0,0,0,0,0,0,0,0]
[null,85,null,null,null,null,null,null,null,null,0,0,0,0,0,0,0,0,0,0,0,0,0]
[null,86,null,null,null,null,null,null,null,null,0,0,0,0,0,0,0,0,0,0,0,0,0]
[null,87,null,null,null,null,null,null,null,null,0,0,0,0,0,0,0,0,0,0,0,0,0]
[null,88,null,null,null,null,null,null,null,null,0,0,0,0,0,0,0,0,0,0,0,0,0]
[null,89,null,null,null,null,null,null,null,null,0,0,0,0,0,0,0,0,0,0,0,0,0]
[null,90,null,null,null,null,null,null,null,null,0,0,0,0,0,0,0,0,0,0,0,0,0]
[null,91,null,null,null,null,null,null,null,null,{"$f":"IF($D96=K$5,$F96,0)","v":0},0,0,0,0,0,0,0,0,0,0,0,0]
[null,92,null,null,null,null,null,null,null,null,0,0,0,0,0,0,0,0,0,0,0,0,0]
[null,93,null,null,null,null,null,null,null,null,0,0,0,0,0,0,0,0,0,0,0,0,0]
[null,94,null,null,null,null,null,null,null,null,0,0,0,0,0,0,0,0,0,0,0,0,0]
[null,95,null,null,null,null,null,null,null,null,0,0,0,0,0,0,0,0,0,0,0,0,0]
[null,96,null,null,null,null,null,null,null,null,0,0,0,0,0,0,0,0,0,0,0,0,0]
[null,97,null,null,null,null,null,null,null,null,0,0,0,0,0,0,0,0,0,0,0,0,0]
[null,98,null,null,null,null,null,null,null,null,0,0,0,0,0,0,0,0,0,0,0,0,0]
[null,99,null,null,null,null,null,null,null,null,0,0,0,0,0,0,0,0,0,0,0,0,0]
[null,100,null,null,null,null,null,null,null,null,0,0,0,0,0,0,0,0,0,0,0,0,0]
[null,101,null,null,null,null,null,null,null,null,{"$f":"IF($D106=K$5,$F106,0)","v":0},0,0,0,0,0,0,0,0,0,0,0,0]
[null,102,null,null,null,null,null,null,null,null,0,0,0,0,0,0,0,0,0,0,0,0,0]
[null,103,null,null,null,null,null,null,null,null,0,0,0,0,0,0,0,0,0,0,0,0,0]
[null,104,null,null,null,null,null,null,null,null,0,0,0,0,0,0,0,0,0,0,0,0,0]
[null,105,null,null,null,null,null,null,null,null,0,0,0,0,0,0,0,0,0,0,0,0,0]
[null,106,null,null,null,null,null,null,null,null,0,0,0,0,0,0,0,0,0,0,0,0,0]
[null,107,null,null,null,null,null,null,null,null,0,0,0,0,0,0,0,0,0,0,0,0,0]
[null,108,null,null,null,null,null,null,null,null,0,0,0,0,0,0,0,0,0,0,0,0,0]
[null,109,null,null,null,null,null,null,null,null,0,0,0,0,0,0,0,0,0,0,0,0,0]
[null,110,null,null,null,null,null,null,null,null,0,0,0,0,0,0,0,0,0,0,0,0,0]
[null,111,null,null,null,null,null,null,null,null,{"$f":"IF($D116=K$5,$F116,0)","v":0},0,0,0,0,0,0,0,0,0,0,0,0]
[null,112,null,null,null,null,null,null,null,null,0,0,0,0,0,0,0,0,0,0,0,0,0]
[null,113,null,null,null,null,null,null,null,null,0,0,0,0,0,0,0,0,0,0,0,0,0]
[null,114,null,null,null,null,null,null,null,null,0,0,0,0,0,0,0,0,0,0,0,0,0]
[null,115,null,null,null,null,null,null,null,null,0,0,0,0,0,0,0,0,0,0,0,0,0]
[null,116,null,null,null,null,null,null,null,null,0,0,0,0,0,0,0,0,0,0,0,0,0]
[null,117,null,null,null,null,null,null,null,null,0,0,0,0,0,0,0,0,0,0,0,0,0]
[null,118,null,null,null,null,null,null,null,null,0,0,0,0,0,0,0,0,0,0,0,0,0]
[null,119,null,null,null,null,null,null,null,null,0,0,0,0,0,0,0,0,0,0,0,0,0]
[null,120,null,null,null,null,null,null,null,null,0,0,0,0,0,0,0,0,0,0,0,0,0]
[null,121,null,null,null,null,null,null,null,null,{"$f":"IF($D126=K$5,$F126,0)","v":0},0,0,0,0,0,0,0,0,0,0,0,0]
[null,122,null,null,null,null,null,null,null,null,0,0,0,0,0,0,0,0,0,0,0,0,0]
[null,123,null,null,null,null,null,null,null,null,0,0,0,0,0,0,0,0,0,0,0,0,0]
[null,124,null,null,null,null,null,null,null,null,0,0,0,0,0,0,0,0,0,0,0,0,0]
[null,125,null,null,null,null,null,null,null,null,0,0,0,0,0,0,0,0,0,0,0,0,0]
[null,126,null,null,null,null,null,null,null,null,0,0,0,0,0,0,0,0,0,0,0,0,0]
[null,127,null,null,null,null,null,null,null,null,0,0,0,0,0,0,0,0,0,0,0,0,0]
[null,128,null,null,null,null,null,null,null,null,0,0,0,0,0,0,0,0,0,0,0,0,0]
[null,129,null,null,null,null,null,null,null,null,0,0,0,0,0,0,0,0,0,0,0,0,0]
[null,130,null,null,null,null,null,null,null,null,0,0,0,0,0,0,0,0,0,0,0,0,0]
[null,131,null,null,null,null,null,null,null,null,{"$f":"IF($D136=K$5,$F136,0)","v":0},0,0,0,0,0,0,0,0,0,0,0,0]
[null,132,null,null,null,null,null,null,null,null,0,0,0,0,0,0,0,0,0,0,0,0,0]
[null,133,null,null,null,null,null,null,null,null,0,0,0,0,0,0,0,0,0,0,0,0,0]
[null,134,null,null,null,null,null,null,null,null,0,0,0,0,0,0,0,0,0,0,0,0,0]
[null,135,null,null,null,null,null,null,null,null,0,0,0,0,0,0,0,0,0,0,0,0,0]
[null,136,null,null,null,null,null,null,null,null,0,0,0,0,0,0,0,0,0,0,0,0,0]
[null,137,null,null,null,null,null,null,null,null,0,0,0,0,0,0,0,0,0,0,0,0,0]
[null,138,null,null,null,null,null,null,null,null,0,0,0,0,0,0,0,0,0,0,0,0,0]
[null,139,null,null,null,null,null,null,null,null,0,0,0,0,0,0,0,0,0,0,0,0,0]
[null,140,null,null,null,null,null,null,null,null,0,0,0,0,0,0,0,0,0,0,0,0,0]
[null,141,null,null,null,null,null,null,null,null,{"$f":"IF($D146=K$5,$F146,0)","v":0},0,0,0,0,0,0,0,0,0,0,0,0]
[null,142,null,null,null,null,null,null,null,null,0,0,0,0,0,0,0,0,0,0,0,0,0]
[null,143,null,null,null,null,null,null,null,null,0,0,0,0,0,0,0,0,0,0,0,0,0]
[null,144,null,null,null,null,null,null,null,null,0,0,0,0,0,0,0,0,0,0,0,0,0]
[null,145,null,null,null,null,null,null,null,null,0,0,0,0,0,0,0,0,0,0,0,0,0]
[null,146,null,null,null,null,null,null,null,null,0,0,0,0,0,0,0,0,0,0,0,0,0]
[null,147,null,null,null,null,null,null,null,null,0,0,0,0,0,0,0,0,0,0,0,0,0]
[null,148,null,null,null,null,null,null,null,null,0,0,0,0,0,0,0,0,0,0,0,0,0]
[null,149,null,null,null,null,null,null,null,null,0,0,0,0,0,0,0,0,0,0,0,0,0]
[null,150,null,null,null,null,null,null,null,null,0,0,0,0,0,0,0,0,0,0,0,0,0]
[null,151,null,null,null,null,null,null,null,null,{"$f":"IF($D156=K$5,$F156,0)","v":0},0,0,0,0,0,0,0,0,0,0,0,0]
[null,152,null,null,null,null,null,null,null,null,0,0,0,0,0,0,0,0,0,0,0,0,0]
[null,153,null,null,null,null,null,null,null,null,0,0,0,0,0,0,0,0,0,0,0,0,0]
[null,154,null,null,null,null,null,null,null,null,0,0,0,0,0,0,0,0,0,0,0,0,0]
[null,155,null,null,null,null,null,null,null,null,0,0,0,0,0,0,0,0,0,0,0,0,0]
[null,156,null,null,null,null,null,null,null,null,0,0,0,0,0,0,0,0,0,0,0,0,0]
[null,157,null,null,null,null,null,null,null,null,0,0,0,0,0,0,0,0,0,0,0,0,0]
[null,158,null,null,null,null,null,null,null,null,0,0,0,0,0,0,0,0,0,0,0,0,0]
[null,159,null,null,null,null,null,null,null,null,0,0,0,0,0,0,0,0,0,0,0,0,0]
[null,160,null,null,null,null,null,null,null,null,0,0,0,0,0,0,0,0,0,0,0,0,0]
[null,161,null,null,null,null,null,null,null,null,{"$f":"IF($D166=K$5,$F166,0)","v":0},0,0,0,0,0,0,0,0,0,0,0,0]
[null,162,null,null,null,null,null,null,null,null,0,0,0,0,0,0,0,0,0,0,0,0,0]
[null,163,null,null,null,null,null,null,null,null,0,0,0,0,0,0,0,0,0,0,0,0,0]
[null,164,null,null,null,null,null,null,null,null,0,0,0,0,0,0,0,0,0,0,0,0,0]
[null,165,null,null,null,null,null,null,null,null,0,0,0,0,0,0,0,0,0,0,0,0,0]
[null,166,null,null,null,null,null,null,null,null,0,0,0,0,0,0,0,0,0,0,0,0,0]
[null,167,null,null,null,null,null,null,null,null,0,0,0,0,0,0,0,0,0,0,0,0,0]
[null,168,null,null,null,null,null,null,null,null,0,0,0,0,0,0,0,0,0,0,0,0,0]
[null,169,null,null,null,null,null,null,null,null,0,0,0,0,0,0,0,0,0,0,0,0,0]
[null,170,null,null,null,null,null,null,null,null,0,0,0,0,0,0,0,0,0,0,0,0,0]
[null,171,null,null,null,null,null,null,null,null,{"$f":"IF($D176=K$5,$F176,0)","v":0},0,0,0,0,0,0,0,0,0,0,0,0]
[null,172,null,null,null,null,null,null,null,null,0,0,0,0,0,0,0,0,0,0,0,0,0]
[null,173,null,null,null,null,null,null,null,null,0,0,0,0,0,0,0,0,0,0,0,0,0]
[null,174,null,null,null,null,null,null,null,null,0,0,0,0,0,0,0,0,0,0,0,0,0]
[null,175,null,null,null,null,null,null,null,null,0,0,0,0,0,0,0,0,0,0,0,0,0]
[null,176,null,null,null,null,null,null,null,null,0,0,0,0,0,0,0,0,0,0,0,0,0]
[null,177,null,null,null,null,null,null,null,null,0,0,0,0,0,0,0,0,0,0,0,0,0]
[null,178,null,null,null,null,null,null,null,null,0,0,0,0,0,0,0,0,0,0,0,0,0]
[null,179,null,null,null,null,null,null,null,null,0,0,0,0,0,0,0,0,0,0,0,0,0]
[null,180,null,null,null,null,null,null,null,null,0,0,0,0,0,0,0,0,0,0,0,0,0]
[null,181,null,null,null,null,null,null,null,null,{"$f":"IF($D186=K$5,$F186,0)","v":0},0,0,0,0,0,0,0,0,0,0,0,0]
[null,182,null,null,null,null,null,null,null,null,0,0,0,0,0,0,0,0,0,0,0,0,0]
[null,183,null,null,null,null,null,null,null,null,0,0,0,0,0,0,0,0,0,0,0,0,0]
[null,184,null,null,null,null,null,null,null,null,0,0,0,0,0,0,0,0,0,0,0,0,0]
[null,185,null,null,null,null,null,null,null,null,0,0,0,0,0,0,0,0,0,0,0,0,0]
[null,186,null,null,null,null,null,null,null,null,0,0,0,0,0,0,0,0,0,0,0,0,0]
[null,187,null,null,null,null,null,null,null,null,0,0,0,0,0,0,0,0,0,0,0,0,0]
[null,188,null,null,null,null,null,null,null,null,0,0,0,0,0,0,0,0,0,0,0,0,0]
[null,189,null,null,null,null,null,null,null,null,0,0,0,0,0,0,0,0,0,0,0,0,0]
[null,190,null,null,null,null,null,null,null,null,0,0,0,0,0,0,0,0,0,0,0,0,0]
[null,191,null,null,null,null,null,null,null,null,{"$f":"IF($D196=K$5,$F196,0)","v":0},0,0,0,0,0,0,0,0,0,0,0,0]
[null,192,null,null,null,null,null,null,null,null,0,0,0,0,0,0,0,0,0,0,0,0,0]
[null,193,null,null,null,null,null,null,null,null,0,0,0,0,0,0,0,0,0,0,0,0,0]
[null,194,null,null,null,null,null,null,null,null,0,0,0,0,0,0,0,0,0,0,0,0,0]
[null,195,null,null,null,null,null,null,null,null,0,0,0,0,0,0,0,0,0,0,0,0,0]
[null,196,null,null,null,null,null,null,null,null,0,0,0,0,0,0,0,0,0,0,0,0,0]
[null,197,null,null,null,null,null,null,null,null,0,0,0,0,0,0,0,0,0,0,0,0,0]
[null,198,null,null,null,null,null,null,null,null,0,0,0,0,0,0,0,0,0,0,0,0,0]
[null,199,null,null,null,null,null,null,null,null,0,0,0,0,0,0,0,0,0,0,0,0,0]
[null,200,null,null,null,null,null,null,null,null,0,0,0,0,0,0,0,0,0,0,0,0,0]
[null,201,null,null,null,null,null,null,null,null,{"$f":"IF($D206=K$5,$F206,0)","v":0},0,0,0,0,0,0,0,0,0,0,0,0]
[null,202,null,null,null,null,null,null,null,null,0,0,0,0,0,0,0,0,0,0,0,0,0]
[null,203,null,null,null,null,null,null,null,null,0,0,0,0,0,0,0,0,0,0,0,0,0]
[null,204,null,null,null,null,null,null,null,null,0,0,0,0,0,0,0,0,0,0,0,0,0]
[null,205,null,null,null,null,null,null,null,null,0,0,0,0,0,0,0,0,0,0,0,0,0]
[null,206,null,null,null,null,null,null,null,null,0,0,0,0,0,0,0,0,0,0,0,0,0]
[null,207,null,null,null,null,null,null,null,null,0,0,0,0,0,0,0,0,0,0,0,0,0]
[null,208,null,null,null,null,null,null,null,null,0,0,0,0,0,0,0,0,0,0,0,0,0]
[null,209,null,null,null,null,null,null,null,null,0,0,0,0,0,0,0,0,0,0,0,0,0]
[null,210,null,null,null,null,null,null,null,null,0,0,0,0,0,0,0,0,0,0,0,0,0]
[null,211,null,null,null,null,null,null,null,null,{"$f":"IF($D216=K$5,$F216,0)","v":0},0,0,0,0,0,0,0,0,0,0,0,0]
[null,212,null,null,null,null,null,null,null,null,0,0,0,0,0,0,0,0,0,0,0,0,0]
[null,213,null,null,null,null,null,null,null,null,0,0,0,0,0,0,0,0,0,0,0,0,0]
[null,214,null,null,null,null,null,null,null,null,0,0,0,0,0,0,0,0,0,0,0,0,0]
[null,215,null,null,null,null,null,null,null,null,0,0,0,0,0,0,0,0,0,0,0,0,0]
[null,216,null,null,null,null,null,null,null,null,0,0,0,0,0,0,0,0,0,0,0,0,0]
[null,217,null,null,null,null,null,null,null,null,0,0,0,0,0,0,0,0,0,0,0,0,0]
[null,218,null,null,null,null,null,null,null,null,0,0,0,0,0,0,0,0,0,0,0,0,0]
[null,219,null,null,null,null,null,null,null,null,0,0,0,0,0,0,0,0,0,0,0,0,0]
[null,220,null,null,null,null,null,null,null,null,0,0,0,0,0,0,0,0,0,0,0,0,0]
[null,221,null,null,null,null,null,null,null,null,{"$f":"IF($D226=K$5,$F226,0)","v":0},0,0,0,0,0,0,0,0,0,0,0,0]
[null,222,null,null,null,null,null,null,null,null,0,0,0,0,0,0,0,0,0,0,0,0,0]
[null,223,null,null,null,null,null,null,null,null,0,0,0,0,0,0,0,0,0,0,0,0,0]
[null,224,null,null,null,null,null,null,null,null,0,0,0,0,0,0,0,0,0,0,0,0,0]
[null,225,null,null,null,null,null,null,null,null,0,0,0,0,0,0,0,0,0,0,0,0,0]
[null,226,null,null,null,null,null,null,null,null,0,0,0,0,0,0,0,0,0,0,0,0,0]
[null,227,null,null,null,null,null,null,null,null,0,0,0,0,0,0,0,0,0,0,0,0,0]
[null,228,null,null,null,null,null,null,null,null,0,0,0,0,0,0,0,0,0,0,0,0,0]
[null,229,null,null,null,null,null,null,null,null,0,0,0,0,0,0,0,0,0,0,0,0,0]
[null,230,null,null,null,null,null,null,null,null,0,0,0,0,0,0,0,0,0,0,0,0,0]
[null,231,null,null,null,null,null,null,null,null,{"$f":"IF($D236=K$5,$F236,0)","v":0},0,0,0,0,0,0,0,0,0,0,0,0]
[null,232,null,null,null,null,null,null,null,null,0,0,0,0,0,0,0,0,0,0,0,0,0]
[null,233,null,null,null,null,null,null,null,null,0,0,0,0,0,0,0,0,0,0,0,0,0]
[null,234,null,null,null,null,null,null,null,null,0,0,0,0,0,0,0,0,0,0,0,0,0]
[null,235,null,null,null,null,null,null,null,null,0,0,0,0,0,0,0,0,0,0,0,0,0]
[null,236,null,null,null,null,null,null,null,null,0,0,0,0,0,0,0,0,0,0,0,0,0]
[null,237,null,null,null,null,null,null,null,null,0,0,0,0,0,0,0,0,0,0,0,0,0]
[null,238,null,null,null,null,null,null,null,null,0,0,0,0,0,0,0,0,0,0,0,0,0]
[null,239,null,null,null,null,null,null,null,null,0,0,0,0,0,0,0,0,0,0,0,0,0]
[null,240,null,null,null,null,null,null,null,null,0,0,0,0,0,0,0,0,0,0,0,0,0]
[null,241,null,null,null,null,null,null,null,null,{"$f":"IF($D246=K$5,$F246,0)","v":0},0,0,0,0,0,0,0,0,0,0,0,0]
[null,242,null,null,null,null,null,null,null,null,0,0,0,0,0,0,0,0,0,0,0,0,0]
[null,243,null,null,null,null,null,null,null,null,0,0,0,0,0,0,0,0,0,0,0,0,0]
[null,244,null,null,null,null,null,null,null,null,0,0,0,0,0,0,0,0,0,0,0,0,0]
[null,245,null,null,null,null,null,null,null,null,0,0,0,0,0,0,0,0,0,0,0,0,0]
[null,246,null,null,null,null,null,null,null,null,0,0,0,0,0,0,0,0,0,0,0,0,0]
[null,247,null,null,null,null,null,null,null,null,0,0,0,0,0,0,0,0,0,0,0,0,0]
[null,248,null,null,null,null,null,null,null,null,0,0,0,0,0,0,0,0,0,0,0,0,0]
[null,249,null,null,null,null,null,null,null,null,0,0,0,0,0,0,0,0,0,0,0,0,0]
[null,250,null,null,null,null,null,null,null,null,0,0,0,0,0,0,0,0,0,0,0,0,0]
[null,251,null,null,null,null,null,null,null,null,{"$f":"IF($D256=K$5,$F256,0)","v":0},0,0,0,0,0,0,0,0,0,0,0,0]
[null,252,null,null,null,null,null,null,null,null,0,0,0,0,0,0,0,0,0,0,0,0,0]
[null,253,null,null,null,null,null,null,null,null,0,0,0,0,0,0,0,0,0,0,0,0,0]
[null,254,null,null,null,null,null,null,null,null,0,0,0,0,0,0,0,0,0,0,0,0,0]
[null,255,null,null,null,null,null,null,null,null,0,0,0,0,0,0,0,0,0,0,0,0,0]
[null,256,null,null,null,null,null,null,null,null,0,0,0,0,0,0,0,0,0,0,0,0,0]
[null,257,null,null,null,null,null,null,null,null,0,0,0,0,0,0,0,0,0,0,0,0,0]
[null,258,null,null,null,null,null,null,null,null,0,0,0,0,0,0,0,0,0,0,0,0,0]
[null,259,null,null,null,null,null,null,null,null,0,0,0,0,0,0,0,0,0,0,0,0,0]
[null,260,null,null,null,null,null,null,null,null,0,0,0,0,0,0,0,0,0,0,0,0,0]
[null,261,null,null,null,null,null,null,null,null,{"$f":"IF($D266=K$5,$F266,0)","v":0},0,0,0,0,0,0,0,0,0,0,0,0]
[null,262,null,null,null,null,null,null,null,null,0,0,0,0,0,0,0,0,0,0,0,0,0]
[null,263,null,null,null,null,null,null,null,null,0,0,0,0,0,0,0,0,0,0,0,0,0]
[null,264,null,null,null,null,null,null,null,null,0,0,0,0,0,0,0,0,0,0,0,0,0]
[null,265,null,null,null,null,null,null,null,null,0,0,0,0,0,0,0,0,0,0,0,0,0]
[null,266,null,null,null,null,null,null,null,null,0,0,0,0,0,0,0,0,0,0,0,0,0]
[null,267,null,null,null,null,null,null,null,null,0,0,0,0,0,0,0,0,0,0,0,0,0]
[null,268,null,null,null,null,null,null,null,null,0,0,0,0,0,0,0,0,0,0,0,0,0]
[null,269,null,null,null,null,null,null,null,null,0,0,0,0,0,0,0,0,0,0,0,0,0]
[null,270,null,null,null,null,null,null,null,null,0,0,0,0,0,0,0,0,0,0,0,0,0]
[null,271,null,null,null,null,null,null,null,null,{"$f":"IF($D276=K$5,$F276,0)","v":0},0,0,0,0,0,0,0,0,0,0,0,0]
[null,272,null,null,null,null,null,null,null,null,0,0,0,0,0,0,0,0,0,0,0,0,0]
[null,273,null,null,null,null,null,null,null,null,0,0,0,0,0,0,0,0,0,0,0,0,0]
[null,274,null,null,null,null,null,null,null,null,0,0,0,0,0,0,0,0,0,0,0,0,0]
[null,275,null,null,null,null,null,null,null,null,0,0,0,0,0,0,0,0,0,0,0,0,0]
[null,276,null,null,null,null,null,null,null,null,0,0,0,0,0,0,0,0,0,0,0,0,0]
[null,277,null,null,null,null,null,null,null,null,0,0,0,0,0,0,0,0,0,0,0,0,0]
[null,278,null,null,null,null,null,null,null,null,0,0,0,0,0,0,0,0,0,0,0,0,0]
[null,279,null,null,null,null,null,null,null,null,0,0,0,0,0,0,0,0,0,0,0,0,0]
[null,280,null,null,null,null,null,null,null,null,0,0,0,0,0,0,0,0,0,0,0,0,0]
[null,281,null,null,null,null,null,null,null,null,{"$f":"IF($D286=K$5,$F286,0)","v":0},0,0,0,0,0,0,0,0,0,0,0,0]
[null,282,null,null,null,null,null,null,null,null,0,0,0,0,0,0,0,0,0,0,0,0,0]
[null,283,null,null,null,null,null,null,null,null,0,0,0,0,0,0,0,0,0,0,0,0,0]
[null,284,null,null,null,null,null,null,null,null,0,0,0,0,0,0,0,0,0,0,0,0,0]
[null,285,null,null,null,null,null,null,null,null,0,0,0,0,0,0,0,0,0,0,0,0,0]
[null,286,null,null,null,null,null,null,null,null,0,0,0,0,0,0,0,0,0,0,0,0,0]
[null,287,null,null,null,null,null,null,null,null,0,0,0,0,0,0,0,0,0,0,0,0,0]
[null,288,null,null,null,null,null,null,null,null,0,0,0,0,0,0,0,0,0,0,0,0,0]
[null,289,null,null,null,null,null,null,null,null,0,0,0,0,0,0,0,0,0,0,0,0,0]
[null,290,null,null,null,null,null,null,null,null,0,0,0,0,0,0,0,0,0,0,0,0,0]
[null,291,null,null,null,null,null,null,null,null,{"$f":"IF($D296=K$5,$F296,0)","v":0},0,0,0,0,0,0,0,0,0,0,0,0]
[null,292,null,null,null,null,null,null,null,null,0,0,0,0,0,0,0,0,0,0,0,0,0]
[null,293,null,null,null,null,null,null,null,null,0,0,0,0,0,0,0,0,0,0,0,0,0]
[null,294,null,null,null,null,null,null,null,null,0,0,0,0,0,0,0,0,0,0,0,0,0]
[null,295,null,null,null,null,null,null,null,null,0,0,0,0,0,0,0,0,0,0,0,0,0]
[null,296,null,null,null,null,null,null,null,null,0,0,0,0,0,0,0,0,0,0,0,0,0]
[null,297,null,null,null,null,null,null,null,null,0,0,0,0,0,0,0,0,0,0,0,0,0]
[null,298,null,null,null,null,null,null,null,null,0,0,0,0,0,0,0,0,0,0,0,0,0]
[null,299,null,null,null,null,null,null,null,null,0,0,0,0,0,0,0,0,0,0,0,0,0]
[null,300,null,null,null,null,null,null,null,null,0,0,0,0,0,0,0,0,0,0,0,0,0]
[null,null,null,null,null,null,null,null,null,null,{"$f":"SUM(K6:K305)","v":0},{"$f":"SUM(L6:L305)","v":0},0,0,0,0,0,0,0,0,0,0,0]

{"sheet":"8","index":8,"n_rows":306,"n_cols":23,"rows_kept":306,"cut":false,"hidden":false,"merged":[]}
[]
[null,null,{"$f":"menu!B15","v":"COMUNICACIÓN"}]
[]
[null,null,null,null,null,null,null,null,null,"Enero"]
[null,null,"DIA","MES","CONCEPTO","TOTAL",null,null,null,"Febrero","Enero","Febrero","Marzo","Abril","Mayo","Junio","Julio","Agosto","Septiembre","Octubre","Noviembre","Diciembre"]
[null,1,null,null,null,null,null,null,null,"Marzo",{"$f":"IF($D6=K$5,$F6,0)","v":0},0,0,0,0,0,0,0,0,0,0,0,0]
[null,2,null,null,null,null,null,null,null,"Abril",0,0,0,0,0,0,0,0,0,0,0,0,0]
[null,3,null,null,null,null,null,null,null,"Mayo",0,0,0,0,0,0,0,0,0,0,0,0,0]
[null,4,null,null,null,null,null,null,null,"Junio",0,0,0,0,0,0,0,0,0,0,0,0,0]
[null,5,null,null,null,null,null,null,null,"Julio",0,0,0,0,0,0,0,0,0,0,0,0,0]
[null,6,null,null,null,null,null,null,null,"Agosto",0,0,0,0,0,0,0,0,0,0,0,0,0]
[null,7,null,null,null,null,null,null,null,"Septiembre",0,0,0,0,0,0,0,0,0,0,0,0,0]
[null,8,null,null,null,null,null,null,null,"Octubre",0,0,0,0,0,0,0,0,0,0,0,0,0]
[null,9,null,null,null,null,null,null,null,"Noviembre",0,0,0,0,0,0,0,0,0,0,0,0,0]
[null,10,null,null,null,null,null,null,null,"Diciembre",0,0,0,0,0,0,0,0,0,0,0,0,0]
[null,11,null,null,null,null,null,null,null,null,{"$f":"IF($D16=K$5,$F16,0)","v":0},0,0,0,0,0,0,0,0,0,0,0,0]
[null,12,null,null,null,null,null,null,null,null,0,0,0,0,0,0,0,0,0,0,0,0,0]
[null,13,null,null,null,null,null,null,null,null,0,0,0,0,0,0,0,0,0,0,0,0,0]
[null,14,null,null,null,null,null,null,null,null,0,0,0,0,0,0,0,0,0,0,0,0,0]
[null,15,null,null,null,null,null,null,null,null,0,0,0,0,0,0,0,0,0,0,0,0,0]
[null,16,null,null,null,null,null,null,null,null,0,0,0,0,0,0,0,0,0,0,0,0,0]
[null,17,null,null,null,null,null,null,null,null,0,0,0,0,0,0,0,0,0,0,0,0,0]
[null,18,null,null,null,null,null,null,null,null,0,0,0,0,0,0,0,0,0,0,0,0,0]
[null,19,null,null,null,null,null,null,null,null,0,0,0,0,0,0,0,0,0,0,0,0,0]
[null,20,null,null,null,null,null,null,null,null,0,0,0,0,0,0,0,0,0,0,0,0,0]
[null,21,null,null,null,null,null,null,null,null,{"$f":"IF($D26=K$5,$F26,0)","v":0},0,0,0,0,0,0,0,0,0,0,0,0]
[null,22,null,null,null,null,null,null,null,null,0,0,0,0,0,0,0,0,0,0,0,0,0]
[null,23,null,null,null,null,null,null,null,null,0,0,0,0,0,0,0,0,0,0,0,0,0]
[null,24,null,null,null,null,null,null,null,null,0,0,0,0,0,0,0,0,0,0,0,0,0]
[null,25,null,null,null,null,null,null,null,null,0,0,0,0,0,0,0,0,0,0,0,0,0]
[null,26,null,null,null,null,null,null,null,null,0,0,0,0,0,0,0,0,0,0,0,0,0]
[null,27,null,null,null,null,null,null,null,null,0,0,0,0,0,0,0,0,0,0,0,0,0]
[null,28,null,null,null,null,null,null,null,null,0,0,0,0,0,0,0,0,0,0,0,0,0]
[null,29,null,null,null,null,null,null,null,null,0,0,0,0,0,0,0,0,0,0,0,0,0]
[null,30,null,null,null,null,null,null,null,null,0,0,0,0,0,0,0,0,0,0,0,0,0]
[null,31,null,null,null,null,null,null,null,null,{"$f":"IF($D36=K$5,$F36,0)","v":0},0,0,0,0,0,0,0,0,0,0,0,0]
[null,32,null,null,null,null,null,null,null,null,0,0,0,0,0,0,0,0,0,0,0,0,0]
[null,33,null,null,null,null,null,null,null,null,0,0,0,0,0,0,0,0,0,0,0,0,0]
[null,34,null,null,null,null,null,null,null,null,0,0,0,0,0,0,0,0,0,0,0,0,0]
[null,35,null,null,null,null,null,null,null,null,0,0,0,0,0,0,0,0,0,0,0,0,0]
[null,36,null,null,null,null,null,null,null,null,0,0,0,0,0,0,0,0,0,0,0,0,0]
[null,37,null,null,null,null,null,null,null,null,0,0,0,0,0,0,0,0,0,0,0,0,0]
[null,38,null,null,null,null,null,null,null,null,0,0,0,0,0,0,0,0,0,0,0,0,0]
[null,39,null,null,null,null,null,null,null,null,0,0,0,0,0,0,0,0,0,0,0,0,0]
[null,40,null,null,null,null,null,null,null,null,0,0,0,0,0,0,0,0,0,0,0,0,0]
[null,41,null,null,null,null,null,null,null,null,{"$f":"IF($D46=K$5,$F46,0)","v":0},0,0,0,0,0,0,0,0,0,0,0,0]
[null,42,null,null,null,null,null,null,null,null,0,0,0,0,0,0,0,0,0,0,0,0,0]
[null,43,null,null,null,null,null,null,null,null,0,0,0,0,0,0,0,0,0,0,0,0,0]
[null,44,null,null,null,null,null,null,null,null,0,0,0,0,0,0,0,0,0,0,0,0,0]
[null,45,null,null,null,null,null,null,null,null,0,0,0,0,0,0,0,0,0,0,0,0,0]
[null,46,null,null,null,null,null,null,null,null,0,0,0,0,0,0,0,0,0,0,0,0,0]
[null,47,null,null,null,null,null,null,null,null,0,0,0,0,0,0,0,0,0,0,0,0,0]
[null,48,null,null,null,null,null,null,null,null,0,0,0,0,0,0,0,0,0,0,0,0,0]
[null,49,null,null,null,null,null,null,null,null,0,0,0,0,0,0,0,0,0,0,0,0,0]
[null,50,null,null,null,null,null,null,null,null,0,0,0,0,0,0,0,0,0,0,0,0,0]
[null,51,null,null,null,null,null,null,null,null,{"$f":"IF($D56=K$5,$F56,0)","v":0},0,0,0,0,0,0,0,0,0,0,0,0]
[null,52,null,null,null,null,null,null,null,null,0,0,0,0,0,0,0,0,0,0,0,0,0]
[null,53,null,null,null,null,null,null,null,null,0,0,0,0,0,0,0,0,0,0,0,0,0]
[null,54,null,null,null,null,null,null,null,null,0,0,0,0,0,0,0,0,0,0,0,0,0]
[null,55,null,null,null,null,null,null,null,null,0,0,0,0,0,0,0,0,0,0,0,0,0]
[null,56,null,null,null,null,null,null,null,null,0,0,0,0,0,0,0,0,0,0,0,0,0]
[null,57,null,null,null,null,null,null,null,null,0,0,0,0,0,0,0,0,0,0,0,0,0]
[null,58,null,null,null,null,null,null,null,null,0,0,0,0,0,0,0,0,0,0,0,0,0]
[null,59,null,null,null,null,null,null,null,null,0,0,0,0,0,0,0,0,0,0,0,0,0]
[null,60,null,null,null,null,null,null,null,null,0,0,0,0,0,0,0,0,0,0,0,0,0]
[null,61,null,null,null,null,null,null,null,null,{"$f":"IF($D66=K$5,$F66,0)","v":0},0,0,0,0,0,0,0,0,0,0,0,0]
[null,62,null,null,null,null,null,null,null,null,0,0,0,0,0,0,0,0,0,0,0,0,0]
[null,63,null,null,null,null,null,null,null,null,0,0,0,0,0,0,0,0,0,0,0,0,0]
[null,64,null,null,null,null,null,null,null,null,0,0,0,0,0,0,0,0,0,0,0,0,0]
[null,65,null,null,null,null,null,null,null,null,0,0,0,0,0,0,0,0,0,0,0,0,0]
[null,66,null,null,null,null,null,null,null,null,0,0,0,0,0,0,0,0,0,0,0,0,0]
[null,67,null,null,null,null,null,null,null,null,0,0,0,0,0,0,0,0,0,0,0,0,0]
[null,68,null,null,null,null,null,null,null,null,0,0,0,0,0,0,0,0,0,0,0,0,0]
[null,69,null,null,null,null,null,null,null,null,0,0,0,0,0,0,0,0,0,0,0,0,0]
[null,70,null,null,null,null,null,null,null,null,0,0,0,0,0,0,0,0,0,0,0,0,0]
[null,71,null,null,null,null,null,null,null,null,{"$f":"IF($D76=K$5,$F76,0)","v":0},0,0,0,0,0,0,0,0,0,0,0,0]
[null,72,null,null,null,null,null,null,null,null,0,0,0,0,0,0,0,0,0,0,0,0,0]
[null,73,null,null,null,null,null,null,null,null,0,0,0,0,0,0,0,0,0,0,0,0,0]
[null,74,null,null,null,null,null,null,null,null,0,0,0,0,0,0,0,0,0,0,0,0,0]
[null,75,null,null,null,null,null,null,null,null,0,0,0,0,0,0,0,0,0,0,0,0,0]
[null,76,null,null,null,null,null,null,null,null,0,0,0,0,0,0,0,0,0,0,0,0,0]
[null,77,null,null,null,null,null,null,null,null,0,0,0,0,0,0,0,0,0,0,0,0,0]
[null,78,null,null,null,null,null,null,null,null,0,0,0,0,0,0,0,0,0,0,0,0,0]
[null,79,null,null,null,null,null,null,null,null,0,0,0,0,0,0,0,0,0,0,0,0,0]
[null,80,null,null,null,null,null,null,null,null,0,0,0,0,0,0,0,0,0,0,0,0,0]
[null,81,null,null,null,null,null,null,null,null,{"$f":"IF($D86=K$5,$F86,0)","v":0},0,0,0,0,0,0,0,0,0,0,0,0]
[null,82,null,null,null,null,null,null,null,null,0,0,0,0,0,0,0,0,0,0,0,0,0]
[null,83,null,null,null,null,null,null,null,null,0,0,0,0,0,0,0,0,0,0,0,0,0]
[null,84,null,null,null,null,null,null,null,null,0,0,0,0,0,0,0,0,0,0,0,0,0]
[null,85,null,null,null,null,null,null,null,null,0,0,0,0,0,0,0,0,0,0,0,0,0]
[null,86,null,null,null,null,null,null,null,null,0,0,0,0,0,0,0,0,0,0,0,0,0]
[null,87,null,null,null,null,null,null,null,null,0,0,0,0,0,0,0,0,0,0,0,0,0]
[null,88,null,null,null,null,null,null,null,null,0,0,0,0,0,0,0,0,0,0,0,0,0]
[null,89,null,null,null,null,null,null,null,null,0,0,0,0,0,0,0,0,0,0,0,0,0]
[null,90,null,null,null,null,null,null,null,null,0,0,0,0,0,0,0,0,0,0,0,0,0]
[null,91,null,null,null,null,null,null,null,null,{"$f":"IF($D96=K$5,$F96,0)","v":0},0,0,0,0,0,0,0,0,0,0,0,0]
[null,92,null,null,null,null,null,null,null,null,0,0,0,0,0,0,0,0,0,0,0,0,0]
[null,93,null,null,null,null,null,null,null,null,0,0,0,0,0,0,0,0,0,0,0,0,0]
[null,94,null,null,null,null,null,null,null,null,0,0,0,0,0,0,0,0,0,0,0,0,0]
[null,95,null,null,null,null,null,null,null,null,0,0,0,0,0,0,0,0,0,0,0,0,0]
[null,96,null,null,null,null,null,null,null,null,0,0,0,0,0,0,0,0,0,0,0,0,0]
[null,97,null,null,null,null,null,null,null,null,0,0,0,0,0,0,0,0,0,0,0,0,0]
[null,98,null,null,null,null,null,null,null,null,0,0,0,0,0,0,0,0,0,0,0,0,0]
[null,99,null,null,null,null,null,null,null,null,0,0,0,0,0,0,0,0,0,0,0,0,0]
[null,100,null,null,null,null,null,null,null,null,0,0,0,0,0,0,0,0,0,0,0,0,0]
[null,101,null,null,null,null,null,null,null,null,{"$f":"IF($D106=K$5,$F106,0)","v":0},0,0,0,0,0,0,0,0,0,0,0,0]
[null,102,null,null,null,null,null,null,null,null,0,0,0,0,0,0,0,0,0,0,0,0,0]
[null,103,null,null,null,null,null,null,null,null,0,0,0,0,0,0,0,0,0,0,0,0,0]
[null,104,null,null,null,null,null,null,null,null,0,0,0,0,0,0,0,0,0,0,0,0,0]
[null,105,null,null,null,null,null,null,null,null,0,0,0,0,0,0,0,0,0,0,0,0,0]
[null,106,null,null,null,null,null,null,null,null,0,0,0,0,0,0,0,0,0,0,0,0,0]
[null,107,null,null,null,null,null,null,null,null,0,0,0,0,0,0,0,0,0,0,0,0,0]
[null,108,null,null,null,null,null,null,null,null,0,0,0,0,0,0,0,0,0,0,0,0,0]
[null,109,null,null,null,null,null,null,null,null,0,0,0,0,0,0,0,0,0,0,0,0,0]
[null,110,null,null,null,null,null,null,null,null,0,0,0,0,0,0,0,0,0,0,0,0,0]
[null,111,null,null,null,null,null,null,null,null,{"$f":"IF($D116=K$5,$F116,0)","v":0},0,0,0,0,0,0,0,0,0,0,0,0]
[null,112,null,null,null,null,null,null,null,null,0,0,0,0,0,0,0,0,0,0,0,0,0]
[null,113,null,null,null,null,null,null,null,null,0,0,0,0,0,0,0,0,0,0,0,0,0]
[null,114,null,null,null,null,null,null,null,null,0,0,0,0,0,0,0,0,0,0,0,0,0]
[null,115,null,null,null,null,null,null,null,null,0,0,0,0,0,0,0,0,0,0,0,0,0]
[null,116,null,null,null,null,null,null,null,null,0,0,0,0,0,0,0,0,0,0,0,0,0]
[null,117,null,null,null,null,null,null,null,null,0,0,0,0,0,0,0,0,0,0,0,0,0]
[null,118,null,null,null,null,null,null,null,null,0,0,0,0,0,0,0,0,0,0,0,0,0]
[null,119,null,null,null,null,null,null,null,null,0,0,0,0,0,0,0,0,0,0,0,0,0]
[null,120,null,null,null,null,null,null,null,null,0,0,0,0,0,0,0,0,0,0,0,0,0]
[null,121,null,null,null,null,null,null,null,null,{"$f":"IF($D126=K$5,$F126,0)","v":0},0,0,0,0,0,0,0,0,0,0,0,0]
[null,122,null,null,null,null,null,null,null,null,0,0,0,0,0,0,0,0,0,0,0,0,0]
[null,123,null,null,null,null,null,null,null,null,0,0,0,0,0,0,0,0,0,0,0,0,0]
[null,124,null,null,null,null,null,null,null,null,0,0,0,0,0,0,0,0,0,0,0,0,0]
[null,125,null,null,null,null,null,null,null,null,0,0,0,0,0,0,0,0,0,0,0,0,0]
[null,126,null,null,null,null,null,null,null,null,0,0,0,0,0,0,0,0,0,0,0,0,0]
[null,127,null,null,null,null,null,null,null,null,0,0,0,0,0,0,0,0,0,0,0,0,0]
[null,128,null,null,null,null,null,null,null,null,0,0,0,0,0,0,0,0,0,0,0,0,0]
[null,129,null,null,null,null,null,null,null,null,0,0,0,0,0,0,0,0,0,0,0,0,0]
[null,130,null,null,null,null,null,null,null,null,0,0,0,0,0,0,0,0,0,0,0,0,0]
[null,131,null,null,null,null,null,null,null,null,{"$f":"IF($D136=K$5,$F136,0)","v":0},0,0,0,0,0,0,0,0,0,0,0,0]
[null,132,null,null,null,null,null,null,null,null,0,0,0,0,0,0,0,0,0,0,0,0,0]
[null,133,null,null,null,null,null,null,null,null,0,0,0,0,0,0,0,0,0,0,0,0,0]
[null,134,null,null,null,null,null,null,null,null,0,0,0,0,0,0,0,0,0,0,0,0,0]
[null,135,null,null,null,null,null,null,null,null,0,0,0,0,0,0,0,0,0,0,0,0,0]
[null,136,null,null,null,null,null,null,null,null,0,0,0,0,0,0,0,0,0,0,0,0,0]
[null,137,null,null,null,null,null,null,null,null,0,0,0,0,0,0,0,0,0,0,0,0,0]
[null,138,null,null,null,null,null,null,null,null,0,0,0,0,0,0,0,0,0,0,0,0,0]
[null,139,null,null,null,null,null,null,null,null,0,0,0,0,0,0,0,0,0,0,0,0,0]
[null,140,null,null,null,null,null,null,null,null,0,0,0,0,0,0,0,0,0,0,0,0,0]
[null,141,null,null,null,null,null,null,null,null,{"$f":"IF($D146=K$5,$F146,0)","v":0},0,0,0,0,0,0,0,0,0,0,0,0]
[null,142,null,null,null,null,null,null,null,null,0,0,0,0,0,0,0,0,0,0,0,0,0]
[null,143,null,null,null,null,null,null,null,null,0,0,0,0,0,0,0,0,0,0,0,0,0]
[null,144,null,null,null,null,null,null,null,null,0,0,0,0,0,0,0,0,0,0,0,0,0]
[null,145,null,null,null,null,null,null,null,null,0,0,0,0,0,0,0,0,0,0,0,0,0]
[null,146,null,null,null,null,null,null,null,null,0,0,0,0,0,0,0,0,0,0,0,0,0]
[null,147,null,null,null,null,null,null,null,null,0,0,0,0,0,0,0,0,0,0,0,0,0]
[null,148,null,null,null,null,null,null,null,null,0,0,0,0,0,0,0,0,0,0,0,0,0]
[null,149,null,null,null,null,null,null,null,null,0,0,0,0,0,0,0,0,0,0,0,0,0]
[null,150,null,null,null,null,null,null,null,null,0,0,0,0,0,0,0,0,0,0,0,0,0]
[null,151,null,null,null,null,null,null,null,null,{"$f":"IF($D156=K$5,$F156,0)","v":0},0,0,0,0,0,0,0,0,0,0,0,0]
[null,152,null,null,null,null,null,null,null,null,0,0,0,0,0,0,0,0,0,0,0,0,0]
[null,153,null,null,null,null,null,null,null,null,0,0,0,0,0,0,0,0,0,0,0,0,0]
[null,154,null,null,null,null,null,null,null,null,0,0,0,0,0,0,0,0,0,0,0,0,0]
[null,155,null,null,null,null,null,null,null,null,0,0,0,0,0,0,0,0,0,0,0,0,0]
[null,156,null,null,null,null,null,null,null,null,0,0,0,0,0,0,0,0,0,0,0,0,0]
[null,157,null,null,null,null,null,null,null,null,0,0,0,0,0,0,0,0,0,0,0,0,0]
[null,158,null,null,null,null,null,null,null,null,0,0,0,0,0,0,0,0,0,0,0,0,0]
[null,159,null,null,null,null,null,null,null,null,0,0,0,0,0,0,0,0,0,0,0,0,0]
[null,160,null,null,null,null,null,null,null,null,0,0,0,0,0,0,0,0,0,0,0,0,0]
[null,161,null,null,null,null,null,null,null,null,{"$f":"IF($D166=K$5,$F166,0)","v":0},0,0,0,0,0,0,0,0,0,0,0,0]
[null,162,null,null,null,null,null,null,null,null,0,0,0,0,0,0,0,0,0,0,0,0,0]
[null,163,null,null,null,null,null,null,null,null,0,0,0,0,0,0,0,0,0,0,0,0,0]
[null,164,null,null,null,null,null,null,null,null,0,0,0,0,0,0,0,0,0,0,0,0,0]
[null,165,null,null,null,null,null,null,null,null,0,0,0,0,0,0,0,0,0,0,0,0,0]
[null,166,null,null,null,null,null,null,null,null,0,0,0,0,0,0,0,0,0,0,0,0,0]
[null,167,null,null,null,null,null,null,null,null,0,0,0,0,0,0,0,0,0,0,0,0,0]
[null,168,null,null,null,null,null,null,null,null,0,0,0,0,0,0,0,0,0,0,0,0,0]
[null,169,null,null,null,null,null,null,null,null,0,0,0,0,0,0,0,0,0,0,0,0,0]
[null,170,null,null,null,null,null,null,null,null,0,0,0,0,0,0,0,0,0,0,0,0,0]
[null,171,null,null,null,null,null,null,null,null,{"$f":"IF($D176=K$5,$F176,0)","v":0},0,0,0,0,0,0,0,0,0,0,0,0]
[null,172,null,null,null,null,null,null,null,null,0,0,0,0,0,0,0,0,0,0,0,0,0]
[null,173,null,null,null,null,null,null,null,null,0,0,0,0,0,0,0,0,0,0,0,0,0]
[null,174,null,null,null,null,null,null,null,null,0,0,0,0,0,0,0,0,0,0,0,0,0]
[null,175,null,null,null,null,null,null,null,null,0,0,0,0,0,0,0,0,0,0,0,0,0]
[null,176,null,null,null,null,null,null,null,null,0,0,0,0,0,0,0,0,0,0,0,0,0]
[null,177,null,null,null,null,null,null,null,null,0,0,0,0,0,0,0,0,0,0,0,0,0]
[null,178,null,null,null,null,null,null,null,null,0,0,0,0,0,0,0,0,0,0,0,0,0]
[null,179,null,null,null,null,null,null,null,null,0,0,0,0,0,0,0,0,0,0,0,0,0]
[null,180,null,null,null,null,null,null,null,null,0,0,0,0,0,0,0,0,0,0,0,0,0]
[null,181,null,null,null,null,null,null,null,null,{"$f":"IF($D186=K$5,$F186,0)","v":0},0,0,0,0,0,0,0,0,0,0,0,0]
[null,182,null,null,null,null,null,null,null,null,0,0,0,0,0,0,0,0,0,0,0,0,0]
[null,183,null,null,null,null,null,null,null,null,0,0,0,0,0,0,0,0,0,0,0,0,0]
[null,184,null,null,null,null,null,null,null,null,0,0,0,0,0,0,0,0,0,0,0,0,0]
[null,185,null,null,null,null,null,null,null,null,0,0,0,0,0,0,0,0,0,0,0,0,0]
[null,186,null,null,null,null,null,null,null,null,0,0,0,0,0,0,0,0,0,0,0,0,0]
[null,187,null,null,null,null,null,null,null,null,0,0,0,0,0,0,0,0,0,0,0,0,0]
[null,188,null,null,null,null,null,null,null,null,0,0,0,0,0,0,0,0,0,0,0,0,0]
[null,189,null,null,null,null,null,null,null,null,0,0,0,0,0,0,0,0,0,0,0,0,0]
[null,190,null,null,null,null,null,null,null,null,0,0,0,0,0,0,0,0,0,0,0,0,0]
[null,191,null,null,null,null,null,null,null,null,{"$f":"IF($D196=K$5,$F196,0)","v":0},0,0,0,0,0,0,0,0,0,0,0,0]
[null,192,null,null,null,null,null,null,null,null,0,0,0,0,0,0,0,0,0,0,0,0,0]
[null,193,null,null,null,null,null,null,null,null,0,0,0,0,0,0,0,0,0,0,0,0,0]
[null,194,null,null,null,null,null,null,null,null,0,0,0,0,0,0,0,0,0,0,0,0,0]
[null,195,null,null,null,null,null,null,null,null,0,0,0,0,0,0,0,0,0,0,0,0,0]
[null,196,null,null,null,null,null,null,null,null,0,0,0,0,0,0,0,0,0,0,0,0,0]
[null,197,null,null,null,null,null,null,null,null,0,0,0,0,0,0,0,0,0,0,0,0,0]
[null,198,null,null,null,null,null,null,null,null,0,0,0,0,0,0,0,0,0,0,0,0,0]
[null,199,null,null,null,null,null,null,null,null,0,0,0,0,0,0,0,0,0,0,0,0,0]
[null,200,null,null,null,null,null,null,null,null,0,0,0,0,0,0,0,0,0,0,0,0,0]
[null,201,null,null,null,null,null,null,null,null,{"$f":"IF($D206=K$5,$F206,0)","v":0},0,0,0,0,0,0,0,0,0,0,0,0]
[null,202,null,null,null,null,null,null,null,null,0,0,0,0,0,0,0,0,0,0,0,0,0]
[null,203,null,null,null,null,null,null,null,null,0,0,0,0,0,0,0,0,0,0,0,0,0]
[null,204,null,null,null,null,null,null,null,null,0,0,0,0,0,0,0,0,0,0,0,0,0]
[null,205,null,null,null,null,null,null,null,null,0,0,0,0,0,0,0,0,0,0,0,0,0]
[null,206,null,null,null,null,null,null,null,null,0,0,0,0,0,0,0,0,0,0,0,0,0]
[null,207,null,null,null,null,null,null,null,null,0,0,0,0,0,0,0,0,0,0,0,0,0]
[null,208,null,null,null,null,null,null,null,null,0,0,0,0,0,0,0,0,0,0,0,0,0]
[null,209,null,null,null,null,null,null,null,null,0,0,0,0,0,0,0,0,0,0,0,0,0]
[null,210,null,null,null,null,null,null,null,null,0,0,0,0,0,0,0,0,0,0,0,0,0]
[null,211,null,null,null,null,null,null,null,null,{"$f":"IF($D216=K$5,$F216,0)","v":0},0,0,0,0,0,0,0,0,0,0,0,0]
[null,212,null,null,null,null,null,null,null,null,0,0,0,0,0,0,0,0,0,0,0,0,0]
[null,213,null,null,null,null,null,null,null,null,0,0,0,0,0,0,0,0,0,0,0,0,0]
[null,214,null,null,null,null,null,null,null,null,0,0,0,0,0,0,0,0,0,0,0,0,0]
[null,215,null,null,null,null,null,null,null,null,0,0,0,0,0,0,0,0,0,0,0,0,0]
[null,216,null,null,null,null,null,null,null,null,0,0,0,0,0,0,0,0,0,0,0,0,0]
[null,217,null,null,null,null,null,null,null,null,0,0,0,0,0,0,0,0,0,0,0,0,0]
[null,218,null,null,null,null,null,null,null,null,0,0,0,0,0,0,0,0,0,0,0,0,0]
[null,219,null,null,null,null,null,null,null,null,0,0,0,0,0,0,0,0,0,0,0,0,0]
[null,220,null,null,null,null,null,null,null,null,0,0,0,0,0,0,0,0,0,0,0,0,0]
[null,221,null,null,null,null,null,null,null,null,{"$f":"IF($D226=K$5,$F226,0)","v":0},0,0,0,0,0,0,0,0,0,0,0,0]
[null,222,null,null,null,null,null,null,null,null,0,0,0,0,0,0,0,0,0,0,0,0,0]
[null,223,null,null,null,null,null,null,null,null,0,0,0,0,0,0,0,0,0,0,0,0,0]
[null,224,null,null,null,null,null,null,null,null,0,0,0,0,0,0,0,0,0,0,0,0,0]
[null,225,null,null,null,null,null,null,null,null,0,0,0,0,0,0,0,0,0,0,0,0,0]
[null,226,null,null,null,null,null,null,null,null,0,0,0,0,0,0,0,0,0,0,0,0,0]
[null,227,null,null,null,null,null,null,null,null,0,0,0,0,0,0,0,0,0,0,0,0,0]
[null,228,null,null,null,null,null,null,null,null,0,0,0,0,0,0,0,0,0,0,0,0,0]
[null,229,null,null,null,null,null,null,null,null,0,0,0,0,0,0,0,0,0,0,0,0,0]
[null,230,null,null,null,null,null,null,null,null,0,0,0,0,0,0,0,0,0,0,0,0,0]
[null,231,null,null,null,null,null,null,null,null,{"$f":"IF($D236=K$5,$F236,0)","v":0},0,0,0,0,0,0,0,0,0,0,0,0]
[null,232,null,null,null,null,null,null,null,null,0,0,0,0,0,0,0,0,0,0,0,0,0]
[null,233,null,null,null,null,null,null,null,null,0,0,0,0,0,0,0,0,0,0,0,0,0]
[null,234,null,null,null,null,null,null,null,null,0,0,0,0,0,0,0,0,0,0,0,0,0]
[null,235,null,null,null,null,null,null,null,null,0,0,0,0,0,0,0,0,0,0,0,0,0]
[null,236,null,null,null,null,null,null,null,null,0,0,0,0,0,0,0,0,0,0,0,0,0]
[null,237,null,null,null,null,null,null,null,null,0,0,0,0,0,0,0,0,0,0,0,0,0]
[null,238,null,null,null,null,null,null,null,null,0,0,0,0,0,0,0,0,0,0,0,0,0]
[null,239,null,null,null,null,null,null,null,null,0,0,0,0,0,0,0,0,0,0,0,0,0]
[null,240,null,null,null,null,null,null,null,null,0,0,0,0,0,0,0,0,0,0,0,0,0]
[null,241,null,null,null,null,null,null,null,null,{"$f":"IF($D246=K$5,$F246,0)","v":0},0,0,0,0,0,0,0,0,0,0,0,0]
[null,242,null,null,null,null,null,null,null,null,0,0,0,0,0,0,0,0,0,0,0,0,0]
[null,243,null,null,null,null,null,null,null,null,0,0,0,0,0,0,0,0,0,0,0,0,0]
[null,244,null,null,null,null,null,null,null,null,0,0,0,0,0,0,0,0,0,0,0,0,0]
[null,245,null,null,null,null,null,null,null,null,0,0,0,0,0,0,0,0,0,0,0,0,0]
[null,246,null,null,null,null,null,null,null,null,0,0,0,0,0,0,0,0,0,0,0,0,0]
[null,247,null,null,null,null,null,null,null,null,0,0,0,0,0,0,0,0,0,0,0,0,0]
[null,248,null,null,null,null,null,null,null,null,0,0,0,0,0,0,0,0,0,0,0,0,0]
[null,249,null,null,null,null,null,null,null,null,0,0,0,0,0,0,0,0,0,0,0,0,0]
[null,250,null,null,null,null,null,null,null,null,0,0,0,0,0,0,0,0,0,0,0,0,0]
[null,251,null,null,null,null,null,null,null,null,{"$f":"IF($D256=K$5,$F256,0)","v":0},0,0,0,0,0,0,0,0,0,0,0,0]
[null,252,null,null,null,null,null,null,null,null,0,0,0,0,0,0,0,0,0,0,0,0,0]
[null,253,null,null,null,null,null,null,null,null,0,0,0,0,0,0,0,0,0,0,0,0,0]
[null,254,null,null,null,null,null,null,null,null,0,0,0,0,0,0,0,0,0,0,0,0,0]
[null,255,null,null,null,null,null,null,null,null,0,0,0,0,0,0,0,0,0,0,0,0,0]
[null,256,null,null,null,null,null,null,null,null,0,0,0,0,0,0,0,0,0,0,0,0,0]
[null,257,null,null,null,null,null,null,null,null,0,0,0,0,0,0,0,0,0,0,0,0,0]
[null,258,null,null,null,null,null,null,null,null,0,0,0,0,0,0,0,0,0,0,0,0,0]
[null,259,null,null,null,null,null,null,null,null,0,0,0,0,0,0,0,0,0,0,0,0,0]
[null,260,null,null,null,null,null,null,null,null,0,0,0,0,0,0,0,0,0,0,0,0,0]
[null,261,null,null,null,null,null,null,null,null,{"$f":"IF($D266=K$5,$F266,0)","v":0},0,0,0,0,0,0,0,0,0,0,0,0]
[null,262,null,null,null,null,null,null,null,null,0,0,0,0,0,0,0,0,0,0,0,0,0]
[null,263,null,null,null,null,null,null,null,null,0,0,0,0,0,0,0,0,0,0,0,0,0]
[null,264,null,null,null,null,null,null,null,null,0,0,0,0,0,0,0,0,0,0,0,0,0]
[null,265,null,null,null,null,null,null,null,null,0,0,0,0,0,0,0,0,0,0,0,0,0]
[null,266,null,null,null,null,null,null,null,null,0,0,0,0,0,0,0,0,0,0,0,0,0]
[null,267,null,null,null,null,null,null,null,null,0,0,0,0,0,0,0,0,0,0,0,0,0]
[null,268,null,null,null,null,null,null,null,null,0,0,0,0,0,0,0,0,0,0,0,0,0]
[null,269,null,null,null,null,null,null,null,null,0,0,0,0,0,0,0,0,0,0,0,0,0]
[null,270,null,null,null,null,null,null,null,null,0,0,0,0,0,0,0,0,0,0,0,0,0]
[null,271,null,null,null,null,null,null,null,null,{"$f":"IF($D276=K$5,$F276,0)","v":0},0,0,0,0,0,0,0,0,0,0,0,0]
[null,272,null,null,null,null,null,null,null,null,0,0,0,0,0,0,0,0,0,0,0,0,0]
[null,273,null,null,null,null,null,null,null,null,0,0,0,0,0,0,0,0,0,0,0,0,0]
[null,274,null,null,null,null,null,null,null,null,0,0,0,0,0,0,0,0,0,0,0,0,0]
[null,275,null,null,null,null,null,null,null,null,0,0,0,0,0,0,0,0,0,0,0,0,0]
[null,276,null,null,null,null,null,null,null,null,0,0,0,0,0,0,0,0,0,0,0,0,0]
[null,277,null,null,null,null,null,null,null,null,0,0,0,0,0,0,0,0,0,0,0,0,0]
[null,278,null,null,null,null,null,null,null,null,0,0,0,0,0,0,0,0,0,0,0,0,0]
[null,279,null,null,null,null,null,null,null,null,0,0,0,0,0,0,0,0,0,0,0,0,0]
[null,280,null,null,null,null,null,null,null,null,0,0,0,0,0,0,0,0,0,0,0,0,0]
[null,281,null,null,null,null,null,null,null,null,{"$f":"IF($D286=K$5,$F286,0)","v":0},0,0,0,0,0,0,0,0,0,0,0,0]
[null,282,null,null,null,null,null,null,null,null,0,0,0,0,0,0,0,0,0,0,0,0,0]
[null,283,null,null,null,null,null,null,null,null,0,0,0,0,0,0,0,0,0,0,0,0,0]
[null,284,null,null,null,null,null,null,null,null,0,0,0,0,0,0,0,0,0,0,0,0,0]
[null,285,null,null,null,null,null,null,null,null,0,0,0,0,0,0,0,0,0,0,0,0,0]
[null,286,null,null,null,null,null,null,null,null,0,0,0,0,0,0,0,0,0,0,0,0,0]
[null,287,null,null,null,null,null,null,null,null,0,0,0,0,0,0,0,0,0,0,0,0,0]
[null,288,null,null,null,null,null,null,null,null,0,0,0,0,0,0,0,0,0,0,0,0,0]
[null,289,null,null,null,null,null,null,null,null,0,0,0,0,0,0,0,0,0,0,0,0,0]
[null,290,null,null,null,null,null,null,null,null,0,0,0,0,0,0,0,0,0,0,0,0,0]
[null,291,null,null,null,null,null,null,null,null,{"$f":"IF($D296=K$5,$F296,0)","v":0},0,0,0,0,0,0,0,0,0,0,0,0]
[null,292,null,null,null,null,null,null,null,null,0,0,0,0,0,0,0,0,0,0,0,0,0]
[null,293,null,null,null,null,null,null,null,null,0,0,0,0,0,0,0,0,0,0,0,0,0]
[null,294,null,null,null,null,null,null,null,null,0,0,0,0,0,0,0,0,0,0,0,0,0]
[null,295,null,null,null,null,null,null,null,null,0,0,0,0,0,0,0,0,0,0,0,0,0]
[null,296,null,null,null,null,null,null,null,null,0,0,0,0,0,0,0,0,0,0,0,0,0]
[null,297,null,null,null,null,null,null,null,null,0,0,0,0,0,0,0,0,0,0,0,0,0]
[null,298,null,null,null,null,null,null,null,null,0,0,0,0,0,0,0,0,0,0,0,0,0]
[null,299,null,null,null,null,null,null,null,null,0,0,0,0,0,0,0,0,0,0,0,0,0]
[null,300,null,null,null,null,null,null,null,null,0,0,0,0,0,0,0,0,0,0,0,0,0]
[null,null,null,null,null,null,null,null,null,null,{"$f":"SUM(K6:K305)","v":0},{"$f":"SUM(L6:L305)","v":0},0,0,0,0,0,0,0,0,0,0,0]

{"sheet":"9","index":9,"n_rows":306,"n_cols":23,"rows_kept":306,"cut":false,"hidden":false,"merged":[]}
[]
[null,null,{"$f":"menu!B16","v":"COCHE"}]
[]
[null,null,null,null,null,null,null,null,null,"Enero"]
[null,null,"DIA","MES","CONCEPTO","TOTAL",null,null,null,"Febrero","Enero","Febrero","Marzo","Abril","Mayo","Junio","Julio","Agosto","Septiembre","Octubre","Noviembre","Diciembre"]
[null,1,null,null,null,null,null,null,null,"Marzo",{"$f":"IF($D6=K$5,$F6,0)","v":0},0,0,0,0,0,0,0,0,0,0,0,0]
[null,2,null,null,null,null,null,null,null,"Abril",0,0,0,0,0,0,0,0,0,0,0,0,0]
[null,3,null,null,null,null,null,null,null,"Mayo",0,0,0,0,0,0,0,0,0,0,0,0,0]
[null,4,null,null,null,null,null,null,null,"Junio",0,0,0,0,0,0,0,0,0,0,0,0,0]
[null,5,null,null,null,null,null,null,null,"Julio",0,0,0,0,0,0,0,0,0,0,0,0,0]
[null,6,null,null,null,null,null,null,null,"Agosto",0,0,0,0,0,0,0,0,0,0,0,0,0]
[null,7,null,null,null,null,null,null,null,"Septiembre",0,0,0,0,0,0,0,0,0,0,0,0,0]
[null,8,null,null,null,null,null,null,null,"Octubre",0,0,0,0,0,0,0,0,0,0,0,0,0]
[null,9,null,null,null,null,null,null,null,"Noviembre",0,0,0,0,0,0,0,0,0,0,0,0,0]
[null,10,null,null,null,null,null,null,null,"Diciembre",0,0,0,0,0,0,0,0,0,0,0,0,0]
[null,11,null,null,null,null,null,null,null,null,{"$f":"IF($D16=K$5,$F16,0)","v":0},0,0,0,0,0,0,0,0,0,0,0,0]
[null,12,null,null,null,null,null,null,null,null,0,0,0,0,0,0,0,0,0,0,0,0,0]
[null,13,null,null,null,null,null,null,null,null,0,0,0,0,0,0,0,0,0,0,0,0,0]
[null,14,null,null,null,null,null,null,null,null,0,0,0,0,0,0,0,0,0,0,0,0,0]
[null,15,null,null,null,null,null,null,null,null,0,0,0,0,0,0,0,0,0,0,0,0,0]
[null,16,null,null,null,null,null,null,null,null,0,0,0,0,0,0,0,0,0,0,0,0,0]
[null,17,null,null,null,null,null,null,null,null,0,0,0,0,0,0,0,0,0,0,0,0,0]
[null,18,null,null,null,null,null,null,null,null,0,0,0,0,0,0,0,0,0,0,0,0,0]
[null,19,null,null,null,null,null,null,null,null,0,0,0,0,0,0,0,0,0,0,0,0,0]
[null,20,null,null,null,null,null,null,null,null,0,0,0,0,0,0,0,0,0,0,0,0,0]
[null,21,null,null,null,null,null,null,null,null,{"$f":"IF($D26=K$5,$F26,0)","v":0},0,0,0,0,0,0,0,0,0,0,0,0]
[null,22,null,null,null,null,null,null,null,null,0,0,0,0,0,0,0,0,0,0,0,0,0]
[null,23,null,null,null,null,null,null,null,null,0,0,0,0,0,0,0,0,0,0,0,0,0]
[null,24,null,null,null,null,null,null,null,null,0,0,0,0,0,0,0,0,0,0,0,0,0]
[null,25,null,null,null,null,null,null,null,null,0,0,0,0,0,0,0,0,0,0,0,0,0]
[null,26,null,null,null,null,null,null,null,null,0,0,0,0,0,0,0,0,0,0,0,0,0]
[null,27,null,null,null,null,null,null,null,null,0,0,0,0,0,0,0,0,0,0,0,0,0]
[null,28,null,null,null,null,null,null,null,null,0,0,0,0,0,0,0,0,0,0,0,0,0]
[null,29,null,null,null,null,null,null,null,null,0,0,0,0,0,0,0,0,0,0,0,0,0]
[null,30,null,null,null,null,null,null,null,null,0,0,0,0,0,0,0,0,0,0,0,0,0]
[null,31,null,null,null,null,null,null,null,null,{"$f":"IF($D36=K$5,$F36,0)","v":0},0,0,0,0,0,0,0,0,0,0,0,0]
[null,32,null,null,null,null,null,null,null,null,0,0,0,0,0,0,0,0,0,0,0,0,0]
[null,33,null,null,null,null,null,null,null,null,0,0,0,0,0,0,0,0,0,0,0,0,0]
[null,34,null,null,null,null,null,null,null,null,0,0,0,0,0,0,0,0,0,0,0,0,0]
[null,35,null,null,null,null,null,null,null,null,0,0,0,0,0,0,0,0,0,0,0,0,0]
[null,36,null,null,null,null,null,null,null,null,0,0,0,0,0,0,0,0,0,0,0,0,0]
[null,37,null,null,null,null,null,null,null,null,0,0,0,0,0,0,0,0,0,0,0,0,0]
[null,38,null,null,null,null,null,null,null,null,0,0,0,0,0,0,0,0,0,0,0,0,0]
[null,39,null,null,null,null,null,null,null,null,0,0,0,0,0,0,0,0,0,0,0,0,0]
[null,40,null,null,null,null,null,null,null,null,0,0,0,0,0,0,0,0,0,0,0,0,0]
[null,41,null,null,null,null,null,null,null,null,{"$f":"IF($D46=K$5,$F46,0)","v":0},0,0,0,0,0,0,0,0,0,0,0,0]
[null,42,null,null,null,null,null,null,null,null,0,0,0,0,0,0,0,0,0,0,0,0,0]
[null,43,null,null,null,null,null,null,null,null,0,0,0,0,0,0,0,0,0,0,0,0,0]
[null,44,null,null,null,null,null,null,null,null,0,0,0,0,0,0,0,0,0,0,0,0,0]
[null,45,null,null,null,null,null,null,null,null,0,0,0,0,0,0,0,0,0,0,0,0,0]
[null,46,null,null,null,null,null,null,null,null,0,0,0,0,0,0,0,0,0,0,0,0,0]
[null,47,null,null,null,null,null,null,null,null,0,0,0,0,0,0,0,0,0,0,0,0,0]
[null,48,null,null,null,null,null,null,null,null,0,0,0,0,0,0,0,0,0,0,0,0,0]
[null,49,null,null,null,null,null,null,null,null,0,0,0,0,0,0,0,0,0,0,0,0,0]
[null,50,null,null,null,null,null,null,null,null,0,0,0,0,0,0,0,0,0,0,0,0,0]
[null,51,null,null,null,null,null,null,null,null,{"$f":"IF($D56=K$5,$F56,0)","v":0},0,0,0,0,0,0,0,0,0,0,0,0]
[null,52,null,null,null,null,null,null,null,null,0,0,0,0,0,0,0,0,0,0,0,0,0]
[null,53,null,null,null,null,null,null,null,null,0,0,0,0,0,0,0,0,0,0,0,0,0]
[null,54,null,null,null,null,null,null,null,null,0,0,0,0,0,0,0,0,0,0,0,0,0]
[null,55,null,null,null,null,null,null,null,null,0,0,0,0,0,0,0,0,0,0,0,0,0]
[null,56,null,null,null,null,null,null,null,null,0,0,0,0,0,0,0,0,0,0,0,0,0]
[null,57,null,null,null,null,null,null,null,null,0,0,0,0,0,0,0,0,0,0,0,0,0]
[null,58,null,null,null,null,null,null,null,null,0,0,0,0,0,0,0,0,0,0,0,0,0]
[null,59,null,null,null,null,null,null,null,null,0,0,0,0,0,0,0,0,0,0,0,0,0]
[null,60,null,null,null,null,null,null,null,null,0,0,0,0,0,0,0,0,0,0,0,0,0]
[null,61,null,null,null,null,null,null,null,null,{"$f":"IF($D66=K$5,$F66,0)","v":0},0,0,0,0,0,0,0,0,0,0,0,0]
[null,62,null,null,null,null,null,null,null,null,0,0,0,0,0,0,0,0,0,0,0,0,0]
[null,63,null,null,null,null,null,null,null,null,0,0,0,0,0,0,0,0,0,0,0,0,0]
[null,64,null,null,null,null,null,null,null,null,0,0,0,0,0,0,0,0,0,0,0,0,0]
[null,65,null,null,null,null,null,null,null,null,0,0,0,0,0,0,0,0,0,0,0,0,0]
[null,66,null,null,null,null,null,null,null,null,0,0,0,0,0,0,0,0,0,0,0,0,0]
[null,67,null,null,null,null,null,null,null,null,0,0,0,0,0,0,0,0,0,0,0,0,0]
[null,68,null,null,null,null,null,null,null,null,0,0,0,0,0,0,0,0,0,0,0,0,0]
[null,69,null,null,null,null,null,null,null,null,0,0,0,0,0,0,0,0,0,0,0,0,0]
[null,70,null,null,null,null,null,null,null,null,0,0,0,0,0,0,0,0,0,0,0,0,0]
[null,71,null,null,null,null,null,null,null,null,{"$f":"IF($D76=K$5,$F76,0)","v":0},0,0,0,0,0,0,0,0,0,0,0,0]
[null,72,null,null,null,null,null,null,null,null,0,0,0,0,0,0,0,0,0,0,0,0,0]
[null,73,null,null,null,null,null,null,null,null,0,0,0,0,0,0,0,0,0,0,0,0,0]
[null,74,null,null,null,null,null,null,null,null,0,0,0,0,0,0,0,0,0,0,0,0,0]
[null,75,null,null,null,null,null,null,null,null,0,0,0,0,0,0,0,0,0,0,0,0,0]
[null,76,null,null,null,null,null,null,null,null,0,0,0,0,0,0,0,0,0,0,0,0,0]
[null,77,null,null,null,null,null,null,null,null,0,0,0,0,0,0,0,0,0,0,0,0,0]
[null,78,null,null,null,null,null,null,null,null,0,0,0,0,0,0,0,0,0,0,0,0,0]
[null,79,null,null,null,null,null,null,null,null,0,0,0,0,0,0,0,0,0,0,0,0,0]
[null,80,null,null,null,null,null,null,null,null,0,0,0,0,0,0,0,0,0,0,0,0,0]
[null,81,null,null,null,null,null,null,null,null,{"$f":"IF($D86=K$5,$F86,0)","v":0},0,0,0,0,0,0,0,0,0,0,0,0]
[null,82,null,null,null,null,null,null,null,null,0,0,0,0,0,0,0,0,0,0,0,0,0]
[null,83,null,null,null,null,null,null,null,null,0,0,0,0,0,0,0,0,0,0,0,0,0]
[null,84,null,null,null,null,null,null,null,null,0,0,0,0,0,0,0,0,0,0,0,0,0]
[null,85,null,null,null,null,null,null,null,null,0,0,0,0,0,0,0,0,0,0,0,0,0]
[null,86,null,null,null,null,null,null,null,null,0,0,0,0,0,0,0,0,0,0,0,0,0]
[null,87,null,null,null,null,null,null,null,null,0,0,0,0,0,0,0,0,0,0,0,0,0]
[null,88,null,null,null,null,null,null,null,null,0,0,0,0,0,0,0,0,0,0,0,0,0]
[null,89,null,null,null,null,null,null,null,null,0,0,0,0,0,0,0,0,0,0,0,0,0]
[null,90,null,null,null,null,null,null,null,null,0,0,0,0,0,0,0,0,0,0,0,0,0]
[null,91,null,null,null,null,null,null,null,null,{"$f":"IF($D96=K$5,$F96,0)","v":0},0,0,0,0,0,0,0,0,0,0,0,0]
[null,92,null,null,null,null,null,null,null,null,0,0,0,0,0,0,0,0,0,0,0,0,0]
[null,93,null,null,null,null,null,null,null,null,0,0,0,0,0,0,0,0,0,0,0,0,0]
[null,94,null,null,null,null,null,null,null,null,0,0,0,0,0,0,0,0,0,0,0,0,0]
[null,95,null,null,null,null,null,null,null,null,0,0,0,0,0,0,0,0,0,0,0,0,0]
[null,96,null,null,null,null,null,null,null,null,0,0,0,0,0,0,0,0,0,0,0,0,0]
[null,97,null,null,null,null,null,null,null,null,0,0,0,0,0,0,0,0,0,0,0,0,0]
[null,98,null,null,null,null,null,null,null,null,0,0,0,0,0,0,0,0,0,0,0,0,0]
[null,99,null,null,null,null,null,null,null,null,0,0,0,0,0,0,0,0,0,0,0,0,0]
[null,100,null,null,null,null,null,null,null,null,0,0,0,0,0,0,0,0,0,0,0,0,0]
[null,101,null,null,null,null,null,null,null,null,{"$f":"IF($D106=K$5,$F106,0)","v":0},0,0,0,0,0,0,0,0,0,0,0,0]
[null,102,null,null,null,null,null,null,null,null,0,0,0,0,0,0,0,0,0,0,0,0,0]
[null,103,null,null,null,null,null,null,null,null,0,0,0,0,0,0,0,0,0,0,0,0,0]
[null,104,null,null,null,null,null,null,null,null,0,0,0,0,0,0,0,0,0,0,0,0,0]
[null,105,null,null,null,null,null,null,null,null,0,0,0,0,0,0,0,0,0,0,0,0,0]
[null,106,null,null,null,null,null,null,null,null,0,0,0,0,0,0,0,0,0,0,0,0,0]
[null,107,null,null,null,null,null,null,null,null,0,0,0,0,0,0,0,0,0,0,0,0,0]
[null,108,null,null,null,null,null,null,null,null,0,0,0,0,0,0,0,0,0,0,0,0,0]
[null,109,null,null,null,null,null,null,null,null,0,0,0,0,0,0,0,0,0,0,0,0,0]
[null,110,null,null,null,null,null,null,null,null,0,0,0,0,0,0,0,0,0,0,0,0,0]
[null,111,null,null,null,null,null,null,null,null,{"$f":"IF($D116=K$5,$F116,0)","v":0},0,0,0,0,0,0,0,0,0,0,0,0]
[null,112,null,null,null,null,null,null,null,null,0,0,0,0,0,0,0,0,0,0,0,0,0]
[null,113,null,null,null,null,null,null,null,null,0,0,0,0,0,0,0,0,0,0,0,0,0]
[null,114,null,null,null,null,null,null,null,null,0,0,0,0,0,0,0,0,0,0,0,0,0]
[null,115,null,null,null,null,null,null,null,null,0,0,0,0,0,0,0,0,0,0,0,0,0]
[null,116,null,null,null,null,null,null,null,null,0,0,0,0,0,0,0,0,0,0,0,0,0]
[null,117,null,null,null,null,null,null,null,null,0,0,0,0,0,0,0,0,0,0,0,0,0]
[null,118,null,null,null,null,null,null,null,null,0,0,0,0,0,0,0,0,0,0,0,0,0]
[null,119,null,null,null,null,null,null,null,null,0,0,0,0,0,0,0,0,0,0,0,0,0]
[null,120,null,null,null,null,null,null,null,null,0,0,0,0,0,0,0,0,0,0,0,0,0]
[null,121,null,null,null,null,null,null,null,null,{"$f":"IF($D126=K$5,$F126,0)","v":0},0,0,0,0,0,0,0,0,0,0,0,0]
[null,122,null,null,null,null,null,null,null,null,0,0,0,0,0,0,0,0,0,0,0,0,0]
[null,123,null,null,null,null,null,null,null,null,0,0,0,0,0,0,0,0,0,0,0,0,0]
[null,124,null,null,null,null,null,null,null,null,0,0,0,0,0,0,0,0,0,0,0,0,0]
[null,125,null,null,null,null,null,null,null,null,0,0,0,0,0,0,0,0,0,0,0,0,0]
[null,126,null,null,null,null,null,null,null,null,0,0,0,0,0,0,0,0,0,0,0,0,0]
[null,127,null,null,null,null,null,null,null,null,0,0,0,0,0,0,0,0,0,0,0,0,0]
[null,128,null,null,null,null,null,null,null,null,0,0,0,0,0,0,0,0,0,0,0,0,0]
[null,129,null,null,null,null,null,null,null,null,0,0,0,0,0,0,0,0,0,0,0,0,0]
[null,130,null,null,null,null,null,null,null,null,0,0,0,0,0,0,0,0,0,0,0,0,0]
[null,131,null,null,null,null,null,null,null,null,{"$f":"IF($D136=K$5,$F136,0)","v":0},0,0,0,0,0,0,0,0,0,0,0,0]
[null,132,null,null,null,null,null,null,null,null,0,0,0,0,0,0,0,0,0,0,0,0,0]
[null,133,null,null,null,null,null,null,null,null,0,0,0,0,0,0,0,0,0,0,0,0,0]
[null,134,null,null,null,null,null,null,null,null,0,0,0,0,0,0,0,0,0,0,0,0,0]
[null,135,null,null,null,null,null,null,null,null,0,0,0,0,0,0,0,0,0,0,0,0,0]
[null,136,null,null,null,null,null,null,null,null,0,0,0,0,0,0,0,0,0,0,0,0,0]
[null,137,null,null,null,null,null,null,null,null,0,0,0,0,0,0,0,0,0,0,0,0,0]
[null,138,null,null,null,null,null,null,null,null,0,0,0,0,0,0,0,0,0,0,0,0,0]
[null,139,null,null,null,null,null,null,null,null,0,0,0,0,0,0,0,0,0,0,0,0,0]
[null,140,null,null,null,null,null,null,null,null,0,0,0,0,0,0,0,0,0,0,0,0,0]
[null,141,null,null,null,null,null,null,null,null,{"$f":"IF($D146=K$5,$F146,0)","v":0},0,0,0,0,0,0,0,0,0,0,0,0]
[null,142,null,null,null,null,null,null,null,null,0,0,0,0,0,0,0,0,0,0,0,0,0]
[null,143,null,null,null,null,null,null,null,null,0,0,0,0,0,0,0,0,0,0,0,0,0]
[null,144,null,null,null,null,null,null,null,null,0,0,0,0,0,0,0,0,0,0,0,0,0]
[null,145,null,null,null,null,null,null,null,null,0,0,0,0,0,0,0,0,0,0,0,0,0]
[null,146,null,null,null,null,null,null,null,null,0,0,0,0,0,0,0,0,0,0,0,0,0]
[null,147,null,null,null,null,null,null,null,null,0,0,0,0,0,0,0,0,0,0,0,0,0]
[null,148,null,null,null,null,null,null,null,null,0,0,0,0,0,0,0,0,0,0,0,0,0]
[null,149,null,null,null,null,null,null,null,null,0,0,0,0,0,0,0,0,0,0,0,0,0]
[null,150,null,null,null,null,null,null,null,null,0,0,0,0,0,0,0,0,0,0,0,0,0]
[null,151,null,null,null,null,null,null,null,null,{"$f":"IF($D156=K$5,$F156,0)","v":0},0,0,0,0,0,0,0,0,0,0,0,0]
[null,152,null,null,null,null,null,null,null,null,0,0,0,0,0,0,0,0,0,0,0,0,0]
[null,153,null,null,null,null,null,null,null,null,0,0,0,0,0,0,0,0,0,0,0,0,0]
[null,154,null,null,null,null,null,null,null,null,0,0,0,0,0,0,0,0,0,0,0,0,0]
[null,155,null,null,null,null,null,null,null,null,0,0,0,0,0,0,0,0,0,0,0,0,0]
[null,156,null,null,null,null,null,null,null,null,0,0,0,0,0,0,0,0,0,0,0,0,0]
[null,157,null,null,null,null,null,null,null,null,0,0,0,0,0,0,0,0,0,0,0,0,0]
[null,158,null,null,null,null,null,null,null,null,0,0,0,0,0,0,0,0,0,0,0,0,0]
[null,159,null,null,null,null,null,null,null,null,0,0,0,0,0,0,0,0,0,0,0,0,0]
[null,160,null,null,null,null,null,null,null,null,0,0,0,0,0,0,0,0,0,0,0,0,0]
[null,161,null,null,null,null,null,null,null,null,{"$f":"IF($D166=K$5,$F166,0)","v":0},0,0,0,0,0,0,0,0,0,0,0,0]
[null,162,null,null,null,null,null,null,null,null,0,0,0,0,0,0,0,0,0,0,0,0,0]
[null,163,null,null,null,null,null,null,null,null,0,0,0,0,0,0,0,0,0,0,0,0,0]
[null,164,null,null,null,null,null,null,null,null,0,0,0,0,0,0,0,0,0,0,0,0,0]
[null,165,null,null,null,null,null,null,null,null,0,0,0,0,0,0,0,0,0,0,0,0,0]
[null,166,null,null,null,null,null,null,null,null,0,0,0,0,0,0,0,0,0,0,0,0,0]
[null,167,null,null,null,null,null,null,null,null,0,0,0,0,0,0,0,0,0,0,0,0,0]
[null,168,null,null,null,null,null,null,null,null,0,0,0,0,0,0,0,0,0,0,0,0,0]
[null,169,null,null,null,null,null,null,null,null,0,0,0,0,0,0,0,0,0,0,0,0,0]
[null,170,null,null,null,null,null,null,null,null,0,0,0,0,0,0,0,0,0,0,0,0,0]
[null,171,null,null,null,null,null,null,null,null,{"$f":"IF($D176=K$5,$F176,0)","v":0},0,0,0,0,0,0,0,0,0,0,0,0]
[null,172,null,null,null,null,null,null,null,null,0,0,0,0,0,0,0,0,0,0,0,0,0]
[null,173,null,null,null,null,null,null,null,null,0,0,0,0,0,0,0,0,0,0,0,0,0]
[null,174,null,null,null,null,null,null,null,null,0,0,0,0,0,0,0,0,0,0,0,0,0]
[null,175,null,null,null,null,null,null,null,null,0,0,0,0,0,0,0,0,0,0,0,0,0]
[null,176,null,null,null,null,null,null,null,null,0,0,0,0,0,0,0,0,0,0,0,0,0]
[null,177,null,null,null,null,null,null,null,null,0,0,0,0,0,0,0,0,0,0,0,0,0]
[null,178,null,null,null,null,null,null,null,null,0,0,0,0,0,0,0,0,0,0,0,0,0]
[null,179,null,null,null,null,null,null,null,null,0,0,0,0,0,0,0,0,0,0,0,0,0]
[null,180,null,null,null,null,null,null,null,null,0,0,0,0,0,0,0,0,0,0,0,0,0]
[null,181,null,null,null,null,null,null,null,null,{"$f":"IF($D186=K$5,$F186,0)","v":0},0,0,0,0,0,0,0,0,0,0,0,0]
[null,182,null,null,null,null,null,null,null,null,0,0,0,0,0,0,0,0,0,0,0,0,0]
[null,183,null,null,null,null,null,null,null,null,0,0,0,0,0,0,0,0,0,0,0,0,0]
[null,184,null,null,null,null,null,null,null,null,0,0,0,0,0,0,0,0,0,0,0,0,0]
[null,185,null,null,null,null,null,null,null,null,0,0,0,0,0,0,0,0,0,0,0,0,0]
[null,186,null,null,null,null,null,null,null,null,0,0,0,0,0,0,0,0,0,0,0,0,0]
[null,187,null,null,null,null,null,null,null,null,0,0,0,0,0,0,0,0,0,0,0,0,0]
[null,188,null,null,null,null,null,null,null,null,0,0,0,0,0,0,0,0,0,0,0,0,0]
[null,189,null,null,null,null,null,null,null,null,0,0,0,0,0,0,0,0,0,0,0,0,0]
[null,190,null,null,null,null,null,null,null,null,0,0,0,0,0,0,0,0,0,0,0,0,0]
[null,191,null,null,null,null,null,null,null,null,{"$f":"IF($D196=K$5,$F196,0)","v":0},0,0,0,0,0,0,0,0,0,0,0,0]
[null,192,null,null,null,null,null,null,null,null,0,0,0,0,0,0,0,0,0,0,0,0,0]
[null,193,null,null,null,null,null,null,null,null,0,0,0,0,0,0,0,0,0,0,0,0,0]
[null,194,null,null,null,null,null,null,null,null,0,0,0,0,0,0,0,0,0,0,0,0,0]
[null,195,null,null,null,null,null,null,null,null,0,0,0,0,0,0,0,0,0,0,0,0,0]
[null,196,null,null,null,null,null,null,null,null,0,0,0,0,0,0,0,0,0,0,0,0,0]
[null,197,null,null,null,null,null,null,null,null,0,0,0,0,0,0,0,0,0,0,0,0,0]
[null,198,null,null,null,null,null,null,null,null,0,0,0,0,0,0,0,0,0,0,0,0,0]
[null,199,null,null,null,null,null,null,null,null,0,0,0,0,0,0,0,0,0,0,0,0,0]
[null,200,null,null,null,null,null,null,null,null,0,0,0,0,0,0,0,0,0,0,0,0,0]
[null,201,null,null,null,null,null,null,null,null,{"$f":"IF($D206=K$5,$F206,0)","v":0},0,0,0,0,0,0,0,0,0,0,0,0]
[null,202,null,null,null,null,null,null,null,null,0,0,0,0,0,0,0,0,0,0,0,0,0]
[null,203,null,null,null,null,null,null,null,null,0,0,0,0,0,0,0,0,0,0,0,0,0]
[null,204,null,null,null,null,null,null,null,null,0,0,0,0,0,0,0,0,0,0,0,0,0]
[null,205,null,null,null,null,null,null,null,null,0,0,0,0,0,0,0,0,0,0,0,0,0]
[null,206,null,null,null,null,null,null,null,null,0,0,0,0,0,0,0,0,0,0,0,0,0]
[null,207,null,null,null,null,null,null,null,null,0,0,0,0,0,0,0,0,0,0,0,0,0]
[null,208,null,null,null,null,null,null,null,null,0,0,0,0,0,0,0,0,0,0,0,0,0]
[null,209,null,null,null,null,null,null,null,null,0,0,0,0,0,0,0,0,0,0,0,0,0]
[null,210,null,null,null,null,null,null,null,null,0,0,0,0,0,0,0,0,0,0,0,0,0]
[null,211,null,null,null,null,null,null,null,null,{"$f":"IF($D216=K$5,$F216,0)","v":0},0,0,0,0,0,0,0,0,0,0,0,0]
[null,212,null,null,null,null,null,null,null,null,0,0,0,0,0,0,0,0,0,0,0,0,0]
[null,213,null,null,null,null,null,null,null,null,0,0,0,0,0,0,0,0,0,0,0,0,0]
[null,214,null,null,null,null,null,null,null,null,0,0,0,0,0,0,0,0,0,0,0,0,0]
[null,215,null,null,null,null,null,null,null,null,0,0,0,0,0,0,0,0,0,0,0,0,0]
[null,216,null,null,null,null,null,null,null,null,0,0,0,0,0,0,0,0,0,0,0,0,0]
[null,217,null,null,null,null,null,null,null,null,0,0,0,0,0,0,0,0,0,0,0,0,0]
[null,218,null,null,null,null,null,null,null,null,0,0,0,0,0,0,0,0,0,0,0,0,0]
[null,219,null,null,null,null,null,null,null,null,0,0,0,0,0,0,0,0,0,0,0,0,0]
[null,220,null,null,null,null,null,null,null,null,0,0,0,0,0,0,0,0,0,0,0,0,0]
[null,221,null,null,null,null,null,null,null,null,{"$f":"IF($D226=K$5,$F226,0)","v":0},0,0,0,0,0,0,0,0,0,0,0,0]
[null,222,null,null,null,null,null,null,null,null,0,0,0,0,0,0,0,0,0,0,0,0,0]
[null,223,null,null,null,null,null,null,null,null,0,0,0,0,0,0,0,0,0,0,0,0,0]
[null,224,null,null,null,null,null,null,null,null,0,0,0,0,0,0,0,0,0,0,0,0,0]
[null,225,null,null,null,null,null,null,null,null,0,0,0,0,0,0,0,0,0,0,0,0,0]
[null,226,null,null,null,null,null,null,null,null,0,0,0,0,0,0,0,0,0,0,0,0,0]
[null,227,null,null,null,null,null,null,null,null,0,0,0,0,0,0,0,0,0,0,0,0,0]
[null,228,null,null,null,null,null,null,null,null,0,0,0,0,0,0,0,0,0,0,0,0,0]
[null,229,null,null,null,null,null,null,null,null,0,0,0,0,0,0,0,0,0,0,0,0,0]
[null,230,null,null,null,null,null,null,null,null,0,0,0,0,0,0,0,0,0,0,0,0,0]
[null,231,null,null,null,null,null,null,null,null,{"$f":"IF($D236=K$5,$F236,0)","v":0},0,0,0,0,0,0,0,0,0,0,0,0]
[null,232,null,null,null,null,null,null,null,null,0,0,0,0,0,0,0,0,0,0,0,0,0]
[null,233,null,null,null,null,null,null,null,null,0,0,0,0,0,0,0,0,0,0,0,0,0]
[null,234,null,null,null,null,null,null,null,null,0,0,0,0,0,0,0,0,0,0,0,0,0]
[null,235,null,null,null,null,null,null,null,null,0,0,0,0,0,0,0,0,0,0,0,0,0]
[null,236,null,null,null,null,null,null,null,null,0,0,0,0,0,0,0,0,0,0,0,0,0]
[null,237,null,null,null,null,null,null,null,null,0,0,0,0,0,0,0,0,0,0,0,0,0]
[null,238,null,null,null,null,null,null,null,null,0,0,0,0,0,0,0,0,0,0,0,0,0]
[null,239,null,null,null,null,null,null,null,null,0,0,0,0,0,0,0,0,0,0,0,0,0]
[null,240,null,null,null,null,null,null,null,null,0,0,0,0,0,0,0,0,0,0,0,0,0]
[null,241,null,null,null,null,null,null,null,null,{"$f":"IF($D246=K$5,$F246,0)","v":0},0,0,0,0,0,0,0,0,0,0,0,0]
[null,242,null,null,null,null,null,null,null,null,0,0,0,0,0,0,0,0,0,0,0,0,0]
[null,243,null,null,null,null,null,null,null,null,0,0,0,0,0,0,0,0,0,0,0,0,0]
[null,244,null,null,null,null,null,null,null,null,0,0,0,0,0,0,0,0,0,0,0,0,0]
[null,245,null,null,null,null,null,null,null,null,0,0,0,0,0,0,0,0,0,0,0,0,0]
[null,246,null,null,null,null,null,null,null,null,0,0,0,0,0,0,0,0,0,0,0,0,0]
[null,247,null,null,null,null,null,null,null,null,0,0,0,0,0,0,0,0,0,0,0,0,0]
[null,248,null,null,null,null,null,null,null,null,0,0,0,0,0,0,0,0,0,0,0,0,0]
[null,249,null,null,null,null,null,null,null,null,0,0,0,0,0,0,0,0,0,0,0,0,0]
[null,250,null,null,null,null,null,null,null,null,0,0,0,0,0,0,0,0,0,0,0,0,0]
[null,251,null,null,null,null,null,null,null,null,{"$f":"IF($D256=K$5,$F256,0)","v":0},0,0,0,0,0,0,0,0,0,0,0,0]
[null,252,null,null,null,null,null,null,null,null,0,0,0,0,0,0,0,0,0,0,0,0,0]
[null,253,null,null,null,null,null,null,null,null,0,0,0,0,0,0,0,0,0,0,0,0,0]
[null,254,null,null,null,null,null,null,null,null,0,0,0,0,0,0,0,0,0,0,0,0,0]
[null,255,null,null,null,null,null,null,null,null,0,0,0,0,0,0,0,0,0,0,0,0,0]
[null,256,null,null,null,null,null,null,null,null,0,0,0,0,0,0,0,0,0,0,0,0,0]
[null,257,null,null,null,null,null,null,null,null,0,0,0,0,0,0,0,0,0,0,0,0,0]
[null,258,null,null,null,null,null,null,null,null,0,0,0,0,0,0,0,0,0,0,0,0,0]
[null,259,null,null,null,null,null,null,null,null,0,0,0,0,0,0,0,0,0,0,0,0,0]
[null,260,null,null,null,null,null,null,null,null,0,0,0,0,0,0,0,0,0,0,0,0,0]
[null,261,null,null,null,null,null,null,null,null,{"$f":"IF($D266=K$5,$F266,0)","v":0},0,0,0,0,0,0,0,0,0,0,0,0]
[null,262,null,null,null,null,null,null,null,null,0,0,0,0,0,0,0,0,0,0,0,0,0]
[null,263,null,null,null,null,null,null,null,null,0,0,0,0,0,0,0,0,0,0,0,0,0]
[null,264,null,null,null,null,null,null,null,null,0,0,0,0,0,0,0,0,0,0,0,0,0]
[null,265,null,null,null,null,null,null,null,null,0,0,0,0,0,0,0,0,0,0,0,0,0]
[null,266,null,null,null,null,null,null,null,null,0,0,0,0,0,0,0,0,0,0,0,0,0]
[null,267,null,null,null,null,null,null,null,null,0,0,0,0,0,0,0,0,0,0,0,0,0]
[null,268,null,null,null,null,null,null,null,null,0,0,0,0,0,0,0,0,0,0,0,0,0]
[null,269,null,null,null,null,null,null,null,null,0,0,0,0,0,0,0,0,0,0,0,0,0]
[null,270,null,null,null,null,null,null,null,null,0,0,0,0,0,0,0,0,0,0,0,0,0]
[null,271,null,null,null,null,null,null,null,null,{"$f":"IF($D276=K$5,$F276,0)","v":0},0,0,0,0,0,0,0,0,0,0,0,0]
[null,272,null,null,null,null,null,null,null,null,0,0,0,0,0,0,0,0,0,0,0,0,0]
[null,273,null,null,null,null,null,null,null,null,0,0,0,0,0,0,0,0,0,0,0,0,0]
[null,274,null,null,null,null,null,null,null,null,0,0,0,0,0,0,0,0,0,0,0,0,0]
[null,275,null,null,null,null,null,null,null,null,0,0,0,0,0,0,0,0,0,0,0,0,0]
[null,276,null,null,null,null,null,null,null,null,0,0,0,0,0,0,0,0,0,0,0,0,0]
[null,277,null,null,null,null,null,null,null,null,0,0,0,0,0,0,0,0,0,0,0,0,0]
[null,278,null,null,null,null,null,null,null,null,0,0,0,0,0,0,0,0,0,0,0,0,0]
[null,279,null,null,null,null,null,null,null,null,0,0,0,0,0,0,0,0,0,0,0,0,0]
[null,280,null,null,null,null,null,null,null,null,0,0,0,0,0,0,0,0,0,0,0,0,0]
[null,281,null,null,null,null,null,null,null,null,{"$f":"IF($D286=K$5,$F286,0)","v":0},0,0,0,0,0,0,0,0,0,0,0,0]
[null,282,null,null,null,null,null,null,null,null,0,0,0,0,0,0,0,0,0,0,0,0,0]
[null,283,null,null,null,null,null,null,null,null,0,0,0,0,0,0,0,0,0,0,0,0,0]
[null,284,null,null,null,null,null,null,null,null,0,0,0,0,0,0,0,0,0,0,0,0,0]
[null,285,null,null,null,null,null,null,null,null,0,0,0,0,0,0,0,0,0,0,0,0,0]
[null,286,null,null,null,null,null,null,null,null,0,0,0,0,0,0,0,0,0,0,0,0,0]
[null,287,null,null,null,null,null,null,null,null,0,0,0,0,0,0,0,0,0,0,0,0,0]
[null,288,null,null,null,null,null,null,null,null,0,0,0,0,0,0,0,0,0,0,0,0,0]
[null,289,null,null,null,null,null,null,null,null,0,0,0,0,0,0,0,0,0,0,0,0,0]
[null,290,null,null,null,null,null,null,null,null,0,0,0,0,0,0,0,0,0,0,0,0,0]
[null,291,null,null,null,null,null,null,null,null,{"$f":"IF($D296=K$5,$F296,0)","v":0},0,0,0,0,0,0,0,0,0,0,0,0]
[null,292,null,null,null,null,null,null,null,null,0,0,0,0,0,0,0,0,0,0,0,0,0]
[null,293,null,null,null,null,null,null,null,null,0,0,0,0,0,0,0,0,0,0,0,0,0]
[null,294,null,null,null,null,null,null,null,null,0,0,0,0,0,0,0,0,0,0,0,0,0]
[null,295,null,null,null,null,null,null,null,null,0,0,0,0,0,0,0,0,0,0,0,0,0]
[null,296,null,null,null,null,null,null,null,null,0,0,0,0,0,0,0,0,0,0,0,0,0]
[null,297,null,null,null,null,null,null,null,null,0,0,0,0,0,0,0,0,0,0,0,0,0]
[null,298,null,null,null,null,null,null,null,null,0,0,0,0,0,0,0,0,0,0,0,0,0]
[null,299,null,null,null,null,null,null,null,null,0,0,0,0,0,0,0,0,0,0,0,0,0]
[null,300,null,null,null,null,null,null,null,null,0,0,0,0,0,0,0,0,0,0,0,0,0]
[null,null,null,null,null,null,null,null,null,null,{"$f":"SUM(K6:K305)","v":0},{"$f":"SUM(L6:L305)","v":0},0,0,0,0,0,0,0,0,0,0,0]

{"sheet":"10","index":10,"n_rows":306,"n_cols":23,"rows_kept":306,"cut":false,"hidden":false,"merged":[]}
[]
[null,null,{"$f":"menu!B17","v":"OCIO Y HOBIES"}]
[]
[null,null,null,null,null,null,null,null,null,"Enero"]
[null,null,"DIA","MES","CONCEPTO","TOTAL",null,null,null,"Febrero","Enero","Febrero","Marzo","Abril","Mayo","Junio","Julio","Agosto","Septiembre","Octubre","Noviembre","Diciembre"]
[null,1,null,null,null,null,null,null,null,"Marzo",{"$f":"IF($D6=K$5,$F6,0)","v":0},0,0,0,0,0,0,0,0,0,0,0,0]
[null,2,null,null,null,null,null,null,null,"Abril",0,0,0,0,0,0,0,0,0,0,0,0,0]
[null,3,null,null,null,null,null,null,null,"Mayo",0,0,0,0,0,0,0,0,0,0,0,0,0]
[null,4,null,null,null,null,null,null,null,"Junio",0,0,0,0,0,0,0,0,0,0,0,0,0]
[null,5,null,null,null,null,null,null,null,"Julio",0,0,0,0,0,0,0,0,0,0,0,0,0]
[null,6,null,null,null,null,null,null,null,"Agosto",0,0,0,0,0,0,0,0,0,0,0,0,0]
[null,7,null,null,null,null,null,null,null,"Septiembre",0,0,0,0,0,0,0,0,0,0,0,0,0]
[null,8,null,null,null,null,null,null,null,"Octubre",0,0,0,0,0,0,0,0,0,0,0,0,0]
[null,9,null,null,null,null,null,null,null,"Noviembre",0,0,0,0,0,0,0,0,0,0,0,0,0]
[null,10,null,null,null,null,null,null,null,"Diciembre",0,0,0,0,0,0,0,0,0,0,0,0,0]
[null,11,null,null,null,null,null,null,null,null,{"$f":"IF($D16=K$5,$F16,0)","v":0},0,0,0,0,0,0,0,0,0,0,0,0]
[null,12,null,null,null,null,null,null,null,null,0,0,0,0,0,0,0,0,0,0,0,0,0]
[null,13,null,null,null,null,null,null,null,null,0,0,0,0,0,0,0,0,0,0,0,0,0]
[null,14,null,null,null,null,null,null,null,null,0,0,0,0,0,0,0,0,0,0,0,0,0]
[null,15,null,null,null,null,null,null,null,null,0,0,0,0,0,0,0,0,0,0,0,0,0]
[null,16,null,null,null,null,null,null,null,null,0,0,0,0,0,0,0,0,0,0,0,0,0]
[null,17,null,null,null,null,null,null,null,null,0,0,0,0,0,0,0,0,0,0,0,0,0]
[null,18,null,null,null,null,null,null,null,null,0,0,0,0,0,0,0,0,0,0,0,0,0]
[null,19,null,null,null,null,null,null,null,null,0,0,0,0,0,0,0,0,0,0,0,0,0]
[null,20,null,null,null,null,null,null,null,null,0,0,0,0,0,0,0,0,0,0,0,0,0]
[null,21,null,null,null,null,null,null,null,null,{"$f":"IF($D26=K$5,$F26,0)","v":0},0,0,0,0,0,0,0,0,0,0,0,0]
[null,22,null,null,null,null,null,null,null,null,0,0,0,0,0,0,0,0,0,0,0,0,0]
[null,23,null,null,null,null,null,null,null,null,0,0,0,0,0,0,0,0,0,0,0,0,0]
[null,24,null,null,null,null,null,null,null,null,0,0,0,0,0,0,0,0,0,0,0,0,0]
[null,25,null,null,null,null,null,null,null,null,0,0,0,0,0,0,0,0,0,0,0,0,0]
[null,26,null,null,null,null,null,null,null,null,0,0,0,0,0,0,0,0,0,0,0,0,0]
[null,27,null,null,null,null,null,null,null,null,0,0,0,0,0,0,0,0,0,0,0,0,0]
[null,28,null,null,null,null,null,null,null,null,0,0,0,0,0,0,0,0,0,0,0,0,0]
[null,29,null,null,null,null,null,null,null,null,0,0,0,0,0,0,0,0,0,0,0,0,0]
[null,30,null,null,null,null,null,null,null,null,0,0,0,0,0,0,0,0,0,0,0,0,0]
[null,31,null,null,null,null,null,null,null,null,{"$f":"IF($D36=K$5,$F36,0)","v":0},0,0,0,0,0,0,0,0,0,0,0,0]
[null,32,null,null,null,null,null,null,null,null,0,0,0,0,0,0,0,0,0,0,0,0,0]
[null,33,null,null,null,null,null,null,null,null,0,0,0,0,0,0,0,0,0,0,0,0,0]
[null,34,null,null,null,null,null,null,null,null,0,0,0,0,0,0,0,0,0,0,0,0,0]
[null,35,null,null,null,null,null,null,null,null,0,0,0,0,0,0,0,0,0,0,0,0,0]
[null,36,null,null,null,null,null,null,null,null,0,0,0,0,0,0,0,0,0,0,0,0,0]
[null,37,null,null,null,null,null,null,null,null,0,0,0,0,0,0,0,0,0,0,0,0,0]
[null,38,null,null,null,null,null,null,null,null,0,0,0,0,0,0,0,0,0,0,0,0,0]
[null,39,null,null,null,null,null,null,null,null,0,0,0,0,0,0,0,0,0,0,0,0,0]
[null,40,null,null,null,null,null,null,null,null,0,0,0,0,0,0,0,0,0,0,0,0,0]
[null,41,null,null,null,null,null,null,null,null,{"$f":"IF($D46=K$5,$F46,0)","v":0},0,0,0,0,0,0,0,0,0,0,0,0]
[null,42,null,null,null,null,null,null,null,null,0,0,0,0,0,0,0,0,0,0,0,0,0]
[null,43,null,null,null,null,null,null,null,null,0,0,0,0,0,0,0,0,0,0,0,0,0]
[null,44,null,null,null,null,null,null,null,null,0,0,0,0,0,0,0,0,0,0,0,0,0]
[null,45,null,null,null,null,null,null,null,null,0,0,0,0,0,0,0,0,0,0,0,0,0]
[null,46,null,null,null,null,null,null,null,null,0,0,0,0,0,0,0,0,0,0,0,0,0]
[null,47,null,null,null,null,null,null,null,null,0,0,0,0,0,0,0,0,0,0,0,0,0]
[null,48,null,null,null,null,null,null,null,null,0,0,0,0,0,0,0,0,0,0,0,0,0]
[null,49,null,null,null,null,null,null,null,null,0,0,0,0,0,0,0,0,0,0,0,0,0]
[null,50,null,null,null,null,null,null,null,null,0,0,0,0,0,0,0,0,0,0,0,0,0]
[null,51,null,null,null,null,null,null,null,null,{"$f":"IF($D56=K$5,$F56,0)","v":0},0,0,0,0,0,0,0,0,0,0,0,0]
[null,52,null,null,null,null,null,null,null,null,0,0,0,0,0,0,0,0,0,0,0,0,0]
[null,53,null,null,null,null,null,null,null,null,0,0,0,0,0,0,0,0,0,0,0,0,0]
[null,54,null,null,null,null,null,null,null,null,0,0,0,0,0,0,0,0,0,0,0,0,0]
[null,55,null,null,null,null,null,null,null,null,0,0,0,0,0,0,0,0,0,0,0,0,0]
[null,56,null,null,null,null,null,null,null,null,0,0,0,0,0,0,0,0,0,0,0,0,0]
[null,57,null,null,null,null,null,null,null,null,0,0,0,0,0,0,0,0,0,0,0,0,0]
[null,58,null,null,null,null,null,null,null,null,0,0,0,0,0,0,0,0,0,0,0,0,0]
[null,59,null,null,null,null,null,null,null,null,0,0,0,0,0,0,0,0,0,0,0,0,0]
[null,60,null,null,null,null,null,null,null,null,0,0,0,0,0,0,0,0,0,0,0,0,0]
[null,61,null,null,null,null,null,null,null,null,{"$f":"IF($D66=K$5,$F66,0)","v":0},0,0,0,0,0,0,0,0,0,0,0,0]
[null,62,null,null,null,null,null,null,null,null,0,0,0,0,0,0,0,0,0,0,0,0,0]
[null,63,null,null,null,null,null,null,null,null,0,0,0,0,0,0,0,0,0,0,0,0,0]
[null,64,null,null,null,null,null,null,null,null,0,0,0,0,0,0,0,0,0,0,0,0,0]
[null,65,null,null,null,null,null,null,null,null,0,0,0,0,0,0,0,0,0,0,0,0,0]
[null,66,null,null,null,null,null,null,null,null,0,0,0,0,0,0,0,0,0,0,0,0,0]
[null,67,null,null,null,null,null,null,null,null,0,0,0,0,0,0,0,0,0,0,0,0,0]
[null,68,null,null,null,null,null,null,null,null,0,0,0,0,0,0,0,0,0,0,0,0,0]
[null,69,null,null,null,null,null,null,null,null,0,0,0,0,0,0,0,0,0,0,0,0,0]
[null,70,null,null,null,null,null,null,null,null,0,0,0,0,0,0,0,0,0,0,0,0,0]
[null,71,null,null,null,null,null,null,null,null,{"$f":"IF($D76=K$5,$F76,0)","v":0},0,0,0,0,0,0,0,0,0,0,0,0]
[null,72,null,null,null,null,null,null,null,null,0,0,0,0,0,0,0,0,0,0,0,0,0]
[null,73,null,null,null,null,null,null,null,null,0,0,0,0,0,0,0,0,0,0,0,0,0]
[null,74,null,null,null,null,null,null,null,null,0,0,0,0,0,0,0,0,0,0,0,0,0]
[null,75,null,null,null,null,null,null,null,null,0,0,0,0,0,0,0,0,0,0,0,0,0]
[null,76,null,null,null,null,null,null,null,null,0,0,0,0,0,0,0,0,0,0,0,0,0]
[null,77,null,null,null,null,null,null,null,null,0,0,0,0,0,0,0,0,0,0,0,0,0]
[null,78,null,null,null,null,null,null,null,null,0,0,0,0,0,0,0,0,0,0,0,0,0]
[null,79,null,null,null,null,null,null,null,null,0,0,0,0,0,0,0,0,0,0,0,0,0]
[null,80,null,null,null,null,null,null,null,null,0,0,0,0,0,0,0,0,0,0,0,0,0]
[null,81,null,null,null,null,null,null,null,null,{"$f":"IF($D86=K$5,$F86,0)","v":0},0,0,0,0,0,0,0,0,0,0,0,0]
[null,82,null,null,null,null,null,null,null,null,0,0,0,0,0,0,0,0,0,0,0,0,0]
[null,83,null,null,null,null,null,null,null,null,0,0,0,0,0,0,0,0,0,0,0,0,0]
[null,84,null,null,null,null,null,null,null,null,0,0,0,0,0,0,0,0,0,0,0,0,0]
[null,85,null,null,null,null,null,null,null,null,0,0,0,0,0,0,0,0,0,0,0,0,0]
[null,86,null,null,null,null,null,null,null,null,0,0,0,0,0,0,0,0,0,0,0,0,0]
[null,87,null,null,null,null,null,null,null,null,0,0,0,0,0,0,0,0,0,0,0,0,0]
[null,88,null,null,null,null,null,null,null,null,0,0,0,0,0,0,0,0,0,0,0,0,0]
[null,89,null,null,null,null,null,null,null,null,0,0,0,0,0,0,0,0,0,0,0,0,0]
[null,90,null,null,null,null,null,null,null,null,0,0,0,0,0,0,0,0,0,0,0,0,0]
[null,91,null,null,null,null,null,null,null,null,{"$f":"IF($D96=K$5,$F96,0)","v":0},0,0,0,0,0,0,0,0,0,0,0,0]
[null,92,null,null,null,null,null,null,null,null,0,0,0,0,0,0,0,0,0,0,0,0,0]
[null,93,null,null,null,null,null,null,null,null,0,0,0,0,0,0,0,0,0,0,0,0,0]
[null,94,null,null,null,null,null,null,null,null,0,0,0,0,0,0,0,0,0,0,0,0,0]
[null,95,null,null,null,null,null,null,null,null,0,0,0,0,0,0,0,0,0,0,0,0,0]
[null,96,null,null,null,null,null,null,null,null,0,0,0,0,0,0,0,0,0,0,0,0,0]
[null,97,null,null,null,null,null,null,null,null,0,0,0,0,0,0,0,0,0,0,0,0,0]
[null,98,null,null,null,null,null,null,null,null,0,0,0,0,0,0,0,0,0,0,0,0,0]
[null,99,null,null,null,null,null,null,null,null,0,0,0,0,0,0,0,0,0,0,0,0,0]
[null,100,null,null,null,null,null,null,null,null,0,0,0,0,0,0,0,0,0,0,0,0,0]
[null,101,null,null,null,null,null,null,null,null,{"$f":"IF($D106=K$5,$F106,0)","v":0},0,0,0,0,0,0,0,0,0,0,0,0]
[null,102,null,null,null,null,null,null,null,null,0,0,0,0,0,0,0,0,0,0,0,0,0]
[null,103,null,null,null,null,null,null,null,null,0,0,0,0,0,0,0,0,0,0,0,0,0]
[null,104,null,null,null,null,null,null,null,null,0,0,0,0,0,0,0,0,0,0,0,0,0]
[null,105,null,null,null,null,null,null,null,null,0,0,0,0,0,0,0,0,0,0,0,0,0]
[null,106,null,null,null,null,null,null,null,null,0,0,0,0,0,0,0,0,0,0,0,0,0]
[null,107,null,null,null,null,null,null,null,null,0,0,0,0,0,0,0,0,0,0,0,0,0]
[null,108,null,null,null,null,null,null,null,null,0,0,0,0,0,0,0,0,0,0,0,0,0]
[null,109,null,null,null,null,null,null,null,null,0,0,0,0,0,0,0,0,0,0,0,0,0]
[null,110,null,null,null,null,null,null,null,null,0,0,0,0,0,0,0,0,0,0,0,0,0]
[null,111,null,null,null,null,null,null,null,null,{"$f":"IF($D116=K$5,$F116,0)","v":0},0,0,0,0,0,0,0,0,0,0,0,0]
[null,112,null,null,null,null,null,null,null,null,0,0,0,0,0,0,0,0,0,0,0,0,0]
[null,113,null,null,null,null,null,null,null,null,0,0,0,0,0,0,0,0,0,0,0,0,0]
[null,114,null,null,null,null,null,null,null,null,0,0,0,0,0,0,0,0,0,0,0,0,0]
[null,115,null,null,null,null,null,null,null,null,0,0,0,0,0,0,0,0,0,0,0,0,0]
[null,116,null,null,null,null,null,null,null,null,0,0,0,0,0,0,0,0,0,0,0,0,0]
[null,117,null,null,null,null,null,null,null,null,0,0,0,0,0,0,0,0,0,0,0,0,0]
[null,118,null,null,null,null,null,null,null,null,0,0,0,0,0,0,0,0,0,0,0,0,0]
[null,119,null,null,null,null,null,null,null,null,0,0,0,0,0,0,0,0,0,0,0,0,0]
[null,120,null,null,null,null,null,null,null,null,0,0,0,0,0,0,0,0,0,0,0,0,0]
[null,121,null,null,null,null,null,null,null,null,{"$f":"IF($D126=K$5,$F126,0)","v":0},0,0,0,0,0,0,0,0,0,0,0,0]
[null,122,null,null,null,null,null,null,null,null,0,0,0,0,0,0,0,0,0,0,0,0,0]
[null,123,null,null,null,null,null,null,null,null,0,0,0,0,0,0,0,0,0,0,0,0,0]
[null,124,null,null,null,null,null,null,null,null,0,0,0,0,0,0,0,0,0,0,0,0,0]
[null,125,null,null,null,null,null,null,null,null,0,0,0,0,0,0,0,0,0,0,0,0,0]
[null,126,null,null,null,null,null,null,null,null,0,0,0,0,0,0,0,0,0,0,0,0,0]
[null,127,null,null,null,null,null,null,null,null,0,0,0,0,0,0,0,0,0,0,0,0,0]
[null,128,null,null,null,null,null,null,null,null,0,0,0,0,0,0,0,0,0,0,0,0,0]
[null,129,null,null,null,null,null,null,null,null,0,0,0,0,0,0,0,0,0,0,0,0,0]
[null,130,null,null,null,null,null,null,null,null,0,0,0,0,0,0,0,0,0,0,0,0,0]
[null,131,null,null,null,null,null,null,null,null,{"$f":"IF($D136=K$5,$F136,0)","v":0},0,0,0,0,0,0,0,0,0,0,0,0]
[null,132,null,null,null,null,null,null,null,null,0,0,0,0,0,0,0,0,0,0,0,0,0]
[null,133,null,null,null,null,null,null,null,null,0,0,0,0,0,0,0,0,0,0,0,0,0]
[null,134,null,null,null,null,null,null,null,null,0,0,0,0,0,0,0,0,0,0,0,0,0]
[null,135,null,null,null,null,null,null,null,null,0,0,0,0,0,0,0,0,0,0,0,0,0]
[null,136,null,null,null,null,null,null,null,null,0,0,0,0,0,0,0,0,0,0,0,0,0]
[null,137,null,null,null,null,null,null,null,null,0,0,0,0,0,0,0,0,0,0,0,0,0]
[null,138,null,null,null,null,null,null,null,null,0,0,0,0,0,0,0,0,0,0,0,0,0]
[null,139,null,null,null,null,null,null,null,null,0,0,0,0,0,0,0,0,0,0,0,0,0]
[null,140,null,null,null,null,null,null,null,null,0,0,0,0,0,0,0,0,0,0,0,0,0]
[null,141,null,null,null,null,null,null,null,null,{"$f":"IF($D146=K$5,$F146,0)","v":0},0,0,0,0,0,0,0,0,0,0,0,0]
[null,142,null,null,null,null,null,null,null,null,0,0,0,0,0,0,0,0,0,0,0,0,0]
[null,143,null,null,null,null,null,null,null,null,0,0,0,0,0,0,0,0,0,0,0,0,0]
[null,144,null,null,null,null,null,null,null,null,0,0,0,0,0,0,0,0,0,0,0,0,0]
[null,145,null,null,null,null,null,null,null,null,0,0,0,0,0,0,0,0,0,0,0,0,0]
[null,146,null,null,null,null,null,null,null,null,0,0,0,0,0,0,0,0,0,0,0,0,0]
[null,147,null,null,null,null,null,null,null,null,0,0,0,0,0,0,0,0,0,0,0,0,0]
[null,148,null,null,null,null,null,null,null,null,0,0,0,0,0,0,0,0,0,0,0,0,0]
[null,149,null,null,null,null,null,null,null,null,0,0,0,0,0,0,0,0,0,0,0,0,0]
[null,150,null,null,null,null,null,null,null,null,0,0,0,0,0,0,0,0,0,0,0,0,0]
[null,151,null,null,null,null,null,null,null,null,{"$f":"IF($D156=K$5,$F156,0)","v":0},0,0,0,0,0,0,0,0,0,0,0,0]
[null,152,null,null,null,null,null,null,null,null,0,0,0,0,0,0,0,0,0,0,0,0,0]
[null,153,null,null,null,null,null,null,null,null,0,0,0,0,0,0,0,0,0,0,0,0,0]
[null,154,null,null,null,null,null,null,null,null,0,0,0,0,0,0,0,0,0,0,0,0,0]
[null,155,null,null,null,null,null,null,null,null,0,0,0,0,0,0,0,0,0,0,0,0,0]
[null,156,null,null,null,null,null,null,null,null,0,0,0,0,0,0,0,0,0,0,0,0,0]
[null,157,null,null,null,null,null,null,null,null,0,0,0,0,0,0,0,0,0,0,0,0,0]
[null,158,null,null,null,null,null,null,null,null,0,0,0,0,0,0,0,0,0,0,0,0,0]
[null,159,null,null,null,null,null,null,null,null,0,0,0,0,0,0,0,0,0,0,0,0,0]
[null,160,null,null,null,null,null,null,null,null,0,0,0,0,0,0,0,0,0,0,0,0,0]
[null,161,null,null,null,null,null,null,null,null,{"$f":"IF($D166=K$5,$F166,0)","v":0},0,0,0,0,0,0,0,0,0,0,0,0]
[null,162,null,null,null,null,null,null,null,null,0,0,0,0,0,0,0,0,0,0,0,0,0]
[null,163,null,null,null,null,null,null,null,null,0,0,0,0,0,0,0,0,0,0,0,0,0]
[null,164,null,null,null,null,null,null,null,null,0,0,0,0,0,0,0,0,0,0,0,0,0]
[null,165,null,null,null,null,null,null,null,null,0,0,0,0,0,0,0,0,0,0,0,0,0]
[null,166,null,null,null,null,null,null,null,null,0,0,0,0,0,0,0,0,0,0,0,0,0]
[null,167,null,null,null,null,null,null,null,null,0,0,0,0,0,0,0,0,0,0,0,0,0]
[null,168,null,null,null,null,null,null,null,null,0,0,0,0,0,0,0,0,0,0,0,0,0]
[null,169,null,null,null,null,null,null,null,null,0,0,0,0,0,0,0,0,0,0,0,0,0]
[null,170,null,null,null,null,null,null,null,null,0,0,0,0,0,0,0,0,0,0,0,0,0]
[null,171,null,null,null,null,null,null,null,null,{"$f":"IF($D176=K$5,$F176,0)","v":0},0,0,0,0,0,0,0,0,0,0,0,0]
[null,172,null,null,null,null,null,null,null,null,0,0,0,0,0,0,0,0,0,0,0,0,0]
[null,173,null,null,null,null,null,null,null,null,0,0,0,0,0,0,0,0,0,0,0,0,0]
[null,174,null,null,null,null,null,null,null,null,0,0,0,0,0,0,0,0,0,0,0,0,0]
[null,175,null,null,null,null,null,null,null,null,0,0,0,0,0,0,0,0,0,0,0,0,0]
[null,176,null,null,null,null,null,null,null,null,0,0,0,0,0,0,0,0,0,0,0,0,0]
[null,177,null,null,null,null,null,null,null,null,0,0,0,0,0,0,0,0,0,0,0,0,0]
[null,178,null,null,null,null,null,null,null,null,0,0,0,0,0,0,0,0,0,0,0,0,0]
[null,179,null,null,null,null,null,null,null,null,0,0,0,0,0,0,0,0,0,0,0,0,0]
[null,180,null,null,null,null,null,null,null,null,0,0,0,0,0,0,0,0,0,0,0,0,0]
[null,181,null,null,null,null,null,null,null,null,{"$f":"IF($D186=K$5,$F186,0)","v":0},0,0,0,0,0,0,0,0,0,0,0,0]
[null,182,null,null,null,null,null,null,null,null,0,0,0,0,0,0,0,0,0,0,0,0,0]
[null,183,null,null,null,null,null,null,null,null,0,0,0,0,0,0,0,0,0,0,0,0,0]
[null,184,null,null,null,null,null,null,null,null,0,0,0,0,0,0,0,0,0,0,0,0,0]
[null,185,null,null,null,null,null,null,null,null,0,0,0,0,0,0,0,0,0,0,0,0,0]
[null,186,null,null,null,null,null,null,null,null,0,0,0,0,0,0,0,0,0,0,0,0,0]
[null,187,null,null,null,null,null,null,null,null,0,0,0,0,0,0,0,0,0,0,0,0,0]
[null,188,null,null,null,null,null,null,null,null,0,0,0,0,0,0,0,0,0,0,0,0,0]
[null,189,null,null,null,null,null,null,null,null,0,0,0,0,0,0,0,0,0,0,0,0,0]
[null,190,null,null,null,null,null,null,null,null,0,0,0,0,0,0,0,0,0,0,0,0,0]
[null,191,null,null,null,null,null,null,null,null,{"$f":"IF($D196=K$5,$F196,0)","v":0},0,0,0,0,0,0,0,0,0,0,0,0]
[null,192,null,null,null,null,null,null,null,null,0,0,0,0,0,0,0,0,0,0,0,0,0]
[null,193,null,null,null,null,null,null,null,null,0,0,0,0,0,0,0,0,0,0,0,0,0]
[null,194,null,null,null,null,null,null,null,null,0,0,0,0,0,0,0,0,0,0,0,0,0]
[null,195,null,null,null,null,null,null,null,null,0,0,0,0,0,0,0,0,0,0,0,0,0]
[null,196,null,null,null,null,null,null,null,null,0,0,0,0,0,0,0,0,0,0,0,0,0]
[null,197,null,null,null,null,null,null,null,null,0,0,0,0,0,0,0,0,0,0,0,0,0]
[null,198,null,null,null,null,null,null,null,null,0,0,0,0,0,0,0,0,0,0,0,0,0]
[null,199,null,null,null,null,null,null,null,null,0,0,0,0,0,0,0,0,0,0,0,0,0]
[null,200,null,null,null,null,null,null,null,null,0,0,0,0,0,0,0,0,0,0,0,0,0]
[null,201,null,null,null,null,null,null,null,null,{"$f":"IF($D206=K$5,$F206,0)","v":0},0,0,0,0,0,0,0,0,0,0,0,0]
[null,202,null,null,null,null,null,null,null,null,0,0,0,0,0,0,0,0,0,0,0,0,0]
[null,203,null,null,null,null,null,null,null,null,0,0,0,0,0,0,0,0,0,0,0,0,0]
[null,204,null,null,null,null,null,null,null,null,0,0,0,0,0,0,0,0,0,0,0,0,0]
[null,205,null,null,null,null,null,null,null,null,0,0,0,0,0,0,0,0,0,0,0,0,0]
[null,206,null,null,null,null,null,null,null,null,0,0,0,0,0,0,0,0,0,0,0,0,0]
[null,207,null,null,null,null,null,null,null,null,0,0,0,0,0,0,0,0,0,0,0,0,0]
[null,208,null,null,null,null,null,null,null,null,0,0,0,0,0,0,0,0,0,0,0,0,0]
[null,209,null,null,null,null,null,null,null,null,0,0,0,0,0,0,0,0,0,0,0,0,0]
[null,210,null,null,null,null,null,null,null,null,0,0,0,0,0,0,0,0,0,0,0,0,0]
[null,211,null,null,null,null,null,null,null,null,{"$f":"IF($D216=K$5,$F216,0)","v":0},0,0,0,0,0,0,0,0,0,0,0,0]
[null,212,null,null,null,null,null,null,null,null,0,0,0,0,0,0,0,0,0,0,0,0,0]
[null,213,null,null,null,null,null,null,null,null,0,0,0,0,0,0,0,0,0,0,0,0,0]
[null,214,null,null,null,null,null,null,null,null,0,0,0,0,0,0,0,0,0,0,0,0,0]
[null,215,null,null,null,null,null,null,null,null,0,0,0,0,0,0,0,0,0,0,0,0,0]
[null,216,null,null,null,null,null,null,null,null,0,0,0,0,0,0,0,0,0,0,0,0,0]
[null,217,null,null,null,null,null,null,null,null,0,0,0,0,0,0,0,0,0,0,0,0,0]
[null,218,null,null,null,null,null,null,null,null,0,0,0,0,0,0,0,0,0,0,0,0,0]
[null,219,null,null,null,null,null,null,null,null,0,0,0,0,0,0,0,0,0,0,0,0,0]
[null,220,null,null,null,null,null,null,null,null,0,0,0,0,0,0,0,0,0,0,0,0,0]
[null,221,null,null,null,null,null,null,null,null,{"$f":"IF($D226=K$5,$F226,0)","v":0},0,0,0,0,0,0,0,0,0,0,0,0]
[null,222,null,null,null,null,null,null,null,null,0,0,0,0,0,0,0,0,0,0,0,0,0]
[null,223,null,null,null,null,null,null,null,null,0,0,0,0,0,0,0,0,0,0,0,0,0]
[null,224,null,null,null,null,null,null,null,null,0,0,0,0,0,0,0,0,0,0,0,0,0]
[null,225,null,null,null,null,null,null,null,null,0,0,0,0,0,0,0,0,0,0,0,0,0]
[null,226,null,null,null,null,null,null,null,null,0,0,0,0,0,0,0,0,0,0,0,0,0]
[null,227,null,null,null,null,null,null,null,null,0,0,0,0,0,0,0,0,0,0,0,0,0]
[null,228,null,null,null,null,null,null,null,null,0,0,0,0,0,0,0,0,0,0,0,0,0]
[null,229,null,null,null,null,null,null,null,null,0,0,0,0,0,0,0,0,0,0,0,0,0]
[null,230,null,null,null,null,null,null,null,null,0,0,0,0,0,0,0,0,0,0,0,0,0]
[null,231,null,null,null,null,null,null,null,null,{"$f":"IF($D236=K$5,$F236,0)","v":0},0,0,0,0,0,0,0,0,0,0,0,0]
[null,232,null,null,null,null,null,null,null,null,0,0,0,0,0,0,0,0,0,0,0,0,0]
[null,233,null,null,null,null,null,null,null,null,0,0,0,0,0,0,0,0,0,0,0,0,0]
[null,234,null,null,null,null,null,null,null,null,0,0,0,0,0,0,0,0,0,0,0,0,0]
[null,235,null,null,null,null,null,null,null,null,0,0,0,0,0,0,0,0,0,0,0,0,0]
[null,236,null,null,null,null,null,null,null,null,0,0,0,0,0,0,0,0,0,0,0,0,0]
[null,237,null,null,null,null,null,null,null,null,0,0,0,0,0,0,0,0,0,0,0,0,0]
[null,238,null,null,null,null,null,null,null,null,0,0,0,0,0,0,0,0,0,0,0,0,0]
[null,239,null,null,null,null,null,null,null,null,0,0,0,0,0,0,0,0,0,0,0,0,0]
[null,240,null,null,null,null,null,null,null,null,0,0,0,0,0,0,0,0,0,0,0,0,0]
[null,241,null,null,null,null,null,null,null,null,{"$f":"IF($D246=K$5,$F246,0)","v":0},0,0,0,0,0,0,0,0,0,0,0,0]
[null,242,null,null,null,null,null,null,null,null,0,0,0,0,0,0,0,0,0,0,0,0,0]
[null,243,null,null,null,null,null,null,null,null,0,0,0,0,0,0,0,0,0,0,0,0,0]
[null,244,null,null,null,null,null,null,null,null,0,0,0,0,0,0,0,0,0,0,0,0,0]
[null,245,null,null,null,null,null,null,null,null,0,0,0,0,0,0,0,0,0,0,0,0,0]
[null,246,null,null,null,null,null,null,null,null,0,0,0,0,0,0,0,0,0,0,0,0,0]
[null,247,null,null,null,null,null,null,null,null,0,0,0,0,0,0,0,0,0,0,0,0,0]
[null,248,null,null,null,null,null,null,null,null,0,0,0,0,0,0,0,0,0,0,0,0,0]
[null,249,null,null,null,null,null,null,null,null,0,0,0,0,0,0,0,0,0,0,0,0,0]
[null,250,null,null,null,null,null,null,null,null,0,0,0,0,0,0,0,0,0,0,0,0,0]
[null,251,null,null,null,null,null,null,null,null,{"$f":"IF($D256=K$5,$F256,0)","v":0},0,0,0,0,0,0,0,0,0,0,0,0]
[null,252,null,null,null,null,null,null,null,null,0,0,0,0,0,0,0,0,0,0,0,0,0]
[null,253,null,null,null,null,null,null,null,null,0,0,0,0,0,0,0,0,0,0,0,0,0]
[null,254,null,null,null,null,null,null,null,null,0,0,0,0,0,0,0,0,0,0,0,0,0]
[null,255,null,null,null,null,null,null,null,null,0,0,0,0,0,0,0,0,0,0,0,0,0]
[null,256,null,null,null,null,null,null,null,null,0,0,0,0,0,0,0,0,0,0,0,0,0]
[null,257,null,null,null,null,null,null,null,null,0,0,0,0,0,0,0,0,0,0,0,0,0]
[null,258,null,null,null,null,null,null,null,null,0,0,0,0,0,0,0,0,0,0,0,0,0]
[null,259,null,null,null,null,null,null,null,null,0,0,0,0,0,0,0,0,0,0,0,0,0]
[null,260,null,null,null,null,null,null,null,null,0,0,0,0,0,0,0,0,0,0,0,0,0]
[null,261,null,null,null,null,null,null,null,null,{"$f":"IF($D266=K$5,$F266,0)","v":0},0,0,0,0,0,0,0,0,0,0,0,0]
[null,262,null,null,null,null,null,null,null,null,0,0,0,0,0,0,0,0,0,0,0,0,0]
[null,263,null,null,null,null,null,null,null,null,0,0,0,0,0,0,0,0,0,0,0,0,0]
[null,264,null,null,null,null,null,null,null,null,0,0,0,0,0,0,0,0,0,0,0,0,0]
[null,265,null,null,null,null,null,null,null,null,0,0,0,0,0,0,0,0,0,0,0,0,0]
[null,266,null,null,null,null,null,null,null,null,0,0,0,0,0,0,0,0,0,0,0,0,0]
[null,267,null,null,null,null,null,null,null,null,0,0,0,0,0,0,0,0,0,0,0,0,0]
[null,268,null,null,null,null,null,null,null,null,0,0,0,0,0,0,0,0,0,0,0,0,0]
[null,269,null,null,null,null,null,null,null,null,0,0,0,0,0,0,0,0,0,0,0,0,0]
[null,270,null,null,null,null,null,null,null,null,0,0,0,0,0,0,0,0,0,0,0,0,0]
[null,271,null,null,null,null,null,null,null,null,{"$f":"IF($D276=K$5,$F276,0)","v":0},0,0,0,0,0,0,0,0,0,0,0,0]
[null,272,null,null,null,null,null,null,null,null,0,0,0,0,0,0,0,0,0,0,0,0,0]
[null,273,null,null,null,null,null,null,null,null,0,0,0,0,0,0,0,0,0,0,0,0,0]
[null,274,null,null,null,null,null,null,null,null,0,0,0,0,0,0,0,0,0,0,0,0,0]
[null,275,null,null,null,null,null,null,null,null,0,0,0,0,0,0,0,0,0,0,0,0,0]
[null,276,null,null,null,null,null,null,null,null,0,0,0,0,0,0,0,0,0,0,0,0,0]
[null,277,null,null,null,null,null,null,null,null,0,0,0,0,0,0,0,0,0,0,0,0,0]
[null,278,null,null,null,null,null,null,null,null,0,0,0,0,0,0,0,0,0,0,0,0,0]
[null,279,null,null,null,null,null,null,null,null,0,0,0,0,0,0,0,0,0,0,0,0,0]
[null,280,null,null,null,null,null,null,null,null,0,0,0,0,0,0,0,0,0,0,0,0,0]
[null,281,null,null,null,null,null,null,null,null,{"$f":"IF($D286=K$5,$F286,0)","v":0},0,0,0,0,0,0,0,0,0,0,0,0]
[null,282,null,null,null,null,null,null,null,null,0,0,0,0,0,0,0,0,0,0,0,0,0]
[null,283,null,null,null,null,null,null,null,null,0,0,0,0,0,0,0,0,0,0,0,0,0]
[null,284,null,null,null,null,null,null,null,null,0,0,0,0,0,0,0,0,0,0,0,0,0]
[null,285,null,null,null,null,null,null,null,null,0,0,0,0,0,0,0,0,0,0,0,0,0]
[null,286,null,null,null,null,null,null,null,null,0,0,0,0,0,0,0,0,0,0,0,0,0]
[null,287,null,null,null,null,null,null,null,null,0,0,0,0,0,0,0,0,0,0,0,0,0]
[null,288,null,null,null,null,null,null,null,null,0,0,0,0,0,0,0,0,0,0,0,0,0]
[null,289,null,null,null,null,null,null,null,null,0,0,0,0,0,0,0,0,0,0,0,0,0]
[null,290,null,null,null,null,null,null,null,null,0,0,0,0,0,0,0,0,0,0,0,0,0]
[null,291,null,null,null,null,null,null,null,null,{"$f":"IF($D296=K$5,$F296,0)","v":0},0,0,0,0,0,0,0,0,0,0,0,0]
[null,292,null,null,null,null,null,null,null,null,0,0,0,0,0,0,0,0,0,0,0,0,0]
[null,293,null,null,null,null,null,null,null,null,0,0,0,0,0,0,0,0,0,0,0,0,0]
[null,294,null,null,null,null,null,null,null,null,0,0,0,0,0,0,0,0,0,0,0,0,0]
[null,295,null,null,null,null,null,null,null,null,0,0,0,0,0,0,0,0,0,0,0,0,0]
[null,296,null,null,null,null,null,null,null,null,0,0,0,0,0,0,0,0,0,0,0,0,0]
[null,297,null,null,null,null,null,null,null,null,0,0,0,0,0,0,0,0,0,0,0,0,0]
[null,298,null,null,null,null,null,null,null,null,0,0,0,0,0,0,0,0,0,0,0,0,0]
[null,299,null,null,null,null,null,null,null,null,0,0,0,0,0,0,0,0,0,0,0,0,0]
[null,300,null,null,null,null,null,null,null,null,0,0,0,0,0,0,0,0,0,0,0,0,0]
[null,null,null,null,null,null,null,null,null,null,{"$f":"SUM(K6:K305)","v":0},{"$f":"SUM(L6:L305)","v":0},0,0,0,0,0,0,0,0,0,0,0]

{"sheet":"11","index":11,"n_rows":306,"n_cols":23,"rows_kept":306,"cut":false,"hidden":false,"merged":[]}
[]
[null,null,{"$f":"menu!B18","v":"IMPUESTOS"}]
[]
[null,null,null,null,null,null,null,null,null,"Enero"]
[null,null,"DIA","MES","CONCEPTO","TOTAL",null,null,null,"Febrero","Enero","Febrero","Marzo","Abril","Mayo","Junio","Julio","Agosto","Septiembre","Octubre","Noviembre","Diciembre"]
[null,1,null,null,null,null,null,null,null,"Marzo",{"$f":"IF($D6=K$5,$F6,0)","v":0},{"$f":"IF($D6=L$5,$F6,0)","v":0},0,0,0,0,0,0,0,0,0,0,0]
[null,2,null,null,null,null,null,null,null,"Abril",0,0,0,0,0,0,0,0,0,0,0,0,0]
[null,3,null,null,null,null,null,null,null,"Mayo",0,0,0,0,0,0,0,0,0,0,0,0,0]
[null,4,null,null,null,null,null,null,null,"Junio",0,0,0,0,0,0,0,0,0,0,0,0,0]
[null,5,null,null,null,null,null,null,null,"Julio",0,0,0,0,0,0,0,0,0,0,0,0,0]
[null,6,null,null,null,null,null,null,null,"Agosto",0,0,0,0,0,0,0,0,0,0,0,0,0]
[null,7,null,null,null,null,null,null,null,"Septiembre",0,0,0,0,0,0,0,0,0,0,0,0,0]
[null,8,null,null,null,null,null,null,null,"Octubre",0,0,0,0,0,0,0,0,0,0,0,0,0]
[null,9,null,null,null,null,null,null,null,"Noviembre",0,0,0,0,0,0,0,0,0,0,0,0,0]
[null,10,null,null,null,null,null,null,null,"Diciembre",0,0,0,0,0,0,0,0,0,0,0,0,0]
[null,11,null,null,null,null,null,null,null,null,0,0,0,0,0,0,0,0,0,0,0,0,0]
[null,12,null,null,null,null,null,null,null,null,0,0,0,0,0,0,0,0,0,0,0,0,0]
[null,13,null,null,null,null,null,null,null,null,0,0,0,0,0,0,0,0,0,0,0,0,0]
[null,14,null,null,null,null,null,null,null,null,0,0,0,0,0,0,0,0,0,0,0,0,0]
[null,15,null,null,null,null,null,null,null,null,0,0,0,0,0,0,0,0,0,0,0,0,0]
[null,16,null,null,null,null,null,null,null,null,0,0,0,0,0,0,0,0,0,0,0,0,0]
[null,17,null,null,null,null,null,null,null,null,0,{"$f":"IF($D22=L$5,$F22,0)","v":0},0,0,0,0,0,0,0,0,0,0,0]
[null,18,null,null,null,null,null,null,null,null,{"$f":"IF($D23=K$5,$F23,0)","v":0},0,0,0,0,0,0,0,0,0,0,0,0]
[null,19,null,null,null,null,null,null,null,null,0,0,0,0,0,0,0,0,0,0,0,0,0]
[null,20,null,null,null,null,null,null,null,null,0,0,0,0,0,0,0,0,0,0,0,0,0]
[null,21,null,null,null,null,null,null,null,null,0,0,0,0,0,0,0,0,0,0,0,0,0]
[null,22,null,null,null,null,null,null,null,null,0,0,0,0,0,0,0,0,0,0,0,0,0]
[null,23,null,null,null,null,null,null,null,null,0,0,0,0,0,0,0,0,0,0,0,0,0]
[null,24,null,null,null,null,null,null,null,null,0,0,0,0,0,0,0,0,0,0,0,0,0]
[null,25,null,null,null,null,null,null,null,null,0,0,0,0,0,0,0,0,0,0,0,0,0]
[null,26,null,null,null,null,null,null,null,null,0,0,0,0,0,0,0,0,0,0,0,0,0]
[null,27,null,null,null,null,null,null,null,null,0,0,0,0,0,0,0,0,0,0,0,0,0]
[null,28,null,null,null,null,null,null,null,null,0,0,0,0,0,0,0,0,0,0,0,0,0]
[null,29,null,null,null,null,null,null,null,null,0,0,0,0,0,0,0,0,0,0,0,0,0]
[null,30,null,null,null,null,null,null,null,null,0,0,0,0,0,0,0,0,0,0,0,0,0]
[null,31,null,null,null,null,null,null,null,null,0,0,0,0,0,0,0,0,0,0,0,0,0]
[null,32,null,null,null,null,null,null,null,null,0,0,0,0,0,0,0,0,0,0,0,0,0]
[null,33,null,null,null,null,null,null,null,null,0,0,0,0,0,0,0,0,0,0,0,0,0]
[null,34,null,null,null,null,null,null,null,null,{"$f":"IF($D39=K$5,$F39,0)","v":0},0,0,0,0,0,0,0,0,0,0,0,0]
[null,35,null,null,null,null,null,null,null,null,0,0,0,0,0,0,0,0,0,0,0,0,0]
[null,36,null,null,null,null,null,null,null,null,0,0,0,0,0,0,0,0,0,0,0,0,0]
[null,37,null,null,null,null,null,null,null,null,0,0,0,0,0,0,0,0,0,0,0,0,0]
[null,38,null,null,null,null,null,null,null,null,0,0,0,0,0,0,0,0,0,0,0,0,0]
[null,39,null,null,null,null,null,null,null,null,0,0,0,0,0,0,0,0,0,0,0,0,0]
[null,40,null,null,null,null,null,null,null,null,0,0,0,0,0,0,0,0,0,0,0,0,0]
[null,41,null,null,null,null,null,null,null,null,0,0,0,0,0,0,0,0,0,0,0,0,0]
[null,42,null,null,null,null,null,null,null,null,0,0,0,0,0,0,0,0,0,0,0,0,0]
[null,43,null,null,null,null,null,null,null,null,0,0,0,0,0,0,0,0,0,0,0,0,0]
[null,44,null,null,null,null,null,null,null,null,0,0,0,0,0,0,0,0,0,0,0,0,0]
[null,45,null,null,null,null,null,null,null,null,0,0,0,0,0,0,0,0,0,0,0,0,0]
[null,46,null,null,null,null,null,null,null,null,0,0,0,0,0,0,0,0,0,0,0,0,0]
[null,47,null,null,null,null,null,null,null,null,0,0,0,0,0,0,0,0,0,0,0,0,0]
[null,48,null,null,null,null,null,null,null,null,0,0,0,0,0,0,0,0,0,0,0,0,0]
[null,49,null,null,null,null,null,null,null,null,0,0,0,0,0,0,0,0,0,0,0,0,0]
[null,50,null,null,null,null,null,null,null,null,{"$f":"IF($D55=K$5,$F55,0)","v":0},0,0,0,0,0,0,0,0,0,0,0,0]
[null,51,null,null,null,null,null,null,null,null,0,0,0,0,0,0,0,0,0,0,0,0,0]
[null,52,null,null,null,null,null,null,null,null,0,0,0,0,0,0,0,0,0,0,0,0,0]
[null,53,null,null,null,null,null,null,null,null,0,0,0,0,0,0,0,0,0,0,0,0,0]
[null,54,null,null,null,null,null,null,null,null,0,0,0,0,0,0,0,0,0,0,0,0,0]
[null,55,null,null,null,null,null,null,null,null,0,0,0,0,0,0,0,0,0,0,0,0,0]
[null,56,null,null,null,null,null,null,null,null,0,0,0,0,0,0,0,0,0,0,0,0,0]
[null,57,null,null,null,null,null,null,null,null,0,0,0,0,0,0,0,0,0,0,0,0,0]
[null,58,null,null,null,null,null,null,null,null,0,0,0,0,0,0,0,0,0,0,0,0,0]
[null,59,null,null,null,null,null,null,null,null,0,0,0,0,0,0,0,0,0,0,0,0,0]
[null,60,null,null,null,null,null,null,null,null,0,0,0,0,0,0,0,0,0,0,0,0,0]
[null,61,null,null,null,null,null,null,null,null,0,0,0,0,0,0,0,0,0,0,0,0,0]
[null,62,null,null,null,null,null,null,null,null,0,0,0,0,0,0,0,0,0,0,0,0,0]
[null,63,null,null,null,null,null,null,null,null,0,0,0,0,0,0,0,0,0,0,0,0,0]
[null,64,null,null,null,null,null,null,null,null,0,0,0,0,0,0,0,0,0,0,0,0,0]
[null,65,null,null,null,null,null,null,null,null,0,0,0,0,0,0,0,0,0,0,0,0,0]
[null,66,null,null,null,null,null,null,null,null,{"$f":"IF($D71=K$5,$F71,0)","v":0},0,0,0,0,0,0,0,0,0,0,0,0]
[null,67,null,null,null,null,null,null,null,null,0,0,0,0,0,0,0,0,0,0,0,0,0]
[null,68,null,null,null,null,null,null,null,null,0,0,0,0,0,0,0,0,0,0,0,0,0]
[null,69,null,null,null,null,null,null,null,null,0,0,0,0,0,0,0,0,0,0,0,0,0]
[null,70,null,null,null,null,null,null,null,null,0,0,0,0,0,0,0,0,0,0,0,0,0]
[null,71,null,null,null,null,null,null,null,null,0,0,0,0,0,0,0,0,0,0,0,0,0]
[null,72,null,null,null,null,null,null,null,null,0,0,0,0,0,0,0,0,0,0,0,0,0]
[null,73,null,null,null,null,null,null,null,null,0,0,0,0,0,0,0,0,0,0,0,0,0]
[null,74,null,null,null,null,null,null,null,null,0,0,0,0,0,0,0,0,0,0,0,0,0]
[null,75,null,null,null,null,null,null,null,null,0,0,0,0,0,0,0,0,0,0,0,0,0]
[null,76,null,null,null,null,null,null,null,null,0,0,0,0,0,0,0,0,0,0,0,0,0]
[null,77,null,null,null,null,null,null,null,null,0,0,0,0,0,0,0,0,0,0,0,0,0]
[null,78,null,null,null,null,null,null,null,null,0,0,0,0,0,0,0,0,0,0,0,0,0]
[null,79,null,null,null,null,null,null,null,null,0,0,0,0,0,0,0,0,0,0,0,0,0]
[null,80,null,null,null,null,null,null,null,null,0,0,0,0,0,0,0,0,0,0,0,0,0]
[null,81,null,null,null,null,null,null,null,null,0,0,0,0,0,0,0,0,0,0,0,0,0]
[null,82,null,null,null,null,null,null,null,null,{"$f":"IF($D87=K$5,$F87,0)","v":0},0,0,0,0,0,0,0,0,0,0,0,0]
[null,83,null,null,null,null,null,null,null,null,0,0,0,0,0,0,0,0,0,0,0,0,0]
[null,84,null,null,null,null,null,null,null,null,0,0,0,0,0,0,0,0,0,0,0,0,0]
[null,85,null,null,null,null,null,null,null,null,0,0,0,0,0,0,0,0,0,0,0,0,0]
[null,86,null,null,null,null,null,null,null,null,0,0,0,0,0,0,0,0,0,0,0,0,0]
[null,87,null,null,null,null,null,null,null,null,0,0,0,0,0,0,0,0,0,0,0,0,0]
[null,88,null,null,null,null,null,null,null,null,0,0,0,0,0,0,0,0,0,0,0,0,0]
[null,89,null,null,null,null,null,null,null,null,0,0,0,0,0,0,0,0,0,0,0,0,0]
[null,90,null,null,null,null,null,null,null,null,0,0,0,0,0,0,0,0,0,0,0,0,0]
[null,91,null,null,null,null,null,null,null,null,0,0,0,0,0,0,0,0,0,0,0,0,0]
[null,92,null,null,null,null,null,null,null,null,0,0,0,0,0,0,0,0,0,0,0,0,0]
[null,93,null,null,null,null,null,null,null,null,0,0,0,0,0,0,0,0,0,0,0,0,0]
[null,94,null,null,null,null,null,null,null,null,0,0,0,0,0,0,0,0,0,0,0,0,0]
[null,95,null,null,null,null,null,null,null,null,0,0,0,0,0,0,0,0,0,0,0,0,0]
[null,96,null,null,null,null,null,null,null,null,0,0,0,0,0,0,0,0,0,0,0,0,0]
[null,97,null,null,null,null,null,null,null,null,0,0,0,0,0,0,0,0,0,0,0,0,0]
[null,98,null,null,null,null,null,null,null,null,{"$f":"IF($D103=K$5,$F103,0)","v":0},0,0,0,0,0,0,0,0,0,0,0,0]
[null,99,null,null,null,null,null,null,null,null,0,0,0,0,0,0,0,0,0,0,0,0,0]
[null,100,null,null,null,null,null,null,null,null,0,0,0,0,0,0,0,0,0,0,0,0,0]
[null,101,null,null,null,null,null,null,null,null,0,0,0,0,0,0,0,0,0,0,0,0,0]
[null,102,null,null,null,null,null,null,null,null,0,0,0,0,0,0,0,0,0,0,0,0,0]
[null,103,null,null,null,null,null,null,null,null,0,0,0,0,0,0,0,0,0,0,0,0,0]
[null,104,null,null,null,null,null,null,null,null,0,0,0,0,0,0,0,0,0,0,0,0,0]
[null,105,null,null,null,null,null,null,null,null,0,0,0,0,0,0,0,0,0,0,0,0,0]
[null,106,null,null,null,null,null,null,null,null,0,0,0,0,0,0,0,0,0,0,0,0,0]
[null,107,null,null,null,null,null,null,null,null,0,0,0,0,0,0,0,0,0,0,0,0,0]
[null,108,null,null,null,null,null,null,null,null,0,0,0,0,0,0,0,0,0,0,0,0,0]
[null,109,null,null,null,null,null,null,null,null,0,0,0,0,0,0,0,0,0,0,0,0,0]
[null,110,null,null,null,null,null,null,null,null,0,0,0,0,0,0,0,0,0,0,0,0,0]
[null,111,null,null,null,null,null,null,null,null,0,0,0,0,0,0,0,0,0,0,0,0,0]
[null,112,null,null,null,null,null,null,null,null,0,0,0,0,0,0,0,0,0,0,0,0,0]
[null,113,null,null,null,null,null,null,null,null,0,0,0,0,0,0,0,0,0,0,0,0,0]
[null,114,null,null,null,null,null,null,null,null,{"$f":"IF($D119=K$5,$F119,0)","v":0},0,0,0,0,0,0,0,0,0,0,0,0]
[null,115,null,null,null,null,null,null,null,null,0,0,0,0,0,0,0,0,0,0,0,0,0]
[null,116,null,null,null,null,null,null,null,null,0,0,0,0,0,0,0,0,0,0,0,0,0]
[null,117,null,null,null,null,null,null,null,null,0,0,0,0,0,0,0,0,0,0,0,0,0]
[null,118,null,null,null,null,null,null,null,null,0,0,0,0,0,0,0,0,0,0,0,0,0]
[null,119,null,null,null,null,null,null,null,null,0,0,0,0,0,0,0,0,0,0,0,0,0]
[null,120,null,null,null,null,null,null,null,null,0,0,0,0,0,0,0,0,0,0,0,0,0]
[null,121,null,null,null,null,null,null,null,null,0,0,0,0,0,0,0,0,0,0,0,0,0]
[null,122,null,null,null,null,null,null,null,null,0,0,0,0,0,0,0,0,0,0,0,0,0]
[null,123,null,null,null,null,null,null,null,null,0,0,0,0,0,0,0,0,0,0,0,0,0]
[null,124,null,null,null,null,null,null,null,null,0,0,0,0,0,0,0,0,0,0,0,0,0]
[null,125,null,null,null,null,null,null,null,null,0,0,0,0,0,0,0,0,0,0,0,0,0]
[null,126,null,null,null,null,null,null,null,null,0,0,0,0,0,0,0,0,0,0,0,0,0]
[null,127,null,null,null,null,null,null,null,null,0,0,0,0,0,0,0,0,0,0,0,0,0]
[null,128,null,null,null,null,null,null,null,null,0,0,0,0,0,0,0,0,0,0,0,0,0]
[null,129,null,null,null,null,null,null,null,null,0,0,0,0,0,0,0,0,0,0,0,0,0]
[null,130,null,null,null,null,null,null,null,null,{"$f":"IF($D135=K$5,$F135,0)","v":0},0,0,0,0,0,0,0,0,0,0,0,0]
[null,131,null,null,null,null,null,null,null,null,0,0,0,0,0,0,0,0,0,0,0,0,0]
[null,132,null,null,null,null,null,null,null,null,0,0,0,0,0,0,0,0,0,0,0,0,0]
[null,133,null,null,null,null,null,null,null,null,0,0,0,0,0,0,0,0,0,0,0,0,0]
[null,134,null,null,null,null,null,null,null,null,0,0,0,0,0,0,0,0,0,0,0,0,0]
[null,135,null,null,null,null,null,null,null,null,0,0,0,0,0,0,0,0,0,0,0,0,0]
[null,136,null,null,null,null,null,null,null,null,0,0,0,0,0,0,0,0,0,0,0,0,0]
[null,137,null,null,null,null,null,null,null,null,0,0,0,0,0,0,0,0,0,0,0,0,0]
[null,138,null,null,null,null,null,null,null,null,0,0,0,0,0,0,0,0,0,0,0,0,0]
[null,139,null,null,null,null,null,null,null,null,0,0,0,0,0,0,0,0,0,0,0,0,0]
[null,140,null,null,null,null,null,null,null,null,0,0,0,0,0,0,0,0,0,0,0,0,0]
[null,141,null,null,null,null,null,null,null,null,0,0,0,0,0,0,0,0,0,0,0,0,0]
[null,142,null,null,null,null,null,null,null,null,0,0,0,0,0,0,0,0,0,0,0,0,0]
[null,143,null,null,null,null,null,null,null,null,0,0,0,0,0,0,0,0,0,0,0,0,0]
[null,144,null,null,null,null,null,null,null,null,0,0,0,0,0,0,0,0,0,0,0,0,0]
[null,145,null,null,null,null,null,null,null,null,0,0,0,0,0,0,0,0,0,0,0,0,0]
[null,146,null,null,null,null,null,null,null,null,{"$f":"IF($D151=K$5,$F151,0)","v":0},0,0,0,0,0,0,0,0,0,0,0,0]
[null,147,null,null,null,null,null,null,null,null,0,0,0,0,0,0,0,0,0,0,0,0,0]
[null,148,null,null,null,null,null,null,null,null,0,0,0,0,0,0,0,0,0,0,0,0,0]
[null,149,null,null,null,null,null,null,null,null,0,0,0,0,0,0,0,0,0,0,0,0,0]
[null,150,null,null,null,null,null,null,null,null,0,0,0,0,0,0,0,0,0,0,0,0,0]
[null,151,null,null,null,null,null,null,null,null,0,0,0,0,0,0,0,0,0,0,0,0,0]
[null,152,null,null,null,null,null,null,null,null,0,0,0,0,0,0,0,0,0,0,0,0,0]
[null,153,null,null,null,null,null,null,null,null,0,0,0,0,0,0,0,0,0,0,0,0,0]
[null,154,null,null,null,null,null,null,null,null,0,0,0,0,0,0,0,0,0,0,0,0,0]
[null,155,null,null,null,null,null,null,null,null,0,0,0,0,0,0,0,0,0,0,0,0,0]
[null,156,null,null,null,null,null,null,null,null,0,0,0,0,0,0,0,0,0,0,0,0,0]
[null,157,null,null,null,null,null,null,null,null,0,0,0,0,0,0,0,0,0,0,0,0,0]
[null,158,null,null,null,null,null,null,null,null,0,0,0,0,0,0,0,0,0,0,0,0,0]
[null,159,null,null,null,null,null,null,null,null,0,0,0,0,0,0,0,0,0,0,0,0,0]
[null,160,null,null,null,null,null,null,null,null,0,0,0,0,0,0,0,0,0,0,0,0,0]
[null,161,null,null,null,null,null,null,null,null,0,0,0,0,0,0,0,0,0,0,0,0,0]
[null,162,null,null,null,null,null,null,null,null,{"$f":"IF($D167=K$5,$F167,0)","v":0},0,0,0,0,0,0,0,0,0,0,0,0]
[null,163,null,null,null,null,null,null,null,null,0,0,0,0,0,0,0,0,0,0,0,0,0]
[null,164,null,null,null,null,null,null,null,null,0,0,0,0,0,0,0,0,0,0,0,0,0]
[null,165,null,null,null,null,null,null,null,null,0,0,0,0,0,0,0,0,0,0,0,0,0]
[null,166,null,null,null,null,null,null,null,null,0,0,0,0,0,0,0,0,0,0,0,0,0]
[null,167,null,null,null,null,null,null,null,null,0,0,0,0,0,0,0,0,0,0,0,0,0]
[null,168,null,null,null,null,null,null,null,null,0,0,0,0,0,0,0,0,0,0,0,0,0]
[null,169,null,null,null,null,null,null,null,null,0,0,0,0,0,0,0,0,0,0,0,0,0]
[null,170,null,null,null,null,null,null,null,null,0,0,0,0,0,0,0,0,0,0,0,0,0]
[null,171,null,null,null,null,null,null,null,null,0,0,0,0,0,0,0,0,0,0,0,0,0]
[null,172,null,null,null,null,null,null,null,null,0,0,0,0,0,0,0,0,0,0,0,0,0]
[null,173,null,null,null,null,null,null,null,null,0,0,0,0,0,0,0,0,0,0,0,0,0]
[null,174,null,null,null,null,null,null,null,null,0,0,0,0,0,0,0,0,0,0,0,0,0]
[null,175,null,null,null,null,null,null,null,null,0,0,0,0,0,0,0,0,0,0,0,0,0]
[null,176,null,null,null,null,null,null,null,null,0,0,0,0,0,0,0,0,0,0,0,0,0]
[null,177,null,null,null,null,null,null,null,null,0,0,0,0,0,0,0,0,0,0,0,0,0]
[null,178,null,null,null,null,null,null,null,null,{"$f":"IF($D183=K$5,$F183,0)","v":0},0,0,0,0,0,0,0,0,0,0,0,0]
[null,179,null,null,null,null,null,null,null,null,0,0,0,0,0,0,0,0,0,0,0,0,0]
[null,180,null,null,null,null,null,null,null,null,0,0,0,0,0,0,0,0,0,0,0,0,0]
[null,181,null,null,null,null,null,null,null,null,0,0,0,0,0,0,0,0,0,0,0,0,0]
[null,182,null,null,null,null,null,null,null,null,0,0,0,0,0,0,0,0,0,0,0,0,0]
[null,183,null,null,null,null,null,null,null,null,0,0,0,0,0,0,0,0,0,0,0,0,0]
[null,184,null,null,null,null,null,null,null,null,0,0,0,0,0,0,0,0,0,0,0,0,0]
[null,185,null,null,null,null,null,null,null,null,0,0,0,0,0,0,0,0,0,0,0,0,0]
[null,186,null,null,null,null,null,null,null,null,0,0,0,0,0,0,0,0,0,0,0,0,0]
[null,187,null,null,null,null,null,null,null,null,0,0,0,0,0,0,0,0,0,0,0,0,0]
[null,188,null,null,null,null,null,null,null,null,0,0,0,0,0,0,0,0,0,0,0,0,0]
[null,189,null,null,null,null,null,null,null,null,0,0,0,0,0,0,0,0,0,0,0,0,0]
[null,190,null,null,null,null,null,null,null,null,0,0,0,0,0,0,0,0,0,0,0,0,0]
[null,191,null,null,null,null,null,null,null,null,0,0,0,0,0,0,0,0,0,0,0,0,0]
[null,192,null,null,null,null,null,null,null,null,0,0,0,0,0,0,0,0,0,0,0,0,0]
[null,193,null,null,null,null,null,null,null,null,0,0,0,0,0,0,0,0,0,0,0,0,0]
[null,194,null,null,null,null,null,null,null,null,{"$f":"IF($D199=K$5,$F199,0)","v":0},0,0,0,0,0,0,0,0,0,0,0,0]
[null,195,null,null,null,null,null,null,null,null,0,0,0,0,0,0,0,0,0,0,0,0,0]
[null,196,null,null,null,null,null,null,null,null,0,0,0,0,0,0,0,0,0,0,0,0,0]
[null,197,null,null,null,null,null,null,null,null,0,0,0,0,0,0,0,0,0,0,0,0,0]
[null,198,null,null,null,null,null,null,null,null,0,0,0,0,0,0,0,0,0,0,0,0,0]
[null,199,null,null,null,null,null,null,null,null,0,0,0,0,0,0,0,0,0,0,0,0,0]
[null,200,null,null,null,null,null,null,null,null,0,0,0,0,0,0,0,0,0,0,0,0,0]
[null,201,null,null,null,null,null,null,null,null,0,0,0,0,0,0,0,0,0,0,0,0,0]
[null,202,null,null,null,null,null,null,null,null,0,0,0,0,0,0,0,0,0,0,0,0,0]
[null,203,null,null,null,null,null,null,null,null,0,0,0,0,0,0,0,0,0,0,0,0,0]
[null,204,null,null,null,null,null,null,null,null,0,0,0,0,0,0,0,0,0,0,0,0,0]
[null,205,null,null,null,null,null,null,null,null,0,0,0,0,0,0,0,0,0,0,0,0,0]
[null,206,null,null,null,null,null,null,null,null,0,0,0,0,0,0,0,0,0,0,0,0,0]
[null,207,null,null,null,null,null,null,null,null,0,0,0,0,0,0,0,0,0,0,0,0,0]
[null,208,null,null,null,null,null,null,null,null,0,0,0,0,0,0,0,0,0,0,0,0,0]
[null,209,null,null,null,null,null,null,null,null,0,0,0,0,0,0,0,0,0,0,0,0,0]
[null,210,null,null,null,null,null,null,null,null,{"$f":"IF($D215=K$5,$F215,0)","v":0},0,0,0,0,0,0,0,0,0,0,0,0]
[null,211,null,null,null,null,null,null,null,null,0,0,0,0,0,0,0,0,0,0,0,0,0]
[null,212,null,null,null,null,null,null,null,null,0,0,0,0,0,0,0,0,0,0,0,0,0]
[null,213,null,null,null,null,null,null,null,null,0,0,0,0,0,0,0,0,0,0,0,0,0]
[null,214,null,null,null,null,null,null,null,null,0,0,0,0,0,0,0,0,0,0,0,0,0]
[null,215,null,null,null,null,null,null,null,null,0,0,0,0,0,0,0,0,0,0,0,0,0]
[null,216,null,null,null,null,null,null,null,null,0,0,0,0,0,0,0,0,0,0,0,0,0]
[null,217,null,null,null,null,null,null,null,null,0,0,0,0,0,0,0,0,0,0,0,0,0]
[null,218,null,null,null,null,null,null,null,null,0,0,0,0,0,0,0,0,0,0,0,0,0]
[null,219,null,null,null,null,null,null,null,null,0,0,0,0,0,0,0,0,0,0,0,0,0]
[null,220,null,null,null,null,null,null,null,null,0,0,0,0,0,0,0,0,0,0,0,0,0]
[null,221,null,null,null,null,null,null,null,null,0,0,0,0,0,0,0,0,0,0,0,0,0]
[null,222,null,null,null,null,null,null,null,null,0,0,0,0,0,0,0,0,0,0,0,0,0]
[null,223,null,null,null,null,null,null,null,null,0,0,0,0,0,0,0,0,0,0,0,0,0]
[null,224,null,null,null,null,null,null,null,null,0,0,0,0,0,0,0,0,0,0,0,0,0]
[null,225,null,null,null,null,null,null,null,null,0,0,0,0,0,0,0,0,0,0,0,0,0]
[null,226,null,null,null,null,null,null,null,null,{"$f":"IF($D231=K$5,$F231,0)","v":0},0,0,0,0,0,0,0,0,0,0,0,0]
[null,227,null,null,null,null,null,null,null,null,0,0,0,0,0,0,0,0,0,0,0,0,0]
[null,228,null,null,null,null,null,null,null,null,0,0,0,0,0,0,0,0,0,0,0,0,0]
[null,229,null,null,null,null,null,null,null,null,0,0,0,0,0,0,0,0,0,0,0,0,0]
[null,230,null,null,null,null,null,null,null,null,0,0,0,0,0,0,0,0,0,0,0,0,0]
[null,231,null,null,null,null,null,null,null,null,0,0,0,0,0,0,0,0,0,0,0,0,0]
[null,232,null,null,null,null,null,null,null,null,0,0,0,0,0,0,0,0,0,0,0,0,0]
[null,233,null,null,null,null,null,null,null,null,0,0,0,0,0,0,0,0,0,0,0,0,0]
[null,234,null,null,null,null,null,null,null,null,0,0,0,0,0,0,0,0,0,0,0,0,0]
[null,235,null,null,null,null,null,null,null,null,0,0,0,0,0,0,0,0,0,0,0,0,0]
[null,236,null,null,null,null,null,null,null,null,0,0,0,0,0,0,0,0,0,0,0,0,0]
[null,237,null,null,null,null,null,null,null,null,0,0,0,0,0,0,0,0,0,0,0,0,0]
[null,238,null,null,null,null,null,null,null,null,0,0,0,0,0,0,0,0,0,0,0,0,0]
[null,239,null,null,null,null,null,null,null,null,0,0,0,0,0,0,0,0,0,0,0,0,0]
[null,240,null,null,null,null,null,null,null,null,0,0,0,0,0,0,0,0,0,0,0,0,0]
[null,241,null,null,null,null,null,null,null,null,0,0,0,0,0,0,0,0,0,0,0,0,0]
[null,242,null,null,null,null,null,null,null,null,{"$f":"IF($D247=K$5,$F247,0)","v":0},0,0,0,0,0,0,0,0,0,0,0,0]
[null,243,null,null,null,null,null,null,null,null,0,0,0,0,0,0,0,0,0,0,0,0,0]
[null,244,null,null,null,null,null,null,null,null,0,0,0,0,0,0,0,0,0,0,0,0,0]
[null,245,null,null,null,null,null,null,null,null,0,0,0,0,0,0,0,0,0,0,0,0,0]
[null,246,null,null,null,null,null,null,null,null,0,0,0,0,0,0,0,0,0,0,0,0,0]
[null,247,null,null,null,null,null,null,null,null,0,0,0,0,0,0,0,0,0,0,0,0,0]
[null,248,null,null,null,null,null,null,null,null,0,0,0,0,0,0,0,0,0,0,0,0,0]
[null,249,null,null,null,null,null,null,null,null,0,0,0,0,0,0,0,0,0,0,0,0,0]
[null,250,null,null,null,null,null,null,null,null,0,0,0,0,0,0,0,0,0,0,0,0,0]
[null,251,null,null,null,null,null,null,null,null,0,0,0,0,0,0,0,0,0,0,0,0,0]
[null,252,null,null,null,null,null,null,null,null,0,0,0,0,0,0,0,0,0,0,0,0,0]
[null,253,null,null,null,null,null,null,null,null,0,0,0,0,0,0,0,0,0,0,0,0,0]
[null,254,null,null,null,null,null,null,null,null,0,0,0,0,0,0,0,0,0,0,0,0,0]
[null,255,null,null,null,null,null,null,null,null,0,0,0,0,0,0,0,0,0,0,0,0,0]
[null,256,null,null,null,null,null,null,null,null,0,0,0,0,0,0,0,0,0,0,0,0,0]
[null,257,null,null,null,null,null,null,null,null,0,0,0,0,0,0,0,0,0,0,0,0,0]
[null,258,null,null,null,null,null,null,null,null,{"$f":"IF($D263=K$5,$F263,0)","v":0},0,0,0,0,0,0,0,0,0,0,0,0]
[null,259,null,null,null,null,null,null,null,null,0,0,0,0,0,0,0,0,0,0,0,0,0]
[null,260,null,null,null,null,null,null,null,null,0,0,0,0,0,0,0,0,0,0,0,0,0]
[null,261,null,null,null,null,null,null,null,null,0,0,0,0,0,0,0,0,0,0,0,0,0]
[null,262,null,null,null,null,null,null,null,null,0,0,0,0,0,0,0,0,0,0,0,0,0]
[null,263,null,null,null,null,null,null,null,null,0,0,0,0,0,0,0,0,0,0,0,0,0]
[null,264,null,null,null,null,null,null,null,null,0,0,0,0,0,0,0,0,0,0,0,0,0]
[null,265,null,null,null,null,null,null,null,null,0,0,0,0,0,0,0,0,0,0,0,0,0]
[null,266,null,null,null,null,null,null,null,null,0,0,0,0,0,0,0,0,0,0,0,0,0]
[null,267,null,null,null,null,null,null,null,null,0,0,0,0,0,0,0,0,0,0,0,0,0]
[null,268,null,null,null,null,null,null,null,null,0,0,0,0,0,0,0,0,0,0,0,0,0]
[null,269,null,null,null,null,null,null,null,null,0,0,0,0,0,0,0,0,0,0,0,0,0]
[null,270,null,null,null,null,null,null,null,null,0,0,0,0,0,0,0,0,0,0,0,0,0]
[null,271,null,null,null,null,null,null,null,null,0,0,0,0,0,0,0,0,0,0,0,0,0]
[null,272,null,null,null,null,null,null,null,null,0,0,0,0,0,0,0,0,0,0,0,0,0]
[null,273,null,null,null,null,null,null,null,null,0,0,0,0,0,0,0,0,0,0,0,0,0]
[null,274,null,null,null,null,null,null,null,null,{"$f":"IF($D279=K$5,$F279,0)","v":0},0,0,0,0,0,0,0,0,0,0,0,0]
[null,275,null,null,null,null,null,null,null,null,0,0,0,0,0,0,0,0,0,0,0,0,0]
[null,276,null,null,null,null,null,null,null,null,0,0,0,0,0,0,0,0,0,0,0,0,0]
[null,277,null,null,null,null,null,null,null,null,0,0,0,0,0,0,0,0,0,0,0,0,0]
[null,278,null,null,null,null,null,null,null,null,0,0,0,0,0,0,0,0,0,0,0,0,0]
[null,279,null,null,null,null,null,null,null,null,0,0,0,0,0,0,0,0,0,0,0,0,0]
[null,280,null,null,null,null,null,null,null,null,0,0,0,0,0,0,0,0,0,0,0,0,0]
[null,281,null,null,null,null,null,null,null,null,0,0,0,0,0,0,0,0,0,0,0,0,0]
[null,282,null,null,null,null,null,null,null,null,0,0,0,0,0,0,0,0,0,0,0,0,0]
[null,283,null,null,null,null,null,null,null,null,0,0,0,0,0,0,0,0,0,0,0,0,0]
[null,284,null,null,null,null,null,null,null,null,0,0,0,0,0,0,0,0,0,0,0,0,0]
[null,285,null,null,null,null,null,null,null,null,0,0,0,0,0,0,0,0,0,0,0,0,0]
[null,286,null,null,null,null,null,null,null,null,0,0,0,0,0,0,0,0,0,0,0,0,0]
[null,287,null,null,null,null,null,null,null,null,0,0,0,0,0,0,0,0,0,0,0,0,0]
[null,288,null,null,null,null,null,null,null,null,0,0,0,0,0,0,0,0,0,0,0,0,0]
[null,289,null,null,null,null,null,null,null,null,0,0,0,0,0,0,0,0,0,0,0,0,0]
[null,290,null,null,null,null,null,null,null,null,{"$f":"IF($D295=K$5,$F295,0)","v":0},0,0,0,0,0,0,0,0,0,0,0,0]
[null,291,null,null,null,null,null,null,null,null,0,0,0,0,0,0,0,0,0,0,0,0,0]
[null,292,null,null,null,null,null,null,null,null,0,0,0,0,0,0,0,0,0,0,0,0,0]
[null,293,null,null,null,null,null,null,null,null,0,0,0,0,0,0,0,0,0,0,0,0,0]
[null,294,null,null,null,null,null,null,null,null,0,0,0,0,0,0,0,0,0,0,0,0,0]
[null,295,null,null,null,null,null,null,null,null,0,0,0,0,0,0,0,0,0,0,0,0,0]
[null,296,null,null,null,null,null,null,null,null,0,0,0,0,0,0,0,0,0,0,0,0,0]
[null,297,null,null,null,null,null,null,null,null,0,0,0,0,0,0,0,0,0,0,0,0,0]
[null,298,null,null,null,null,null,null,null,null,0,0,0,0,0,0,0,0,0,0,0,0,0]
[null,299,null,null,null,null,null,null,null,null,0,0,0,0,0,0,0,0,0,0,0,0,0]
[null,300,null,null,null,null,null,null,null,null,0,0,0,0,0,0,0,0,0,0,0,0,0]
[null,null,null,null,null,null,null,null,null,null,{"$f":"SUM(K6:K305)","v":0},{"$f":"SUM(L6:L305)","v":0},0,0,0,0,0,0,0,0,0,0,0]

{"sheet":"12","index":12,"n_rows":306,"n_cols":23,"rows_kept":306,"cut":false,"hidden":false,"merged":[]}
[]
[null,null,{"$f":"menu!B19","v":"SEGUROS, CREDITOS"}]
[]
[null,null,null,null,null,null,null,null,null,"Enero"]
[null,null,"DIA","MES","CONCEPTO","TOTAL",null,null,null,"Febrero","Enero","Febrero","Marzo","Abril","Mayo","Junio","Julio","Agosto","Septiembre","Octubre","Noviembre","Diciembre"]
[null,1,null,null,null,null,null,null,null,"Marzo",{"$f":"IF($D6=K$5,$F6,0)","v":0},0,0,0,0,0,0,0,0,0,0,0,0]
[null,2,null,null,null,null,null,null,null,"Abril",0,0,0,0,0,0,0,0,0,0,0,0,0]
[null,3,null,null,null,null,null,null,null,"Mayo",0,0,0,0,0,0,0,0,0,0,0,0,0]
[null,4,null,null,null,null,null,null,null,"Junio",0,0,0,0,0,0,0,0,0,0,0,0,0]
[null,5,null,null,null,null,null,null,null,"Julio",0,0,0,0,0,0,0,0,0,0,0,0,0]
[null,6,null,null,null,null,null,null,null,"Agosto",0,0,0,0,0,0,0,0,0,0,0,0,0]
[null,7,null,null,null,null,null,null,null,"Septiembre",0,0,0,0,0,0,0,0,0,0,0,0,0]
[null,8,null,null,null,null,null,null,null,"Octubre",0,0,0,0,0,0,0,0,0,0,0,0,0]
[null,9,null,null,null,null,null,null,null,"Noviembre",0,0,0,0,0,0,0,0,0,0,0,0,0]
[null,10,null,null,null,null,null,null,null,"Diciembre",0,0,0,0,0,0,0,0,0,0,0,0,0]
[null,11,null,null,null,null,null,null,null,null,{"$f":"IF($D16=K$5,$F16,0)","v":0},0,0,0,0,0,0,0,0,0,0,0,0]
[null,12,null,null,null,null,null,null,null,null,0,0,0,0,0,0,0,0,0,0,0,0,0]
[null,13,null,null,null,null,null,null,null,null,0,0,0,0,0,0,0,0,0,0,0,0,0]
[null,14,null,null,null,null,null,null,null,null,0,0,0,0,0,0,0,0,0,0,0,0,0]
[null,15,null,null,null,null,null,null,null,null,0,0,0,0,0,0,0,0,0,0,0,0,0]
[null,16,null,null,null,null,null,null,null,null,0,0,0,0,0,0,0,0,0,0,0,0,0]
[null,17,null,null,null,null,null,null,null,null,0,0,0,0,0,0,0,0,0,0,0,0,0]
[null,18,null,null,null,null,null,null,null,null,0,0,0,0,0,0,0,0,0,0,0,0,0]
[null,19,null,null,null,null,null,null,null,null,0,0,0,0,0,0,0,0,0,0,0,0,0]
[null,20,null,null,null,null,null,null,null,null,0,0,0,0,0,0,0,0,0,0,0,0,0]
[null,21,null,null,null,null,null,null,null,null,{"$f":"IF($D26=K$5,$F26,0)","v":0},0,0,0,0,0,0,0,0,0,0,0,0]
[null,22,null,null,null,null,null,null,null,null,0,0,0,0,0,0,0,0,0,0,0,0,0]
[null,23,null,null,null,null,null,null,null,null,0,0,0,0,0,0,0,0,0,0,0,0,0]
[null,24,null,null,null,null,null,null,null,null,0,0,0,0,0,0,0,0,0,0,0,0,0]
[null,25,null,null,null,null,null,null,null,null,0,0,0,0,0,0,0,0,0,0,0,0,0]
[null,26,null,null,null,null,null,null,null,null,0,0,0,0,0,0,0,0,0,0,0,0,0]
[null,27,null,null,null,null,null,null,null,null,0,0,0,0,0,0,0,0,0,0,0,0,0]
[null,28,null,null,null,null,null,null,null,null,0,0,0,0,0,0,0,0,0,0,0,0,0]
[null,29,null,null,null,null,null,null,null,null,0,0,0,0,0,0,0,0,0,0,0,0,0]
[null,30,null,null,null,null,null,null,null,null,0,0,0,0,0,0,0,0,0,0,0,0,0]
[null,31,null,null,null,null,null,null,null,null,{"$f":"IF($D36=K$5,$F36,0)","v":0},0,0,0,0,0,0,0,0,0,0,0,0]
[null,32,null,null,null,null,null,null,null,null,0,0,0,0,0,0,0,0,0,0,0,0,0]
[null,33,null,null,null,null,null,null,null,null,0,0,0,0,0,0,0,0,0,0,0,0,0]
[null,34,null,null,null,null,null,null,null,null,0,0,0,0,0,0,0,0,0,0,0,0,0]
[null,35,null,null,null,null,null,null,null,null,0,0,0,0,0,0,0,0,0,0,0,0,0]
[null,36,null,null,null,null,null,null,null,null,0,0,0,0,0,0,0,0,0,0,0,0,0]
[null,37,null,null,null,null,null,null,null,null,0,0,0,0,0,0,0,0,0,0,0,0,0]
[null,38,null,null,null,null,null,null,null,null,0,0,0,0,0,0,0,0,0,0,0,0,0]
[null,39,null,null,null,null,null,null,null,null,0,0,0,0,0,0,0,0,0,0,0,0,0]
[null,40,null,null,null,null,null,null,null,null,0,0,0,0,0,0,0,0,0,0,0,0,0]
[null,41,null,null,null,null,null,null,null,null,{"$f":"IF($D46=K$5,$F46,0)","v":0},0,0,0,0,0,0,0,0,0,0,0,0]
[null,42,null,null,null,null,null,null,null,null,0,0,0,0,0,0,0,0,0,0,0,0,0]
[null,43,null,null,null,null,null,null,null,null,0,0,0,0,0,0,0,0,0,0,0,0,0]
[null,44,null,null,null,null,null,null,null,null,0,0,0,0,0,0,0,0,0,0,0,0,0]
[null,45,null,null,null,null,null,null,null,null,0,0,0,0,0,0,0,0,0,0,0,0,0]
[null,46,null,null,null,null,null,null,null,null,0,0,0,0,0,0,0,0,0,0,0,0,0]
[null,47,null,null,null,null,null,null,null,null,0,0,0,0,0,0,0,0,0,0,0,0,0]
[null,48,null,null,null,null,null,null,null,null,0,0,0,0,0,0,0,0,0,0,0,0,0]
[null,49,null,null,null,null,null,null,null,null,0,0,0,0,0,0,0,0,0,0,0,0,0]
[null,50,null,null,null,null,null,null,null,null,0,0,0,0,0,0,0,0,0,0,0,0,0]
[null,51,null,null,null,null,null,null,null,null,{"$f":"IF($D56=K$5,$F56,0)","v":0},0,0,0,0,0,0,0,0,0,0,0,0]
[null,52,null,null,null,null,null,null,null,null,0,0,0,0,0,0,0,0,0,0,0,0,0]
[null,53,null,null,null,null,null,null,null,null,0,0,0,0,0,0,0,0,0,0,0,0,0]
[null,54,null,null,null,null,null,null,null,null,0,0,0,0,0,0,0,0,0,0,0,0,0]
[null,55,null,null,null,null,null,null,null,null,0,0,0,0,0,0,0,0,0,0,0,0,0]
[null,56,null,null,null,null,null,null,null,null,0,0,0,0,0,0,0,0,0,0,0,0,0]
[null,57,null,null,null,null,null,null,null,null,0,0,0,0,0,0,0,0,0,0,0,0,0]
[null,58,null,null,null,null,null,null,null,null,0,0,0,0,0,0,0,0,0,0,0,0,0]
[null,59,null,null,null,null,null,null,null,null,0,0,0,0,0,0,0,0,0,0,0,0,0]
[null,60,null,null,null,null,null,null,null,null,0,0,0,0,0,0,0,0,0,0,0,0,0]
[null,61,null,null,null,null,null,null,null,null,{"$f":"IF($D66=K$5,$F66,0)","v":0},0,0,0,0,0,0,0,0,0,0,0,0]
[null,62,null,null,null,null,null,null,null,null,0,0,0,0,0,0,0,0,0,0,0,0,0]
[null,63,null,null,null,null,null,null,null,null,0,0,0,0,0,0,0,0,0,0,0,0,0]
[null,64,null,null,null,null,null,null,null,null,0,0,0,0,0,0,0,0,0,0,0,0,0]
[null,65,null,null,null,null,null,null,null,null,0,0,0,0,0,0,0,0,0,0,0,0,0]
[null,66,null,null,null,null,null,null,null,null,0,0,0,0,0,0,0,0,0,0,0,0,0]
[null,67,null,null,null,null,null,null,null,null,0,0,0,0,0,0,0,0,0,0,0,0,0]
[null,68,null,null,null,null,null,null,null,null,0,0,0,0,0,0,0,0,0,0,0,0,0]
[null,69,null,null,null,null,null,null,null,null,0,0,0,0,0,0,0,0,0,0,0,0,0]
[null,70,null,null,null,null,null,null,null,null,0,0,0,0,0,0,0,0,0,0,0,0,0]
[null,71,null,null,null,null,null,null,null,null,{"$f":"IF($D76=K$5,$F76,0)","v":0},0,0,0,0,0,0,0,0,0,0,0,0]
[null,72,null,null,null,null,null,null,null,null,0,0,0,0,0,0,0,0,0,0,0,0,0]
[null,73,null,null,null,null,null,null,null,null,0,0,0,0,0,0,0,0,0,0,0,0,0]
[null,74,null,null,null,null,null,null,null,null,0,0,0,0,0,0,0,0,0,0,0,0,0]
[null,75,null,null,null,null,null,null,null,null,0,0,0,0,0,0,0,0,0,0,0,0,0]
[null,76,null,null,null,null,null,null,null,null,0,0,0,0,0,0,0,0,0,0,0,0,0]
[null,77,null,null,null,null,null,null,null,null,0,0,0,0,0,0,0,0,0,0,0,0,0]
[null,78,null,null,null,null,null,null,null,null,0,0,0,0,0,0,0,0,0,0,0,0,0]
[null,79,null,null,null,null,null,null,null,null,0,0,0,0,0,0,0,0,0,0,0,0,0]
[null,80,null,null,null,null,null,null,null,null,0,0,0,0,0,0,0,0,0,0,0,0,0]
[null,81,null,null,null,null,null,null,null,null,{"$f":"IF($D86=K$5,$F86,0)","v":0},0,0,0,0,0,0,0,0,0,0,0,0]
[null,82,null,null,null,null,null,null,null,null,0,0,0,0,0,0,0,0,0,0,0,0,0]
[null,83,null,null,null,null,null,null,null,null,0,0,0,0,0,0,0,0,0,0,0,0,0]
[null,84,null,null,null,null,null,null,null,null,0,0,0,0,0,0,0,0,0,0,0,0,0]
[null,85,null,null,null,null,null,null,null,null,0,0,0,0,0,0,0,0,0,0,0,0,0]
[null,86,null,null,null,null,null,null,null,null,0,0,0,0,0,0,0,0,0,0,0,0,0]
[null,87,null,null,null,null,null,null,null,null,0,0,0,0,0,0,0,0,0,0,0,0,0]
[null,88,null,null,null,null,null,null,null,null,0,0,0,0,0,0,0,0,0,0,0,0,0]
[null,89,null,null,null,null,null,null,null,null,0,0,0,0,0,0,0,0,0,0,0,0,0]
[null,90,null,null,null,null,null,null,null,null,0,0,0,0,0,0,0,0,0,0,0,0,0]
[null,91,null,null,null,null,null,null,null,null,{"$f":"IF($D96=K$5,$F96,0)","v":0},0,0,0,0,0,0,0,0,0,0,0,0]
[null,92,null,null,null,null,null,null,null,null,0,0,0,0,0,0,0,0,0,0,0,0,0]
[null,93,null,null,null,null,null,null,null,null,0,0,0,0,0,0,0,0,0,0,0,0,0]
[null,94,null,null,null,null,null,null,null,null,0,0,0,0,0,0,0,0,0,0,0,0,0]
[null,95,null,null,null,null,null,null,null,null,0,0,0,0,0,0,0,0,0,0,0,0,0]
[null,96,null,null,null,null,null,null,null,null,0,0,0,0,0,0,0,0,0,0,0,0,0]
[null,97,null,null,null,null,null,null,null,null,0,0,0,0,0,0,0,0,0,0,0,0,0]
[null,98,null,null,null,null,null,null,null,null,0,0,0,0,0,0,0,0,0,0,0,0,0]
[null,99,null,null,null,null,null,null,null,null,0,0,0,0,0,0,0,0,0,0,0,0,0]
[null,100,null,null,null,null,null,null,null,null,0,0,0,0,0,0,0,0,0,0,0,0,0]
[null,101,null,null,null,null,null,null,null,null,{"$f":"IF($D106=K$5,$F106,0)","v":0},0,0,0,0,0,0,0,0,0,0,0,0]
[null,102,null,null,null,null,null,null,null,null,0,0,0,0,0,0,0,0,0,0,0,0,0]
[null,103,null,null,null,null,null,null,null,null,0,0,0,0,0,0,0,0,0,0,0,0,0]
[null,104,null,null,null,null,null,null,null,null,0,0,0,0,0,0,0,0,0,0,0,0,0]
[null,105,null,null,null,null,null,null,null,null,0,0,0,0,0,0,0,0,0,0,0,0,0]
[null,106,null,null,null,null,null,null,null,null,0,0,0,0,0,0,0,0,0,0,0,0,0]
[null,107,null,null,null,null,null,null,null,null,0,0,0,0,0,0,0,0,0,0,0,0,0]
[null,108,null,null,null,null,null,null,null,null,0,0,0,0,0,0,0,0,0,0,0,0,0]
[null,109,null,null,null,null,null,null,null,null,0,0,0,0,0,0,0,0,0,0,0,0,0]
[null,110,null,null,null,null,null,null,null,null,0,0,0,0,0,0,0,0,0,0,0,0,0]
[null,111,null,null,null,null,null,null,null,null,{"$f":"IF($D116=K$5,$F116,0)","v":0},0,0,0,0,0,0,0,0,0,0,0,0]
[null,112,null,null,null,null,null,null,null,null,0,0,0,0,0,0,0,0,0,0,0,0,0]
[null,113,null,null,null,null,null,null,null,null,0,0,0,0,0,0,0,0,0,0,0,0,0]
[null,114,null,null,null,null,null,null,null,null,0,0,0,0,0,0,0,0,0,0,0,0,0]
[null,115,null,null,null,null,null,null,null,null,0,0,0,0,0,0,0,0,0,0,0,0,0]
[null,116,null,null,null,null,null,null,null,null,0,0,0,0,0,0,0,0,0,0,0,0,0]
[null,117,null,null,null,null,null,null,null,null,0,0,0,0,0,0,0,0,0,0,0,0,0]
[null,118,null,null,null,null,null,null,null,null,0,0,0,0,0,0,0,0,0,0,0,0,0]
[null,119,null,null,null,null,null,null,null,null,0,0,0,0,0,0,0,0,0,0,0,0,0]
[null,120,null,null,null,null,null,null,null,null,0,0,0,0,0,0,0,0,0,0,0,0,0]
[null,121,null,null,null,null,null,null,null,null,{"$f":"IF($D126=K$5,$F126,0)","v":0},0,0,0,0,0,0,0,0,0,0,0,0]
[null,122,null,null,null,null,null,null,null,null,0,0,0,0,0,0,0,0,0,0,0,0,0]
[null,123,null,null,null,null,null,null,null,null,0,0,0,0,0,0,0,0,0,0,0,0,0]
[null,124,null,null,null,null,null,null,null,null,0,0,0,0,0,0,0,0,0,0,0,0,0]
[null,125,null,null,null,null,null,null,null,null,0,0,0,0,0,0,0,0,0,0,0,0,0]
[null,126,null,null,null,null,null,null,null,null,0,0,0,0,0,0,0,0,0,0,0,0,0]
[null,127,null,null,null,null,null,null,null,null,0,0,0,0,0,0,0,0,0,0,0,0,0]
[null,128,null,null,null,null,null,null,null,null,0,0,0,0,0,0,0,0,0,0,0,0,0]
[null,129,null,null,null,null,null,null,null,null,0,0,0,0,0,0,0,0,0,0,0,0,0]
[null,130,null,null,null,null,null,null,null,null,0,0,0,0,0,0,0,0,0,0,0,0,0]
[null,131,null,null,null,null,null,null,null,null,{"$f":"IF($D136=K$5,$F136,0)","v":0},0,0,0,0,0,0,0,0,0,0,0,0]
[null,132,null,null,null,null,null,null,null,null,0,0,0,0,0,0,0,0,0,0,0,0,0]
[null,133,null,null,null,null,null,null,null,null,0,0,0,0,0,0,0,0,0,0,0,0,0]
[null,134,null,null,null,null,null,null,null,null,0,0,0,0,0,0,0,0,0,0,0,0,0]
[null,135,null,null,null,null,null,null,null,null,0,0,0,0,0,0,0,0,0,0,0,0,0]
[null,136,null,null,null,null,null,null,null,null,0,0,0,0,0,0,0,0,0,0,0,0,0]
[null,137,null,null,null,null,null,null,null,null,0,0,0,0,0,0,0,0,0,0,0,0,0]
[null,138,null,null,null,null,null,null,null,null,0,0,0,0,0,0,0,0,0,0,0,0,0]
[null,139,null,null,null,null,null,null,null,null,0,0,0,0,0,0,0,0,0,0,0,0,0]
[null,140,null,null,null,null,null,null,null,null,0,0,0,0,0,0,0,0,0,0,0,0,0]
[null,141,null,null,null,null,null,null,null,null,{"$f":"IF($D146=K$5,$F146,0)","v":0},0,0,0,0,0,0,0,0,0,0,0,0]
[null,142,null,null,null,null,null,null,null,null,0,0,0,0,0,0,0,0,0,0,0,0,0]
[null,143,null,null,null,null,null,null,null,null,0,0,0,0,0,0,0,0,0,0,0,0,0]
[null,144,null,null,null,null,null,null,null,null,0,0,0,0,0,0,0,0,0,0,0,0,0]
[null,145,null,null,null,null,null,null,null,null,0,0,0,0,0,0,0,0,0,0,0,0,0]
[null,146,null,null,null,null,null,null,null,null,0,0,0,0,0,0,0,0,0,0,0,0,0]
[null,147,null,null,null,null,null,null,null,null,0,0,0,0,0,0,0,0,0,0,0,0,0]
[null,148,null,null,null,null,null,null,null,null,0,0,0,0,0,0,0,0,0,0,0,0,0]
[null,149,null,null,null,null,null,null,null,null,0,0,0,0,0,0,0,0,0,0,0,0,0]
[null,150,null,null,null,null,null,null,null,null,0,0,0,0,0,0,0,0,0,0,0,0,0]
[null,151,null,null,null,null,null,null,null,null,{"$f":"IF($D156=K$5,$F156,0)","v":0},0,0,0,0,0,0,0,0,0,0,0,0]
[null,152,null,null,null,null,null,null,null,null,0,0,0,0,0,0,0,0,0,0,0,0,0]
[null,153,null,null,null,null,null,null,null,null,0,0,0,0,0,0,0,0,0,0,0,0,0]
[null,154,null,null,null,null,null,null,null,null,0,0,0,0,0,0,0,0,0,0,0,0,0]
[null,155,null,null,null,null,null,null,null,null,0,0,0,0,0,0,0,0,0,0,0,0,0]
[null,156,null,null,null,null,null,null,null,null,0,0,0,0,0,0,0,0,0,0,0,0,0]
[null,157,null,null,null,null,null,null,null,null,0,0,0,0,0,0,0,0,0,0,0,0,0]
[null,158,null,null,null,null,null,null,null,null,0,0,0,0,0,0,0,0,0,0,0,0,0]
[null,159,null,null,null,null,null,null,null,null,0,0,0,0,0,0,0,0,0,0,0,0,0]
[null,160,null,null,null,null,null,null,null,null,0,0,0,0,0,0,0,0,0,0,0,0,0]
[null,161,null,null,null,null,null,null,null,null,{"$f":"IF($D166=K$5,$F166,0)","v":0},0,0,0,0,0,0,0,0,0,0,0,0]
[null,162,null,null,null,null,null,null,null,null,0,0,0,0,0,0,0,0,0,0,0,0,0]
[null,163,null,null,null,null,null,null,null,null,0,0,0,0,0,0,0,0,0,0,0,0,0]
[null,164,null,null,null,null,null,null,null,null,0,0,0,0,0,0,0,0,0,0,0,0,0]
[null,165,null,null,null,null,null,null,null,null,0,0,0,0,0,0,0,0,0,0,0,0,0]
[null,166,null,null,null,null,null,null,null,null,0,0,0,0,0,0,0,0,0,0,0,0,0]
[null,167,null,null,null,null,null,null,null,null,0,0,0,0,0,0,0,0,0,0,0,0,0]
[null,168,null,null,null,null,null,null,null,null,0,0,0,0,0,0,0,0,0,0,0,0,0]
[null,169,null,null,null,null,null,null,null,null,0,0,0,0,0,0,0,0,0,0,0,0,0]
[null,170,null,null,null,null,null,null,null,null,0,0,0,0,0,0,0,0,0,0,0,0,0]
[null,171,null,null,null,null,null,null,null,null,{"$f":"IF($D176=K$5,$F176,0)","v":0},0,0,0,0,0,0,0,0,0,0,0,0]
[null,172,null,null,null,null,null,null,null,null,0,0,0,0,0,0,0,0,0,0,0,0,0]
[null,173,null,null,null,null,null,null,null,null,0,0,0,0,0,0,0,0,0,0,0,0,0]
[null,174,null,null,null,null,null,null,null,null,0,0,0,0,0,0,0,0,0,0,0,0,0]
[null,175,null,null,null,null,null,null,null,null,0,0,0,0,0,0,0,0,0,0,0,0,0]
[null,176,null,null,null,null,null,null,null,null,0,0,0,0,0,0,0,0,0,0,0,0,0]
[null,177,null,null,null,null,null,null,null,null,0,0,0,0,0,0,0,0,0,0,0,0,0]
[null,178,null,null,null,null,null,null,null,null,0,0,0,0,0,0,0,0,0,0,0,0,0]
[null,179,null,null,null,null,null,null,null,null,0,0,0,0,0,0,0,0,0,0,0,0,0]
[null,180,null,null,null,null,null,null,null,null,0,0,0,0,0,0,0,0,0,0,0,0,0]
[null,181,null,null,null,null,null,null,null,null,{"$f":"IF($D186=K$5,$F186,0)","v":0},0,0,0,0,0,0,0,0,0,0,0,0]
[null,182,null,null,null,null,null,null,null,null,0,0,0,0,0,0,0,0,0,0,0,0,0]
[null,183,null,null,null,null,null,null,null,null,0,0,0,0,0,0,0,0,0,0,0,0,0]
[null,184,null,null,null,null,null,null,null,null,0,0,0,0,0,0,0,0,0,0,0,0,0]
[null,185,null,null,null,null,null,null,null,null,0,0,0,0,0,0,0,0,0,0,0,0,0]
[null,186,null,null,null,null,null,null,null,null,0,0,0,0,0,0,0,0,0,0,0,0,0]
[null,187,null,null,null,null,null,null,null,null,0,0,0,0,0,0,0,0,0,0,0,0,0]
[null,188,null,null,null,null,null,null,null,null,0,0,0,0,0,0,0,0,0,0,0,0,0]
[null,189,null,null,null,null,null,null,null,null,0,0,0,0,0,0,0,0,0,0,0,0,0]
[null,190,null,null,null,null,null,null,null,null,0,0,0,0,0,0,0,0,0,0,0,0,0]
[null,191,null,null,null,null,null,null,null,null,{"$f":"IF($D196=K$5,$F196,0)","v":0},0,0,0,0,0,0,0,0,0,0,0,0]
[null,192,null,null,null,null,null,null,null,null,0,0,0,0,0,0,0,0,0,0,0,0,0]
[null,193,null,null,null,null,null,null,null,null,0,0,0,0,0,0,0,0,0,0,0,0,0]
[null,194,null,null,null,null,null,null,null,null,0,0,0,0,0,0,0,0,0,0,0,0,0]
[null,195,null,null,null,null,null,null,null,null,0,0,0,0,0,0,0,0,0,0,0,0,0]
[null,196,null,null,null,null,null,null,null,null,0,0,0,0,0,0,0,0,0,0,0,0,0]
[null,197,null,null,null,null,null,null,null,null,0,0,0,0,0,0,0,0,0,0,0,0,0]
[null,198,null,null,null,null,null,null,null,null,0,0,0,0,0,0,0,0,0,0,0,0,0]
[null,199,null,null,null,null,null,null,null,null,0,0,0,0,0,0,0,0,0,0,0,0,0]
[null,200,null,null,null,null,null,null,null,null,0,0,0,0,0,0,0,0,0,0,0,0,0]
[null,201,null,null,null,null,null,null,null,null,{"$f":"IF($D206=K$5,$F206,0)","v":0},0,0,0,0,0,0,0,0,0,0,0,0]
[null,202,null,null,null,null,null,null,null,null,0,0,0,0,0,0,0,0,0,0,0,0,0]
[null,203,null,null,null,null,null,null,null,null,0,0,0,0,0,0,0,0,0,0,0,0,0]
[null,204,null,null,null,null,null,null,null,null,0,0,0,0,0,0,0,0,0,0,0,0,0]
[null,205,null,null,null,null,null,null,null,null,0,0,0,0,0,0,0,0,0,0,0,0,0]
[null,206,null,null,null,null,null,null,null,null,0,0,0,0,0,0,0,0,0,0,0,0,0]
[null,207,null,null,null,null,null,null,null,null,0,0,0,0,0,0,0,0,0,0,0,0,0]
[null,208,null,null,null,null,null,null,null,null,0,0,0,0,0,0,0,0,0,0,0,0,0]
[null,209,null,null,null,null,null,null,null,null,0,0,0,0,0,0,0,0,0,0,0,0,0]
[null,210,null,null,null,null,null,null,null,null,0,0,0,0,0,0,0,0,0,0,0,0,0]
[null,211,null,null,null,null,null,null,null,null,{"$f":"IF($D216=K$5,$F216,0)","v":0},0,0,0,0,0,0,0,0,0,0,0,0]
[null,212,null,null,null,null,null,null,null,null,0,0,0,0,0,0,0,0,0,0,0,0,0]
[null,213,null,null,null,null,null,null,null,null,0,0,0,0,0,0,0,0,0,0,0,0,0]
[null,214,null,null,null,null,null,null,null,null,0,0,0,0,0,0,0,0,0,0,0,0,0]
[null,215,null,null,null,null,null,null,null,null,0,0,0,0,0,0,0,0,0,0,0,0,0]
[null,216,null,null,null,null,null,null,null,null,0,0,0,0,0,0,0,0,0,0,0,0,0]
[null,217,null,null,null,null,null,null,null,null,0,0,0,0,0,0,0,0,0,0,0,0,0]
[null,218,null,null,null,null,null,null,null,null,0,0,0,0,0,0,0,0,0,0,0,0,0]
[null,219,null,null,null,null,null,null,null,null,0,0,0,0,0,0,0,0,0,0,0,0,0]
[null,220,null,null,null,null,null,null,null,null,0,0,0,0,0,0,0,0,0,0,0,0,0]
[null,221,null,null,null,null,null,null,null,null,{"$f":"IF($D226=K$5,$F226,0)","v":0},0,0,0,0,0,0,0,0,0,0,0,0]
[null,222,null,null,null,null,null,null,null,null,0,0,0,0,0,0,0,0,0,0,0,0,0]
[null,223,null,null,null,null,null,null,null,null,0,0,0,0,0,0,0,0,0,0,0,0,0]
[null,224,null,null,null,null,null,null,null,null,0,0,0,0,0,0,0,0,0,0,0,0,0]
[null,225,null,null,null,null,null,null,null,null,0,0,0,0,0,0,0,0,0,0,0,0,0]
[null,226,null,null,null,null,null,null,null,null,0,0,0,0,0,0,0,0,0,0,0,0,0]
[null,227,null,null,null,null,null,null,null,null,0,0,0,0,0,0,0,0,0,0,0,0,0]
[null,228,null,null,null,null,null,null,null,null,0,0,0,0,0,0,0,0,0,0,0,0,0]
[null,229,null,null,null,null,null,null,null,null,0,0,0,0,0,0,0,0,0,0,0,0,0]
[null,230,null,null,null,null,null,null,null,null,0,0,0,0,0,0,0,0,0,0,0,0,0]
[null,231,null,null,null,null,null,null,null,null,{"$f":"IF($D236=K$5,$F236,0)","v":0},0,0,0,0,0,0,0,0,0,0,0,0]
[null,232,null,null,null,null,null,null,null,null,0,0,0,0,0,0,0,0,0,0,0,0,0]
[null,233,null,null,null,null,null,null,null,null,0,0,0,0,0,0,0,0,0,0,0,0,0]
[null,234,null,null,null,null,null,null,null,null,0,0,0,0,0,0,0,0,0,0,0,0,0]
[null,235,null,null,null,null,null,null,null,null,0,0,0,0,0,0,0,0,0,0,0,0,0]
[null,236,null,null,null,null,null,null,null,null,0,0,0,0,0,0,0,0,0,0,0,0,0]
[null,237,null,null,null,null,null,null,null,null,0,0,0,0,0,0,0,0,0,0,0,0,0]
[null,238,null,null,null,null,null,null,null,null,0,0,0,0,0,0,0,0,0,0,0,0,0]
[null,239,null,null,null,null,null,null,null,null,0,0,0,0,0,0,0,0,0,0,0,0,0]
[null,240,null,null,null,null,null,null,null,null,0,0,0,0,0,0,0,0,0,0,0,0,0]
[null,241,null,null,null,null,null,null,null,null,{"$f":"IF($D246=K$5,$F246,0)","v":0},0,0,0,0,0,0,0,0,0,0,0,0]
[null,242,null,null,null,null,null,null,null,null,0,0,0,0,0,0,0,0,0,0,0,0,0]
[null,243,null,null,null,null,null,null,null,null,0,0,0,0,0,0,0,0,0,0,0,0,0]
[null,244,null,null,null,null,null,null,null,null,0,0,0,0,0,0,0,0,0,0,0,0,0]
[null,245,null,null,null,null,null,null,null,null,0,0,0,0,0,0,0,0,0,0,0,0,0]
[null,246,null,null,null,null,null,null,null,null,0,0,0,0,0,0,0,0,0,0,0,0,0]
[null,247,null,null,null,null,null,null,null,null,0,0,0,0,0,0,0,0,0,0,0,0,0]
[null,248,null,null,null,null,null,null,null,null,0,0,0,0,0,0,0,0,0,0,0,0,0]
[null,249,null,null,null,null,null,null,null,null,0,0,0,0,0,0,0,0,0,0,0,0,0]
[null,250,null,null,null,null,null,null,null,null,0,0,0,0,0,0,0,0,0,0,0,0,0]
[null,251,null,null,null,null,null,null,null,null,{"$f":"IF($D256=K$5,$F256,0)","v":0},0,0,0,0,0,0,0,0,0,0,0,0]
[null,252,null,null,null,null,null,null,null,null,0,0,0,0,0,0,0,0,0,0,0,0,0]
[null,253,null,null,null,null,null,null,null,null,0,0,0,0,0,0,0,0,0,0,0,0,0]
[null,254,null,null,null,null,null,null,null,null,0,0,0,0,0,0,0,0,0,0,0,0,0]
[null,255,null,null,null,null,null,null,null,null,0,0,0,0,0,0,0,0,0,0,0,0,0]
[null,256,null,null,null,null,null,null,null,null,0,0,0,0,0,0,0,0,0,0,0,0,0]
[null,257,null,null,null,null,null,null,null,null,0,0,0,0,0,0,0,0,0,0,0,0,0]
[null,258,null,null,null,null,null,null,null,null,0,0,0,0,0,0,0,0,0,0,0,0,0]
[null,259,null,null,null,null,null,null,null,null,0,0,0,0,0,0,0,0,0,0,0,0,0]
[null,260,null,null,null,null,null,null,null,null,0,0,0,0,0,0,0,0,0,0,0,0,0]
[null,261,null,null,null,null,null,null,null,null,{"$f":"IF($D266=K$5,$F266,0)","v":0},0,0,0,0,0,0,0,0,0,0,0,0]
[null,262,null,null,null,null,null,null,null,null,0,0,0,0,0,0,0,0,0,0,0,0,0]
[null,263,null,null,null,null,null,null,null,null,0,0,0,0,0,0,0,0,0,0,0,0,0]
[null,264,null,null,null,null,null,null,null,null,0,0,0,0,0,0,0,0,0,0,0,0,0]
[null,265,null,null,null,null,null,null,null,null,0,0,0,0,0,0,0,0,0,0,0,0,0]
[null,266,null,null,null,null,null,null,null,null,0,0,0,0,0,0,0,0,0,0,0,0,0]
[null,267,null,null,null,null,null,null,null,null,0,0,0,0,0,0,0,0,0,0,0,0,0]
[null,268,null,null,null,null,null,null,null,null,0,0,0,0,0,0,0,0,0,0,0,0,0]
[null,269,null,null,null,null,null,null,null,null,0,0,0,0,0,0,0,0,0,0,0,0,0]
[null,270,null,null,null,null,null,null,null,null,0,0,0,0,0,0,0,0,0,0,0,0,0]
[null,271,null,null,null,null,null,null,null,null,{"$f":"IF($D276=K$5,$F276,0)","v":0},0,0,0,0,0,0,0,0,0,0,0,0]
[null,272,null,null,null,null,null,null,null,null,0,0,0,0,0,0,0,0,0,0,0,0,0]
[null,273,null,null,null,null,null,null,null,null,0,0,0,0,0,0,0,0,0,0,0,0,0]
[null,274,null,null,null,null,null,null,null,null,0,0,0,0,0,0,0,0,0,0,0,0,0]
[null,275,null,null,null,null,null,null,null,null,0,0,0,0,0,0,0,0,0,0,0,0,0]
[null,276,null,null,null,null,null,null,null,null,0,0,0,0,0,0,0,0,0,0,0,0,0]
[null,277,null,null,null,null,null,null,null,null,0,0,0,0,0,0,0,0,0,0,0,0,0]
[null,278,null,null,null,null,null,null,null,null,0,0,0,0,0,0,0,0,0,0,0,0,0]
[null,279,null,null,null,null,null,null,null,null,0,0,0,0,0,0,0,0,0,0,0,0,0]
[null,280,null,null,null,null,null,null,null,null,0,0,0,0,0,0,0,0,0,0,0,0,0]
[null,281,null,null,null,null,null,null,null,null,{"$f":"IF($D286=K$5,$F286,0)","v":0},0,0,0,0,0,0,0,0,0,0,0,0]
[null,282,null,null,null,null,null,null,null,null,0,0,0,0,0,0,0,0,0,0,0,0,0]
[null,283,null,null,null,null,null,null,null,null,0,0,0,0,0,0,0,0,0,0,0,0,0]
[null,284,null,null,null,null,null,null,null,null,0,0,0,0,0,0,0,0,0,0,0,0,0]
[null,285,null,null,null,null,null,null,null,null,0,0,0,0,0,0,0,0,0,0,0,0,0]
[null,286,null,null,null,null,null,null,null,null,0,0,0,0,0,0,0,0,0,0,0,0,0]
[null,287,null,null,null,null,null,null,null,null,0,0,0,0,0,0,0,0,0,0,0,0,0]
[null,288,null,null,null,null,null,null,null,null,0,0,0,0,0,0,0,0,0,0,0,0,0]
[null,289,null,null,null,null,null,null,null,null,0,0,0,0,0,0,0,0,0,0,0,0,0]
[null,290,null,null,null,null,null,null,null,null,0,0,0,0,0,0,0,0,0,0,0,0,0]
[null,291,null,null,null,null,null,null,null,null,{"$f":"IF($D296=K$5,$F296,0)","v":0},0,0,0,0,0,0,0,0,0,0,0,0]
[null,292,null,null,null,null,null,null,null,null,0,0,0,0,0,0,0,0,0,0,0,0,0]
[null,293,null,null,null,null,null,null,null,null,0,0,0,0,0,0,0,0,0,0,0,0,0]
[null,294,null,null,null,null,null,null,null,null,0,0,0,0,0,0,0,0,0,0,0,0,0]
[null,295,null,null,null,null,null,null,null,null,0,0,0,0,0,0,0,0,0,0,0,0,0]
[null,296,null,null,null,null,null,null,null,null,0,0,0,0,0,0,0,0,0,0,0,0,0]
[null,297,null,null,null,null,null,null,null,null,0,0,0,0,0,0,0,0,0,0,0,0,0]
[null,298,null,null,null,null,null,null,null,null,0,0,0,0,0,0,0,0,0,0,0,0,0]
[null,299,null,null,null,null,null,null,null,null,0,0,0,0,0,0,0,0,0,0,0,0,0]
[null,300,null,null,null,null,null,null,null,null,0,0,0,0,0,0,0,0,0,0,0,0,0]
[null,null,null,null,null,null,null,null,null,null,{"$f":"SUM(K6:K305)","v":0},{"$f":"SUM(L6:L305)","v":0},0,0,0,0,0,0,0,0,0,0,0]

{"sheet":"13","index":13,"n_rows":306,"n_cols":23,"rows_kept":306,"cut":false,"hidden":false,"merged":[]}
[]
[null,null,{"$f":"menu!B20","v":"GASTOS VARIOS"}]
[]
[null,null,null,null,null,null,null,null,null,"Enero"]
[null,null,"DIA","MES","CONCEPTO","TOTAL",null,null,null,"Febrero","Enero","Febrero","Marzo","Abril","Mayo","Junio","Julio","Agosto","Septiembre","Octubre","Noviembre","Diciembre"]
[null,1,null,null,null,null,null,null,null,"Marzo",{"$f":"IF($D6=K$5,$F6,0)","v":0},0,0,0,0,0,0,0,0,0,0,0,0]
[null,2,null,null,null,null,null,null,null,"Abril",0,0,0,0,0,0,0,0,0,0,0,0,0]
[null,3,null,null,null,null,null,null,null,"Mayo",0,0,0,0,0,0,0,0,0,0,0,0,0]
[null,4,null,null,null,null,null,null,null,"Junio",0,0,0,0,0,0,0,0,0,0,0,0,0]
[null,5,null,null,null,null,null,null,null,"Julio",0,0,0,0,0,0,0,0,0,0,0,0,0]
[null,6,null,null,null,null,null,null,null,"Agosto",0,0,0,0,0,0,0,0,0,0,0,0,0]
[null,7,null,null,null,null,null,null,null,"Septiembre",0,0,0,0,0,0,0,0,0,0,0,0,0]
[null,8,null,null,null,null,null,null,null,"Octubre",0,0,0,0,0,0,0,0,0,0,0,0,0]
[null,9,null,null,null,null,null,null,null,"Noviembre",0,0,0,0,0,0,0,0,0,0,0,0,0]
[null,10,null,null,null,null,null,null,null,"Diciembre",0,0,0,0,0,0,0,0,0,0,0,0,0]
[null,11,null,null,null,null,null,null,null,null,{"$f":"IF($D16=K$5,$F16,0)","v":0},0,0,0,0,0,0,0,0,0,0,0,0]
[null,12,null,null,null,null,null,null,null,null,0,0,0,0,0,0,0,0,0,0,0,0,0]
[null,13,null,null,null,null,null,null,null,null,0,0,0,0,0,0,0,0,0,0,0,0,0]
[null,14,null,null,null,null,null,null,null,null,0,0,0,0,0,0,0,0,0,0,0,0,0]
[null,15,null,null,null,null,null,null,null,null,0,0,0,0,0,0,0,0,0,0,0,0,0]
[null,16,null,null,null,null,null,null,null,null,0,0,0,0,0,0,0,0,0,0,0,0,0]
[null,17,null,null,null,null,null,null,null,null,0,0,0,0,0,0,0,0,0,0,0,0,0]
[null,18,null,null,null,null,null,null,null,null,0,0,0,0,0,0,0,0,0,0,0,0,0]
[null,19,null,null,null,null,null,null,null,null,0,0,0,0,0,0,0,0,0,0,0,0,0]
[null,20,null,null,null,null,null,null,null,null,0,0,0,0,0,0,0,0,0,0,0,0,0]
[null,21,null,null,null,null,null,null,null,null,{"$f":"IF($D26=K$5,$F26,0)","v":0},0,0,0,0,0,0,0,0,0,0,0,0]
[null,22,null,null,null,null,null,null,null,null,0,0,0,0,0,0,0,0,0,0,0,0,0]
[null,23,null,null,null,null,null,null,null,null,0,0,0,0,0,0,0,0,0,0,0,0,0]
[null,24,null,null,null,null,null,null,null,null,0,0,0,0,0,0,0,0,0,0,0,0,0]
[null,25,null,null,null,null,null,null,null,null,0,0,0,0,0,0,0,0,0,0,0,0,0]
[null,26,null,null,null,null,null,null,null,null,0,0,0,0,0,0,0,0,0,0,0,0,0]
[null,27,null,null,null,null,null,null,null,null,0,0,0,0,0,0,0,0,0,0,0,0,0]
[null,28,null,null,null,null,null,null,null,null,0,0,0,0,0,0,0,0,0,0,0,0,0]
[null,29,null,null,null,null,null,null,null,null,0,0,0,0,0,0,0,0,0,0,0,0,0]
[null,30,null,null,null,null,null,null,null,null,0,0,0,0,0,0,0,0,0,0,0,0,0]
[null,31,null,null,null,null,null,null,null,null,{"$f":"IF($D36=K$5,$F36,0)","v":0},0,0,0,0,0,0,0,0,0,0,0,0]
[null,32,null,null,null,null,null,null,null,null,0,0,0,0,0,0,0,0,0,0,0,0,0]
[null,33,null,null,null,null,null,null,null,null,0,0,0,0,0,0,0,0,0,0,0,0,0]
[null,34,null,null,null,null,null,null,null,null,0,0,0,0,0,0,0,0,0,0,0,0,0]
[null,35,null,null,null,null,null,null,null,null,0,0,0,0,0,0,0,0,0,0,0,0,0]
[null,36,null,null,null,null,null,null,null,null,0,0,0,0,0,0,0,0,0,0,0,0,0]
[null,37,null,null,null,null,null,null,null,null,0,0,0,0,0,0,0,0,0,0,0,0,0]
[null,38,null,null,null,null,null,null,null,null,0,0,0,0,0,0,0,0,0,0,0,0,0]
[null,39,null,null,null,null,null,null,null,null,0,0,0,0,0,0,0,0,0,0,0,0,0]
[null,40,null,null,null,null,null,null,null,null,0,0,0,0,0,0,0,0,0,0,0,0,0]
[null,41,null,null,null,null,null,null,null,null,{"$f":"IF($D46=K$5,$F46,0)","v":0},0,0,0,0,0,0,0,0,0,0,0,0]
[null,42,null,null,null,null,null,null,null,null,0,0,0,0,0,0,0,0,0,0,0,0,0]
[null,43,null,null,null,null,null,null,null,null,0,0,0,0,0,0,0,0,0,0,0,0,0]
[null,44,null,null,null,null,null,null,null,null,0,0,0,0,0,0,0,0,0,0,0,0,0]
[null,45,null,null,null,null,null,null,null,null,0,0,0,0,0,0,0,0,0,0,0,0,0]
[null,46,null,null,null,null,null,null,null,null,0,0,0,0,0,0,0,0,0,0,0,0,0]
[null,47,null,null,null,null,null,null,null,null,0,0,0,0,0,0,0,0,0,0,0,0,0]
[null,48,null,null,null,null,null,null,null,null,0,0,0,0,0,0,0,0,0,0,0,0,0]
[null,49,null,null,null,null,null,null,null,null,0,0,0,0,0,0,0,0,0,0,0,0,0]
[null,50,null,null,null,null,null,null,null,null,0,0,0,0,0,0,0,0,0,0,0,0,0]
[null,51,null,null,null,null,null,null,null,null,{"$f":"IF($D56=K$5,$F56,0)","v":0},0,0,0,0,0,0,0,0,0,0,0,0]
[null,52,null,null,null,null,null,null,null,null,0,0,0,0,0,0,0,0,0,0,0,0,0]
[null,53,null,null,null,null,null,null,null,null,0,0,0,0,0,0,0,0,0,0,0,0,0]
[null,54,null,null,null,null,null,null,null,null,0,0,0,0,0,0,0,0,0,0,0,0,0]
[null,55,null,null,null,null,null,null,null,null,0,0,0,0,0,0,0,0,0,0,0,0,0]
[null,56,null,null,null,null,null,null,null,null,0,0,0,0,0,0,0,0,0,0,0,0,0]
[null,57,null,null,null,null,null,null,null,null,0,0,0,0,0,0,0,0,0,0,0,0,0]
[null,58,null,null,null,null,null,null,null,null,0,0,0,0,0,0,0,0,0,0,0,0,0]
[null,59,null,null,null,null,null,null,null,null,0,0,0,0,0,0,0,0,0,0,0,0,0]
[null,60,null,null,null,null,null,null,null,null,0,0,0,0,0,0,0,0,0,0,0,0,0]
[null,61,null,null,null,null,null,null,null,null,{"$f":"IF($D66=K$5,$F66,0)","v":0},0,0,0,0,0,0,0,0,0,0,0,0]
[null,62,null,null,null,null,null,null,null,null,0,0,0,0,0,0,0,0,0,0,0,0,0]
[null,63,null,null,null,null,null,null,null,null,0,0,0,0,0,0,0,0,0,0,0,0,0]
[null,64,null,null,null,null,null,null,null,null,0,0,0,0,0,0,0,0,0,0,0,0,0]
[null,65,null,null,null,null,null,null,null,null,0,0,0,0,0,0,0,0,0,0,0,0,0]
[null,66,null,null,null,null,null,null,null,null,0,0,0,0,0,0,0,0,0,0,0,0,0]
[null,67,null,null,null,null,null,null,null,null,0,0,0,0,0,0,0,0,0,0,0,0,0]
[null,68,null,null,null,null,null,null,null,null,0,0,0,0,0,0,0,0,0,0,0,0,0]
[null,69,null,null,null,null,null,null,null,null,0,0,0,0,0,0,0,0,0,0,0,0,0]
[null,70,null,null,null,null,null,null,null,null,0,0,0,0,0,0,0,0,0,0,0,0,0]
[null,71,null,null,null,null,null,null,null,null,{"$f":"IF($D76=K$5,$F76,0)","v":0},0,0,0,0,0,0,0,0,0,0,0,0]
[null,72,null,null,null,null,null,null,null,null,0,0,0,0,0,0,0,0,0,0,0,0,0]
[null,73,null,null,null,null,null,null,null,null,0,0,0,0,0,0,0,0,0,0,0,0,0]
[null,74,null,null,null,null,null,null,null,null,0,0,0,0,0,0,0,0,0,0,0,0,0]
[null,75,null,null,null,null,null,null,null,null,0,0,0,0,0,0,0,0,0,0,0,0,0]
[null,76,null,null,null,null,null,null,null,null,0,0,0,0,0,0,0,0,0,0,0,0,0]
[null,77,null,null,null,null,null,null,null,null,0,0,0,0,0,0,0,0,0,0,0,0,0]
[null,78,null,null,null,null,null,null,null,null,0,0,0,0,0,0,0,0,0,0,0,0,0]
[null,79,null,null,null,null,null,null,null,null,0,0,0,0,0,0,0,0,0,0,0,0,0]
[null,80,null,null,null,null,null,null,null,null,0,0,0,0,0,0,0,0,0,0,0,0,0]
[null,81,null,null,null,null,null,null,null,null,{"$f":"IF($D86=K$5,$F86,0)","v":0},0,0,0,0,0,0,0,0,0,0,0,0]
[null,82,null,null,null,null,null,null,null,null,0,0,0,0,0,0,0,0,0,0,0,0,0]
[null,83,null,null,null,null,null,null,null,null,0,0,0,0,0,0,0,0,0,0,0,0,0]
[null,84,null,null,null,null,null,null,null,null,0,0,0,0,0,0,0,0,0,0,0,0,0]
[null,85,null,null,null,null,null,null,null,null,0,0,0,0,0,0,0,0,0,0,0,0,0]
[null,86,null,null,null,null,null,null,null,null,0,0,0,0,0,0,0,0,0,0,0,0,0]
[null,87,null,null,null,null,null,null,null,null,0,0,0,0,0,0,0,0,0,0,0,0,0]
[null,88,null,null,null,null,null,null,null,null,0,0,0,0,0,0,0,0,0,0,0,0,0]
[null,89,null,null,null,null,null,null,null,null,0,0,0,0,0,0,0,0,0,0,0,0,0]
[null,90,null,null,null,null,null,null,null,null,0,0,0,0,0,0,0,0,0,0,0,0,0]
[null,91,null,null,null,null,null,null,null,null,{"$f":"IF($D96=K$5,$F96,0)","v":0},0,0,0,0,0,0,0,0,0,0,0,0]
[null,92,null,null,null,null,null,null,null,null,0,0,0,0,0,0,0,0,0,0,0,0,0]
[null,93,null,null,null,null,null,null,null,null,0,0,0,0,0,0,0,0,0,0,0,0,0]
[null,94,null,null,null,null,null,null,null,null,0,0,0,0,0,0,0,0,0,0,0,0,0]
[null,95,null,null,null,null,null,null,null,null,0,0,0,0,0,0,0,0,0,0,0,0,0]
[null,96,null,null,null,null,null,null,null,null,0,0,0,0,0,0,0,0,0,0,0,0,0]
[null,97,null,null,null,null,null,null,null,null,0,0,0,0,0,0,0,0,0,0,0,0,0]
[null,98,null,null,null,null,null,null,null,null,0,0,0,0,0,0,0,0,0,0,0,0,0]
[null,99,null,null,null,null,null,null,null,null,0,0,0,0,0,0,0,0,0,0,0,0,0]
[null,100,null,null,null,null,null,null,null,null,0,0,0,0,0,0,0,0,0,0,0,0,0]
[null,101,null,null,null,null,null,null,null,null,{"$f":"IF($D106=K$5,$F106,0)","v":0},0,0,0,0,0,0,0,0,0,0,0,0]
[null,102,null,null,null,null,null,null,null,null,0,0,0,0,0,0,0,0,0,0,0,0,0]
[null,103,null,null,null,null,null,null,null,null,0,0,0,0,0,0,0,0,0,0,0,0,0]
[null,104,null,null,null,null,null,null,null,null,0,0,0,0,0,0,0,0,0,0,0,0,0]
[null,105,null,null,null,null,null,null,null,null,0,0,0,0,0,0,0,0,0,0,0,0,0]
[null,106,null,null,null,null,null,null,null,null,0,0,0,0,0,0,0,0,0,0,0,0,0]
[null,107,null,null,null,null,null,null,null,null,0,0,0,0,0,0,0,0,0,0,0,0,0]
[null,108,null,null,null,null,null,null,null,null,0,0,0,0,0,0,0,0,0,0,0,0,0]
[null,109,null,null,null,null,null,null,null,null,0,0,0,0,0,0,0,0,0,0,0,0,0]
[null,110,null,null,null,null,null,null,null,null,0,0,0,0,0,0,0,0,0,0,0,0,0]
[null,111,null,null,null,null,null,null,null,null,{"$f":"IF($D116=K$5,$F116,0)","v":0},0,0,0,0,0,0,0,0,0,0,0,0]
[null,112,null,null,null,null,null,null,null,null,0,0,0,0,0,0,0,0,0,0,0,0,0]
[null,113,null,null,null,null,null,null,null,null,0,0,0,0,0,0,0,0,0,0,0,0,0]
[null,114,null,null,null,null,null,null,null,null,0,0,0,0,0,0,0,0,0,0,0,0,0]
[null,115,null,null,null,null,null,null,null,null,0,0,0,0,0,0,0,0,0,0,0,0,0]
[null,116,null,null,null,null,null,null,null,null,0,0,0,0,0,0,0,0,0,0,0,0,0]
[null,117,null,null,null,null,null,null,null,null,0,0,0,0,0,0,0,0,0,0,0,0,0]
[null,118,null,null,null,null,null,null,null,null,0,0,0,0,0,0,0,0,0,0,0,0,0]
[null,119,null,null,null,null,null,null,null,null,0,0,0,0,0,0,0,0,0,0,0,0,0]
[null,120,null,null,null,null,null,null,null,null,0,0,0,0,0,0,0,0,0,0,0,0,0]
[null,121,null,null,null,null,null,null,null,null,{"$f":"IF($D126=K$5,$F126,0)","v":0},0,0,0,0,0,0,0,0,0,0,0,0]
[null,122,null,null,null,null,null,null,null,null,0,0,0,0,0,0,0,0,0,0,0,0,0]
[null,123,null,null,null,null,null,null,null,null,0,0,0,0,0,0,0,0,0,0,0,0,0]
[null,124,null,null,null,null,null,null,null,null,0,0,0,0,0,0,0,0,0,0,0,0,0]
[null,125,null,null,null,null,null,null,null,null,0,0,0,0,0,0,0,0,0,0,0,0,0]
[null,126,null,null,null,null,null,null,null,null,0,0,0,0,0,0,0,0,0,0,0,0,0]
[null,127,null,null,null,null,null,null,null,null,0,0,0,0,0,0,0,0,0,0,0,0,0]
[null,128,null,null,null,null,null,null,null,null,0,0,0,0,0,0,0,0,0,0,0,0,0]
[null,129,null,null,null,null,null,null,null,null,0,0,0,0,0,0,0,0,0,0,0,0,0]
[null,130,null,null,null,null,null,null,null,null,0,0,0,0,0,0,0,0,0,0,0,0,0]
[null,131,null,null,null,null,null,null,null,null,{"$f":"IF($D136=K$5,$F136,0)","v":0},0,0,0,0,0,0,0,0,0,0,0,0]
[null,132,null,null,null,null,null,null,null,null,0,0,0,0,0,0,0,0,0,0,0,0,0]
[null,133,null,null,null,null,null,null,null,null,0,0,0,0,0,0,0,0,0,0,0,0,0]
[null,134,null,null,null,null,null,null,null,null,0,0,0,0,0,0,0,0,0,0,0,0,0]
[null,135,null,null,null,null,null,null,null,null,0,0,0,0,0,0,0,0,0,0,0,0,0]
[null,136,null,null,null,null,null,null,null,null,0,0,0,0,0,0,0,0,0,0,0,0,0]
[null,137,null,null,null,null,null,null,null,null,0,0,0,0,0,0,0,0,0,0,0,0,0]
[null,138,null,null,null,null,null,null,null,null,0,0,0,0,0,0,0,0,0,0,0,0,0]
[null,139,null,null,null,null,null,null,null,null,0,0,0,0,0,0,0,0,0,0,0,0,0]
[null,140,null,null,null,null,null,null,null,null,0,0,0,0,0,0,0,0,0,0,0,0,0]
[null,141,null,null,null,null,null,null,null,null,{"$f":"IF($D146=K$5,$F146,0)","v":0},0,0,0,0,0,0,0,0,0,0,0,0]
[null,142,null,null,null,null,null,null,null,null,0,0,0,0,0,0,0,0,0,0,0,0,0]
[null,143,null,null,null,null,null,null,null,null,0,0,0,0,0,0,0,0,0,0,0,0,0]
[null,144,null,null,null,null,null,null,null,null,0,0,0,0,0,0,0,0,0,0,0,0,0]
[null,145,null,null,null,null,null,null,null,null,0,0,0,0,0,0,0,0,0,0,0,0,0]
[null,146,null,null,null,null,null,null,null,null,0,0,0,0,0,0,0,0,0,0,0,0,0]
[null,147,null,null,null,null,null,null,null,null,0,0,0,0,0,0,0,0,0,0,0,0,0]
[null,148,null,null,null,null,null,null,null,null,0,0,0,0,0,0,0,0,0,0,0,0,0]
[null,149,null,null,null,null,null,null,null,null,0,0,0,0,0,0,0,0,0,0,0,0,0]
[null,150,null,null,null,null,null,null,null,null,0,0,0,0,0,0,0,0,0,0,0,0,0]
[null,151,null,null,null,null,null,null,null,null,{"$f":"IF($D156=K$5,$F156,0)","v":0},0,0,0,0,0,0,0,0,0,0,0,0]
[null,152,null,null,null,null,null,null,null,null,0,0,0,0,0,0,0,0,0,0,0,0,0]
[null,153,null,null,null,null,null,null,null,null,0,0,0,0,0,0,0,0,0,0,0,0,0]
[null,154,null,null,null,null,null,null,null,null,0,0,0,0,0,0,0,0,0,0,0,0,0]
[null,155,null,null,null,null,null,null,null,null,0,0,0,0,0,0,0,0,0,0,0,0,0]
[null,156,null,null,null,null,null,null,null,null,0,0,0,0,0,0,0,0,0,0,0,0,0]
[null,157,null,null,null,null,null,null,null,null,0,0,0,0,0,0,0,0,0,0,0,0,0]
[null,158,null,null,null,null,null,null,null,null,0,0,0,0,0,0,0,0,0,0,0,0,0]
[null,159,null,null,null,null,null,null,null,null,0,0,0,0,0,0,0,0,0,0,0,0,0]
[null,160,null,null,null,null,null,null,null,null,0,0,0,0,0,0,0,0,0,0,0,0,0]
[null,161,null,null,null,null,null,null,null,null,{"$f":"IF($D166=K$5,$F166,0)","v":0},0,0,0,0,0,0,0,0,0,0,0,0]
[null,162,null,null,null,null,null,null,null,null,0,0,0,0,0,0,0,0,0,0,0,0,0]
[null,163,null,null,null,null,null,null,null,null,0,0,0,0,0,0,0,0,0,0,0,0,0]
[null,164,null,null,null,null,null,null,null,null,0,0,0,0,0,0,0,0,0,0,0,0,0]
[null,165,null,null,null,null,null,null,null,null,0,0,0,0,0,0,0,0,0,0,0,0,0]
[null,166,null,null,null,null,null,null,null,null,0,0,0,0,0,0,0,0,0,0,0,0,0]
[null,167,null,null,null,null,null,null,null,null,0,0,0,0,0,0,0,0,0,0,0,0,0]
[null,168,null,null,null,null,null,null,null,null,0,0,0,0,0,0,0,0,0,0,0,0,0]
[null,169,null,null,null,null,null,null,null,null,0,0,0,0,0,0,0,0,0,0,0,0,0]
[null,170,null,null,null,null,null,null,null,null,0,0,0,0,0,0,0,0,0,0,0,0,0]
[null,171,null,null,null,null,null,null,null,null,{"$f":"IF($D176=K$5,$F176,0)","v":0},0,0,0,0,0,0,0,0,0,0,0,0]
[null,172,null,null,null,null,null,null,null,null,0,0,0,0,0,0,0,0,0,0,0,0,0]
[null,173,null,null,null,null,null,null,null,null,0,0,0,0,0,0,0,0,0,0,0,0,0]
[null,174,null,null,null,null,null,null,null,null,0,0,0,0,0,0,0,0,0,0,0,0,0]
[null,175,null,null,null,null,null,null,null,null,0,0,0,0,0,0,0,0,0,0,0,0,0]
[null,176,null,null,null,null,null,null,null,null,0,0,0,0,0,0,0,0,0,0,0,0,0]
[null,177,null,null,null,null,null,null,null,null,0,0,0,0,0,0,0,0,0,0,0,0,0]
[null,178,null,null,null,null,null,null,null,null,0,0,0,0,0,0,0,0,0,0,0,0,0]
[null,179,null,null,null,null,null,null,null,null,0,0,0,0,0,0,0,0,0,0,0,0,0]
[null,180,null,null,null,null,null,null,null,null,0,0,0,0,0,0,0,0,0,0,0,0,0]
[null,181,null,null,null,null,null,null,null,null,{"$f":"IF($D186=K$5,$F186,0)","v":0},0,0,0,0,0,0,0,0,0,0,0,0]
[null,182,null,null,null,null,null,null,null,null,0,0,0,0,0,0,0,0,0,0,0,0,0]
[null,183,null,null,null,null,null,null,null,null,0,0,0,0,0,0,0,0,0,0,0,0,0]
[null,184,null,null,null,null,null,null,null,null,0,0,0,0,0,0,0,0,0,0,0,0,0]
[null,185,null,null,null,null,null,null,null,null,0,0,0,0,0,0,0,0,0,0,0,0,0]
[null,186,null,null,null,null,null,null,null,null,0,0,0,0,0,0,0,0,0,0,0,0,0]
[null,187,null,null,null,null,null,null,null,null,0,0,0,0,0,0,0,0,0,0,0,0,0]
[null,188,null,null,null,null,null,null,null,null,0,0,0,0,0,0,0,0,0,0,0,0,0]
[null,189,null,null,null,null,null,null,null,null,0,0,0,0,0,0,0,0,0,0,0,0,0]
[null,190,null,null,null,null,null,null,null,null,0,0,0,0,0,0,0,0,0,0,0,0,0]
[null,191,null,null,null,null,null,null,null,null,{"$f":"IF($D196=K$5,$F196,0)","v":0},0,0,0,0,0,0,0,0,0,0,0,0]
[null,192,null,null,null,null,null,null,null,null,0,0,0,0,0,0,0,0,0,0,0,0,0]
[null,193,null,null,null,null,null,null,null,null,0,0,0,0,0,0,0,0,0,0,0,0,0]
[null,194,null,null,null,null,null,null,null,null,0,0,0,0,0,0,0,0,0,0,0,0,0]
[null,195,null,null,null,null,null,null,null,null,0,0,0,0,0,0,0,0,0,0,0,0,0]
[null,196,null,null,null,null,null,null,null,null,0,0,0,0,0,0,0,0,0,0,0,0,0]
[null,197,null,null,null,null,null,null,null,null,0,0,0,0,0,0,0,0,0,0,0,0,0]
[null,198,null,null,null,null,null,null,null,null,0,0,0,0,0,0,0,0,0,0,0,0,0]
[null,199,null,null,null,null,null,null,null,null,0,0,0,0,0,0,0,0,0,0,0,0,0]
[null,200,null,null,null,null,null,null,null,null,0,0,0,0,0,0,0,0,0,0,0,0,0]
[null,201,null,null,null,null,null,null,null,null,{"$f":"IF($D206=K$5,$F206,0)","v":0},0,0,0,0,0,0,0,0,0,0,0,0]
[null,202,null,null,null,null,null,null,null,null,0,0,0,0,0,0,0,0,0,0,0,0,0]
[null,203,null,null,null,null,null,null,null,null,0,0,0,0,0,0,0,0,0,0,0,0,0]
[null,204,null,null,null,null,null,null,null,null,0,0,0,0,0,0,0,0,0,0,0,0,0]
[null,205,null,null,null,null,null,null,null,null,0,0,0,0,0,0,0,0,0,0,0,0,0]
[null,206,null,null,null,null,null,null,null,null,0,0,0,0,0,0,0,0,0,0,0,0,0]
[null,207,null,null,null,null,null,null,null,null,0,0,0,0,0,0,0,0,0,0,0,0,0]
[null,208,null,null,null,null,null,null,null,null,0,0,0,0,0,0,0,0,0,0,0,0,0]
[null,209,null,null,null,null,null,null,null,null,0,0,0,0,0,0,0,0,0,0,0,0,0]
[null,210,null,null,null,null,null,null,null,null,0,0,0,0,0,0,0,0,0,0,0,0,0]
[null,211,null,null,null,null,null,null,null,null,{"$f":"IF($D216=K$5,$F216,0)","v":0},0,0,0,0,0,0,0,0,0,0,0,0]
[null,212,null,null,null,null,null,null,null,null,0,0,0,0,0,0,0,0,0,0,0,0,0]
[null,213,null,null,null,null,null,null,null,null,0,0,0,0,0,0,0,0,0,0,0,0,0]
[null,214,null,null,null,null,null,null,null,null,0,0,0,0,0,0,0,0,0,0,0,0,0]
[null,215,null,null,null,null,null,null,null,null,0,0,0,0,0,0,0,0,0,0,0,0,0]
[null,216,null,null,null,null,null,null,null,null,0,0,0,0,0,0,0,0,0,0,0,0,0]
[null,217,null,null,null,null,null,null,null,null,0,0,0,0,0,0,0,0,0,0,0,0,0]
[null,218,null,null,null,null,null,null,null,null,0,0,0,0,0,0,0,0,0,0,0,0,0]
[null,219,null,null,null,null,null,null,null,null,0,0,0,0,0,0,0,0,0,0,0,0,0]
[null,220,null,null,null,null,null,null,null,null,0,0,0,0,0,0,0,0,0,0,0,0,0]
[null,221,null,null,null,null,null,null,null,null,{"$f":"IF($D226=K$5,$F226,0)","v":0},0,0,0,0,0,0,0,0,0,0,0,0]
[null,222,null,null,null,null,null,null,null,null,0,0,0,0,0,0,0,0,0,0,0,0,0]
[null,223,null,null,null,null,null,null,null,null,0,0,0,0,0,0,0,0,0,0,0,0,0]
[null,224,null,null,null,null,null,null,null,null,0,0,0,0,0,0,0,0,0,0,0,0,0]
[null,225,null,null,null,null,null,null,null,null,0,0,0,0,0,0,0,0,0,0,0,0,0]
[null,226,null,null,null,null,null,null,null,null,0,0,0,0,0,0,0,0,0,0,0,0,0]
[null,227,null,null,null,null,null,null,null,null,0,0,0,0,0,0,0,0,0,0,0,0,0]
[null,228,null,null,null,null,null,null,null,null,0,0,0,0,0,0,0,0,0,0,0,0,0]
[null,229,null,null,null,null,null,null,null,null,0,0,0,0,0,0,0,0,0,0,0,0,0]
[null,230,null,null,null,null,null,null,null,null,0,0,0,0,0,0,0,0,0,0,0,0,0]
[null,231,null,null,null,null,null,null,null,null,{"$f":"IF($D236=K$5,$F236,0)","v":0},0,0,0,0,0,0,0,0,0,0,0,0]
[null,232,null,null,null,null,null,null,null,null,0,0,0,0,0,0,0,0,0,0,0,0,0]
[null,233,null,null,null,null,null,null,null,null,0,0,0,0,0,0,0,0,0,0,0,0,0]
[null,234,null,null,null,null,null,null,null,null,0,0,0,0,0,0,0,0,0,0,0,0,0]
[null,235,null,null,null,null,null,null,null,null,0,0,0,0,0,0,0,0,0,0,0,0,0]
[null,236,null,null,null,null,null,null,null,null,0,0,0,0,0,0,0,0,0,0,0,0,0]
[null,237,null,null,null,null,null,null,null,null,0,0,0,0,0,0,0,0,0,0,0,0,0]
[null,238,null,null,null,null,null,null,null,null,0,0,0,0,0,0,0,0,0,0,0,0,0]
[null,239,null,null,null,null,null,null,null,null,0,0,0,0,0,0,0,0,0,0,0,0,0]
[null,240,null,null,null,null,null,null,null,null,0,0,0,0,0,0,0,0,0,0,0,0,0]
[null,241,null,null,null,null,null,null,null,null,{"$f":"IF($D246=K$5,$F246,0)","v":0},0,0,0,0,0,0,0,0,0,0,0,0]
[null,242,null,null,null,null,null,null,null,null,0,0,0,0,0,0,0,0,0,0,0,0,0]
[null,243,null,null,null,null,null,null,null,null,0,0,0,0,0,0,0,0,0,0,0,0,0]
[null,244,null,null,null,null,null,null,null,null,0,0,0,0,0,0,0,0,0,0,0,0,0]
[null,245,null,null,null,null,null,null,null,null,0,0,0,0,0,0,0,0,0,0,0,0,0]
[null,246,null,null,null,null,null,null,null,null,0,0,0,0,0,0,0,0,0,0,0,0,0]
[null,247,null,null,null,null,null,null,null,null,0,0,0,0,0,0,0,0,0,0,0,0,0]
[null,248,null,null,null,null,null,null,null,null,0,0,0,0,0,0,0,0,0,0,0,0,0]
[null,249,null,null,null,null,null,null,null,null,0,0,0,0,0,0,0,0,0,0,0,0,0]
[null,250,null,null,null,null,null,null,null,null,0,0,0,0,0,0,0,0,0,0,0,0,0]
[null,251,null,null,null,null,null,null,null,null,{"$f":"IF($D256=K$5,$F256,0)","v":0},0,0,0,0,0,0,0,0,0,0,0,0]
[null,252,null,null,null,null,null,null,null,null,0,0,0,0,0,0,0,0,0,0,0,0,0]
[null,253,null,null,null,null,null,null,null,null,0,0,0,0,0,0,0,0,0,0,0,0,0]
[null,254,null,null,null,null,null,null,null,null,0,0,0,0,0,0,0,0,0,0,0,0,0]
[null,255,null,null,null,null,null,null,null,null,0,0,0,0,0,0,0,0,0,0,0,0,0]
[null,256,null,null,null,null,null,null,null,null,0,0,0,0,0,0,0,0,0,0,0,0,0]
[null,257,null,null,null,null,null,null,null,null,0,0,0,0,0,0,0,0,0,0,0,0,0]
[null,258,null,null,null,null,null,null,null,null,0,0,0,0,0,0,0,0,0,0,0,0,0]
[null,259,null,null,null,null,null,null,null,null,0,0,0,0,0,0,0,0,0,0,0,0,0]
[null,260,null,null,null,null,null,null,null,null,0,0,0,0,0,0,0,0,0,0,0,0,0]
[null,261,null,null,null,null,null,null,null,null,{"$f":"IF($D266=K$5,$F266,0)","v":0},0,0,0,0,0,0,0,0,0,0,0,0]
[null,262,null,null,null,null,null,null,null,null,0,0,0,0,0,0,0,0,0,0,0,0,0]
[null,263,null,null,null,null,null,null,null,null,0,0,0,0,0,0,0,0,0,0,0,0,0]
[null,264,null,null,null,null,null,null,null,null,0,0,0,0,0,0,0,0,0,0,0,0,0]
[null,265,null,null,null,null,null,null,null,null,0,0,0,0,0,0,0,0,0,0,0,0,0]
[null,266,null,null,null,null,null,null,null,null,0,0,0,0,0,0,0,0,0,0,0,0,0]
[null,267,null,null,null,null,null,null,null,null,0,0,0,0,0,0,0,0,0,0,0,0,0]
[null,268,null,null,null,null,null,null,null,null,0,0,0,0,0,0,0,0,0,0,0,0,0]
[null,269,null,null,null,null,null,null,null,null,0,0,0,0,0,0,0,0,0,0,0,0,0]
[null,270,null,null,null,null,null,null,null,null,0,0,0,0,0,0,0,0,0,0,0,0,0]
[null,271,null,null,null,null,null,null,null,null,{"$f":"IF($D276=K$5,$F276,0)","v":0},0,0,0,0,0,0,0,0,0,0,0,0]
[null,272,null,null,null,null,null,null,null,null,0,0,0,0,0,0,0,0,0,0,0,0,0]
[null,273,null,null,null,null,null,null,null,null,0,0,0,0,0,0,0,0,0,0,0,0,0]
[null,274,null,null,null,null,null,null,null,null,0,0,0,0,0,0,0,0,0,0,0,0,0]
[null,275,null,null,null,null,null,null,null,null,0,0,0,0,0,0,0,0,0,0,0,0,0]
[null,276,null,null,null,null,null,null,null,null,0,0,0,0,0,0,0,0,0,0,0,0,0]
[null,277,null,null,null,null,null,null,null,null,0,0,0,0,0,0,0,0,0,0,0,0,0]
[null,278,null,null,null,null,null,null,null,null,0,0,0,0,0,0,0,0,0,0,0,0,0]
[null,279,null,null,null,null,null,null,null,null,0,0,0,0,0,0,0,0,0,0,0,0,0]
[null,280,null,null,null,null,null,null,null,null,0,0,0,0,0,0,0,0,0,0,0,0,0]
[null,281,null,null,null,null,null,null,null,null,{"$f":"IF($D286=K$5,$F286,0)","v":0},0,0,0,0,0,0,0,0,0,0,0,0]
[null,282,null,null,null,null,null,null,null,null,0,0,0,0,0,0,0,0,0,0,0,0,0]
[null,283,null,null,null,null,null,null,null,null,0,0,0,0,0,0,0,0,0,0,0,0,0]
[null,284,null,null,null,null,null,null,null,null,0,0,0,0,0,0,0,0,0,0,0,0,0]
[null,285,null,null,null,null,null,null,null,null,0,0,0,0,0,0,0,0,0,0,0,0,0]
[null,286,null,null,null,null,null,null,null,null,0,0,0,0,0,0,0,0,0,0,0,0,0]
[null,287,null,null,null,null,null,null,null,null,0,0,0,0,0,0,0,0,0,0,0,0,0]
[null,288,null,null,null,null,null,null,null,null,0,0,0,0,0,0,0,0,0,0,0,0,0]
[null,289,null,null,null,null,null,null,null,null,0,0,0,0,0,0,0,0,0,0,0,0,0]
[null,290,null,null,null,null,null,null,null,null,0,0,0,0,0,0,0,0,0,0,0,0,0]
[null,291,null,null,null,null,null,null,null,null,{"$f":"IF($D296=K$5,$F296,0)","v":0},0,0,0,0,0,0,0,0,0,0,0,0]
[null,292,null,null,null,null,null,null,null,null,0,0,0,0,0,0,0,0,0,0,0,0,0]
[null,293,null,null,null,null,null,null,null,null,0,0,0,0,0,0,0,0,0,0,0,0,0]
[null,294,null,null,null,null,null,null,null,null,0,0,0,0,0,0,0,0,0,0,0,0,0]
[null,295,null,null,null,null,null,null,null,null,0,0,0,0,0,0,0,0,0,0,0,0,0]
[null,296,null,null,null,null,null,null,null,null,0,0,0,0,0,0,0,0,0,0,0,0,0]
[null,297,null,null,null,null,null,null,null,null,0,0,0,0,0,0,0,0,0,0,0,0,0]
[null,298,null,null,null,null,null,null,null,null,0,0,0,0,0,0,0,0,0,0,0,0,0]
[null,299,null,null,null,null,null,null,null,null,0,0,0,0,0,0,0,0,0,0,0,0,0]
[null,300,null,null,null,null,null,null,null,null,0,0,0,0,0,0,0,0,0,0,0,0,0]
[null,null,null,null,null,null,null,null,null,null,{"$f":"SUM(K6:K305)","v":0},{"$f":"SUM(L6:L305)","v":0},0,0,0,0,0,0,0,0,0,0,0]

{"sheet":"14","index":14,"n_rows":306,"n_cols":23,"rows_kept":306,"cut":false,"hidden":false,"merged":[]}
[]
[null,null,{"$f":"menu!B21","v":"NUEVA SECCCION"}]
[]
[null,null,null,null,null,null,null,null,null,"Enero"]
[null,null,"DIA","MES","CONCEPTO","TOTAL",null,null,null,"Febrero","Enero","Febrero","Marzo","Abril","Mayo","Junio","Julio","Agosto","Septiembre","Octubre","Noviembre","Diciembre"]
[null,1,null,null,null,null,null,null,null,"Marzo",{"$f":"IF($D6=K$5,$F6,0)","v":0},0,0,0,0,0,0,0,0,0,0,0,0]
[null,2,null,null,null,null,null,null,null,"Abril",0,0,0,0,0,0,0,0,0,0,0,0,0]
[null,3,null,null,null,null,null,null,null,"Mayo",0,0,0,0,0,0,0,0,0,0,0,0,0]
[null,4,null,null,null,null,null,null,null,"Junio",0,0,0,0,0,0,0,0,0,0,0,0,0]
[null,5,null,null,null,null,null,null,null,"Julio",0,0,0,0,0,0,0,0,0,0,0,0,0]
[null,6,null,null,null,null,null,null,null,"Agosto",0,0,0,0,0,0,0,0,0,0,0,0,0]
[null,7,null,null,null,null,null,null,null,"Septiembre",0,0,0,0,0,0,0,0,0,0,0,0,0]
[null,8,null,null,null,null,null,null,null,"Octubre",0,0,0,0,0,0,0,0,0,0,0,0,0]
[null,9,null,null,null,null,null,null,null,"Noviembre",0,0,0,0,0,0,0,0,0,0,0,0,0]
[null,10,null,null,null,null,null,null,null,"Diciembre",0,0,0,0,0,0,0,0,0,0,0,0,0]
[null,11,null,null,null,null,null,null,null,null,{"$f":"IF($D16=K$5,$F16,0)","v":0},0,0,0,0,0,0,0,0,0,0,0,0]
[null,12,null,null,null,null,null,null,null,null,0,0,0,0,0,0,0,0,0,0,0,0,0]
[null,13,null,null,null,null,null,null,null,null,0,0,0,0,0,0,0,0,0,0,0,0,0]
[null,14,null,null,null,null,null,null,null,null,0,0,0,0,0,0,0,0,0,0,0,0,0]
[null,15,null,null,null,null,null,null,null,null,0,0,0,0,0,0,0,0,0,0,0,0,0]
[null,16,null,null,null,null,null,null,null,null,0,0,0,0,0,0,0,0,0,0,0,0,0]
[null,17,null,null,null,null,null,null,null,null,0,0,0,0,0,0,0,0,0,0,0,0,0]
[null,18,null,null,null,null,null,null,null,null,0,0,0,0,0,0,0,0,0,0,0,0,0]
[null,19,null,null,null,null,null,null,null,null,0,0,0,0,0,0,0,0,0,0,0,0,0]
[null,20,null,null,null,null,null,null,null,null,0,0,0,0,0,0,0,0,0,0,0,0,0]
[null,21,null,null,null,null,null,null,null,null,{"$f":"IF($D26=K$5,$F26,0)","v":0},0,0,0,0,0,0,0,0,0,0,0,0]
[null,22,null,null,null,null,null,null,null,null,0,0,0,0,0,0,0,0,0,0,0,0,0]
[null,23,null,null,null,null,null,null,null,null,0,0,0,0,0,0,0,0,0,0,0,0,0]
[null,24,null,null,null,null,null,null,null,null,0,0,0,0,0,0,0,0,0,0,0,0,0]
[null,25,null,null,null,null,null,null,null,null,0,0,0,0,0,0,0,0,0,0,0,0,0]
[null,26,null,null,null,null,null,null,null,null,0,0,0,0,0,0,0,0,0,0,0,0,0]
[null,27,null,null,null,null,null,null,null,null,0,0,0,0,0,0,0,0,0,0,0,0,0]
[null,28,null,null,null,null,null,null,null,null,0,0,0,0,0,0,0,0,0,0,0,0,0]
[null,29,null,null,null,null,null,null,null,null,0,0,0,0,0,0,0,0,0,0,0,0,0]
[null,30,null,null,null,null,null,null,null,null,0,0,0,0,0,0,0,0,0,0,0,0,0]
[null,31,null,null,null,null,null,null,null,null,{"$f":"IF($D36=K$5,$F36,0)","v":0},0,0,0,0,0,0,0,0,0,0,0,0]
[null,32,null,null,null,null,null,null,null,null,0,0,0,0,0,0,0,0,0,0,0,0,0]
[null,33,null,null,null,null,null,null,null,null,0,0,0,0,0,0,0,0,0,0,0,0,0]
[null,34,null,null,null,null,null,null,null,null,0,0,0,0,0,0,0,0,0,0,0,0,0]
[null,35,null,null,null,null,null,null,null,null,0,0,0,0,0,0,0,0,0,0,0,0,0]
[null,36,null,null,null,null,null,null,null,null,0,0,0,0,0,0,0,0,0,0,0,0,0]
[null,37,null,null,null,null,null,null,null,null,0,0,0,0,0,0,0,0,0,0,0,0,0]
[null,38,null,null,null,null,null,null,null,null,0,0,0,0,0,0,0,0,0,0,0,0,0]
[null,39,null,null,null,null,null,null,null,null,0,0,0,0,0,0,0,0,0,0,0,0,0]
[null,40,null,null,null,null,null,null,null,null,0,0,0,0,0,0,0,0,0,0,0,0,0]
[null,41,null,null,null,null,null,null,null,null,{"$f":"IF($D46=K$5,$F46,0)","v":0},0,0,0,0,0,0,0,0,0,0,0,0]
[null,42,null,null,null,null,null,null,null,null,0,0,0,0,0,0,0,0,0,0,0,0,0]
[null,43,null,null,null,null,null,null,null,null,0,0,0,0,0,0,0,0,0,0,0,0,0]
[null,44,null,null,null,null,null,null,null,null,0,0,0,0,0,0,0,0,0,0,0,0,0]
[null,45,null,null,null,null,null,null,null,null,0,0,0,0,0,0,0,0,0,0,0,0,0]
[null,46,null,null,null,null,null,null,null,null,0,0,0,0,0,0,0,0,0,0,0,0,0]
[null,47,null,null,null,null,null,null,null,null,0,0,0,0,0,0,0,0,0,0,0,0,0]
[null,48,null,null,null,null,null,null,null,null,0,0,0,0,0,0,0,0,0,0,0,0,0]
[null,49,null,null,null,null,null,null,null,null,0,0,0,0,0,0,0,0,0,0,0,0,0]
[null,50,null,null,null,null,null,null,null,null,0,0,0,0,0,0,0,0,0,0,0,0,0]
[null,51,null,null,null,null,null,null,null,null,{"$f":"IF($D56=K$5,$F56,0)","v":0},0,0,0,0,0,0,0,0,0,0,0,0]
[null,52,null,null,null,null,null,null,null,null,0,0,0,0,0,0,0,0,0,0,0,0,0]
[null,53,null,null,null,null,null,null,null,null,0,0,0,0,0,0,0,0,0,0,0,0,0]
[null,54,null,null,null,null,null,null,null,null,0,0,0,0,0,0,0,0,0,0,0,0,0]
[null,55,null,null,null,null,null,null,null,null,0,0,0,0,0,0,0,0,0,0,0,0,0]
[null,56,null,null,null,null,null,null,null,null,0,0,0,0,0,0,0,0,0,0,0,0,0]
[null,57,null,null,null,null,null,null,null,null,0,0,0,0,0,0,0,0,0,0,0,0,0]
[null,58,null,null,null,null,null,null,null,null,0,0,0,0,0,0,0,0,0,0,0,0,0]
[null,59,null,null,null,null,null,null,null,null,0,0,0,0,0,0,0,0,0,0,0,0,0]
[null,60,null,null,null,null,null,null,null,null,0,0,0,0,0,0,0,0,0,0,0,0,0]
[null,61,null,null,null,null,null,null,null,null,{"$f":"IF($D66=K$5,$F66,0)","v":0},0,0,0,0,0,0,0,0,0,0,0,0]
[null,62,null,null,null,null,null,null,null,null,0,0,0,0,0,0,0,0,0,0,0,0,0]
[null,63,null,null,null,null,null,null,null,null,0,0,0,0,0,0,0,0,0,0,0,0,0]
[null,64,null,null,null,null,null,null,null,null,0,0,0,0,0,0,0,0,0,0,0,0,0]
[null,65,null,null,null,null,null,null,null,null,0,0,0,0,0,0,0,0,0,0,0,0,0]
[null,66,null,null,null,null,null,null,null,null,0,0,0,0,0,0,0,0,0,0,0,0,0]
[null,67,null,null,null,null,null,null,null,null,0,0,0,0,0,0,0,0,0,0,0,0,0]
[null,68,null,null,null,null,null,null,null,null,0,0,0,0,0,0,0,0,0,0,0,0,0]
[null,69,null,null,null,null,null,null,null,null,0,0,0,0,0,0,0,0,0,0,0,0,0]
[null,70,null,null,null,null,null,null,null,null,0,0,0,0,0,0,0,0,0,0,0,0,0]
[null,71,null,null,null,null,null,null,null,null,{"$f":"IF($D76=K$5,$F76,0)","v":0},0,0,0,0,0,0,0,0,0,0,0,0]
[null,72,null,null,null,null,null,null,null,null,0,0,0,0,0,0,0,0,0,0,0,0,0]
[null,73,null,null,null,null,null,null,null,null,0,0,0,0,0,0,0,0,0,0,0,0,0]
[null,74,null,null,null,null,null,null,null,null,0,0,0,0,0,0,0,0,0,0,0,0,0]
[null,75,null,null,null,null,null,null,null,null,0,0,0,0,0,0,0,0,0,0,0,0,0]
[null,76,null,null,null,null,null,null,null,null,0,0,0,0,0,0,0,0,0,0,0,0,0]
[null,77,null,null,null,null,null,null,null,null,0,0,0,0,0,0,0,0,0,0,0,0,0]
[null,78,null,null,null,null,null,null,null,null,0,0,0,0,0,0,0,0,0,0,0,0,0]
[null,79,null,null,null,null,null,null,null,null,0,0,0,0,0,0,0,0,0,0,0,0,0]
[null,80,null,null,null,null,null,null,null,null,0,0,0,0,0,0,0,0,0,0,0,0,0]
[null,81,null,null,null,null,null,null,null,null,{"$f":"IF($D86=K$5,$F86,0)","v":0},0,0,0,0,0,0,0,0,0,0,0,0]
[null,82,null,null,null,null,null,null,null,null,0,0,0,0,0,0,0,0,0,0,0,0,0]
[null,83,null,null,null,null,null,null,null,null,0,0,0,0,0,0,0,0,0,0,0,0,0]
[null,84,null,null,null,null,null,null,null,null,0,0,0,0,0,0,0,0,0,0,0,0,0]
[null,85,null,null,null,null,null,null,null,null,0,0,0,0,0,0,0,0,0,0,0,0,0]
[null,86,null,null,null,null,null,null,null,null,0,0,0,0,0,0,0,0,0,0,0,0,0]
[null,87,null,null,null,null,null,null,null,null,0,0,0,0,0,0,0,0,0,0,0,0,0]
[null,88,null,null,null,null,null,null,null,null,0,0,0,0,0,0,0,0,0,0,0,0,0]
[null,89,null,null,null,null,null,null,null,null,0,0,0,0,0,0,0,0,0,0,0,0,0]
[null,90,null,null,null,null,null,null,null,null,0,0,0,0,0,0,0,0,0,0,0,0,0]
[null,91,null,null,null,null,null,null,null,null,{"$f":"IF($D96=K$5,$F96,0)","v":0},0,0,0,0,0,0,0,0,0,0,0,0]
[null,92,null,null,null,null,null,null,null,null,0,0,0,0,0,0,0,0,0,0,0,0,0]
[null,93,null,null,null,null,null,null,null,null,0,0,0,0,0,0,0,0,0,0,0,0,0]
[null,94,null,null,null,null,null,null,null,null,0,0,0,0,0,0,0,0,0,0,0,0,0]
[null,95,null,null,null,null,null,null,null,null,0,0,0,0,0,0,0,0,0,0,0,0,0]
[null,96,null,null,null,null,null,null,null,null,0,0,0,0,0,0,0,0,0,0,0,0,0]
[null,97,null,null,null,null,null,null,null,null,0,0,0,0,0,0,0,0,0,0,0,0,0]
[null,98,null,null,null,null,null,null,null,null,0,0,0,0,0,0,0,0,0,0,0,0,0]
[null,99,null,null,null,null,null,null,null,null,0,0,0,0,0,0,0,0,0,0,0,0,0]
[null,100,null,null,null,null,null,null,null,null,0,0,0,0,0,0,0,0,0,0,0,0,0]
[null,101,null,null,null,null,null,null,null,null,{"$f":"IF($D106=K$5,$F106,0)","v":0},0,0,0,0,0,0,0,0,0,0,0,0]
[null,102,null,null,null,null,null,null,null,null,0,0,0,0,0,0,0,0,0,0,0,0,0]
[null,103,null,null,null,null,null,null,null,null,0,0,0,0,0,0,0,0,0,0,0,0,0]
[null,104,null,null,null,null,null,null,null,null,0,0,0,0,0,0,0,0,0,0,0,0,0]
[null,105,null,null,null,null,null,null,null,null,0,0,0,0,0,0,0,0,0,0,0,0,0]
[null,106,null,null,null,null,null,null,null,null,0,0,0,0,0,0,0,0,0,0,0,0,0]
[null,107,null,null,null,null,null,null,null,null,0,0,0,0,0,0,0,0,0,0,0,0,0]
[null,108,null,null,null,null,null,null,null,null,0,0,0,0,0,0,0,0,0,0,0,0,0]
[null,109,null,null,null,null,null,null,null,null,0,0,0,0,0,0,0,0,0,0,0,0,0]
[null,110,null,null,null,null,null,null,null,null,0,0,0,0,0,0,0,0,0,0,0,0,0]
[null,111,null,null,null,null,null,null,null,null,{"$f":"IF($D116=K$5,$F116,0)","v":0},0,0,0,0,0,0,0,0,0,0,0,0]
[null,112,null,null,null,null,null,null,null,null,0,0,0,0,0,0,0,0,0,0,0,0,0]
[null,113,null,null,null,null,null,null,null,null,0,0,0,0,0,0,0,0,0,0,0,0,0]
[null,114,null,null,null,null,null,null,null,null,0,0,0,0,0,0,0,0,0,0,0,0,0]
[null,115,null,null,null,null,null,null,null,null,0,0,0,0,0,0,0,0,0,0,0,0,0]
[null,116,null,null,null,null,null,null,null,null,0,0,0,0,0,0,0,0,0,0,0,0,0]
[null,117,null,null,null,null,null,null,null,null,0,0,0,0,0,0,0,0,0,0,0,0,0]
[null,118,null,null,null,null,null,null,null,null,0,0,0,0,0,0,0,0,0,0,0,0,0]
[null,119,null,null,null,null,null,null,null,null,0,0,0,0,0,0,0,0,0,0,0,0,0]
[null,120,null,null,null,null,null,null,null,null,0,0,0,0,0,0,0,0,0,0,0,0,0]
[null,121,null,null,null,null,null,null,null,null,{"$f":"IF($D126=K$5,$F126,0)","v":0},0,0,0,0,0,0,0,0,0,0,0,0]
[null,122,null,null,null,null,null,null,null,null,0,0,0,0,0,0,0,0,0,0,0,0,0]
[null,123,null,null,null,null,null,null,null,null,0,0,0,0,0,0,0,0,0,0,0,0,0]
[null,124,null,null,null,null,null,null,null,null,0,0,0,0,0,0,0,0,0,0,0,0,0]
[null,125,null,null,null,null,null,null,null,null,0,0,0,0,0,0,0,0,0,0,0,0,0]
[null,126,null,null,null,null,null,null,null,null,0,0,0,0,0,0,0,0,0,0,0,0,0]
[null,127,null,null,null,null,null,null,null,null,0,0,0,0,0,0,0,0,0,0,0,0,0]
[null,128,null,null,null,null,null,null,null,null,0,0,0,0,0,0,0,0,0,0,0,0,0]
[null,129,null,null,null,null,null,null,null,null,0,0,0,0,0,0,0,0,0,0,0,0,0]
[null,130,null,null,null,null,null,null,null,null,0,0,0,0,0,0,0,0,0,0,0,0,0]
[null,131,null,null,null,null,null,null,null,null,{"$f":"IF($D136=K$5,$F136,0)","v":0},0,0,0,0,0,0,0,0,0,0,0,0]
[null,132,null,null,null,null,null,null,null,null,0,0,0,0,0,0,0,0,0,0,0,0,0]
[null,133,null,null,null,null,null,null,null,null,0,0,0,0,0,0,0,0,0,0,0,0,0]
[null,134,null,null,null,null,null,null,null,null,0,0,0,0,0,0,0,0,0,0,0,0,0]
[null,135,null,null,null,null,null,null,null,null,0,0,0,0,0,0,0,0,0,0,0,0,0]
[null,136,null,null,null,null,null,null,null,null,0,0,0,0,0,0,0,0,0,0,0,0,0]
[null,137,null,null,null,null,null,null,null,null,0,0,0,0,0,0,0,0,0,0,0,0,0]
[null,138,null,null,null,null,null,null,null,null,0,0,0,0,0,0,0,0,0,0,0,0,0]
[null,139,null,null,null,null,null,null,null,null,0,0,0,0,0,0,0,0,0,0,0,0,0]
[null,140,null,null,null,null,null,null,null,null,0,0,0,0,0,0,0,0,0,0,0,0,0]
[null,141,null,null,null,null,null,null,null,null,{"$f":"IF($D146=K$5,$F146,0)","v":0},0,0,0,0,0,0,0,0,0,0,0,0]
[null,142,null,null,null,null,null,null,null,null,0,0,0,0,0,0,0,0,0,0,0,0,0]
[null,143,null,null,null,null,null,null,null,null,0,0,0,0,0,0,0,0,0,0,0,0,0]
[null,144,null,null,null,null,null,null,null,null,0,0,0,0,0,0,0,0,0,0,0,0,0]
[null,145,null,null,null,null,null,null,null,null,0,0,0,0,0,0,0,0,0,0,0,0,0]
[null,146,null,null,null,null,null,null,null,null,0,0,0,0,0,0,0,0,0,0,0,0,0]
[null,147,null,null,null,null,null,null,null,null,0,0,0,0,0,0,0,0,0,0,0,0,0]
[null,148,null,null,null,null,null,null,null,null,0,0,0,0,0,0,0,0,0,0,0,0,0]
[null,149,null,null,null,null,null,null,null,null,0,0,0,0,0,0,0,0,0,0,0,0,0]
[null,150,null,null,null,null,null,null,null,null,0,0,0,0,0,0,0,0,0,0,0,0,0]
[null,151,null,null,null,null,null,null,null,null,{"$f":"IF($D156=K$5,$F156,0)","v":0},0,0,0,0,0,0,0,0,0,0,0,0]
[null,152,null,null,null,null,null,null,null,null,0,0,0,0,0,0,0,0,0,0,0,0,0]
[null,153,null,null,null,null,null,null,null,null,0,0,0,0,0,0,0,0,0,0,0,0,0]
[null,154,null,null,null,null,null,null,null,null,0,0,0,0,0,0,0,0,0,0,0,0,0]
[null,155,null,null,null,null,null,null,null,null,0,0,0,0,0,0,0,0,0,0,0,0,0]
[null,156,null,null,null,null,null,null,null,null,0,0,0,0,0,0,0,0,0,0,0,0,0]
[null,157,null,null,null,null,null,null,null,null,0,0,0,0,0,0,0,0,0,0,0,0,0]
[null,158,null,null,null,null,null,null,null,null,0,0,0,0,0,0,0,0,0,0,0,0,0]
[null,159,null,null,null,null,null,null,null,null,0,0,0,0,0,0,0,0,0,0,0,0,0]
[null,160,null,null,null,null,null,null,null,null,0,0,0,0,0,0,0,0,0,0,0,0,0]
[null,161,null,null,null,null,null,null,null,null,{"$f":"IF($D166=K$5,$F166,0)","v":0},0,0,0,0,0,0,0,0,0,0,0,0]
[null,162,null,null,null,null,null,null,null,null,0,0,0,0,0,0,0,0,0,0,0,0,0]
[null,163,null,null,null,null,null,null,null,null,0,0,0,0,0,0,0,0,0,0,0,0,0]
[null,164,null,null,null,null,null,null,null,null,0,0,0,0,0,0,0,0,0,0,0,0,0]
[null,165,null,null,null,null,null,null,null,null,0,0,0,0,0,0,0,0,0,0,0,0,0]
[null,166,null,null,null,null,null,null,null,null,0,0,0,0,0,0,0,0,0,0,0,0,0]
[null,167,null,null,null,null,null,null,null,null,0,0,0,0,0,0,0,0,0,0,0,0,0]
[null,168,null,null,null,null,null,null,null,null,0,0,0,0,0,0,0,0,0,0,0,0,0]
[null,169,null,null,null,null,null,null,null,null,0,0,0,0,0,0,0,0,0,0,0,0,0]
[null,170,null,null,null,null,null,null,null,null,0,0,0,0,0,0,0,0,0,0,0,0,0]
[null,171,null,null,null,null,null,null,null,null,{"$f":"IF($D176=K$5,$F176,0)","v":0},0,0,0,0,0,0,0,0,0,0,0,0]
[null,172,null,null,null,null,null,null,null,null,0,0,0,0,0,0,0,0,0,0,0,0,0]
[null,173,null,null,null,null,null,null,null,null,0,0,0,0,0,0,0,0,0,0,0,0,0]
[null,174,null,null,null,null,null,null,null,null,0,0,0,0,0,0,0,0,0,0,0,0,0]
[null,175,null,null,null,null,null,null,null,null,0,0,0,0,0,0,0,0,0,0,0,0,0]
[null,176,null,null,null,null,null,null,null,null,0,0,0,0,0,0,0,0,0,0,0,0,0]
[null,177,null,null,null,null,null,null,null,null,0,0,0,0,0,0,0,0,0,0,0,0,0]
[null,178,null,null,null,null,null,null,null,null,0,0,0,0,0,0,0,0,0,0,0,0,0]
[null,179,null,null,null,null,null,null,null,null,0,0,0,0,0,0,0,0,0,0,0,0,0]
[null,180,null,null,null,null,null,null,null,null,0,0,0,0,0,0,0,0,0,0,0,0,0]
[null,181,null,null,null,null,null,null,null,null,{"$f":"IF($D186=K$5,$F186,0)","v":0},0,0,0,0,0,0,0,0,0,0,0,0]
[null,182,null,null,null,null,null,null,null,null,0,0,0,0,0,0,0,0,0,0,0,0,0]
[null,183,null,null,null,null,null,null,null,null,0,0,0,0,0,0,0,0,0,0,0,0,0]
[null,184,null,null,null,null,null,null,null,null,0,0,0,0,0,0,0,0,0,0,0,0,0]
[null,185,null,null,null,null,null,null,null,null,0,0,0,0,0,0,0,0,0,0,0,0,0]
[null,186,null,null,null,null,null,null,null,null,0,0,0,0,0,0,0,0,0,0,0,0,0]
[null,187,null,null,null,null,null,null,null,null,0,0,0,0,0,0,0,0,0,0,0,0,0]
[null,188,null,null,null,null,null,null,null,null,0,0,0,0,0,0,0,0,0,0,0,0,0]
[null,189,null,null,null,null,null,null,null,null,0,0,0,0,0,0,0,0,0,0,0,0,0]
[null,190,null,null,null,null,null,null,null,null,0,0,0,0,0,0,0,0,0,0,0,0,0]
[null,191,null,null,null,null,null,null,null,null,{"$f":"IF($D196=K$5,$F196,0)","v":0},0,0,0,0,0,0,0,0,0,0,0,0]
[null,192,null,null,null,null,null,null,null,null,0,0,0,0,0,0,0,0,0,0,0,0,0]
[null,193,null,null,null,null,null,null,null,null,0,0,0,0,0,0,0,0,0,0,0,0,0]
[null,194,null,null,null,null,null,null,null,null,0,0,0,0,0,0,0,0,0,0,0,0,0]
[null,195,null,null,null,null,null,null,null,null,0,0,0,0,0,0,0,0,0,0,0,0,0]
[null,196,null,null,null,null,null,null,null,null,0,0,0,0,0,0,0,0,0,0,0,0,0]
[null,197,null,null,null,null,null,null,null,null,0,0,0,0,0,0,0,0,0,0,0,0,0]
[null,198,null,null,null,null,null,null,null,null,0,0,0,0,0,0,0,0,0,0,0,0,0]
[null,199,null,null,null,null,null,null,null,null,0,0,0,0,0,0,0,0,0,0,0,0,0]
[null,200,null,null,null,null,null,null,null,null,0,0,0,0,0,0,0,0,0,0,0,0,0]
[null,201,null,null,null,null,null,null,null,null,{"$f":"IF($D206=K$5,$F206,0)","v":0},0,0,0,0,0,0,0,0,0,0,0,0]
[null,202,null,null,null,null,null,null,null,null,0,0,0,0,0,0,0,0,0,0,0,0,0]
[null,203,null,null,null,null,null,null,null,null,0,0,0,0,0,0,0,0,0,0,0,0,0]
[null,204,null,null,null,null,null,null,null,null,0,0,0,0,0,0,0,0,0,0,0,0,0]
[null,205,null,null,null,null,null,null,null,null,0,0,0,0,0,0,0,0,0,0,0,0,0]
[null,206,null,null,null,null,null,null,null,null,0,0,0,0,0,0,0,0,0,0,0,0,0]
[null,207,null,null,null,null,null,null,null,null,0,0,0,0,0,0,0,0,0,0,0,0,0]
[null,208,null,null,null,null,null,null,null,null,0,0,0,0,0,0,0,0,0,0,0,0,0]
[null,209,null,null,null,null,null,null,null,null,0,0,0,0,0,0,0,0,0,0,0,0,0]
[null,210,null,null,null,null,null,null,null,null,0,0,0,0,0,0,0,0,0,0,0,0,0]
[null,211,null,null,null,null,null,null,null,null,{"$f":"IF($D216=K$5,$F216,0)","v":0},0,0,0,0,0,0,0,0,0,0,0,0]
[null,212,null,null,null,null,null,null,null,null,0,0,0,0,0,0,0,0,0,0,0,0,0]
[null,213,null,null,null,null,null,null,null,null,0,0,0,0,0,0,0,0,0,0,0,0,0]
[null,214,null,null,null,null,null,null,null,null,0,0,0,0,0,0,0,0,0,0,0,0,0]
[null,215,null,null,null,null,null,null,null,null,0,0,0,0,0,0,0,0,0,0,0,0,0]
[null,216,null,null,null,null,null,null,null,null,0,0,0,0,0,0,0,0,0,0,0,0,0]
[null,217,null,null,null,null,null,null,null,null,0,0,0,0,0,0,0,0,0,0,0,0,0]
[null,218,null,null,null,null,null,null,null,null,0,0,0,0,0,0,0,0,0,0,0,0,0]
[null,219,null,null,null,null,null,null,null,null,0,0,0,0,0,0,0,0,0,0,0,0,0]
[null,220,null,null,null,null,null,null,null,null,0,0,0,0,0,0,0,0,0,0,0,0,0]
[null,221,null,null,null,null,null,null,null,null,{"$f":"IF($D226=K$5,$F226,0)","v":0},0,0,0,0,0,0,0,0,0,0,0,0]
[null,222,null,null,null,null,null,null,null,null,0,0,0,0,0,0,0,0,0,0,0,0,0]
[null,223,null,null,null,null,null,null,null,null,0,0,0,0,0,0,0,0,0,0,0,0,0]
[null,224,null,null,null,null,null,null,null,null,0,0,0,0,0,0,0,0,0,0,0,0,0]
[null,225,null,null,null,null,null,null,null,null,0,0,0,0,0,0,0,0,0,0,0,0,0]
[null,226,null,null,null,null,null,null,null,null,0,0,0,0,0,0,0,0,0,0,0,0,0]
[null,227,null,null,null,null,null,null,null,null,0,0,0,0,0,0,0,0,0,0,0,0,0]
[null,228,null,null,null,null,null,null,null,null,0,0,0,0,0,0,0,0,0,0,0,0,0]
[null,229,null,null,null,null,null,null,null,null,0,0,0,0,0,0,0,0,0,0,0,0,0]
[null,230,null,null,null,null,null,null,null,null,0,0,0,0,0,0,0,0,0,0,0,0,0]
[null,231,null,null,null,null,null,null,null,null,{"$f":"IF($D236=K$5,$F236,0)","v":0},0,0,0,0,0,0,0,0,0,0,0,0]
[null,232,null,null,null,null,null,null,null,null,0,0,0,0,0,0,0,0,0,0,0,0,0]
[null,233,null,null,null,null,null,null,null,null,0,0,0,0,0,0,0,0,0,0,0,0,0]
[null,234,null,null,null,null,null,null,null,null,0,0,0,0,0,0,0,0,0,0,0,0,0]
[null,235,null,null,null,null,null,null,null,null,0,0,0,0,0,0,0,0,0,0,0,0,0]
[null,236,null,null,null,null,null,null,null,null,0,0,0,0,0,0,0,0,0,0,0,0,0]
[null,237,null,null,null,null,null,null,null,null,0,0,0,0,0,0,0,0,0,0,0,0,0]
[null,238,null,null,null,null,null,null,null,null,0,0,0,0,0,0,0,0,0,0,0,0,0]
[null,239,null,null,null,null,null,null,null,null,0,0,0,0,0,0,0,0,0,0,0,0,0]
[null,240,null,null,null,null,null,null,null,null,0,0,0,0,0,0,0,0,0,0,0,0,0]
[null,241,null,null,null,null,null,null,null,null,{"$f":"IF($D246=K$5,$F246,0)","v":0},0,0,0,0,0,0,0,0,0,0,0,0]
[null,242,null,null,null,null,null,null,null,null,0,0,0,0,0,0,0,0,0,0,0,0,0]
[null,243,null,null,null,null,null,null,null,null,0,0,0,0,0,0,0,0,0,0,0,0,0]
[null,244,null,null,null,null,null,null,null,null,0,0,0,0,0,0,0,0,0,0,0,0,0]
[null,245,null,null,null,null,null,null,null,null,0,0,0,0,0,0,0,0,0,0,0,0,0]
[null,246,null,null,null,null,null,null,null,null,0,0,0,0,0,0,0,0,0,0,0,0,0]
[null,247,null,null,null,null,null,null,null,null,0,0,0,0,0,0,0,0,0,0,0,0,0]
[null,248,null,null,null,null,null,null,null,null,0,0,0,0,0,0,0,0,0,0,0,0,0]
[null,249,null,null,null,null,null,null,null,null,0,0,0,0,0,0,0,0,0,0,0,0,0]
[null,250,null,null,null,null,null,null,null,null,0,0,0,0,0,0,0,0,0,0,0,0,0]
[null,251,null,null,null,null,null,null,null,null,{"$f":"IF($D256=K$5,$F256,0)","v":0},0,0,0,0,0,0,0,0,0,0,0,0]
[null,252,null,null,null,null,null,null,null,null,0,0,0,0,0,0,0,0,0,0,0,0,0]
[null,253,null,null,null,null,null,null,null,null,0,0,0,0,0,0,0,0,0,0,0,0,0]
[null,254,null,null,null,null,null,null,null,null,0,0,0,0,0,0,0,0,0,0,0,0,0]
[null,255,null,null,null,null,null,null,null,null,0,0,0,0,0,0,0,0,0,0,0,0,0]
[null,256,null,null,null,null,null,null,null,null,0,0,0,0,0,0,0,0,0,0,0,0,0]
[null,257,null,null,null,null,null,null,null,null,0,0,0,0,0,0,0,0,0,0,0,0,0]
[null,258,null,null,null,null,null,null,null,null,0,0,0,0,0,0,0,0,0,0,0,0,0]
[null,259,null,null,null,null,null,null,null,null,0,0,0,0,0,0,0,0,0,0,0,0,0]
[null,260,null,null,null,null,null,null,null,null,0,0,0,0,0,0,0,0,0,0,0,0,0]
[null,261,null,null,null,null,null,null,null,null,{"$f":"IF($D266=K$5,$F266,0)","v":0},0,0,0,0,0,0,0,0,0,0,0,0]
[null,262,null,null,null,null,null,null,null,null,0,0,0,0,0,0,0,0,0,0,0,0,0]
[null,263,null,null,null,null,null,null,null,null,0,0,0,0,0,0,0,0,0,0,0,0,0]
[null,264,null,null,null,null,null,null,null,null,0,0,0,0,0,0,0,0,0,0,0,0,0]
[null,265,null,null,null,null,null,null,null,null,0,0,0,0,0,0,0,0,0,0,0,0,0]
[null,266,null,null,null,null,null,null,null,null,0,0,0,0,0,0,0,0,0,0,0,0,0]
[null,267,null,null,null,null,null,null,null,null,0,0,0,0,0,0,0,0,0,0,0,0,0]
[null,268,null,null,null,null,null,null,null,null,0,0,0,0,0,0,0,0,0,0,0,0,0]
[null,269,null,null,null,null,null,null,null,null,0,0,0,0,0,0,0,0,0,0,0,0,0]
[null,270,null,null,null,null,null,null,null,null,0,0,0,0,0,0,0,0,0,0,0,0,0]
[null,271,null,null,null,null,null,null,null,null,{"$f":"IF($D276=K$5,$F276,0)","v":0},0,0,0,0,0,0,0,0,0,0,0,0]
[null,272,null,null,null,null,null,null,null,null,0,0,0,0,0,0,0,0,0,0,0,0,0]
[null,273,null,null,null,null,null,null,null,null,0,0,0,0,0,0,0,0,0,0,0,0,0]
[null,274,null,null,null,null,null,null,null,null,0,0,0,0,0,0,0,0,0,0,0,0,0]
[null,275,null,null,null,null,null,null,null,null,0,0,0,0,0,0,0,0,0,0,0,0,0]
[null,276,null,null,null,null,null,null,null,null,0,0,0,0,0,0,0,0,0,0,0,0,0]
[null,277,null,null,null,null,null,null,null,null,0,0,0,0,0,0,0,0,0,0,0,0,0]
[null,278,null,null,null,null,null,null,null,null,0,0,0,0,0,0,0,0,0,0,0,0,0]
[null,279,null,null,null,null,null,null,null,null,0,0,0,0,0,0,0,0,0,0,0,0,0]
[null,280,null,null,null,null,null,null,null,null,0,0,0,0,0,0,0,0,0,0,0,0,0]
[null,281,null,null,null,null,null,null,null,null,{"$f":"IF($D286=K$5,$F286,0)","v":0},0,0,0,0,0,0,0,0,0,0,0,0]
[null,282,null,null,null,null,null,null,null,null,0,0,0,0,0,0,0,0,0,0,0,0,0]
[null,283,null,null,null,null,null,null,null,null,0,0,0,0,0,0,0,0,0,0,0,0,0]
[null,284,null,null,null,null,null,null,null,null,0,0,0,0,0,0,0,0,0,0,0,0,0]
[null,285,null,null,null,null,null,null,null,null,0,0,0,0,0,0,0,0,0,0,0,0,0]
[null,286,null,null,null,null,null,null,null,null,0,0,0,0,0,0,0,0,0,0,0,0,0]
[null,287,null,null,null,null,null,null,null,null,0,0,0,0,0,0,0,0,0,0,0,0,0]
[null,288,null,null,null,null,null,null,null,null,0,0,0,0,0,0,0,0,0,0,0,0,0]
[null,289,null,null,null,null,null,null,null,null,0,0,0,0,0,0,0,0,0,0,0,0,0]
[null,290,null,null,null,null,null,null,null,null,0,0,0,0,0,0,0,0,0,0,0,0,0]
[null,291,null,null,null,null,null,null,null,null,{"$f":"IF($D296=K$5,$F296,0)","v":0},0,0,0,0,0,0,0,0,0,0,0,0]
[null,292,null,null,null,null,null,null,null,null,0,0,0,0,0,0,0,0,0,0,0,0,0]
[null,293,null,null,null,null,null,null,null,null,0,0,0,0,0,0,0,0,0,0,0,0,0]
[null,294,null,null,null,null,null,null,null,null,0,0,0,0,0,0,0,0,0,0,0,0,0]
[null,295,null,null,null,null,null,null,null,null,0,0,0,0,0,0,0,0,0,0,0,0,0]
[null,296,null,null,null,null,null,null,null,null,0,0,0,0,0,0,0,0,0,0,0,0,0]
[null,297,null,null,null,null,null,null,null,null,0,0,0,0,0,0,0,0,0,0,0,0,0]
[null,298,null,null,null,null,null,null,null,null,0,0,0,0,0,0,0,0,0,0,0,0,0]
[null,299,null,null,null,null,null,null,null,null,0,0,0,0,0,0,0,0,0,0,0,0,0]
[null,300,null,null,null,null,null,null,null,null,0,0,0,0,0,0,0,0,0,0,0,0,0]
[null,null,null,null,null,null,null,null,null,null,{"$f":"SUM(K6:K305)","v":0},{"$f":"SUM(L6:L305)","v":0},0,0,0,0,0,0,0,0,0,0,0]

{"sheet":"15","index":15,"n_rows":306,"n_cols":23,"rows_kept":306,"cut":false,"hidden":false,"merged":[]}
[]
[null,null,{"$f":"menu!B22","v":"NUEVA SECCCION"}]
[]
[null,null,null,null,null,null,null,null,null,"Enero"]
[null,null,"DIA","MES","CONCEPTO","TOTAL",null,null,null,"Febrero","Enero","Febrero","Marzo","Abril","Mayo","Junio","Julio","Agosto","Septiembre","Octubre","Noviembre","Diciembre"]
[null,1,null,null,null,null,null,null,null,"Marzo",{"$f":"IF($D6=K$5,$F6,0)","v":0},0,0,0,0,0,0,0,0,0,0,0,0]
[null,2,null,null,null,null,null,null,null,"Abril",0,0,0,0,0,0,0,0,0,0,0,0,0]
[null,3,null,null,null,null,null,null,null,"Mayo",0,0,0,0,0,0,0,0,0,0,0,0,0]
[null,4,null,null,null,null,null,null,null,"Junio",0,0,0,0,0,0,0,0,0,0,0,0,0]
[null,5,null,null,null,null,null,null,null,"Julio",0,0,0,0,0,0,0,0,0,0,0,0,0]
[null,6,null,null,null,null,null,null,null,"Agosto",0,0,0,0,0,0,0,0,0,0,0,0,0]
[null,7,null,null,null,null,null,null,null,"Septiembre",0,0,0,0,0,0,0,0,0,0,0,0,0]
[null,8,null,null,null,null,null,null,null,"Octubre",0,0,0,0,0,0,0,0,0,0,0,0,0]
[null,9,null,null,null,null,null,null,null,"Noviembre",0,0,0,0,0,0,0,0,0,0,0,0,0]
[null,10,null,null,null,null,null,null,null,"Diciembre",0,0,0,0,0,0,0,0,0,0,0,0,0]
[null,11,null,null,null,null,null,null,null,null,{"$f":"IF($D16=K$5,$F16,0)","v":0},0,0,0,0,0,0,0,0,0,0,0,0]
[null,12,null,null,null,null,null,null,null,null,0,0,0,0,0,0,0,0,0,0,0,0,0]
[null,13,null,null,null,null,null,null,null,null,0,0,0,0,0,0,0,0,0,0,0,0,0]
[null,14,null,null,null,null,null,null,null,null,0,0,0,0,0,0,0,0,0,0,0,0,0]
[null,15,null,null,null,null,null,null,null,null,0,0,0,0,0,0,0,0,0,0,0,0,0]
[null,16,null,null,null,null,null,null,null,null,0,0,0,0,0,0,0,0,0,0,0,0,0]
[null,17,null,null,null,null,null,null,null,null,0,0,0,0,0,0,0,0,0,0,0,0,0]
[null,18,null,null,null,null,null,null,null,null,0,0,0,0,0,0,0,0,0,0,0,0,0]
[null,19,null,null,null,null,null,null,null,null,0,0,0,0,0,0,0,0,0,0,0,0,0]
[null,20,null,null,null,null,null,null,null,null,0,0,0,0,0,0,0,0,0,0,0,0,0]
[null,21,null,null,null,null,null,null,null,null,{"$f":"IF($D26=K$5,$F26,0)","v":0},0,0,0,0,0,0,0,0,0,0,0,0]
[null,22,null,null,null,null,null,null,null,null,0,0,0,0,0,0,0,0,0,0,0,0,0]
[null,23,null,null,null,null,null,null,null,null,0,0,0,0,0,0,0,0,0,0,0,0,0]
[null,24,null,null,null,null,null,null,null,null,0,0,0,0,0,0,0,0,0,0,0,0,0]
[null,25,null,null,null,null,null,null,null,null,0,0,0,0,0,0,0,0,0,0,0,0,0]
[null,26,null,null,null,null,null,null,null,null,0,0,0,0,0,0,0,0,0,0,0,0,0]
[null,27,null,null,null,null,null,null,null,null,0,0,0,0,0,0,0,0,0,0,0,0,0]
[null,28,null,null,null,null,null,null,null,null,0,0,0,0,0,0,0,0,0,0,0,0,0]
[null,29,null,null,null,null,null,null,null,null,0,0,0,0,0,0,0,0,0,0,0,0,0]
[null,30,null,null,null,null,null,null,null,null,0,0,0,0,0,0,0,0,0,0,0,0,0]
[null,31,null,null,null,null,null,null,null,null,{"$f":"IF($D36=K$5,$F36,0)","v":0},0,0,0,0,0,0,0,0,0,0,0,0]
[null,32,null,null,null,null,null,null,null,null,0,0,0,0,0,0,0,0,0,0,0,0,0]
[null,33,null,null,null,null,null,null,null,null,0,0,0,0,0,0,0,0,0,0,0,0,0]
[null,34,null,null,null,null,null,null,null,null,0,0,0,0,0,0,0,0,0,0,0,0,0]
[null,35,null,null,null,null,null,null,null,null,0,0,0,0,0,0,0,0,0,0,0,0,0]
[null,36,null,null,null,null,null,null,null,null,0,0,0,0,0,0,0,0,0,0,0,0,0]
[null,37,null,null,null,null,null,null,null,null,0,0,0,0,0,0,0,0,0,0,0,0,0]
[null,38,null,null,null,null,null,null,null,null,0,0,0,0,0,0,0,0,0,0,0,0,0]
[null,39,null,null,null,null,null,null,null,null,0,0,0,0,0,0,0,0,0,0,0,0,0]
[null,40,null,null,null,null,null,null,null,null,0,0,0,0,0,0,0,0,0,0,0,0,0]
[null,41,null,null,null,null,null,null,null,null,{"$f":"IF($D46=K$5,$F46,0)","v":0},0,0,0,0,0,0,0,0,0,0,0,0]
[null,42,null,null,null,null,null,null,null,null,0,0,0,0,0,0,0,0,0,0,0,0,0]
[null,43,null,null,null,null,null,null,null,null,0,0,0,0,0,0,0,0,0,0,0,0,0]
[null,44,null,null,null,null,null,null,null,null,0,0,0,0,0,0,0,0,0,0,0,0,0]
[null,45,null,null,null,null,null,null,null,null,0,0,0,0,0,0,0,0,0,0,0,0,0]
[null,46,null,null,null,null,null,null,null,null,0,0,0,0,0,0,0,0,0,0,0,0,0]
[null,47,null,null,null,null,null,null,null,null,0,0,0,0,0,0,0,0,0,0,0,0,0]
[null,48,null,null,null,null,null,null,null,null,0,0,0,0,0,0,0,0,0,0,0,0,0]
[null,49,null,null,null,null,null,null,null,null,0,0,0,0,0,0,0,0,0,0,0,0,0]
[null,50,null,null,null,null,null,null,null,null,0,0,0,0,0,0,0,0,0,0,0,0,0]
[null,51,null,null,null,null,null,null,null,null,{"$f":"IF($D56=K$5,$F56,0)","v":0},0,0,0,0,0,0,0,0,0,0,0,0]
[null,52,null,null,null,null,null,null,null,null,0,0,0,0,0,0,0,0,0,0,0,0,0]
[null,53,null,null,null,null,null,null,null,null,0,0,0,0,0,0,0,0,0,0,0,0,0]
[null,54,null,null,null,null,null,null,null,null,0,0,0,0,0,0,0,0,0,0,0,0,0]
[null,55,null,null,null,null,null,null,null,null,0,0,0,0,0,0,0,0,0,0,0,0,0]
[null,56,null,null,null,null,null,null,null,null,0,0,0,0,0,0,0,0,0,0,0,0,0]
[null,57,null,null,null,null,null,null,null,null,0,0,0,0,0,0,0,0,0,0,0,0,0]
[null,58,null,null,null,null,null,null,null,null,0,0,0,0,0,0,0,0,0,0,0,0,0]
[null,59,null,null,null,null,null,null,null,null,0,0,0,0,0,0,0,0,0,0,0,0,0]
[null,60,null,null,null,null,null,null,null,null,0,0,0,0,0,0,0,0,0,0,0,0,0]
[null,61,null,null,null,null,null,null,null,null,{"$f":"IF($D66=K$5,$F66,0)","v":0},0,0,0,0,0,0,0,0,0,0,0,0]
[null,62,null,null,null,null,null,null,null,null,0,0,0,0,0,0,0,0,0,0,0,0,0]
[null,63,null,null,null,null,null,null,null,null,0,0,0,0,0,0,0,0,0,0,0,0,0]
[null,64,null,null,null,null,null,null,null,null,0,0,0,0,0,0,0,0,0,0,0,0,0]
[null,65,null,null,null,null,null,null,null,null,0,0,0,0,0,0,0,0,0,0,0,0,0]
[null,66,null,null,null,null,null,null,null,null,0,0,0,0,0,0,0,0,0,0,0,0,0]
[null,67,null,null,null,null,null,null,null,null,0,0,0,0,0,0,0,0,0,0,0,0,0]
[null,68,null,null,null,null,null,null,null,null,0,0,0,0,0,0,0,0,0,0,0,0,0]
[null,69,null,null,null,null,null,null,null,null,0,0,0,0,0,0,0,0,0,0,0,0,0]
[null,70,null,null,null,null,null,null,null,null,0,0,0,0,0,0,0,0,0,0,0,0,0]
[null,71,null,null,null,null,null,null,null,null,{"$f":"IF($D76=K$5,$F76,0)","v":0},0,0,0,0,0,0,0,0,0,0,0,0]
[null,72,null,null,null,null,null,null,null,null,0,0,0,0,0,0,0,0,0,0,0,0,0]
[null,73,null,null,null,null,null,null,null,null,0,0,0,0,0,0,0,0,0,0,0,0,0]
[null,74,null,null,null,null,null,null,null,null,0,0,0,0,0,0,0,0,0,0,0,0,0]
[null,75,null,null,null,null,null,null,null,null,0,0,0,0,0,0,0,0,0,0,0,0,0]
[null,76,null,null,null,null,null,null,null,null,0,0,0,0,0,0,0,0,0,0,0,0,0]
[null,77,null,null,null,null,null,null,null,null,0,0,0,0,0,0,0,0,0,0,0,0,0]
[null,78,null,null,null,null,null,null,null,null,0,0,0,0,0,0,0,0,0,0,0,0,0]
[null,79,null,null,null,null,null,null,null,null,0,0,0,0,0,0,0,0,0,0,0,0,0]
[null,80,null,null,null,null,null,null,null,null,0,0,0,0,0,0,0,0,0,0,0,0,0]
[null,81,null,null,null,null,null,null,null,null,{"$f":"IF($D86=K$5,$F86,0)","v":0},0,0,0,0,0,0,0,0,0,0,0,0]
[null,82,null,null,null,null,null,null,null,null,0,0,0,0,0,0,0,0,0,0,0,0,0]
[null,83,null,null,null,null,null,null,null,null,0,0,0,0,0,0,0,0,0,0,0,0,0]
[null,84,null,null,null,null,null,null,null,null,0,0,0,0,0,0,0,0,0,0,0,0,0]
[null,85,null,null,null,null,null,null,null,null,0,0,0,0,0,0,0,0,0,0,0,0,0]
[null,86,null,null,null,null,null,null,null,null,0,0,0,0,0,0,0,0,0,0,0,0,0]
[null,87,null,null,null,null,null,null,null,null,0,0,0,0,0,0,0,0,0,0,0,0,0]
[null,88,null,null,null,null,null,null,null,null,0,0,0,0,0,0,0,0,0,0,0,0,0]
[null,89,null,null,null,null,null,null,null,null,0,0,0,0,0,0,0,0,0,0,0,0,0]
[null,90,null,null,null,null,null,null,null,null,0,0,0,0,0,0,0,0,0,0,0,0,0]
[null,91,null,null,null,null,null,null,null,null,{"$f":"IF($D96=K$5,$F96,0)","v":0},0,0,0,0,0,0,0,0,0,0,0,0]
[null,92,null,null,null,null,null,null,null,null,0,0,0,0,0,0,0,0,0,0,0,0,0]
[null,93,null,null,null,null,null,null,null,null,0,0,0,0,0,0,0,0,0,0,0,0,0]
[null,94,null,null,null,null,null,null,null,null,0,0,0,0,0,0,0,0,0,0,0,0,0]
[null,95,null,null,null,null,null,null,null,null,0,0,0,0,0,0,0,0,0,0,0,0,0]
[null,96,null,null,null,null,null,null,null,null,0,0,0,0,0,0,0,0,0,0,0,0,0]
[null,97,null,null,null,null,null,null,null,null,0,0,0,0,0,0,0,0,0,0,0,0,0]
[null,98,null,null,null,null,null,null,null,null,0,0,0,0,0,0,0,0,0,0,0,0,0]
[null,99,null,null,null,null,null,null,null,null,0,0,0,0,0,0,0,0,0,0,0,0,0]
[null,100,null,null,null,null,null,null,null,null,0,0,0,0,0,0,0,0,0,0,0,0,0]
[null,101,null,null,null,null,null,null,null,null,{"$f":"IF($D106=K$5,$F106,0)","v":0},0,0,0,0,0,0,0,0,0,0,0,0]
[null,102,null,null,null,null,null,null,null,null,0,0,0,0,0,0,0,0,0,0,0,0,0]
[null,103,null,null,null,null,null,null,null,null,0,0,0,0,0,0,0,0,0,0,0,0,0]
[null,104,null,null,null,null,null,null,null,null,0,0,0,0,0,0,0,0,0,0,0,0,0]
[null,105,null,null,null,null,null,null,null,null,0,0,0,0,0,0,0,0,0,0,0,0,0]
[null,106,null,null,null,null,null,null,null,null,0,0,0,0,0,0,0,0,0,0,0,0,0]
[null,107,null,null,null,null,null,null,null,null,0,0,0,0,0,0,0,0,0,0,0,0,0]
[null,108,null,null,null,null,null,null,null,null,0,0,0,0,0,0,0,0,0,0,0,0,0]
[null,109,null,null,null,null,null,null,null,null,0,0,0,0,0,0,0,0,0,0,0,0,0]
[null,110,null,null,null,null,null,null,null,null,0,0,0,0,0,0,0,0,0,0,0,0,0]
[null,111,null,null,null,null,null,null,null,null,{"$f":"IF($D116=K$5,$F116,0)","v":0},0,0,0,0,0,0,0,0,0,0,0,0]
[null,112,null,null,null,null,null,null,null,null,0,0,0,0,0,0,0,0,0,0,0,0,0]
[null,113,null,null,null,null,null,null,null,null,0,0,0,0,0,0,0,0,0,0,0,0,0]
[null,114,null,null,null,null,null,null,null,null,0,0,0,0,0,0,0,0,0,0,0,0,0]
[null,115,null,null,null,null,null,null,null,null,0,0,0,0,0,0,0,0,0,0,0,0,0]
[null,116,null,null,null,null,null,null,null,null,0,0,0,0,0,0,0,0,0,0,0,0,0]
[null,117,null,null,null,null,null,null,null,null,0,0,0,0,0,0,0,0,0,0,0,0,0]
[null,118,null,null,null,null,null,null,null,null,0,0,0,0,0,0,0,0,0,0,0,0,0]
[null,119,null,null,null,null,null,null,null,null,0,0,0,0,0,0,0,0,0,0,0,0,0]
[null,120,null,null,null,null,null,null,null,null,0,0,0,0,0,0,0,0,0,0,0,0,0]
[null,121,null,null,null,null,null,null,null,null,{"$f":"IF($D126=K$5,$F126,0)","v":0},0,0,0,0,0,0,0,0,0,0,0,0]
[null,122,null,null,null,null,null,null,null,null,0,0,0,0,0,0,0,0,0,0,0,0,0]
[null,123,null,null,null,null,null,null,null,null,0,0,0,0,0,0,0,0,0,0,0,0,0]
[null,124,null,null,null,null,null,null,null,null,0,0,0,0,0,0,0,0,0,0,0,0,0]
[null,125,null,null,null,null,null,null,null,null,0,0,0,0,0,0,0,0,0,0,0,0,0]
[null,126,null,null,null,null,null,null,null,null,0,0,0,0,0,0,0,0,0,0,0,0,0]
[null,127,null,null,null,null,null,null,null,null,0,0,0,0,0,0,0,0,0,0,0,0,0]
[null,128,null,null,null,null,null,null,null,null,0,0,0,0,0,0,0,0,0,0,0,0,0]
[null,129,null,null,null,null,null,null,null,null,0,0,0,0,0,0,0,0,0,0,0,0,0]
[null,130,null,null,null,null,null,null,null,null,0,0,0,0,0,0,0,0,0,0,0,0,0]
[null,131,null,null,null,null,null,null,null,null,{"$f":"IF($D136=K$5,$F136,0)","v":0},0,0,0,0,0,0,0,0,0,0,0,0]
[null,132,null,null,null,null,null,null,null,null,0,0,0,0,0,0,0,0,0,0,0,0,0]
[null,133,null,null,null,null,null,null,null,null,0,0,0,0,0,0,0,0,0,0,0,0,0]
[null,134,null,null,null,null,null,null,null,null,0,0,0,0,0,0,0,0,0,0,0,0,0]
[null,135,null,null,null,null,null,null,null,null,0,0,0,0,0,0,0,0,0,0,0,0,0]
[null,136,null,null,null,null,null,null,null,null,0,0,0,0,0,0,0,0,0,0,0,0,0]
[null,137,null,null,null,null,null,null,null,null,0,0,0,0,0,0,0,0,0,0,0,0,0]
[null,138,null,null,null,null,null,null,null,null,0,0,0,0,0,0,0,0,0,0,0,0,0]
[null,139,null,null,null,null,null,null,null,null,0,0,0,0,0,0,0,0,0,0,0,0,0]
[null,140,null,null,null,null,null,null,null,null,0,0,0,0,0,0,0,0,0,0,0,0,0]
[null,141,null,null,null,null,null,null,null,null,{"$f":"IF($D146=K$5,$F146,0)","v":0},0,0,0,0,0,0,0,0,0,0,0,0]
[null,142,null,null,null,null,null,null,null,null,0,0,0,0,0,0,0,0,0,0,0,0,0]
[null,143,null,null,null,null,null,null,null,null,0,0,0,0,0,0,0,0,0,0,0,0,0]
[null,144,null,null,null,null,null,null,null,null,0,0,0,0,0,0,0,0,0,0,0,0,0]
[null,145,null,null,null,null,null,null,null,null,0,0,0,0,0,0,0,0,0,0,0,0,0]
[null,146,null,null,null,null,null,null,null,null,0,0,0,0,0,0,0,0,0,0,0,0,0]
[null,147,null,null,null,null,null,null,null,null,0,0,0,0,0,0,0,0,0,0,0,0,0]
[null,148,null,null,null,null,null,null,null,null,0,0,0,0,0,0,0,0,0,0,0,0,0]
[null,149,null,null,null,null,null,null,null,null,0,0,0,0,0,0,0,0,0,0,0,0,0]
[null,150,null,null,null,null,null,null,null,null,0,0,0,0,0,0,0,0,0,0,0,0,0]
[null,151,null,null,null,null,null,null,null,null,{"$f":"IF($D156=K$5,$F156,0)","v":0},0,0,0,0,0,0,0,0,0,0,0,0]
[null,152,null,null,null,null,null,null,null,null,0,0,0,0,0,0,0,0,0,0,0,0,0]
[null,153,null,null,null,null,null,null,null,null,0,0,0,0,0,0,0,0,0,0,0,0,0]
[null,154,null,null,null,null,null,null,null,null,0,0,0,0,0,0,0,0,0,0,0,0,0]
[null,155,null,null,null,null,null,null,null,null,0,0,0,0,0,0,0,0,0,0,0,0,0]
[null,156,null,null,null,null,null,null,null,null,0,0,0,0,0,0,0,0,0,0,0,0,0]
[null,157,null,null,null,null,null,null,null,null,0,0,0,0,0,0,0,0,0,0,0,0,0]
[null,158,null,null,null,null,null,null,null,null,0,0,0,0,0,0,0,0,0,0,0,0,0]
[null,159,null,null,null,null,null,null,null,null,0,0,0,0,0,0,0,0,0,0,0,0,0]
[null,160,null,null,null,null,null,null,null,null,0,0,0,0,0,0,0,0,0,0,0,0,0]
[null,161,null,null,null,null,null,null,null,null,{"$f":"IF($D166=K$5,$F166,0)","v":0},0,0,0,0,0,0,0,0,0,0,0,0]
[null,162,null,null,null,null,null,null,null,null,0,0,0,0,0,0,0,0,0,0,0,0,0]
[null,163,null,null,null,null,null,null,null,null,0,0,0,0,0,0,0,0,0,0,0,0,0]
[null,164,null,null,null,null,null,null,null,null,0,0,0,0,0,0,0,0,0,0,0,0,0]
[null,165,null,null,null,null,null,null,null,null,0,0,0,0,0,0,0,0,0,0,0,0,0]
[null,166,null,null,null,null,null,null,null,null,0,0,0,0,0,0,0,0,0,0,0,0,0]
[null,167,null,null,null,null,null,null,null,null,0,0,0,0,0,0,0,0,0,0,0,0,0]
[null,168,null,null,null,null,null,null,null,null,0,0,0,0,0,0,0,0,0,0,0,0,0]
[null,169,null,null,null,null,null,null,null,null,0,0,0,0,0,0,0,0,0,0,0,0,0]
[null,170,null,null,null,null,null,null,null,null,0,0,0,0,0,0,0,0,0,0,0,0,0]
[null,171,null,null,null,null,null,null,null,null,{"$f":"IF($D176=K$5,$F176,0)","v":0},0,0,0,0,0,0,0,0,0,0,0,0]
[null,172,null,null,null,null,null,null,null,null,0,0,0,0,0,0,0,0,0,0,0,0,0]
[null,173,null,null,null,null,null,null,null,null,0,0,0,0,0,0,0,0,0,0,0,0,0]
[null,174,null,null,null,null,null,null,null,null,0,0,0,0,0,0,0,0,0,0,0,0,0]
[null,175,null,null,null,null,null,null,null,null,0,0,0,0,0,0,0,0,0,0,0,0,0]
[null,176,null,null,null,null,null,null,null,null,0,0,0,0,0,0,0,0,0,0,0,0,0]
[null,177,null,null,null,null,null,null,null,null,0,0,0,0,0,0,0,0,0,0,0,0,0]
[null,178,null,null,null,null,null,null,null,null,0,0,0,0,0,0,0,0,0,0,0,0,0]
[null,179,null,null,null,null,null,null,null,null,0,0,0,0,0,0,0,0,0,0,0,0,0]
[null,180,null,null,null,null,null,null,null,null,0,0,0,0,0,0,0,0,0,0,0,0,0]
[null,181,null,null,null,null,null,null,null,null,{"$f":"IF($D186=K$5,$F186,0)","v":0},0,0,0,0,0,0,0,0,0,0,0,0]
[null,182,null,null,null,null,null,null,null,null,0,0,0,0,0,0,0,0,0,0,0,0,0]
[null,183,null,null,null,null,null,null,null,null,0,0,0,0,0,0,0,0,0,0,0,0,0]
[null,184,null,null,null,null,null,null,null,null,0,0,0,0,0,0,0,0,0,0,0,0,0]
[null,185,null,null,null,null,null,null,null,null,0,0,0,0,0,0,0,0,0,0,0,0,0]
[null,186,null,null,null,null,null,null,null,null,0,0,0,0,0,0,0,0,0,0,0,0,0]
[null,187,null,null,null,null,null,null,null,null,0,0,0,0,0,0,0,0,0,0,0,0,0]
[null,188,null,null,null,null,null,null,null,null,0,0,0,0,0,0,0,0,0,0,0,0,0]
[null,189,null,null,null,null,null,null,null,null,0,0,0,0,0,0,0,0,0,0,0,0,0]
[null,190,null,null,null,null,null,null,null,null,0,0,0,0,0,0,0,0,0,0,0,0,0]
[null,191,null,null,null,null,null,null,null,null,{"$f":"IF($D196=K$5,$F196,0)","v":0},0,0,0,0,0,0,0,0,0,0,0,0]
[null,192,null,null,null,null,null,null,null,null,0,0,0,0,0,0,0,0,0,0,0,0,0]
[null,193,null,null,null,null,null,null,null,null,0,0,0,0,0,0,0,0,0,0,0,0,0]
[null,194,null,null,null,null,null,null,null,null,0,0,0,0,0,0,0,0,0,0,0,0,0]
[null,195,null,null,null,null,null,null,null,null,0,0,0,0,0,0,0,0,0,0,0,0,0]
[null,196,null,null,null,null,null,null,null,null,0,0,0,0,0,0,0,0,0,0,0,0,0]
[null,197,null,null,null,null,null,null,null,null,0,0,0,0,0,0,0,0,0,0,0,0,0]
[null,198,null,null,null,null,null,null,null,null,0,0,0,0,0,0,0,0,0,0,0,0,0]
[null,199,null,null,null,null,null,null,null,null,0,0,0,0,0,0,0,0,0,0,0,0,0]
[null,200,null,null,null,null,null,null,null,null,0,0,0,0,0,0,0,0,0,0,0,0,0]
[null,201,null,null,null,null,null,null,null,null,{"$f":"IF($D206=K$5,$F206,0)","v":0},0,0,0,0,0,0,0,0,0,0,0,0]
[null,202,null,null,null,null,null,null,null,null,0,0,0,0,0,0,0,0,0,0,0,0,0]
[null,203,null,null,null,null,null,null,null,null,0,0,0,0,0,0,0,0,0,0,0,0,0]
[null,204,null,null,null,null,null,null,null,null,0,0,0,0,0,0,0,0,0,0,0,0,0]
[null,205,null,null,null,null,null,null,null,null,0,0,0,0,0,0,0,0,0,0,0,0,0]
[null,206,null,null,null,null,null,null,null,null,0,0,0,0,0,0,0,0,0,0,0,0,0]
[null,207,null,null,null,null,null,null,null,null,0,0,0,0,0,0,0,0,0,0,0,0,0]
[null,208,null,null,null,null,null,null,null,null,0,0,0,0,0,0,0,0,0,0,0,0,0]
[null,209,null,null,null,null,null,null,null,null,0,0,0,0,0,0,0,0,0,0,0,0,0]
[null,210,null,null,null,null,null,null,null,null,0,0,0,0,0,0,0,0,0,0,0,0,0]
[null,211,null,null,null,null,null,null,null,null,{"$f":"IF($D216=K$5,$F216,0)","v":0},0,0,0,0,0,0,0,0,0,0,0,0]
[null,212,null,null,null,null,null,null,null,null,0,0,0,0,0,0,0,0,0,0,0,0,0]
[null,213,null,null,null,null,null,null,null,null,0,0,0,0,0,0,0,0,0,0,0,0,0]
[null,214,null,null,null,null,null,null,null,null,0,0,0,0,0,0,0,0,0,0,0,0,0]
[null,215,null,null,null,null,null,null,null,null,0,0,0,0,0,0,0,0,0,0,0,0,0]
[null,216,null,null,null,null,null,null,null,null,0,0,0,0,0,0,0,0,0,0,0,0,0]
[null,217,null,null,null,null,null,null,null,null,0,0,0,0,0,0,0,0,0,0,0,0,0]
[null,218,null,null,null,null,null,null,null,null,0,0,0,0,0,0,0,0,0,0,0,0,0]
[null,219,null,null,null,null,null,null,null,null,0,0,0,0,0,0,0,0,0,0,0,0,0]
[null,220,null,null,null,null,null,null,null,null,0,0,0,0,0,0,0,0,0,0,0,0,0]
[null,221,null,null,null,null,null,null,null,null,{"$f":"IF($D226=K$5,$F226,0)","v":0},0,0,0,0,0,0,0,0,0,0,0,0]
[null,222,null,null,null,null,null,null,null,null,0,0,0,0,0,0,0,0,0,0,0,0,0]
[null,223,null,null,null,null,null,null,null,null,0,0,0,0,0,0,0,0,0,0,0,0,0]
[null,224,null,null,null,null,null,null,null,null,0,0,0,0,0,0,0,0,0,0,0,0,0]
[null,225,null,null,null,null,null,null,null,null,0,0,0,0,0,0,0,0,0,0,0,0,0]
[null,226,null,null,null,null,null,null,null,null,0,0,0,0,0,0,0,0,0,0,0,0,0]
[null,227,null,null,null,null,null,null,null,null,0,0,0,0,0,0,0,0,0,0,0,0,0]
[null,228,null,null,null,null,null,null,null,null,0,0,0,0,0,0,0,0,0,0,0,0,0]
[null,229,null,null,null,null,null,null,null,null,0,0,0,0,0,0,0,0,0,0,0,0,0]
[null,230,null,null,null,null,null,null,null,null,0,0,0,0,0,0,0,0,0,0,0,0,0]
[null,231,null,null,null,null,null,null,null,null,{"$f":"IF($D236=K$5,$F236,0)","v":0},0,0,0,0,0,0,0,0,0,0,0,0]
[null,232,null,null,null,null,null,null,null,null,0,0,0,0,0,0,0,0,0,0,0,0,0]
[null,233,null,null,null,null,null,null,null,null,0,0,0,0,0,0,0,0,0,0,0,0,0]
[null,234,null,null,null,null,null,null,null,null,0,0,0,0,0,0,0,0,0,0,0,0,0]
[null,235,null,null,null,null,null,null,null,null,0,0,0,0,0,0,0,0,0,0,0,0,0]
[null,236,null,null,null,null,null,null,null,null,0,0,0,0,0,0,0,0,0,0,0,0,0]
[null,237,null,null,null,null,null,null,null,null,0,0,0,0,0,0,0,0,0,0,0,0,0]
[null,238,null,null,null,null,null,null,null,null,0,0,0,0,0,0,0,0,0,0,0,0,0]
[null,239,null,null,null,null,null,null,null,null,0,0,0,0,0,0,0,0,0,0,0,0,0]
[null,240,null,null,null,null,null,null,null,null,0,0,0,0,0,0,0,0,0,0,0,0,0]
[null,241,null,null,null,null,null,null,null,null,{"$f":"IF($D246=K$5,$F246,0)","v":0},0,0,0,0,0,0,0,0,0,0,0,0]
[null,242,null,null,null,null,null,null,null,null,0,0,0,0,0,0,0,0,0,0,0,0,0]
[null,243,null,null,null,null,null,null,null,null,0,0,0,0,0,0,0,0,0,0,0,0,0]
[null,244,null,null,null,null,null,null,null,null,0,0,0,0,0,0,0,0,0,0,0,0,0]
[null,245,null,null,null,null,null,null,null,null,0,0,0,0,0,0,0,0,0,0,0,0,0]
[null,246,null,null,null,null,null,null,null,null,0,0,0,0,0,0,0,0,0,0,0,0,0]
[null,247,null,null,null,null,null,null,null,null,0,0,0,0,0,0,0,0,0,0,0,0,0]
[null,248,null,null,null,null,null,null,null,null,0,0,0,0,0,0,0,0,0,0,0,0,0]
[null,249,null,null,null,null,null,null,null,null,0,0,0,0,0,0,0,0,0,0,0,0,0]
[null,250,null,null,null,null,null,null,null,null,0,0,0,0,0,0,0,0,0,0,0,0,0]
[null,251,null,null,null,null,null,null,null,null,{"$f":"IF($D256=K$5,$F256,0)","v":0},0,0,0,0,0,0,0,0,0,0,0,0]
[null,252,null,null,null,null,null,null,null,null,0,0,0,0,0,0,0,0,0,0,0,0,0]
[null,253,null,null,null,null,null,null,null,null,0,0,0,0,0,0,0,0,0,0,0,0,0]
[null,254,null,null,null,null,null,null,null,null,0,0,0,0,0,0,0,0,0,0,0,0,0]
[null,255,null,null,null,null,null,null,null,null,0,0,0,0,0,0,0,0,0,0,0,0,0]
[null,256,null,null,null,null,null,null,null,null,0,0,0,0,0,0,0,0,0,0,0,0,0]
[null,257,null,null,null,null,null,null,null,null,0,0,0,0,0,0,0,0,0,0,0,0,0]
[null,258,null,null,null,null,null,null,null,null,0,0,0,0,0,0,0,0,0,0,0,0,0]
[null,259,null,null,null,null,null,null,null,null,0,0,0,0,0,0,0,0,0,0,0,0,0]
[null,260,null,null,null,null,null,null,null,null,0,0,0,0,0,0,0,0,0,0,0,0,0]
[null,261,null,null,null,null,null,null,null,null,{"$f":"IF($D266=K$5,$F266,0)","v":0},0,0,0,0,0,0,0,0,0,0,0,0]
[null,262,null,null,null,null,null,null,null,null,0,0,0,0,0,0,0,0,0,0,0,0,0]
[null,263,null,null,null,null,null,null,null,null,0,0,0,0,0,0,0,0,0,0,0,0,0]
[null,264,null,null,null,null,null,null,null,null,0,0,0,0,0,0,0,0,0,0,0,0,0]
[null,265,null,null,null,null,null,null,null,null,0,0,0,0,0,0,0,0,0,0,0,0,0]
[null,266,null,null,null,null,null,null,null,null,0,0,0,0,0,0,0,0,0,0,0,0,0]
[null,267,null,null,null,null,null,null,null,null,0,0,0,0,0,0,0,0,0,0,0,0,0]
[null,268,null,null,null,null,null,null,null,null,0,0,0,0,0,0,0,0,0,0,0,0,0]
[null,269,null,null,null,null,null,null,null,null,0,0,0,0,0,0,0,0,0,0,0,0,0]
[null,270,null,null,null,null,null,null,null,null,0,0,0,0,0,0,0,0,0,0,0,0,0]
[null,271,null,null,null,null,null,null,null,null,{"$f":"IF($D276=K$5,$F276,0)","v":0},0,0,0,0,0,0,0,0,0,0,0,0]
[null,272,null,null,null,null,null,null,null,null,0,0,0,0,0,0,0,0,0,0,0,0,0]
[null,273,null,null,null,null,null,null,null,null,0,0,0,0,0,0,0,0,0,0,0,0,0]
[null,274,null,null,null,null,null,null,null,null,0,0,0,0,0,0,0,0,0,0,0,0,0]
[null,275,null,null,null,null,null,null,null,null,0,0,0,0,0,0,0,0,0,0,0,0,0]
[null,276,null,null,null,null,null,null,null,null,0,0,0,0,0,0,0,0,0,0,0,0,0]
[null,277,null,null,null,null,null,null,null,null,0,0,0,0,0,0,0,0,0,0,0,0,0]
[null,278,null,null,null,null,null,null,null,null,0,0,0,0,0,0,0,0,0,0,0,0,0]
[null,279,null,null,null,null,null,null,null,null,0,0,0,0,0,0,0,0,0,0,0,0,0]
[null,280,null,null,null,null,null,null,null,null,0,0,0,0,0,0,0,0,0,0,0,0,0]
[null,281,null,null,null,null,null,null,null,null,{"$f":"IF($D286=K$5,$F286,0)","v":0},0,0,0,0,0,0,0,0,0,0,0,0]
[null,282,null,null,null,null,null,null,null,null,0,0,0,0,0,0,0,0,0,0,0,0,0]
[null,283,null,null,null,null,null,null,null,null,0,0,0,0,0,0,0,0,0,0,0,0,0]
[null,284,null,null,null,null,null,null,null,null,0,0,0,0,0,0,0,0,0,0,0,0,0]
[null,285,null,null,null,null,null,null,null,null,0,0,0,0,0,0,0,0,0,0,0,0,0]
[null,286,null,null,null,null,null,null,null,null,0,0,0,0,0,0,0,0,0,0,0,0,0]
[null,287,null,null,null,null,null,null,null,null,0,0,0,0,0,0,0,0,0,0,0,0,0]
[null,288,null,null,null,null,null,null,null,null,0,0,0,0,0,0,0,0,0,0,0,0,0]
[null,289,null,null,null,null,null,null,null,null,0,0,0,0,0,0,0,0,0,0,0,0,0]
[null,290,null,null,null,null,null,null,null,null,0,0,0,0,0,0,0,0,0,0,0,0,0]
[null,291,null,null,null,null,null,null,null,null,{"$f":"IF($D296=K$5,$F296,0)","v":0},0,0,0,0,0,0,0,0,0,0,0,0]
[null,292,null,null,null,null,null,null,null,null,0,0,0,0,0,0,0,0,0,0,0,0,0]
[null,293,null,null,null,null,null,null,null,null,0,0,0,0,0,0,0,0,0,0,0,0,0]
[null,294,null,null,null,null,null,null,null,null,0,0,0,0,0,0,0,0,0,0,0,0,0]
[null,295,null,null,null,null,null,null,null,null,0,0,0,0,0,0,0,0,0,0,0,0,0]
[null,296,null,null,null,null,null,null,null,null,0,0,0,0,0,0,0,0,0,0,0,0,0]
[null,297,null,null,null,null,null,null,null,null,0,0,0,0,0,0,0,0,0,0,0,0,0]
[null,298,null,null,null,null,null,null,null,null,0,0,0,0,0,0,0,0,0,0,0,0,0]
[null,299,null,null,null,null,null,null,null,null,0,0,0,0,0,0,0,0,0,0,0,0,0]
[null,300,null,null,null,null,null,null,null,null,0,0,0,0,0,0,0,0,0,0,0,0,0]
[null,null,null,null,null,null,null,null,null,null,{"$f":"SUM(K6:K305)","v":0},{"$f":"SUM(L6:L305)","v":0},0,0,0,0,0,0,0,0,0,0,0]

{"sheet":"16","index":16,"n_rows":306,"n_cols":23,"rows_kept":306,"cut":false,"hidden":false,"merged":[]}
[]
[null,null,{"$f":"menu!B23","v":"NUEVA SECCCION"}]
[]
[null,null,null,null,null,null,null,null,null,"Enero"]
[null,null,"DIA","MES","CONCEPTO","TOTAL",null,null,null,"Febrero","Enero","Febrero","Marzo","Abril","Mayo","Junio","Julio","Agosto","Septiembre","Octubre","Noviembre","Diciembre"]
[null,1,null,null,null,null,null,null,null,"Marzo",{"$f":"IF($D6=K$5,$F6,0)","v":0},0,0,0,0,0,0,0,0,0,0,0,0]
[null,2,null,null,null,null,null,null,null,"Abril",0,0,0,0,0,0,0,0,0,0,0,0,0]
[null,3,null,null,null,null,null,null,null,"Mayo",0,0,0,0,0,0,0,0,0,0,0,0,0]
[null,4,null,null,null,null,null,null,null,"Junio",0,0,0,0,0,0,0,0,0,0,0,0,0]
[null,5,null,null,null,null,null,null,null,"Julio",0,0,0,0,0,0,0,0,0,0,0,0,0]
[null,6,null,null,null,null,null,null,null,"Agosto",0,0,0,0,0,0,0,0,0,0,0,0,0]
[null,7,null,null,null,null,null,null,null,"Septiembre",0,0,0,0,0,0,0,0,0,0,0,0,0]
[null,8,null,null,null,null,null,null,null,"Octubre",0,0,0,0,0,0,0,0,0,0,0,0,0]
[null,9,null,null,null,null,null,null,null,"Noviembre",0,0,0,0,0,0,0,0,0,0,0,0,0]
[null,10,null,null,null,null,null,null,null,"Diciembre",0,0,0,0,0,0,0,0,0,0,0,0,0]
[null,11,null,null,null,null,null,null,null,null,{"$f":"IF($D16=K$5,$F16,0)","v":0},0,0,0,0,0,0,0,0,0,0,0,0]
[null,12,null,null,null,null,null,null,null,null,0,0,0,0,0,0,0,0,0,0,0,0,0]
[null,13,null,null,null,null,null,null,null,null,0,0,0,0,0,0,0,0,0,0,0,0,0]
[null,14,null,null,null,null,null,null,null,null,0,0,0,0,0,0,0,0,0,0,0,0,0]
[null,15,null,null,null,null,null,null,null,null,0,0,0,0,0,0,0,0,0,0,0,0,0]
[null,16,null,null,null,null,null,null,null,null,0,0,0,0,0,0,0,0,0,0,0,0,0]
[null,17,null,null,null,null,null,null,null,null,0,0,0,0,0,0,0,0,0,0,0,0,0]
[null,18,null,null,null,null,null,null,null,null,0,0,0,0,0,0,0,0,0,0,0,0,0]
[null,19,null,null,null,null,null,null,null,null,0,0,0,0,0,0,0,0,0,0,0,0,0]
[null,20,null,null,null,null,null,null,null,null,0,0,0,0,0,0,0,0,0,0,0,0,0]
[null,21,null,null,null,null,null,null,null,null,{"$f":"IF($D26=K$5,$F26,0)","v":0},0,0,0,0,0,0,0,0,0,0,0,0]
[null,22,null,null,null,null,null,null,null,null,0,0,0,0,0,0,0,0,0,0,0,0,0]
[null,23,null,null,null,null,null,null,null,null,0,0,0,0,0,0,0,0,0,0,0,0,0]
[null,24,null,null,null,null,null,null,null,null,0,0,0,0,0,0,0,0,0,0,0,0,0]
[null,25,null,null,null,null,null,null,null,null,0,0,0,0,0,0,0,0,0,0,0,0,0]
[null,26,null,null,null,null,null,null,null,null,0,0,0,0,0,0,0,0,0,0,0,0,0]
[null,27,null,null,null,null,null,null,null,null,0,0,0,0,0,0,0,0,0,0,0,0,0]
[null,28,null,null,null,null,null,null,null,null,0,0,0,0,0,0,0,0,0,0,0,0,0]
[null,29,null,null,null,null,null,null,null,null,0,0,0,0,0,0,0,0,0,0,0,0,0]
[null,30,null,null,null,null,null,null,null,null,0,0,0,0,0,0,0,0,0,0,0,0,0]
[null,31,null,null,null,null,null,null,null,null,{"$f":"IF($D36=K$5,$F36,0)","v":0},0,0,0,0,0,0,0,0,0,0,0,0]
[null,32,null,null,null,null,null,null,null,null,0,0,0,0,0,0,0,0,0,0,0,0,0]
[null,33,null,null,null,null,null,null,null,null,0,0,0,0,0,0,0,0,0,0,0,0,0]
[null,34,null,null,null,null,null,null,null,null,0,0,0,0,0,0,0,0,0,0,0,0,0]
[null,35,null,null,null,null,null,null,null,null,0,0,0,0,0,0,0,0,0,0,0,0,0]
[null,36,null,null,null,null,null,null,null,null,0,0,0,0,0,0,0,0,0,0,0,0,0]
[null,37,null,null,null,null,null,null,null,null,0,0,0,0,0,0,0,0,0,0,0,0,0]
[null,38,null,null,null,null,null,null,null,null,0,0,0,0,0,0,0,0,0,0,0,0,0]
[null,39,null,null,null,null,null,null,null,null,0,0,0,0,0,0,0,0,0,0,0,0,0]
[null,40,null,null,null,null,null,null,null,null,0,0,0,0,0,0,0,0,0,0,0,0,0]
[null,41,null,null,null,null,null,null,null,null,{"$f":"IF($D46=K$5,$F46,0)","v":0},0,0,0,0,0,0,0,0,0,0,0,0]
[null,42,null,null,null,null,null,null,null,null,0,0,0,0,0,0,0,0,0,0,0,0,0]
[null,43,null,null,null,null,null,null,null,null,0,0,0,0,0,0,0,0,0,0,0,0,0]
[null,44,null,null,null,null,null,null,null,null,0,0,0,0,0,0,0,0,0,0,0,0,0]
[null,45,null,null,null,null,null,null,null,null,0,0,0,0,0,0,0,0,0,0,0,0,0]
[null,46,null,null,null,null,null,null,null,null,0,0,0,0,0,0,0,0,0,0,0,0,0]
[null,47,null,null,null,null,null,null,null,null,0,0,0,0,0,0,0,0,0,0,0,0,0]
[null,48,null,null,null,null,null,null,null,null,0,0,0,0,0,0,0,0,0,0,0,0,0]
[null,49,null,null,null,null,null,null,null,null,0,0,0,0,0,0,0,0,0,0,0,0,0]
[null,50,null,null,null,null,null,null,null,null,0,0,0,0,0,0,0,0,0,0,0,0,0]
[null,51,null,null,null,null,null,null,null,null,{"$f":"IF($D56=K$5,$F56,0)","v":0},0,0,0,0,0,0,0,0,0,0,0,0]
[null,52,null,null,null,null,null,null,null,null,0,0,0,0,0,0,0,0,0,0,0,0,0]
[null,53,null,null,null,null,null,null,null,null,0,0,0,0,0,0,0,0,0,0,0,0,0]
[null,54,null,null,null,null,null,null,null,null,0,0,0,0,0,0,0,0,0,0,0,0,0]
[null,55,null,null,null,null,null,null,null,null,0,0,0,0,0,0,0,0,0,0,0,0,0]
[null,56,null,null,null,null,null,null,null,null,0,0,0,0,0,0,0,0,0,0,0,0,0]
[null,57,null,null,null,null,null,null,null,null,0,0,0,0,0,0,0,0,0,0,0,0,0]
[null,58,null,null,null,null,null,null,null,null,0,0,0,0,0,0,0,0,0,0,0,0,0]
[null,59,null,null,null,null,null,null,null,null,0,0,0,0,0,0,0,0,0,0,0,0,0]
[null,60,null,null,null,null,null,null,null,null,0,0,0,0,0,0,0,0,0,0,0,0,0]
[null,61,null,null,null,null,null,null,null,null,{"$f":"IF($D66=K$5,$F66,0)","v":0},0,0,0,0,0,0,0,0,0,0,0,0]
[null,62,null,null,null,null,null,null,null,null,0,0,0,0,0,0,0,0,0,0,0,0,0]
[null,63,null,null,null,null,null,null,null,null,0,0,0,0,0,0,0,0,0,0,0,0,0]
[null,64,null,null,null,null,null,null,null,null,0,0,0,0,0,0,0,0,0,0,0,0,0]
[null,65,null,null,null,null,null,null,null,null,0,0,0,0,0,0,0,0,0,0,0,0,0]
[null,66,null,null,null,null,null,null,null,null,0,0,0,0,0,0,0,0,0,0,0,0,0]
[null,67,null,null,null,null,null,null,null,null,0,0,0,0,0,0,0,0,0,0,0,0,0]
[null,68,null,null,null,null,null,null,null,null,0,0,0,0,0,0,0,0,0,0,0,0,0]
[null,69,null,null,null,null,null,null,null,null,0,0,0,0,0,0,0,0,0,0,0,0,0]
[null,70,null,null,null,null,null,null,null,null,0,0,0,0,0,0,0,0,0,0,0,0,0]
[null,71,null,null,null,null,null,null,null,null,{"$f":"IF($D76=K$5,$F76,0)","v":0},0,0,0,0,0,0,0,0,0,0,0,0]
[null,72,null,null,null,null,null,null,null,null,0,0,0,0,0,0,0,0,0,0,0,0,0]
[null,73,null,null,null,null,null,null,null,null,0,0,0,0,0,0,0,0,0,0,0,0,0]
[null,74,null,null,null,null,null,null,null,null,0,0,0,0,0,0,0,0,0,0,0,0,0]
[null,75,null,null,null,null,null,null,null,null,0,0,0,0,0,0,0,0,0,0,0,0,0]
[null,76,null,null,null,null,null,null,null,null,0,0,0,0,0,0,0,0,0,0,0,0,0]
[null,77,null,null,null,null,null,null,null,null,0,0,0,0,0,0,0,0,0,0,0,0,0]
[null,78,null,null,null,null,null,null,null,null,0,0,0,0,0,0,0,0,0,0,0,0,0]
[null,79,null,null,null,null,null,null,null,null,0,0,0,0,0,0,0,0,0,0,0,0,0]
[null,80,null,null,null,null,null,null,null,null,0,0,0,0,0,0,0,0,0,0,0,0,0]
[null,81,null,null,null,null,null,null,null,null,{"$f":"IF($D86=K$5,$F86,0)","v":0},0,0,0,0,0,0,0,0,0,0,0,0]
[null,82,null,null,null,null,null,null,null,null,0,0,0,0,0,0,0,0,0,0,0,0,0]
[null,83,null,null,null,null,null,null,null,null,0,0,0,0,0,0,0,0,0,0,0,0,0]
[null,84,null,null,null,null,null,null,null,null,0,0,0,0,0,0,0,0,0,0,0,0,0]
[null,85,null,null,null,null,null,null,null,null,0,0,0,0,0,0,0,0,0,0,0,0,0]
[null,86,null,null,null,null,null,null,null,null,0,0,0,0,0,0,0,0,0,0,0,0,0]
[null,87,null,null,null,null,null,null,null,null,0,0,0,0,0,0,0,0,0,0,0,0,0]
[null,88,null,null,null,null,null,null,null,null,0,0,0,0,0,0,0,0,0,0,0,0,0]
[null,89,null,null,null,null,null,null,null,null,0,0,0,0,0,0,0,0,0,0,0,0,0]
[null,90,null,null,null,null,null,null,null,null,0,0,0,0,0,0,0,0,0,0,0,0,0]
[null,91,null,null,null,null,null,null,null,null,{"$f":"IF($D96=K$5,$F96,0)","v":0},0,0,0,0,0,0,0,0,0,0,0,0]
[null,92,null,null,null,null,null,null,null,null,0,0,0,0,0,0,0,0,0,0,0,0,0]
[null,93,null,null,null,null,null,null,null,null,0,0,0,0,0,0,0,0,0,0,0,0,0]
[null,94,null,null,null,null,null,null,null,null,0,0,0,0,0,0,0,0,0,0,0,0,0]
[null,95,null,null,null,null,null,null,null,null,0,0,0,0,0,0,0,0,0,0,0,0,0]
[null,96,null,null,null,null,null,null,null,null,0,0,0,0,0,0,0,0,0,0,0,0,0]
[null,97,null,null,null,null,null,null,null,null,0,0,0,0,0,0,0,0,0,0,0,0,0]
[null,98,null,null,null,null,null,null,null,null,0,0,0,0,0,0,0,0,0,0,0,0,0]
[null,99,null,null,null,null,null,null,null,null,0,0,0,0,0,0,0,0,0,0,0,0,0]
[null,100,null,null,null,null,null,null,null,null,0,0,0,0,0,0,0,0,0,0,0,0,0]
[null,101,null,null,null,null,null,null,null,null,{"$f":"IF($D106=K$5,$F106,0)","v":0},0,0,0,0,0,0,0,0,0,0,0,0]
[null,102,null,null,null,null,null,null,null,null,0,0,0,0,0,0,0,0,0,0,0,0,0]
[null,103,null,null,null,null,null,null,null,null,0,0,0,0,0,0,0,0,0,0,0,0,0]
[null,104,null,null,null,null,null,null,null,null,0,0,0,0,0,0,0,0,0,0,0,0,0]
[null,105,null,null,null,null,null,null,null,null,0,0,0,0,0,0,0,0,0,0,0,0,0]
[null,106,null,null,null,null,null,null,null,null,0,0,0,0,0,0,0,0,0,0,0,0,0]
[null,107,null,null,null,null,null,null,null,null,0,0,0,0,0,0,0,0,0,0,0,0,0]
[null,108,null,null,null,null,null,null,null,null,0,0,0,0,0,0,0,0,0,0,0,0,0]
[null,109,null,null,null,null,null,null,null,null,0,0,0,0,0,0,0,0,0,0,0,0,0]
[null,110,null,null,null,null,null,null,null,null,0,0,0,0,0,0,0,0,0,0,0,0,0]
[null,111,null,null,null,null,null,null,null,null,{"$f":"IF($D116=K$5,$F116,0)","v":0},0,0,0,0,0,0,0,0,0,0,0,0]
[null,112,null,null,null,null,null,null,null,null,0,0,0,0,0,0,0,0,0,0,0,0,0]
[null,113,null,null,null,null,null,null,null,null,0,0,0,0,0,0,0,0,0,0,0,0,0]
[null,114,null,null,null,null,null,null,null,null,0,0,0,0,0,0,0,0,0,0,0,0,0]
[null,115,null,null,null,null,null,null,null,null,0,0,0,0,0,0,0,0,0,0,0,0,0]
[null,116,null,null,null,null,null,null,null,null,0,0,0,0,0,0,0,0,0,0,0,0,0]
[null,117,null,null,null,null,null,null,null,null,0,0,0,0,0,0,0,0,0,0,0,0,0]
[null,118,null,null,null,null,null,null,null,null,0,0,0,0,0,0,0,0,0,0,0,0,0]
[null,119,null,null,null,null,null,null,null,null,0,0,0,0,0,0,0,0,0,0,0,0,0]
[null,120,null,null,null,null,null,null,null,null,0,0,0,0,0,0,0,0,0,0,0,0,0]
[null,121,null,null,null,null,null,null,null,null,{"$f":"IF($D126=K$5,$F126,0)","v":0},0,0,0,0,0,0,0,0,0,0,0,0]
[null,122,null,null,null,null,null,null,null,null,0,0,0,0,0,0,0,0,0,0,0,0,0]
[null,123,null,null,null,null,null,null,null,null,0,0,0,0,0,0,0,0,0,0,0,0,0]
[null,124,null,null,null,null,null,null,null,null,0,0,0,0,0,0,0,0,0,0,0,0,0]
[null,125,null,null,null,null,null,null,null,null,0,0,0,0,0,0,0,0,0,0,0,0,0]
[null,126,null,null,null,null,null,null,null,null,0,0,0,0,0,0,0,0,0,0,0,0,0]
[null,127,null,null,null,null,null,null,null,null,0,0,0,0,0,0,0,0,0,0,0,0,0]
[null,128,null,null,null,null,null,null,null,null,0,0,0,0,0,0,0,0,0,0,0,0,0]
[null,129,null,null,null,null,null,null,null,null,0,0,0,0,0,0,0,0,0,0,0,0,0]
[null,130,null,null,null,null,null,null,null,null,0,0,0,0,0,0,0,0,0,0,0,0,0]
[null,131,null,null,null,null,null,null,null,null,{"$f":"IF($D136=K$5,$F136,0)","v":0},0,0,0,0,0,0,0,0,0,0,0,0]
[null,132,null,null,null,null,null,null,null,null,0,0,0,0,0,0,0,0,0,0,0,0,0]
[null,133,null,null,null,null,null,null,null,null,0,0,0,0,0,0,0,0,0,0,0,0,0]
[null,134,null,null,null,null,null,null,null,null,0,0,0,0,0,0,0,0,0,0,0,0,0]
[null,135,null,null,null,null,null,null,null,null,0,0,0,0,0,0,0,0,0,0,0,0,0]
[null,136,null,null,null,null,null,null,null,null,0,0,0,0,0,0,0,0,0,0,0,0,0]
[null,137,null,null,null,null,null,null,null,null,0,0,0,0,0,0,0,0,0,0,0,0,0]
[null,138,null,null,null,null,null,null,null,null,0,0,0,0,0,0,0,0,0,0,0,0,0]
[null,139,null,null,null,null,null,null,null,null,0,0,0,0,0,0,0,0,0,0,0,0,0]
[null,140,null,null,null,null,null,null,null,null,0,0,0,0,0,0,0,0,0,0,0,0,0]
[null,141,null,null,null,null,null,null,null,null,{"$f":"IF($D146=K$5,$F146,0)","v":0},0,0,0,0,0,0,0,0,0,0,0,0]
[null,142,null,null,null,null,null,null,null,null,0,0,0,0,0,0,0,0,0,0,0,0,0]
[null,143,null,null,null,null,null,null,null,null,0,0,0,0,0,0,0,0,0,0,0,0,0]
[null,144,null,null,null,null,null,null,null,null,0,0,0,0,0,0,0,0,0,0,0,0,0]
[null,145,null,null,null,null,null,null,null,null,0,0,0,0,0,0,0,0,0,0,0,0,0]
[null,146,null,null,null,null,null,null,null,null,0,0,0,0,0,0,0,0,0,0,0,0,0]
[null,147,null,null,null,null,null,null,null,null,0,0,0,0,0,0,0,0,0,0,0,0,0]
[null,148,null,null,null,null,null,null,null,null,0,0,0,0,0,0,0,0,0,0,0,0,0]
[null,149,null,null,null,null,null,null,null,null,0,0,0,0,0,0,0,0,0,0,0,0,0]
[null,150,null,null,null,null,null,null,null,null,0,0,0,0,0,0,0,0,0,0,0,0,0]
[null,151,null,null,null,null,null,null,null,null,{"$f":"IF($D156=K$5,$F156,0)","v":0},0,0,0,0,0,0,0,0,0,0,0,0]
[null,152,null,null,null,null,null,null,null,null,0,0,0,0,0,0,0,0,0,0,0,0,0]
[null,153,null,null,null,null,null,null,null,null,0,0,0,0,0,0,0,0,0,0,0,0,0]
[null,154,null,null,null,null,null,null,null,null,0,0,0,0,0,0,0,0,0,0,0,0,0]
[null,155,null,null,null,null,null,null,null,null,0,0,0,0,0,0,0,0,0,0,0,0,0]
[null,156,null,null,null,null,null,null,null,null,0,0,0,0,0,0,0,0,0,0,0,0,0]
[null,157,null,null,null,null,null,null,null,null,0,0,0,0,0,0,0,0,0,0,0,0,0]
[null,158,null,null,null,null,null,null,null,null,0,0,0,0,0,0,0,0,0,0,0,0,0]
[null,159,null,null,null,null,null,null,null,null,0,0,0,0,0,0,0,0,0,0,0,0,0]
[null,160,null,null,null,null,null,null,null,null,0,0,0,0,0,0,0,0,0,0,0,0,0]
[null,161,null,null,null,null,null,null,null,null,{"$f":"IF($D166=K$5,$F166,0)","v":0},0,0,0,0,0,0,0,0,0,0,0,0]
[null,162,null,null,null,null,null,null,null,null,0,0,0,0,0,0,0,0,0,0,0,0,0]
[null,163,null,null,null,null,null,null,null,null,0,0,0,0,0,0,0,0,0,0,0,0,0]
[null,164,null,null,null,null,null,null,null,null,0,0,0,0,0,0,0,0,0,0,0,0,0]
[null,165,null,null,null,null,null,null,null,null,0,0,0,0,0,0,0,0,0,0,0,0,0]
[null,166,null,null,null,null,null,null,null,null,0,0,0,0,0,0,0,0,0,0,0,0,0]
[null,167,null,null,null,null,null,null,null,null,0,0,0,0,0,0,0,0,0,0,0,0,0]
[null,168,null,null,null,null,null,null,null,null,0,0,0,0,0,0,0,0,0,0,0,0,0]
[null,169,null,null,null,null,null,null,null,null,0,0,0,0,0,0,0,0,0,0,0,0,0]
[null,170,null,null,null,null,null,null,null,null,0,0,0,0,0,0,0,0,0,0,0,0,0]
[null,171,null,null,null,null,null,null,null,null,{"$f":"IF($D176=K$5,$F176,0)","v":0},0,0,0,0,0,0,0,0,0,0,0,0]
[null,172,null,null,null,null,null,null,null,null,0,0,0,0,0,0,0,0,0,0,0,0,0]
[null,173,null,null,null,null,null,null,null,null,0,0,0,0,0,0,0,0,0,0,0,0,0]
[null,174,null,null,null,null,null,null,null,null,0,0,0,0,0,0,0,0,0,0,0,0,0]
[null,175,null,null,null,null,null,null,null,null,0,0,0,0,0,0,0,0,0,0,0,0,0]
[null,176,null,null,null,null,null,null,null,null,0,0,0,0,0,0,0,0,0,0,0,0,0]
[null,177,null,null,null,null,null,null,null,null,0,0,0,0,0,0,0,0,0,0,0,0,0]
[null,178,null,null,null,null,null,null,null,null,0,0,0,0,0,0,0,0,0,0,0,0,0]
[null,179,null,null,null,null,null,null,null,null,0,0,0,0,0,0,0,0,0,0,0,0,0]
[null,180,null,null,null,null,null,null,null,null,0,0,0,0,0,0,0,0,0,0,0,0,0]
[null,181,null,null,null,null,null,null,null,null,{"$f":"IF($D186=K$5,$F186,0)","v":0},0,0,0,0,0,0,0,0,0,0,0,0]
[null,182,null,null,null,null,null,null,null,null,0,0,0,0,0,0,0,0,0,0,0,0,0]
[null,183,null,null,null,null,null,null,null,null,0,0,0,0,0,0,0,0,0,0,0,0,0]
[null,184,null,null,null,null,null,null,null,null,0,0,0,0,0,0,0,0,0,0,0,0,0]
[null,185,null,null,null,null,null,null,null,null,0,0,0,0,0,0,0,0,0,0,0,0,0]
[null,186,null,null,null,null,null,null,null,null,0,0,0,0,0,0,0,0,0,0,0,0,0]
[null,187,null,null,null,null,null,null,null,null,0,0,0,0,0,0,0,0,0,0,0,0,0]
[null,188,null,null,null,null,null,null,null,null,0,0,0,0,0,0,0,0,0,0,0,0,0]
[null,189,null,null,null,null,null,null,null,null,0,0,0,0,0,0,0,0,0,0,0,0,0]
[null,190,null,null,null,null,null,null,null,null,0,0,0,0,0,0,0,0,0,0,0,0,0]
[null,191,null,null,null,null,null,null,null,null,{"$f":"IF($D196=K$5,$F196,0)","v":0},0,0,0,0,0,0,0,0,0,0,0,0]
[null,192,null,null,null,null,null,null,null,null,0,0,0,0,0,0,0,0,0,0,0,0,0]
[null,193,null,null,null,null,null,null,null,null,0,0,0,0,0,0,0,0,0,0,0,0,0]
[null,194,null,null,null,null,null,null,null,null,0,0,0,0,0,0,0,0,0,0,0,0,0]
[null,195,null,null,null,null,null,null,null,null,0,0,0,0,0,0,0,0,0,0,0,0,0]
[null,196,null,null,null,null,null,null,null,null,0,0,0,0,0,0,0,0,0,0,0,0,0]
[null,197,null,null,null,null,null,null,null,null,0,0,0,0,0,0,0,0,0,0,0,0,0]
[null,198,null,null,null,null,null,null,null,null,0,0,0,0,0,0,0,0,0,0,0,0,0]
[null,199,null,null,null,null,null,null,null,null,0,0,0,0,0,0,0,0,0,0,0,0,0]
[null,200,null,null,null,null,null,null,null,null,0,0,0,0,0,0,0,0,0,0,0,0,0]
[null,201,null,null,null,null,null,null,null,null,{"$f":"IF($D206=K$5,$F206,0)","v":0},0,0,0,0,0,0,0,0,0,0,0,0]
[null,202,null,null,null,null,null,null,null,null,0,0,0,0,0,0,0,0,0,0,0,0,0]
[null,203,null,null,null,null,null,null,null,null,0,0,0,0,0,0,0,0,0,0,0,0,0]
[null,204,null,null,null,null,null,null,null,null,0,0,0,0,0,0,0,0,0,0,0,0,0]
[null,205,null,null,null,null,null,null,null,null,0,0,0,0,0,0,0,0,0,0,0,0,0]
[null,206,null,null,null,null,null,null,null,null,0,0,0,0,0,0,0,0,0,0,0,0,0]
[null,207,null,null,null,null,null,null,null,null,0,0,0,0,0,0,0,0,0,0,0,0,0]
[null,208,null,null,null,null,null,null,null,null,0,0,0,0,0,0,0,0,0,0,0,0,0]
[null,209,null,null,null,null,null,null,null,null,0,0,0,0,0,0,0,0,0,0,0,0,0]
[null,210,null,null,null,null,null,null,null,null,0,0,0,0,0,0,0,0,0,0,0,0,0]
[null,211,null,null,null,null,null,null,null,null,{"$f":"IF($D216=K$5,$F216,0)","v":0},0,0,0,0,0,0,0,0,0,0,0,0]
[null,212,null,null,null,null,null,null,null,null,0,0,0,0,0,0,0,0,0,0,0,0,0]
[null,213,null,null,null,null,null,null,null,null,0,0,0,0,0,0,0,0,0,0,0,0,0]
[null,214,null,null,null,null,null,null,null,null,0,0,0,0,0,0,0,0,0,0,0,0,0]
[null,215,null,null,null,null,null,null,null,null,0,0,0,0,0,0,0,0,0,0,0,0,0]
[null,216,null,null,null,null,null,null,null,null,0,0,0,0,0,0,0,0,0,0,0,0,0]
[null,217,null,null,null,null,null,null,null,null,0,0,0,0,0,0,0,0,0,0,0,0,0]
[null,218,null,null,null,null,null,null,null,null,0,0,0,0,0,0,0,0,0,0,0,0,0]
[null,219,null,null,null,null,null,null,null,null,0,0,0,0,0,0,0,0,0,0,0,0,0]
[null,220,null,null,null,null,null,null,null,null,0,0,0,0,0,0,0,0,0,0,0,0,0]
[null,221,null,null,null,null,null,null,null,null,{"$f":"IF($D226=K$5,$F226,0)","v":0},0,0,0,0,0,0,0,0,0,0,0,0]
[null,222,null,null,null,null,null,null,null,null,0,0,0,0,0,0,0,0,0,0,0,0,0]
[null,223,null,null,null,null,null,null,null,null,0,0,0,0,0,0,0,0,0,0,0,0,0]
[null,224,null,null,null,null,null,null,null,null,0,0,0,0,0,0,0,0,0,0,0,0,0]
[null,225,null,null,null,null,null,null,null,null,0,0,0,0,0,0,0,0,0,0,0,0,0]
[null,226,null,null,null,null,null,null,null,null,0,0,0,0,0,0,0,0,0,0,0,0,0]
[null,227,null,null,null,null,null,null,null,null,0,0,0,0,0,0,0,0,0,0,0,0,0]
[null,228,null,null,null,null,null,null,null,null,0,0,0,0,0,0,0,0,0,0,0,0,0]
[null,229,null,null,null,null,null,null,null,null,0,0,0,0,0,0,0,0,0,0,0,0,0]
[null,230,null,null,null,null,null,null,null,null,0,0,0,0,0,0,0,0,0,0,0,0,0]
[null,231,null,null,null,null,null,null,null,null,{"$f":"IF($D236=K$5,$F236,0)","v":0},0,0,0,0,0,0,0,0,0,0,0,0]
[null,232,null,null,null,null,null,null,null,null,0,0,0,0,0,0,0,0,0,0,0,0,0]
[null,233,null,null,null,null,null,null,null,null,0,0,0,0,0,0,0,0,0,0,0,0,0]
[null,234,null,null,null,null,null,null,null,null,0,0,0,0,0,0,0,0,0,0,0,0,0]
[null,235,null,null,null,null,null,null,null,null,0,0,0,0,0,0,0,0,0,0,0,0,0]
[null,236,null,null,null,null,null,null,null,null,0,0,0,0,0,0,0,0,0,0,0,0,0]
[null,237,null,null,null,null,null,null,null,null,0,0,0,0,0,0,0,0,0,0,0,0,0]
[null,238,null,null,null,null,null,null,null,null,0,0,0,0,0,0,0,0,0,0,0,0,0]
[null,239,null,null,null,null,null,null,null,null,0,0,0,0,0,0,0,0,0,0,0,0,0]
[null,240,null,null,null,null,null,null,null,null,0,0,0,0,0,0,0,0,0,0,0,0,0]
[null,241,null,null,null,null,null,null,null,null,{"$f":"IF($D246=K$5,$F246,0)","v":0},0,0,0,0,0,0,0,0,0,0,0,0]
[null,242,null,null,null,null,null,null,null,null,0,0,0,0,0,0,0,0,0,0,0,0,0]
[null,243,null,null,null,null,null,null,null,null,0,0,0,0,0,0,0,0,0,0,0,0,0]
[null,244,null,null,null,null,null,null,null,null,0,0,0,0,0,0,0,0,0,0,0,0,0]
[null,245,null,null,null,null,null,null,null,null,0,0,0,0,0,0,0,0,0,0,0,0,0]
[null,246,null,null,null,null,null,null,null,null,0,0,0,0,0,0,0,0,0,0,0,0,0]
[null,247,null,null,null,null,null,null,null,null,0,0,0,0,0,0,0,0,0,0,0,0,0]
[null,248,null,null,null,null,null,null,null,null,0,0,0,0,0,0,0,0,0,0,0,0,0]
[null,249,null,null,null,null,null,null,null,null,0,0,0,0,0,0,0,0,0,0,0,0,0]
[null,250,null,null,null,null,null,null,null,null,0,0,0,0,0,0,0,0,0,0,0,0,0]
[null,251,null,null,null,null,null,null,null,null,{"$f":"IF($D256=K$5,$F256,0)","v":0},0,0,0,0,0,0,0,0,0,0,0,0]
[null,252,null,null,null,null,null,null,null,null,0,0,0,0,0,0,0,0,0,0,0,0,0]
[null,253,null,null,null,null,null,null,null,null,0,0,0,0,0,0,0,0,0,0,0,0,0]
[null,254,null,null,null,null,null,null,null,null,0,0,0,0,0,0,0,0,0,0,0,0,0]
[null,255,null,null,null,null,null,null,null,null,0,0,0,0,0,0,0,0,0,0,0,0,0]
[null,256,null,null,null,null,null,null,null,null,0,0,0,0,0,0,0,0,0,0,0,0,0]
[null,257,null,null,null,null,null,null,null,null,0,0,0,0,0,0,0,0,0,0,0,0,0]
[null,258,null,null,null,null,null,null,null,null,0,0,0,0,0,0,0,0,0,0,0,0,0]
[null,259,null,null,null,null,null,null,null,null,0,0,0,0,0,0,0,0,0,0,0,0,0]
[null,260,null,null,null,null,null,null,null,null,0,0,0,0,0,0,0,0,0,0,0,0,0]
[null,261,null,null,null,null,null,null,null,null,{"$f":"IF($D266=K$5,$F266,0)","v":0},0,0,0,0,0,0,0,0,0,0,0,0]
[null,262,null,null,null,null,null,null,null,null,0,0,0,0,0,0,0,0,0,0,0,0,0]
[null,263,null,null,null,null,null,null,null,null,0,0,0,0,0,0,0,0,0,0,0,0,0]
[null,264,null,null,null,null,null,null,null,null,0,0,0,0,0,0,0,0,0,0,0,0,0]
[null,265,null,null,null,null,null,null,null,null,0,0,0,0,0,0,0,0,0,0,0,0,0]
[null,266,null,null,null,null,null,null,null,null,0,0,0,0,0,0,0,0,0,0,0,0,0]
[null,267,null,null,null,null,null,null,null,null,0,0,0,0,0,0,0,0,0,0,0,0,0]
[null,268,null,null,null,null,null,null,null,null,0,0,0,0,0,0,0,0,0,0,0,0,0]
[null,269,null,null,null,null,null,null,null,null,0,0,0,0,0,0,0,0,0,0,0,0,0]
[null,270,null,null,null,null,null,null,null,null,0,0,0,0,0,0,0,0,0,0,0,0,0]
[null,271,null,null,null,null,null,null,null,null,{"$f":"IF($D276=K$5,$F276,0)","v":0},0,0,0,0,0,0,0,0,0,0,0,0]
[null,272,null,null,null,null,null,null,null,null,0,0,0,0,0,0,0,0,0,0,0,0,0]
[null,273,null,null,null,null,null,null,null,null,0,0,0,0,0,0,0,0,0,0,0,0,0]
[null,274,null,null,null,null,null,null,null,null,0,0,0,0,0,0,0,0,0,0,0,0,0]
[null,275,null,null,null,null,null,null,null,null,0,0,0,0,0,0,0,0,0,0,0,0,0]
[null,276,null,null,null,null,null,null,null,null,0,0,0,0,0,0,0,0,0,0,0,0,0]
[null,277,null,null,null,null,null,null,null,null,0,0,0,0,0,0,0,0,0,0,0,0,0]
[null,278,null,null,null,null,null,null,null,null,0,0,0,0,0,0,0,0,0,0,0,0,0]
[null,279,null,null,null,null,null,null,null,null,0,0,0,0,0,0,0,0,0,0,0,0,0]
[null,280,null,null,null,null,null,null,null,null,0,0,0,0,0,0,0,0,0,0,0,0,0]
[null,281,null,null,null,null,null,null,null,null,{"$f":"IF($D286=K$5,$F286,0)","v":0},0,0,0,0,0,0,0,0,0,0,0,0]
[null,282,null,null,null,null,null,null,null,null,0,0,0,0,0,0,0,0,0,0,0,0,0]
[null,283,null,null,null,null,null,null,null,null,0,0,0,0,0,0,0,0,0,0,0,0,0]
[null,284,null,null,null,null,null,null,null,null,0,0,0,0,0,0,0,0,0,0,0,0,0]
[null,285,null,null,null,null,null,null,null,null,0,0,0,0,0,0,0,0,0,0,0,0,0]
[null,286,null,null,null,null,null,null,null,null,0,0,0,0,0,0,0,0,0,0,0,0,0]
[null,287,null,null,null,null,null,null,null,null,0,0,0,0,0,0,0,0,0,0,0,0,0]
[null,288,null,null,null,null,null,null,null,null,0,0,0,0,0,0,0,0,0,0,0,0,0]
[null,289,null,null,null,null,null,null,null,null,0,0,0,0,0,0,0,0,0,0,0,0,0]
[null,290,null,null,null,null,null,null,null,null,0,0,0,0,0,0,0,0,0,0,0,0,0]
[null,291,null,null,null,null,null,null,null,null,{"$f":"IF($D296=K$5,$F296,0)","v":0},0,0,0,0,0,0,0,0,0,0,0,0]
[null,292,null,null,null,null,null,null,null,null,0,0,0,0,0,0,0,0,0,0,0,0,0]
[null,293,null,null,null,null,null,null,null,null,0,0,0,0,0,0,0,0,0,0,0,0,0]
[null,294,null,null,null,null,null,null,null,null,0,0,0,0,0,0,0,0,0,0,0,0,0]
[null,295,null,null,null,null,null,null,null,null,0,0,0,0,0,0,0,0,0,0,0,0,0]
[null,296,null,null,null,null,null,null,null,null,0,0,0,0,0,0,0,0,0,0,0,0,0]
[null,297,null,null,null,null,null,null,null,null,0,0,0,0,0,0,0,0,0,0,0,0,0]
[null,298,null,null,null,null,null,null,null,null,0,0,0,0,0,0,0,0,0,0,0,0,0]
[null,299,null,null,null,null,null,null,null,null,0,0,0,0,0,0,0,0,0,0,0,0,0]
[null,300,null,null,null,null,null,null,null,null,0,0,0,0,0,0,0,0,0,0,0,0,0]
[null,null,null,null,null,null,null,null,null,null,{"$f":"SUM(K6:K305)","v":0},{"$f":"SUM(L6:L305)","v":0},0,0,0,0,0,0,0,0,0,0,0]

{"sheet":"17","index":17,"n_rows":306,"n_cols":23,"rows_kept":306,"cut":false,"hidden":false,"merged":[]}
[]
[null,null,{"$f":"menu!B24","v":"NUEVA SECCCION"}]
[]
[null,null,null,null,null,null,null,null,null,"Enero"]
[null,null,"DIA","MES","CONCEPTO","TOTAL",null,null,null,"Febrero","Enero","Febrero","Marzo","Abril","Mayo","Junio","Julio","Agosto","Septiembre","Octubre","Noviembre","Diciembre"]
[null,1,null,null,null,null,null,null,null,"Marzo",{"$f":"IF($D6=K$5,$F6,0)","v":0},0,0,0,0,0,0,0,0,0,0,0,0]
[null,2,null,null,null,null,null,null,null,"Abril",0,0,0,0,0,0,0,0,0,0,0,0,0]
[null,3,null,null,null,null,null,null,null,"Mayo",0,0,0,0,0,0,0,0,0,0,0,0,0]
[null,4,null,null,null,null,null,null,null,"Junio",0,0,0,0,0,0,0,0,0,0,0,0,0]
[null,5,null,null,null,null,null,null,null,"Julio",0,0,0,0,0,0,0,0,0,0,0,0,0]
[null,6,null,null,null,null,null,null,null,"Agosto",0,0,0,0,0,0,0,0,0,0,0,0,0]
[null,7,null,null,null,null,null,null,null,"Septiembre",0,0,0,0,0,0,0,0,0,0,0,0,0]
[null,8,null,null,null,null,null,null,null,"Octubre",0,0,0,0,0,0,0,0,0,0,0,0,0]
[null,9,null,null,null,null,null,null,null,"Noviembre",0,0,0,0,0,0,0,0,0,0,0,0,0]
[null,10,null,null,null,null,null,null,null,"Diciembre",0,0,0,0,0,0,0,0,0,0,0,0,0]
[null,11,null,null,null,null,null,null,null,null,{"$f":"IF($D16=K$5,$F16,0)","v":0},0,0,0,0,0,0,0,0,0,0,0,0]
[null,12,null,null,null,null,null,null,null,null,0,0,0,0,0,0,0,0,0,0,0,0,0]
[null,13,null,null,null,null,null,null,null,null,0,0,0,0,0,0,0,0,0,0,0,0,0]
[null,14,null,null,null,null,null,null,null,null,0,0,0,0,0,0,0,0,0,0,0,0,0]
[null,15,null,null,null,null,null,null,null,null,0,0,0,0,0,0,0,0,0,0,0,0,0]
[null,16,null,null,null,null,null,null,null,null,0,0,0,0,0,0,0,0,0,0,0,0,0]
[null,17,null,null,null,null,null,null,null,null,0,0,0,0,0,0,0,0,0,0,0,0,0]
[null,18,null,null,null,null,null,null,null,null,0,0,0,0,0,0,0,0,0,0,0,0,0]
[null,19,null,null,null,null,null,null,null,null,0,0,0,0,0,0,0,0,0,0,0,0,0]
[null,20,null,null,null,null,null,null,null,null,0,0,0,0,0,0,0,0,0,0,0,0,0]
[null,21,null,null,null,null,null,null,null,null,{"$f":"IF($D26=K$5,$F26,0)","v":0},0,0,0,0,0,0,0,0,0,0,0,0]
[null,22,null,null,null,null,null,null,null,null,0,0,0,0,0,0,0,0,0,0,0,0,0]
[null,23,null,null,null,null,null,null,null,null,0,0,0,0,0,0,0,0,0,0,0,0,0]
[null,24,null,null,null,null,null,null,null,null,0,0,0,0,0,0,0,0,0,0,0,0,0]
[null,25,null,null,null,null,null,null,null,null,0,0,0,0,0,0,0,0,0,0,0,0,0]
[null,26,null,null,null,null,null,null,null,null,0,0,0,0,0,0,0,0,0,0,0,0,0]
[null,27,null,null,null,null,null,null,null,null,0,0,0,0,0,0,0,0,0,0,0,0,0]
[null,28,null,null,null,null,null,null,null,null,0,0,0,0,0,0,0,0,0,0,0,0,0]
[null,29,null,null,null,null,null,null,null,null,0,0,0,0,0,0,0,0,0,0,0,0,0]
[null,30,null,null,null,null,null,null,null,null,0,0,0,0,0,0,0,0,0,0,0,0,0]
[null,31,null,null,null,null,null,null,null,null,{"$f":"IF($D36=K$5,$F36,0)","v":0},0,0,0,0,0,0,0,0,0,0,0,0]
[null,32,null,null,null,null,null,null,null,null,0,0,0,0,0,0,0,0,0,0,0,0,0]
[null,33,null,null,null,null,null,null,null,null,0,0,0,0,0,0,0,0,0,0,0,0,0]
[null,34,null,null,null,null,null,null,null,null,0,0,0,0,0,0,0,0,0,0,0,0,0]
[null,35,null,null,null,null,null,null,null,null,0,0,0,0,0,0,0,0,0,0,0,0,0]
[null,36,null,null,null,null,null,null,null,null,0,0,0,0,0,0,0,0,0,0,0,0,0]
[null,37,null,null,null,null,null,null,null,null,0,0,0,0,0,0,0,0,0,0,0,0,0]
[null,38,null,null,null,null,null,null,null,null,0,0,0,0,0,0,0,0,0,0,0,0,0]
[null,39,null,null,null,null,null,null,null,null,0,0,0,0,0,0,0,0,0,0,0,0,0]
[null,40,null,null,null,null,null,null,null,null,0,0,0,0,0,0,0,0,0,0,0,0,0]
[null,41,null,null,null,null,null,null,null,null,{"$f":"IF($D46=K$5,$F46,0)","v":0},0,0,0,0,0,0,0,0,0,0,0,0]
[null,42,null,null,null,null,null,null,null,null,0,0,0,0,0,0,0,0,0,0,0,0,0]
[null,43,null,null,null,null,null,null,null,null,0,0,0,0,0,0,0,0,0,0,0,0,0]
[null,44,null,null,null,null,null,null,null,null,0,0,0,0,0,0,0,0,0,0,0,0,0]
[null,45,null,null,null,null,null,null,null,null,0,0,0,0,0,0,0,0,0,0,0,0,0]
[null,46,null,null,null,null,null,null,null,null,0,0,0,0,0,0,0,0,0,0,0,0,0]
[null,47,null,null,null,null,null,null,null,null,0,0,0,0,0,0,0,0,0,0,0,0,0]
[null,48,null,null,null,null,null,null,null,null,0,0,0,0,0,0,0,0,0,0,0,0,0]
[null,49,null,null,null,null,null,null,null,null,0,0,0,0,0,0,0,0,0,0,0,0,0]
[null,50,null,null,null,null,null,null,null,null,0,0,0,0,0,0,0,0,0,0,0,0,0]
[null,51,null,null,null,null,null,null,null,null,{"$f":"IF($D56=K$5,$F56,0)","v":0},0,0,0,0,0,0,0,0,0,0,0,0]
[null,52,null,null,null,null,null,null,null,null,0,0,0,0,0,0,0,0,0,0,0,0,0]
[null,53,null,null,null,null,null,null,null,null,0,0,0,0,0,0,0,0,0,0,0,0,0]
[null,54,null,null,null,null,null,null,null,null,0,0,0,0,0,0,0,0,0,0,0,0,0]
[null,55,null,null,null,null,null,null,null,null,0,0,0,0,0,0,0,0,0,0,0,0,0]
[null,56,null,null,null,null,null,null,null,null,0,0,0,0,0,0,0,0,0,0,0,0,0]
[null,57,null,null,null,null,null,null,null,null,0,0,0,0,0,0,0,0,0,0,0,0,0]
[null,58,null,null,null,null,null,null,null,null,0,0,0,0,0,0,0,0,0,0,0,0,0]
[null,59,null,null,null,null,null,null,null,null,0,0,0,0,0,0,0,0,0,0,0,0,0]
[null,60,null,null,null,null,null,null,null,null,0,0,0,0,0,0,0,0,0,0,0,0,0]
[null,61,null,null,null,null,null,null,null,null,{"$f":"IF($D66=K$5,$F66,0)","v":0},0,0,0,0,0,0,0,0,0,0,0,0]
[null,62,null,null,null,null,null,null,null,null,0,0,0,0,0,0,0,0,0,0,0,0,0]
[null,63,null,null,null,null,null,null,null,null,0,0,0,0,0,0,0,0,0,0,0,0,0]
[null,64,null,null,null,null,null,null,null,null,0,0,0,0,0,0,0,0,0,0,0,0,0]
[null,65,null,null,null,null,null,null,null,null,0,0,0,0,0,0,0,0,0,0,0,0,0]
[null,66,null,null,null,null,null,null,null,null,0,0,0,0,0,0,0,0,0,0,0,0,0]
[null,67,null,null,null,null,null,null,null,null,0,0,0,0,0,0,0,0,0,0,0,0,0]
[null,68,null,null,null,null,null,null,null,null,0,0,0,0,0,0,0,0,0,0,0,0,0]
[null,69,null,null,null,null,null,null,null,null,0,0,0,0,0,0,0,0,0,0,0,0,0]
[null,70,null,null,null,null,null,null,null,null,0,0,0,0,0,0,0,0,0,0,0,0,0]
[null,71,null,null,null,null,null,null,null,null,{"$f":"IF($D76=K$5,$F76,0)","v":0},0,0,0,0,0,0,0,0,0,0,0,0]
[null,72,null,null,null,null,null,null,null,null,0,0,0,0,0,0,0,0,0,0,0,0,0]
[null,73,null,null,null,null,null,null,null,null,0,0,0,0,0,0,0,0,0,0,0,0,0]
[null,74,null,null,null,null,null,null,null,null,0,0,0,0,0,0,0,0,0,0,0,0,0]
[null,75,null,null,null,null,null,null,null,null,0,0,0,0,0,0,0,0,0,0,0,0,0]
[null,76,null,null,null,null,null,null,null,null,0,0,0,0,0,0,0,0,0,0,0,0,0]
[null,77,null,null,null,null,null,null,null,null,0,0,0,0,0,0,0,0,0,0,0,0,0]
[null,78,null,null,null,null,null,null,null,null,0,0,0,0,0,0,0,0,0,0,0,0,0]
[null,79,null,null,null,null,null,null,null,null,0,0,0,0,0,0,0,0,0,0,0,0,0]
[null,80,null,null,null,null,null,null,null,null,0,0,0,0,0,0,0,0,0,0,0,0,0]
[null,81,null,null,null,null,null,null,null,null,{"$f":"IF($D86=K$5,$F86,0)","v":0},0,0,0,0,0,0,0,0,0,0,0,0]
[null,82,null,null,null,null,null,null,null,null,0,0,0,0,0,0,0,0,0,0,0,0,0]
[null,83,null,null,null,null,null,null,null,null,0,0,0,0,0,0,0,0,0,0,0,0,0]
[null,84,null,null,null,null,null,null,null,null,0,0,0,0,0,0,0,0,0,0,0,0,0]
[null,85,null,null,null,null,null,null,null,null,0,0,0,0,0,0,0,0,0,0,0,0,0]
[null,86,null,null,null,null,null,null,null,null,0,0,0,0,0,0,0,0,0,0,0,0,0]
[null,87,null,null,null,null,null,null,null,null,0,0,0,0,0,0,0,0,0,0,0,0,0]
[null,88,null,null,null,null,null,null,null,null,0,0,0,0,0,0,0,0,0,0,0,0,0]
[null,89,null,null,null,null,null,null,null,null,0,0,0,0,0,0,0,0,0,0,0,0,0]
[null,90,null,null,null,null,null,null,null,null,0,0,0,0,0,0,0,0,0,0,0,0,0]
[null,91,null,null,null,null,null,null,null,null,{"$f":"IF($D96=K$5,$F96,0)","v":0},0,0,0,0,0,0,0,0,0,0,0,0]
[null,92,null,null,null,null,null,null,null,null,0,0,0,0,0,0,0,0,0,0,0,0,0]
[null,93,null,null,null,null,null,null,null,null,0,0,0,0,0,0,0,0,0,0,0,0,0]
[null,94,null,null,null,null,null,null,null,null,0,0,0,0,0,0,0,0,0,0,0,0,0]
[null,95,null,null,null,null,null,null,null,null,0,0,0,0,0,0,0,0,0,0,0,0,0]
[null,96,null,null,null,null,null,null,null,null,0,0,0,0,0,0,0,0,0,0,0,0,0]
[null,97,null,null,null,null,null,null,null,null,0,0,0,0,0,0,0,0,0,0,0,0,0]
[null,98,null,null,null,null,null,null,null,null,0,0,0,0,0,0,0,0,0,0,0,0,0]
[null,99,null,null,null,null,null,null,null,null,0,0,0,0,0,0,0,0,0,0,0,0,0]
[null,100,null,null,null,null,null,null,null,null,0,0,0,0,0,0,0,0,0,0,0,0,0]
[null,101,null,null,null,null,null,null,null,null,{"$f":"IF($D106=K$5,$F106,0)","v":0},0,0,0,0,0,0,0,0,0,0,0,0]
[null,102,null,null,null,null,null,null,null,null,0,0,0,0,0,0,0,0,0,0,0,0,0]
[null,103,null,null,null,null,null,null,null,null,0,0,0,0,0,0,0,0,0,0,0,0,0]
[null,104,null,null,null,null,null,null,null,null,0,0,0,0,0,0,0,0,0,0,0,0,0]
[null,105,null,null,null,null,null,null,null,null,0,0,0,0,0,0,0,0,0,0,0,0,0]
[null,106,null,null,null,null,null,null,null,null,0,0,0,0,0,0,0,0,0,0,0,0,0]
[null,107,null,null,null,null,null,null,null,null,0,0,0,0,0,0,0,0,0,0,0,0,0]
[null,108,null,null,null,null,null,null,null,null,0,0,0,0,0,0,0,0,0,0,0,0,0]
[null,109,null,null,null,null,null,null,null,null,0,0,0,0,0,0,0,0,0,0,0,0,0]
[null,110,null,null,null,null,null,null,null,null,0,0,0,0,0,0,0,0,0,0,0,0,0]
[null,111,null,null,null,null,null,null,null,null,{"$f":"IF($D116=K$5,$F116,0)","v":0},0,0,0,0,0,0,0,0,0,0,0,0]
[null,112,null,null,null,null,null,null,null,null,0,0,0,0,0,0,0,0,0,0,0,0,0]
[null,113,null,null,null,null,null,null,null,null,0,0,0,0,0,0,0,0,0,0,0,0,0]
[null,114,null,null,null,null,null,null,null,null,0,0,0,0,0,0,0,0,0,0,0,0,0]
[null,115,null,null,null,null,null,null,null,null,0,0,0,0,0,0,0,0,0,0,0,0,0]
[null,116,null,null,null,null,null,null,null,null,0,0,0,0,0,0,0,0,0,0,0,0,0]
[null,117,null,null,null,null,null,null,null,null,0,0,0,0,0,0,0,0,0,0,0,0,0]
[null,118,null,null,null,null,null,null,null,null,0,0,0,0,0,0,0,0,0,0,0,0,0]
[null,119,null,null,null,null,null,null,null,null,0,0,0,0,0,0,0,0,0,0,0,0,0]
[null,120,null,null,null,null,null,null,null,null,0,0,0,0,0,0,0,0,0,0,0,0,0]
[null,121,null,null,null,null,null,null,null,null,{"$f":"IF($D126=K$5,$F126,0)","v":0},0,0,0,0,0,0,0,0,0,0,0,0]
[null,122,null,null,null,null,null,null,null,null,0,0,0,0,0,0,0,0,0,0,0,0,0]
[null,123,null,null,null,null,null,null,null,null,0,0,0,0,0,0,0,0,0,0,0,0,0]
[null,124,null,null,null,null,null,null,null,null,0,0,0,0,0,0,0,0,0,0,0,0,0]
[null,125,null,null,null,null,null,null,null,null,0,0,0,0,0,0,0,0,0,0,0,0,0]
[null,126,null,null,null,null,null,null,null,null,0,0,0,0,0,0,0,0,0,0,0,0,0]
[null,127,null,null,null,null,null,null,null,null,0,0,0,0,0,0,0,0,0,0,0,0,0]
[null,128,null,null,null,null,null,null,null,null,0,0,0,0,0,0,0,0,0,0,0,0,0]
[null,129,null,null,null,null,null,null,null,null,0,0,0,0,0,0,0,0,0,0,0,0,0]
[null,130,null,null,null,null,null,null,null,null,0,0,0,0,0,0,0,0,0,0,0,0,0]
[null,131,null,null,null,null,null,null,null,null,{"$f":"IF($D136=K$5,$F136,0)","v":0},0,0,0,0,0,0,0,0,0,0,0,0]
[null,132,null,null,null,null,null,null,null,null,0,0,0,0,0,0,0,0,0,0,0,0,0]
[null,133,null,null,null,null,null,null,null,null,0,0,0,0,0,0,0,0,0,0,0,0,0]
[null,134,null,null,null,null,null,null,null,null,0,0,0,0,0,0,0,0,0,0,0,0,0]
[null,135,null,null,null,null,null,null,null,null,0,0,0,0,0,0,0,0,0,0,0,0,0]
[null,136,null,null,null,null,null,null,null,null,0,0,0,0,0,0,0,0,0,0,0,0,0]
[null,137,null,null,null,null,null,null,null,null,0,0,0,0,0,0,0,0,0,0,0,0,0]
[null,138,null,null,null,null,null,null,null,null,0,0,0,0,0,0,0,0,0,0,0,0,0]
[null,139,null,null,null,null,null,null,null,null,0,0,0,0,0,0,0,0,0,0,0,0,0]
[null,140,null,null,null,null,null,null,null,null,0,0,0,0,0,0,0,0,0,0,0,0,0]
[null,141,null,null,null,null,null,null,null,null,{"$f":"IF($D146=K$5,$F146,0)","v":0},0,0,0,0,0,0,0,0,0,0,0,0]
[null,142,null,null,null,null,null,null,null,null,0,0,0,0,0,0,0,0,0,0,0,0,0]
[null,143,null,null,null,null,null,null,null,null,0,0,0,0,0,0,0,0,0,0,0,0,0]
[null,144,null,null,null,null,null,null,null,null,0,0,0,0,0,0,0,0,0,0,0,0,0]
[null,145,null,null,null,null,null,null,null,null,0,0,0,0,0,0,0,0,0,0,0,0,0]
[null,146,null,null,null,null,null,null,null,null,0,0,0,0,0,0,0,0,0,0,0,0,0]
[null,147,null,null,null,null,null,null,null,null,0,0,0,0,0,0,0,0,0,0,0,0,0]
[null,148,null,null,null,null,null,null,null,null,0,0,0,0,0,0,0,0,0,0,0,0,0]
[null,149,null,null,null,null,null,null,null,null,0,0,0,0,0,0,0,0,0,0,0,0,0]
[null,150,null,null,null,null,null,null,null,null,0,0,0,0,0,0,0,0,0,0,0,0,0]
[null,151,null,null,null,null,null,null,null,null,{"$f":"IF($D156=K$5,$F156,0)","v":0},0,0,0,0,0,0,0,0,0,0,0,0]
[null,152,null,null,null,null,null,null,null,null,0,0,0,0,0,0,0,0,0,0,0,0,0]
[null,153,null,null,null,null,null,null,null,null,0,0,0,0,0,0,0,0,0,0,0,0,0]
[null,154,null,null,null,null,null,null,null,null,0,0,0,0,0,0,0,0,0,0,0,0,0]
[null,155,null,null,null,null,null,null,null,null,0,0,0,0,0,0,0,0,0,0,0,0,0]
[null,156,null,null,null,null,null,null,null,null,0,0,0,0,0,0,0,0,0,0,0,0,0]
[null,157,null,null,null,null,null,null,null,null,0,0,0,0,0,0,0,0,0,0,0,0,0]
[null,158,null,null,null,null,null,null,null,null,0,0,0,0,0,0,0,0,0,0,0,0,0]
[null,159,null,null,null,null,null,null,null,null,0,0,0,0,0,0,0,0,0,0,0,0,0]
[null,160,null,null,null,null,null,null,null,null,0,0,0,0,0,0,0,0,0,0,0,0,0]
[null,161,null,null,null,null,null,null,null,null,{"$f":"IF($D166=K$5,$F166,0)","v":0},0,0,0,0,0,0,0,0,0,0,0,0]
[null,162,null,null,null,null,null,null,null,null,0,0,0,0,0,0,0,0,0,0,0,0,0]
[null,163,null,null,null,null,null,null,null,null,0,0,0,0,0,0,0,0,0,0,0,0,0]
[null,164,null,null,null,null,null,null,null,null,0,0,0,0,0,0,0,0,0,0,0,0,0]
[null,165,null,null,null,null,null,null,null,null,0,0,0,0,0,0,0,0,0,0,0,0,0]
[null,166,null,null,null,null,null,null,null,null,0,0,0,0,0,0,0,0,0,0,0,0,0]
[null,167,null,null,null,null,null,null,null,null,0,0,0,0,0,0,0,0,0,0,0,0,0]
[null,168,null,null,null,null,null,null,null,null,0,0,0,0,0,0,0,0,0,0,0,0,0]
[null,169,null,null,null,null,null,null,null,null,0,0,0,0,0,0,0,0,0,0,0,0,0]
[null,170,null,null,null,null,null,null,null,null,0,0,0,0,0,0,0,0,0,0,0,0,0]
[null,171,null,null,null,null,null,null,null,null,{"$f":"IF($D176=K$5,$F176,0)","v":0},0,0,0,0,0,0,0,0,0,0,0,0]
[null,172,null,null,null,null,null,null,null,null,0,0,0,0,0,0,0,0,0,0,0,0,0]
[null,173,null,null,null,null,null,null,null,null,0,0,0,0,0,0,0,0,0,0,0,0,0]
[null,174,null,null,null,null,null,null,null,null,0,0,0,0,0,0,0,0,0,0,0,0,0]
[null,175,null,null,null,null,null,null,null,null,0,0,0,0,0,0,0,0,0,0,0,0,0]
[null,176,null,null,null,null,null,null,null,null,0,0,0,0,0,0,0,0,0,0,0,0,0]
[null,177,null,null,null,null,null,null,null,null,0,0,0,0,0,0,0,0,0,0,0,0,0]
[null,178,null,null,null,null,null,null,null,null,0,0,0,0,0,0,0,0,0,0,0,0,0]
[null,179,null,null,null,null,null,null,null,null,0,0,0,0,0,0,0,0,0,0,0,0,0]
[null,180,null,null,null,null,null,null,null,null,0,0,0,0,0,0,0,0,0,0,0,0,0]
[null,181,null,null,null,null,null,null,null,null,{"$f":"IF($D186=K$5,$F186,0)","v":0},0,0,0,0,0,0,0,0,0,0,0,0]
[null,182,null,null,null,null,null,null,null,null,0,0,0,0,0,0,0,0,0,0,0,0,0]
[null,183,null,null,null,null,null,null,null,null,0,0,0,0,0,0,0,0,0,0,0,0,0]
[null,184,null,null,null,null,null,null,null,null,0,0,0,0,0,0,0,0,0,0,0,0,0]
[null,185,null,null,null,null,null,null,null,null,0,0,0,0,0,0,0,0,0,0,0,0,0]
[null,186,null,null,null,null,null,null,null,null,0,0,0,0,0,0,0,0,0,0,0,0,0]
[null,187,null,null,null,null,null,null,null,null,0,0,0,0,0,0,0,0,0,0,0,0,0]
[null,188,null,null,null,null,null,null,null,null,0,0,0,0,0,0,0,0,0,0,0,0,0]
[null,189,null,null,null,null,null,null,null,null,0,0,0,0,0,0,0,0,0,0,0,0,0]
[null,190,null,null,null,null,null,null,null,null,0,0,0,0,0,0,0,0,0,0,0,0,0]
[null,191,null,null,null,null,null,null,null,null,{"$f":"IF($D196=K$5,$F196,0)","v":0},0,0,0,0,0,0,0,0,0,0,0,0]
[null,192,null,null,null,null,null,null,null,null,0,0,0,0,0,0,0,0,0,0,0,0,0]
[null,193,null,null,null,null,null,null,null,null,0,0,0,0,0,0,0,0,0,0,0,0,0]
[null,194,null,null,null,null,null,null,null,null,0,0,0,0,0,0,0,0,0,0,0,0,0]
[null,195,null,null,null,null,null,null,null,null,0,0,0,0,0,0,0,0,0,0,0,0,0]
[null,196,null,null,null,null,null,null,null,null,0,0,0,0,0,0,0,0,0,0,0,0,0]
[null,197,null,null,null,null,null,null,null,null,0,0,0,0,0,0,0,0,0,0,0,0,0]
[null,198,null,null,null,null,null,null,null,null,0,0,0,0,0,0,0,0,0,0,0,0,0]
[null,199,null,null,null,null,null,null,null,null,0,0,0,0,0,0,0,0,0,0,0,0,0]
[null,200,null,null,null,null,null,null,null,null,0,0,0,0,0,0,0,0,0,0,0,0,0]
[null,201,null,null,null,null,null,null,null,null,{"$f":"IF($D206=K$5,$F206,0)","v":0},0,0,0,0,0,0,0,0,0,0,0,0]
[null,202,null,null,null,null,null,null,null,null,0,0,0,0,0,0,0,0,0,0,0,0,0]
[null,203,null,null,null,null,null,null,null,null,0,0,0,0,0,0,0,0,0,0,0,0,0]
[null,204,null,null,null,null,null,null,null,null,0,0,0,0,0,0,0,0,0,0,0,0,0]
[null,205,null,null,null,null,null,null,null,null,0,0,0,0,0,0,0,0,0,0,0,0,0]
[null,206,null,null,null,null,null,null,null,null,0,0,0,0,0,0,0,0,0,0,0,0,0]
[null,207,null,null,null,null,null,null,null,null,0,0,0,0,0,0,0,0,0,0,0,0,0]
[null,208,null,null,null,null,null,null,null,null,0,0,0,0,0,0,0,0,0,0,0,0,0]
[null,209,null,null,null,null,null,null,null,null,0,0,0,0,0,0,0,0,0,0,0,0,0]
[null,210,null,null,null,null,null,null,null,null,0,0,0,0,0,0,0,0,0,0,0,0,0]
[null,211,null,null,null,null,null,null,null,null,{"$f":"IF($D216=K$5,$F216,0)","v":0},0,0,0,0,0,0,0,0,0,0,0,0]
[null,212,null,null,null,null,null,null,null,null,0,0,0,0,0,0,0,0,0,0,0,0,0]
[null,213,null,null,null,null,null,null,null,null,0,0,0,0,0,0,0,0,0,0,0,0,0]
[null,214,null,null,null,null,null,null,null,null,0,0,0,0,0,0,0,0,0,0,0,0,0]
[null,215,null,null,null,null,null,null,null,null,0,0,0,0,0,0,0,0,0,0,0,0,0]
[null,216,null,null,null,null,null,null,null,null,0,0,0,0,0,0,0,0,0,0,0,0,0]
[null,217,null,null,null,null,null,null,null,null,0,0,0,0,0,0,0,0,0,0,0,0,0]
[null,218,null,null,null,null,null,null,null,null,0,0,0,0,0,0,0,0,0,0,0,0,0]
[null,219,null,null,null,null,null,null,null,null,0,0,0,0,0,0,0,0,0,0,0,0,0]
[null,220,null,null,null,null,null,null,null,null,0,0,0,0,0,0,0,0,0,0,0,0,0]
[null,221,null,null,null,null,null,null,null,null,{"$f":"IF($D226=K$5,$F226,0)","v":0},0,0,0,0,0,0,0,0,0,0,0,0]
[null,222,null,null,null,null,null,null,null,null,0,0,0,0,0,0,0,0,0,0,0,0,0]
[null,223,null,null,null,null,null,null,null,null,0,0,0,0,0,0,0,0,0,0,0,0,0]
[null,224,null,null,null,null,null,null,null,null,0,0,0,0,0,0,0,0,0,0,0,0,0]
[null,225,null,null,null,null,null,null,null,null,0,0,0,0,0,0,0,0,0,0,0,0,0]
[null,226,null,null,null,null,null,null,null,null,0,0,0,0,0,0,0,0,0,0,0,0,0]
[null,227,null,null,null,null,null,null,null,null,0,0,0,0,0,0,0,0,0,0,0,0,0]
[null,228,null,null,null,null,null,null,null,null,0,0,0,0,0,0,0,0,0,0,0,0,0]
[null,229,null,null,null,null,null,null,null,null,0,0,0,0,0,0,0,0,0,0,0,0,0]
[null,230,null,null,null,null,null,null,null,null,0,0,0,0,0,0,0,0,0,0,0,0,0]
[null,231,null,null,null,null,null,null,null,null,{"$f":"IF($D236=K$5,$F236,0)","v":0},0,0,0,0,0,0,0,0,0,0,0,0]
[null,232,null,null,null,null,null,null,null,null,0,0,0,0,0,0,0,0,0,0,0,0,0]
[null,233,null,null,null,null,null,null,null,null,0,0,0,0,0,0,0,0,0,0,0,0,0]
[null,234,null,null,null,null,null,null,null,null,0,0,0,0,0,0,0,0,0,0,0,0,0]
[null,235,null,null,null,null,null,null,null,null,0,0,0,0,0,0,0,0,0,0,0,0,0]
[null,236,null,null,null,null,null,null,null,null,0,0,0,0,0,0,0,0,0,0,0,0,0]
[null,237,null,null,null,null,null,null,null,null,0,0,0,0,0,0,0,0,0,0,0,0,0]
[null,238,null,null,null,null,null,null,null,null,0,0,0,0,0,0,0,0,0,0,0,0,0]
[null,239,null,null,null,null,null,null,null,null,0,0,0,0,0,0,0,0,0,0,0,0,0]
[null,240,null,null,null,null,null,null,null,null,0,0,0,0,0,0,0,0,0,0,0,0,0]
[null,241,null,null,null,null,null,null,null,null,{"$f":"IF($D246=K$5,$F246,0)","v":0},0,0,0,0,0,0,0,0,0,0,0,0]
[null,242,null,null,null,null,null,null,null,null,0,0,0,0,0,0,0,0,0,0,0,0,0]
[null,243,null,null,null,null,null,null,null,null,0,0,0,0,0,0,0,0,0,0,0,0,0]
[null,244,null,null,null,null,null,null,null,null,0,0,0,0,0,0,0,0,0,0,0,0,0]
[null,245,null,null,null,null,null,null,null,null,0,0,0,0,0,0,0,0,0,0,0,0,0]
[null,246,null,null,null,null,null,null,null,null,0,0,0,0,0,0,0,0,0,0,0,0,0]
[null,247,null,null,null,null,null,null,null,null,0,0,0,0,0,0,0,0,0,0,0,0,0]
[null,248,null,null,null,null,null,null,null,null,0,0,0,0,0,0,0,0,0,0,0,0,0]
[null,249,null,null,null,null,null,null,null,null,0,0,0,0,0,0,0,0,0,0,0,0,0]
[null,250,null,null,null,null,null,null,null,null,0,0,0,0,0,0,0,0,0,0,0,0,0]
[null,251,null,null,null,null,null,null,null,null,{"$f":"IF($D256=K$5,$F256,0)","v":0},0,0,0,0,0,0,0,0,0,0,0,0]
[null,252,null,null,null,null,null,null,null,null,0,0,0,0,0,0,0,0,0,0,0,0,0]
[null,253,null,null,null,null,null,null,null,null,0,0,0,0,0,0,0,0,0,0,0,0,0]
[null,254,null,null,null,null,null,null,null,null,0,0,0,0,0,0,0,0,0,0,0,0,0]
[null,255,null,null,null,null,null,null,null,null,0,0,0,0,0,0,0,0,0,0,0,0,0]
[null,256,null,null,null,null,null,null,null,null,0,0,0,0,0,0,0,0,0,0,0,0,0]
[null,257,null,null,null,null,null,null,null,null,0,0,0,0,0,0,0,0,0,0,0,0,0]
[null,258,null,null,null,null,null,null,null,null,0,0,0,0,0,0,0,0,0,0,0,0,0]
[null,259,null,null,null,null,null,null,null,null,0,0,0,0,0,0,0,0,0,0,0,0,0]
[null,260,null,null,null,null,null,null,null,null,0,0,0,0,0,0,0,0,0,0,0,0,0]
[null,261,null,null,null,null,null,null,null,null,{"$f":"IF($D266=K$5,$F266,0)","v":0},0,0,0,0,0,0,0,0,0,0,0,0]
[null,262,null,null,null,null,null,null,null,null,0,0,0,0,0,0,0,0,0,0,0,0,0]
[null,263,null,null,null,null,null,null,null,null,0,0,0,0,0,0,0,0,0,0,0,0,0]
[null,264,null,null,null,null,null,null,null,null,0,0,0,0,0,0,0,0,0,0,0,0,0]
[null,265,null,null,null,null,null,null,null,null,0,0,0,0,0,0,0,0,0,0,0,0,0]
[null,266,null,null,null,null,null,null,null,null,0,0,0,0,0,0,0,0,0,0,0,0,0]
[null,267,null,null,null,null,null,null,null,null,0,0,0,0,0,0,0,0,0,0,0,0,0]
[null,268,null,null,null,null,null,null,null,null,0,0,0,0,0,0,0,0,0,0,0,0,0]
[null,269,null,null,null,null,null,null,null,null,0,0,0,0,0,0,0,0,0,0,0,0,0]
[null,270,null,null,null,null,null,null,null,null,0,0,0,0,0,0,0,0,0,0,0,0,0]
[null,271,null,null,null,null,null,null,null,null,{"$f":"IF($D276=K$5,$F276,0)","v":0},0,0,0,0,0,0,0,0,0,0,0,0]
[null,272,null,null,null,null,null,null,null,null,0,0,0,0,0,0,0,0,0,0,0,0,0]
[null,273,null,null,null,null,null,null,null,null,0,0,0,0,0,0,0,0,0,0,0,0,0]
[null,274,null,null,null,null,null,null,null,null,0,0,0,0,0,0,0,0,0,0,0,0,0]
[null,275,null,null,null,null,null,null,null,null,0,0,0,0,0,0,0,0,0,0,0,0,0]
[null,276,null,null,null,null,null,null,null,null,0,0,0,0,0,0,0,0,0,0,0,0,0]
[null,277,null,null,null,null,null,null,null,null,0,0,0,0,0,0,0,0,0,0,0,0,0]
[null,278,null,null,null,null,null,null,null,null,0,0,0,0,0,0,0,0,0,0,0,0,0]
[null,279,null,null,null,null,null,null,null,null,0,0,0,0,0,0,0,0,0,0,0,0,0]
[null,280,null,null,null,null,null,null,null,null,0,0,0,0,0,0,0,0,0,0,0,0,0]
[null,281,null,null,null,null,null,null,null,null,{"$f":"IF($D286=K$5,$F286,0)","v":0},0,0,0,0,0,0,0,0,0,0,0,0]
[null,282,null,null,null,null,null,null,null,null,0,0,0,0,0,0,0,0,0,0,0,0,0]
[null,283,null,null,null,null,null,null,null,null,0,0,0,0,0,0,0,0,0,0,0,0,0]
[null,284,null,null,null,null,null,null,null,null,0,0,0,0,0,0,0,0,0,0,0,0,0]
[null,285,null,null,null,null,null,null,null,null,0,0,0,0,0,0,0,0,0,0,0,0,0]
[null,286,null,null,null,null,null,null,null,null,0,0,0,0,0,0,0,0,0,0,0,0,0]
[null,287,null,null,null,null,null,null,null,null,0,0,0,0,0,0,0,0,0,0,0,0,0]
[null,288,null,null,null,null,null,null,null,null,0,0,0,0,0,0,0,0,0,0,0,0,0]
[null,289,null,null,null,null,null,null,null,null,0,0,0,0,0,0,0,0,0,0,0,0,0]
[null,290,null,null,null,null,null,null,null,null,0,0,0,0,0,0,0,0,0,0,0,0,0]
[null,291,null,null,null,null,null,null,null,null,{"$f":"IF($D296=K$5,$F296,0)","v":0},0,0,0,0,0,0,0,0,0,0,0,0]
[null,292,null,null,null,null,null,null,null,null,0,0,0,0,0,0,0,0,0,0,0,0,0]
[null,293,null,null,null,null,null,null,null,null,0,0,0,0,0,0,0,0,0,0,0,0,0]
[null,294,null,null,null,null,null,null,null,null,0,0,0,0,0,0,0,0,0,0,0,0,0]
[null,295,null,null,null,null,null,null,null,null,0,0,0,0,0,0,0,0,0,0,0,0,0]
[null,296,null,null,null,null,null,null,null,null,0,0,0,0,0,0,0,0,0,0,0,0,0]
[null,297,null,null,null,null,null,null,null,null,0,0,0,0,0,0,0,0,0,0,0,0,0]
[null,298,null,null,null,null,null,null,null,null,0,0,0,0,0,0,0,0,0,0,0,0,0]
[null,299,null,null,null,null,null,null,null,null,0,0,0,0,0,0,0,0,0,0,0,0,0]
[null,300,null,null,null,null,null,null,null,null,0,0,0,0,0,0,0,0,0,0,0,0,0]
[null,null,null,null,null,null,null,null,null,null,{"$f":"SUM(K6:K305)","v":0},{"$f":"SUM(L6:L305)","v":0},0,0,0,0,0,0,0,0,0,0,0]

{"sheet":"18","index":18,"n_rows":306,"n_cols":23,"rows_kept":306,"cut":false,"hidden":false,"merged":[]}
[]
[null,null,{"$f":"menu!B25","v":"NUEVA SECCCION"}]
[]
[null,null,null,null,null,null,null,null,null,"Enero"]
[null,null,"DIA","MES","CONCEPTO","TOTAL",null,null,null,"Febrero","Enero","Febrero","Marzo","Abril","Mayo","Junio","Julio","Agosto","Septiembre","Octubre","Noviembre","Diciembre"]
[null,1,null,null,null,null,null,null,null,"Marzo",{"$f":"IF($D6=K$5,$F6,0)","v":0},0,0,0,0,0,0,0,0,0,0,0,0]
[null,2,null,null,null,null,null,null,null,"Abril",0,0,0,0,0,0,0,0,0,0,0,0,0]
[null,3,null,null,null,null,null,null,null,"Mayo",0,0,0,0,0,0,0,0,0,0,0,0,0]
[null,4,null,null,null,null,null,null,null,"Junio",0,0,0,0,0,0,0,0,0,0,0,0,0]
[null,5,null,null,null,null,null,null,null,"Julio",0,0,0,0,0,0,0,0,0,0,0,0,0]
[null,6,null,null,null,null,null,null,null,"Agosto",0,0,0,0,0,0,0,0,0,0,0,0,0]
[null,7,null,null,null,null,null,null,null,"Septiembre",0,0,0,0,0,0,0,0,0,0,0,0,0]
[null,8,null,null,null,null,null,null,null,"Octubre",0,0,0,0,0,0,0,0,0,0,0,0,0]
[null,9,null,null,null,null,null,null,null,"Noviembre",0,0,0,0,0,0,0,0,0,0,0,0,0]
[null,10,null,null,null,null,null,null,null,"Diciembre",0,0,0,0,0,0,0,0,0,0,0,0,0]
[null,11,null,null,null,null,null,null,null,null,{"$f":"IF($D16=K$5,$F16,0)","v":0},0,0,0,0,0,0,0,0,0,0,0,0]
[null,12,null,null,null,null,null,null,null,null,0,0,0,0,0,0,0,0,0,0,0,0,0]
[null,13,null,null,null,null,null,null,null,null,0,0,0,0,0,0,0,0,0,0,0,0,0]
[null,14,null,null,null,null,null,null,null,null,0,0,0,0,0,0,0,0,0,0,0,0,0]
[null,15,null,null,null,null,null,null,null,null,0,0,0,0,0,0,0,0,0,0,0,0,0]
[null,16,null,null,null,null,null,null,null,null,0,0,0,0,0,0,0,0,0,0,0,0,0]
[null,17,null,null,null,null,null,null,null,null,0,0,0,0,0,0,0,0,0,0,0,0,0]
[null,18,null,null,null,null,null,null,null,null,0,0,0,0,0,0,0,0,0,0,0,0,0]
[null,19,null,null,null,null,null,null,null,null,0,0,0,0,0,0,0,0,0,0,0,0,0]
[null,20,null,null,null,null,null,null,null,null,0,0,0,0,0,0,0,0,0,0,0,0,0]
[null,21,null,null,null,null,null,null,null,null,{"$f":"IF($D26=K$5,$F26,0)","v":0},0,0,0,0,0,0,0,0,0,0,0,0]
[null,22,null,null,null,null,null,null,null,null,0,0,0,0,0,0,0,0,0,0,0,0,0]
[null,23,null,null,null,null,null,null,null,null,0,0,0,0,0,0,0,0,0,0,0,0,0]
[null,24,null,null,null,null,null,null,null,null,0,0,0,0,0,0,0,0,0,0,0,0,0]
[null,25,null,null,null,null,null,null,null,null,0,0,0,0,0,0,0,0,0,0,0,0,0]
[null,26,null,null,null,null,null,null,null,null,0,0,0,0,0,0,0,0,0,0,0,0,0]
[null,27,null,null,null,null,null,null,null,null,0,0,0,0,0,0,0,0,0,0,0,0,0]
[null,28,null,null,null,null,null,null,null,null,0,0,0,0,0,0,0,0,0,0,0,0,0]
[null,29,null,null,null,null,null,null,null,null,0,0,0,0,0,0,0,0,0,0,0,0,0]
[null,30,null,null,null,null,null,null,null,null,0,0,0,0,0,0,0,0,0,0,0,0,0]
[null,31,null,null,null,null,null,null,null,null,{"$f":"IF($D36=K$5,$F36,0)","v":0},0,0,0,0,0,0,0,0,0,0,0,0]
[null,32,null,null,null,null,null,null,null,null,0,0,0,0,0,0,0,0,0,0,0,0,0]
[null,33,null,null,null,null,null,null,null,null,0,0,0,0,0,0,0,0,0,0,0,0,0]
[null,34,null,null,null,null,null,null,null,null,0,0,0,0,0,0,0,0,0,0,0,0,0]
[null,35,null,null,null,null,null,null,null,null,0,0,0,0,0,0,0,0,0,0,0,0,0]
[null,36,null,null,null,null,null,null,null,null,0,0,0,0,0,0,0,0,0,0,0,0,0]
[null,37,null,null,null,null,null,null,null,null,0,0,0,0,0,0,0,0,0,0,0,0,0]
[null,38,null,null,null,null,null,null,null,null,0,0,0,0,0,0,0,0,0,0,0,0,0]
[null,39,null,null,null,null,null,null,null,null,0,0,0,0,0,0,0,0,0,0,0,0,0]
[null,40,null,null,null,null,null,null,null,null,0,0,0,0,0,0,0,0,0,0,0,0,0]
[null,41,null,null,null,null,null,null,null,null,{"$f":"IF($D46=K$5,$F46,0)","v":0},0,0,0,0,0,0,0,0,0,0,0,0]
[null,42,null,null,null,null,null,null,null,null,0,0,0,0,0,0,0,0,0,0,0,0,0]
[null,43,null,null,null,null,null,null,null,null,0,0,0,0,0,0,0,0,0,0,0,0,0]
[null,44,null,null,null,null,null,null,null,null,0,0,0,0,0,0,0,0,0,0,0,0,0]
[null,45,null,null,null,null,null,null,null,null,0,0,0,0,0,0,0,0,0,0,0,0,0]
[null,46,null,null,null,null,null,null,null,null,0,0,0,0,0,0,0,0,0,0,0,0,0]
[null,47,null,null,null,null,null,null,null,null,0,0,0,0,0,0,0,0,0,0,0,0,0]
[null,48,null,null,null,null,null,null,null,null,0,0,0,0,0,0,0,0,0,0,0,0,0]
[null,49,null,null,null,null,null,null,null,null,0,0,0,0,0,0,0,0,0,0,0,0,0]
[null,50,null,null,null,null,null,null,null,null,0,0,0,0,0,0,0,0,0,0,0,0,0]
[null,51,null,null,null,null,null,null,null,null,{"$f":"IF($D56=K$5,$F56,0)","v":0},0,0,0,0,0,0,0,0,0,0,0,0]
[null,52,null,null,null,null,null,null,null,null,0,0,0,0,0,0,0,0,0,0,0,0,0]
[null,53,null,null,null,null,null,null,null,null,0,0,0,0,0,0,0,0,0,0,0,0,0]
[null,54,null,null,null,null,null,null,null,null,0,0,0,0,0,0,0,0,0,0,0,0,0]
[null,55,null,null,null,null,null,null,null,null,0,0,0,0,0,0,0,0,0,0,0,0,0]
[null,56,null,null,null,null,null,null,null,null,0,0,0,0,0,0,0,0,0,0,0,0,0]
[null,57,null,null,null,null,null,null,null,null,0,0,0,0,0,0,0,0,0,0,0,0,0]
[null,58,null,null,null,null,null,null,null,null,0,0,0,0,0,0,0,0,0,0,0,0,0]
[null,59,null,null,null,null,null,null,null,null,0,0,0,0,0,0,0,0,0,0,0,0,0]
[null,60,null,null,null,null,null,null,null,null,0,0,0,0,0,0,0,0,0,0,0,0,0]
[null,61,null,null,null,null,null,null,null,null,{"$f":"IF($D66=K$5,$F66,0)","v":0},0,0,0,0,0,0,0,0,0,0,0,0]
[null,62,null,null,null,null,null,null,null,null,0,0,0,0,0,0,0,0,0,0,0,0,0]
[null,63,null,null,null,null,null,null,null,null,0,0,0,0,0,0,0,0,0,0,0,0,0]
[null,64,null,null,null,null,null,null,null,null,0,0,0,0,0,0,0,0,0,0,0,0,0]
[null,65,null,null,null,null,null,null,null,null,0,0,0,0,0,0,0,0,0,0,0,0,0]
[null,66,null,null,null,null,null,null,null,null,0,0,0,0,0,0,0,0,0,0,0,0,0]
[null,67,null,null,null,null,null,null,null,null,0,0,0,0,0,0,0,0,0,0,0,0,0]
[null,68,null,null,null,null,null,null,null,null,0,0,0,0,0,0,0,0,0,0,0,0,0]
[null,69,null,null,null,null,null,null,null,null,0,0,0,0,0,0,0,0,0,0,0,0,0]
[null,70,null,null,null,null,null,null,null,null,0,0,0,0,0,0,0,0,0,0,0,0,0]
[null,71,null,null,null,null,null,null,null,null,{"$f":"IF($D76=K$5,$F76,0)","v":0},0,0,0,0,0,0,0,0,0,0,0,0]
[null,72,null,null,null,null,null,null,null,null,0,0,0,0,0,0,0,0,0,0,0,0,0]
[null,73,null,null,null,null,null,null,null,null,0,0,0,0,0,0,0,0,0,0,0,0,0]
[null,74,null,null,null,null,null,null,null,null,0,0,0,0,0,0,0,0,0,0,0,0,0]
[null,75,null,null,null,null,null,null,null,null,0,0,0,0,0,0,0,0,0,0,0,0,0]
[null,76,null,null,null,null,null,null,null,null,0,0,0,0,0,0,0,0,0,0,0,0,0]
[null,77,null,null,null,null,null,null,null,null,0,0,0,0,0,0,0,0,0,0,0,0,0]
[null,78,null,null,null,null,null,null,null,null,0,0,0,0,0,0,0,0,0,0,0,0,0]
[null,79,null,null,null,null,null,null,null,null,0,0,0,0,0,0,0,0,0,0,0,0,0]
[null,80,null,null,null,null,null,null,null,null,0,0,0,0,0,0,0,0,0,0,0,0,0]
[null,81,null,null,null,null,null,null,null,null,{"$f":"IF($D86=K$5,$F86,0)","v":0},0,0,0,0,0,0,0,0,0,0,0,0]
[null,82,null,null,null,null,null,null,null,null,0,0,0,0,0,0,0,0,0,0,0,0,0]
[null,83,null,null,null,null,null,null,null,null,0,0,0,0,0,0,0,0,0,0,0,0,0]
[null,84,null,null,null,null,null,null,null,null,0,0,0,0,0,0,0,0,0,0,0,0,0]
[null,85,null,null,null,null,null,null,null,null,0,0,0,0,0,0,0,0,0,0,0,0,0]
[null,86,null,null,null,null,null,null,null,null,0,0,0,0,0,0,0,0,0,0,0,0,0]
[null,87,null,null,null,null,null,null,null,null,0,0,0,0,0,0,0,0,0,0,0,0,0]
[null,88,null,null,null,null,null,null,null,null,0,0,0,0,0,0,0,0,0,0,0,0,0]
[null,89,null,null,null,null,null,null,null,null,0,0,0,0,0,0,0,0,0,0,0,0,0]
[null,90,null,null,null,null,null,null,null,null,0,0,0,0,0,0,0,0,0,0,0,0,0]
[null,91,null,null,null,null,null,null,null,null,{"$f":"IF($D96=K$5,$F96,0)","v":0},0,0,0,0,0,0,0,0,0,0,0,0]
[null,92,null,null,null,null,null,null,null,null,0,0,0,0,0,0,0,0,0,0,0,0,0]
[null,93,null,null,null,null,null,null,null,null,0,0,0,0,0,0,0,0,0,0,0,0,0]
[null,94,null,null,null,null,null,null,null,null,0,0,0,0,0,0,0,0,0,0,0,0,0]
[null,95,null,null,null,null,null,null,null,null,0,0,0,0,0,0,0,0,0,0,0,0,0]
[null,96,null,null,null,null,null,null,null,null,0,0,0,0,0,0,0,0,0,0,0,0,0]
[null,97,null,null,null,null,null,null,null,null,0,0,0,0,0,0,0,0,0,0,0,0,0]
[null,98,null,null,null,null,null,null,null,null,0,0,0,0,0,0,0,0,0,0,0,0,0]
[null,99,null,null,null,null,null,null,null,null,0,0,0,0,0,0,0,0,0,0,0,0,0]
[null,100,null,null,null,null,null,null,null,null,0,0,0,0,0,0,0,0,0,0,0,0,0]
[null,101,null,null,null,null,null,null,null,null,{"$f":"IF($D106=K$5,$F106,0)","v":0},0,0,0,0,0,0,0,0,0,0,0,0]
[null,102,null,null,null,null,null,null,null,null,0,0,0,0,0,0,0,0,0,0,0,0,0]
[null,103,null,null,null,null,null,null,null,null,0,0,0,0,0,0,0,0,0,0,0,0,0]
[null,104,null,null,null,null,null,null,null,null,0,0,0,0,0,0,0,0,0,0,0,0,0]
[null,105,null,null,null,null,null,null,null,null,0,0,0,0,0,0,0,0,0,0,0,0,0]
[null,106,null,null,null,null,null,null,null,null,0,0,0,0,0,0,0,0,0,0,0,0,0]
[null,107,null,null,null,null,null,null,null,null,0,0,0,0,0,0,0,0,0,0,0,0,0]
[null,108,null,null,null,null,null,null,null,null,0,0,0,0,0,0,0,0,0,0,0,0,0]
[null,109,null,null,null,null,null,null,null,null,0,0,0,0,0,0,0,0,0,0,0,0,0]
[null,110,null,null,null,null,null,null,null,null,0,0,0,0,0,0,0,0,0,0,0,0,0]
[null,111,null,null,null,null,null,null,null,null,{"$f":"IF($D116=K$5,$F116,0)","v":0},0,0,0,0,0,0,0,0,0,0,0,0]
[null,112,null,null,null,null,null,null,null,null,0,0,0,0,0,0,0,0,0,0,0,0,0]
[null,113,null,null,null,null,null,null,null,null,0,0,0,0,0,0,0,0,0,0,0,0,0]
[null,114,null,null,null,null,null,null,null,null,0,0,0,0,0,0,0,0,0,0,0,0,0]
[null,115,null,null,null,null,null,null,null,null,0,0,0,0,0,0,0,0,0,0,0,0,0]
[null,116,null,null,null,null,null,null,null,null,0,0,0,0,0,0,0,0,0,0,0,0,0]
[null,117,null,null,null,null,null,null,null,null,0,0,0,0,0,0,0,0,0,0,0,0,0]
[null,118,null,null,null,null,null,null,null,null,0,0,0,0,0,0,0,0,0,0,0,0,0]
[null,119,null,null,null,null,null,null,null,null,0,0,0,0,0,0,0,0,0,0,0,0,0]
[null,120,null,null,null,null,null,null,null,null,0,0,0,0,0,0,0,0,0,0,0,0,0]
[null,121,null,null,null,null,null,null,null,null,{"$f":"IF($D126=K$5,$F126,0)","v":0},0,0,0,0,0,0,0,0,0,0,0,0]
[null,122,null,null,null,null,null,null,null,null,0,0,0,0,0,0,0,0,0,0,0,0,0]
[null,123,null,null,null,null,null,null,null,null,0,0,0,0,0,0,0,0,0,0,0,0,0]
[null,124,null,null,null,null,null,null,null,null,0,0,0,0,0,0,0,0,0,0,0,0,0]
[null,125,null,null,null,null,null,null,null,null,0,0,0,0,0,0,0,0,0,0,0,0,0]
[null,126,null,null,null,null,null,null,null,null,0,0,0,0,0,0,0,0,0,0,0,0,0]
[null,127,null,null,null,null,null,null,null,null,0,0,0,0,0,0,0,0,0,0,0,0,0]
[null,128,null,null,null,null,null,null,null,null,0,0,0,0,0,0,0,0,0,0,0,0,0]
[null,129,null,null,null,null,null,null,null,null,0,0,0,0,0,0,0,0,0,0,0,0,0]
[null,130,null,null,null,null,null,null,null,null,0,0,0,0,0,0,0,0,0,0,0,0,0]
[null,131,null,null,null,null,null,null,null,null,{"$f":"IF($D136=K$5,$F136,0)","v":0},0,0,0,0,0,0,0,0,0,0,0,0]
[null,132,null,null,null,null,null,null,null,null,0,0,0,0,0,0,0,0,0,0,0,0,0]
[null,133,null,null,null,null,null,null,null,null,0,0,0,0,0,0,0,0,0,0,0,0,0]
[null,134,null,null,null,null,null,null,null,null,0,0,0,0,0,0,0,0,0,0,0,0,0]
[null,135,null,null,null,null,null,null,null,null,0,0,0,0,0,0,0,0,0,0,0,0,0]
[null,136,null,null,null,null,null,null,null,null,0,0,0,0,0,0,0,0,0,0,0,0,0]
[null,137,null,null,null,null,null,null,null,null,0,0,0,0,0,0,0,0,0,0,0,0,0]
[null,138,null,null,null,null,null,null,null,null,0,0,0,0,0,0,0,0,0,0,0,0,0]
[null,139,null,null,null,null,null,null,null,null,0,0,0,0,0,0,0,0,0,0,0,0,0]
[null,140,null,null,null,null,null,null,null,null,0,0,0,0,0,0,0,0,0,0,0,0,0]
[null,141,null,null,null,null,null,null,null,null,{"$f":"IF($D146=K$5,$F146,0)","v":0},0,0,0,0,0,0,0,0,0,0,0,0]
[null,142,null,null,null,null,null,null,null,null,0,0,0,0,0,0,0,0,0,0,0,0,0]
[null,143,null,null,null,null,null,null,null,null,0,0,0,0,0,0,0,0,0,0,0,0,0]
[null,144,null,null,null,null,null,null,null,null,0,0,0,0,0,0,0,0,0,0,0,0,0]
[null,145,null,null,null,null,null,null,null,null,0,0,0,0,0,0,0,0,0,0,0,0,0]
[null,146,null,null,null,null,null,null,null,null,0,0,0,0,0,0,0,0,0,0,0,0,0]
[null,147,null,null,null,null,null,null,null,null,0,0,0,0,0,0,0,0,0,0,0,0,0]
[null,148,null,null,null,null,null,null,null,null,0,0,0,0,0,0,0,0,0,0,0,0,0]
[null,149,null,null,null,null,null,null,null,null,0,0,0,0,0,0,0,0,0,0,0,0,0]
[null,150,null,null,null,null,null,null,null,null,0,0,0,0,0,0,0,0,0,0,0,0,0]
[null,151,null,null,null,null,null,null,null,null,{"$f":"IF($D156=K$5,$F156,0)","v":0},0,0,0,0,0,0,0,0,0,0,0,0]
[null,152,null,null,null,null,null,null,null,null,0,0,0,0,0,0,0,0,0,0,0,0,0]
[null,153,null,null,null,null,null,null,null,null,0,0,0,0,0,0,0,0,0,0,0,0,0]
[null,154,null,null,null,null,null,null,null,null,0,0,0,0,0,0,0,0,0,0,0,0,0]
[null,155,null,null,null,null,null,null,null,null,0,0,0,0,0,0,0,0,0,0,0,0,0]
[null,156,null,null,null,null,null,null,null,null,0,0,0,0,0,0,0,0,0,0,0,0,0]
[null,157,null,null,null,null,null,null,null,null,0,0,0,0,0,0,0,0,0,0,0,0,0]
[null,158,null,null,null,null,null,null,null,null,0,0,0,0,0,0,0,0,0,0,0,0,0]
[null,159,null,null,null,null,null,null,null,null,0,0,0,0,0,0,0,0,0,0,0,0,0]
[null,160,null,null,null,null,null,null,null,null,0,0,0,0,0,0,0,0,0,0,0,0,0]
[null,161,null,null,null,null,null,null,null,null,{"$f":"IF($D166=K$5,$F166,0)","v":0},0,0,0,0,0,0,0,0,0,0,0,0]
[null,162,null,null,null,null,null,null,null,null,0,0,0,0,0,0,0,0,0,0,0,0,0]
[null,163,null,null,null,null,null,null,null,null,0,0,0,0,0,0,0,0,0,0,0,0,0]
[null,164,null,null,null,null,null,null,null,null,0,0,0,0,0,0,0,0,0,0,0,0,0]
[null,165,null,null,null,null,null,null,null,null,0,0,0,0,0,0,0,0,0,0,0,0,0]
[null,166,null,null,null,null,null,null,null,null,0,0,0,0,0,0,0,0,0,0,0,0,0]
[null,167,null,null,null,null,null,null,null,null,0,0,0,0,0,0,0,0,0,0,0,0,0]
[null,168,null,null,null,null,null,null,null,null,0,0,0,0,0,0,0,0,0,0,0,0,0]
[null,169,null,null,null,null,null,null,null,null,0,0,0,0,0,0,0,0,0,0,0,0,0]
[null,170,null,null,null,null,null,null,null,null,0,0,0,0,0,0,0,0,0,0,0,0,0]
[null,171,null,null,null,null,null,null,null,null,{"$f":"IF($D176=K$5,$F176,0)","v":0},0,0,0,0,0,0,0,0,0,0,0,0]
[null,172,null,null,null,null,null,null,null,null,0,0,0,0,0,0,0,0,0,0,0,0,0]
[null,173,null,null,null,null,null,null,null,null,0,0,0,0,0,0,0,0,0,0,0,0,0]
[null,174,null,null,null,null,null,null,null,null,0,0,0,0,0,0,0,0,0,0,0,0,0]
[null,175,null,null,null,null,null,null,null,null,0,0,0,0,0,0,0,0,0,0,0,0,0]
[null,176,null,null,null,null,null,null,null,null,0,0,0,0,0,0,0,0,0,0,0,0,0]
[null,177,null,null,null,null,null,null,null,null,0,0,0,0,0,0,0,0,0,0,0,0,0]
[null,178,null,null,null,null,null,null,null,null,0,0,0,0,0,0,0,0,0,0,0,0,0]
[null,179,null,null,null,null,null,null,null,null,0,0,0,0,0,0,0,0,0,0,0,0,0]
[null,180,null,null,null,null,null,null,null,null,0,0,0,0,0,0,0,0,0,0,0,0,0]
[null,181,null,null,null,null,null,null,null,null,{"$f":"IF($D186=K$5,$F186,0)","v":0},0,0,0,0,0,0,0,0,0,0,0,0]
[null,182,null,null,null,null,null,null,null,null,0,0,0,0,0,0,0,0,0,0,0,0,0]
[null,183,null,null,null,null,null,null,null,null,0,0,0,0,0,0,0,0,0,0,0,0,0]
[null,184,null,null,null,null,null,null,null,null,0,0,0,0,0,0,0,0,0,0,0,0,0]
[null,185,null,null,null,null,null,null,null,null,0,0,0,0,0,0,0,0,0,0,0,0,0]
[null,186,null,null,null,null,null,null,null,null,0,0,0,0,0,0,0,0,0,0,0,0,0]
[null,187,null,null,null,null,null,null,null,null,0,0,0,0,0,0,0,0,0,0,0,0,0]
[null,188,null,null,null,null,null,null,null,null,0,0,0,0,0,0,0,0,0,0,0,0,0]
[null,189,null,null,null,null,null,null,null,null,0,0,0,0,0,0,0,0,0,0,0,0,0]
[null,190,null,null,null,null,null,null,null,null,0,0,0,0,0,0,0,0,0,0,0,0,0]
[null,191,null,null,null,null,null,null,null,null,{"$f":"IF($D196=K$5,$F196,0)","v":0},0,0,0,0,0,0,0,0,0,0,0,0]
[null,192,null,null,null,null,null,null,null,null,0,0,0,0,0,0,0,0,0,0,0,0,0]
[null,193,null,null,null,null,null,null,null,null,0,0,0,0,0,0,0,0,0,0,0,0,0]
[null,194,null,null,null,null,null,null,null,null,0,0,0,0,0,0,0,0,0,0,0,0,0]
[null,195,null,null,null,null,null,null,null,null,0,0,0,0,0,0,0,0,0,0,0,0,0]
[null,196,null,null,null,null,null,null,null,null,0,0,0,0,0,0,0,0,0,0,0,0,0]
[null,197,null,null,null,null,null,null,null,null,0,0,0,0,0,0,0,0,0,0,0,0,0]
[null,198,null,null,null,null,null,null,null,null,0,0,0,0,0,0,0,0,0,0,0,0,0]
[null,199,null,null,null,null,null,null,null,null,0,0,0,0,0,0,0,0,0,0,0,0,0]
[null,200,null,null,null,null,null,null,null,null,0,0,0,0,0,0,0,0,0,0,0,0,0]
[null,201,null,null,null,null,null,null,null,null,{"$f":"IF($D206=K$5,$F206,0)","v":0},0,0,0,0,0,0,0,0,0,0,0,0]
[null,202,null,null,null,null,null,null,null,null,0,0,0,0,0,0,0,0,0,0,0,0,0]
[null,203,null,null,null,null,null,null,null,null,0,0,0,0,0,0,0,0,0,0,0,0,0]
[null,204,null,null,null,null,null,null,null,null,0,0,0,0,0,0,0,0,0,0,0,0,0]
[null,205,null,null,null,null,null,null,null,null,0,0,0,0,0,0,0,0,0,0,0,0,0]
[null,206,null,null,null,null,null,null,null,null,0,0,0,0,0,0,0,0,0,0,0,0,0]
[null,207,null,null,null,null,null,null,null,null,0,0,0,0,0,0,0,0,0,0,0,0,0]
[null,208,null,null,null,null,null,null,null,null,0,0,0,0,0,0,0,0,0,0,0,0,0]
[null,209,null,null,null,null,null,null,null,null,0,0,0,0,0,0,0,0,0,0,0,0,0]
[null,210,null,null,null,null,null,null,null,null,0,0,0,0,0,0,0,0,0,0,0,0,0]
[null,211,null,null,null,null,null,null,null,null,{"$f":"IF($D216=K$5,$F216,0)","v":0},0,0,0,0,0,0,0,0,0,0,0,0]
[null,212,null,null,null,null,null,null,null,null,0,0,0,0,0,0,0,0,0,0,0,0,0]
[null,213,null,null,null,null,null,null,null,null,0,0,0,0,0,0,0,0,0,0,0,0,0]
[null,214,null,null,null,null,null,null,null,null,0,0,0,0,0,0,0,0,0,0,0,0,0]
[null,215,null,null,null,null,null,null,null,null,0,0,0,0,0,0,0,0,0,0,0,0,0]
[null,216,null,null,null,null,null,null,null,null,0,0,0,0,0,0,0,0,0,0,0,0,0]
[null,217,null,null,null,null,null,null,null,null,0,0,0,0,0,0,0,0,0,0,0,0,0]
[null,218,null,null,null,null,null,null,null,null,0,0,0,0,0,0,0,0,0,0,0,0,0]
[null,219,null,null,null,null,null,null,null,null,0,0,0,0,0,0,0,0,0,0,0,0,0]
[null,220,null,null,null,null,null,null,null,null,0,0,0,0,0,0,0,0,0,0,0,0,0]
[null,221,null,null,null,null,null,null,null,null,{"$f":"IF($D226=K$5,$F226,0)","v":0},0,0,0,0,0,0,0,0,0,0,0,0]
[null,222,null,null,null,null,null,null,null,null,0,0,0,0,0,0,0,0,0,0,0,0,0]
[null,223,null,null,null,null,null,null,null,null,0,0,0,0,0,0,0,0,0,0,0,0,0]
[null,224,null,null,null,null,null,null,null,null,0,0,0,0,0,0,0,0,0,0,0,0,0]
[null,225,null,null,null,null,null,null,null,null,0,0,0,0,0,0,0,0,0,0,0,0,0]
[null,226,null,null,null,null,null,null,null,null,0,0,0,0,0,0,0,0,0,0,0,0,0]
[null,227,null,null,null,null,null,null,null,null,0,0,0,0,0,0,0,0,0,0,0,0,0]
[null,228,null,null,null,null,null,null,null,null,0,0,0,0,0,0,0,0,0,0,0,0,0]
[null,229,null,null,null,null,null,null,null,null,0,0,0,0,0,0,0,0,0,0,0,0,0]
[null,230,null,null,null,null,null,null,null,null,0,0,0,0,0,0,0,0,0,0,0,0,0]
[null,231,null,null,null,null,null,null,null,null,{"$f":"IF($D236=K$5,$F236,0)","v":0},0,0,0,0,0,0,0,0,0,0,0,0]
[null,232,null,null,null,null,null,null,null,null,0,0,0,0,0,0,0,0,0,0,0,0,0]
[null,233,null,null,null,null,null,null,null,null,0,0,0,0,0,0,0,0,0,0,0,0,0]
[null,234,null,null,null,null,null,null,null,null,0,0,0,0,0,0,0,0,0,0,0,0,0]
[null,235,null,null,null,null,null,null,null,null,0,0,0,0,0,0,0,0,0,0,0,0,0]
[null,236,null,null,null,null,null,null,null,null,0,0,0,0,0,0,0,0,0,0,0,0,0]
[null,237,null,null,null,null,null,null,null,null,0,0,0,0,0,0,0,0,0,0,0,0,0]
[null,238,null,null,null,null,null,null,null,null,0,0,0,0,0,0,0,0,0,0,0,0,0]
[null,239,null,null,null,null,null,null,null,null,0,0,0,0,0,0,0,0,0,0,0,0,0]
[null,240,null,null,null,null,null,null,null,null,0,0,0,0,0,0,0,0,0,0,0,0,0]
[null,241,null,null,null,null,null,null,null,null,{"$f":"IF($D246=K$5,$F246,0)","v":0},0,0,0,0,0,0,0,0,0,0,0,0]
[null,242,null,null,null,null,null,null,null,null,0,0,0,0,0,0,0,0,0,0,0,0,0]
[null,243,null,null,null,null,null,null,null,null,0,0,0,0,0,0,0,0,0,0,0,0,0]
[null,244,null,null,null,null,null,null,null,null,0,0,0,0,0,0,0,0,0,0,0,0,0]
[null,245,null,null,null,null,null,null,null,null,0,0,0,0,0,0,0,0,0,0,0,0,0]
[null,246,null,null,null,null,null,null,null,null,0,0,0,0,0,0,0,0,0,0,0,0,0]
[null,247,null,null,null,null,null,null,null,null,0,0,0,0,0,0,0,0,0,0,0,0,0]
[null,248,null,null,null,null,null,null,null,null,0,0,0,0,0,0,0,0,0,0,0,0,0]
[null,249,null,null,null,null,null,null,null,null,0,0,0,0,0,0,0,0,0,0,0,0,0]
[null,250,null,null,null,null,null,null,null,null,0,0,0,0,0,0,0,0,0,0,0,0,0]
[null,251,null,null,null,null,null,null,null,null,{"$f":"IF($D256=K$5,$F256,0)","v":0},0,0,0,0,0,0,0,0,0,0,0,0]
[null,252,null,null,null,null,null,null,null,null,0,0,0,0,0,0,0,0,0,0,0,0,0]
[null,253,null,null,null,null,null,null,null,null,0,0,0,0,0,0,0,0,0,0,0,0,0]
[null,254,null,null,null,null,null,null,null,null,0,0,0,0,0,0,0,0,0,0,0,0,0]
[null,255,null,null,null,null,null,null,null,null,0,0,0,0,0,0,0,0,0,0,0,0,0]
[null,256,null,null,null,null,null,null,null,null,0,0,0,0,0,0,0,0,0,0,0,0,0]
[null,257,null,null,null,null,null,null,null,null,0,0,0,0,0,0,0,0,0,0,0,0,0]
[null,258,null,null,null,null,null,null,null,null,0,0,0,0,0,0,0,0,0,0,0,0,0]
[null,259,null,null,null,null,null,null,null,null,0,0,0,0,0,0,0,0,0,0,0,0,0]
[null,260,null,null,null,null,null,null,null,null,0,0,0,0,0,0,0,0,0,0,0,0,0]
[null,261,null,null,null,null,null,null,null,null,{"$f":"IF($D266=K$5,$F266,0)","v":0},0,0,0,0,0,0,0,0,0,0,0,0]
[null,262,null,null,null,null,null,null,null,null,0,0,0,0,0,0,0,0,0,0,0,0,0]
[null,263,null,null,null,null,null,null,null,null,0,0,0,0,0,0,0,0,0,0,0,0,0]
[null,264,null,null,null,null,null,null,null,null,0,0,0,0,0,0,0,0,0,0,0,0,0]
[null,265,null,null,null,null,null,null,null,null,0,0,0,0,0,0,0,0,0,0,0,0,0]
[null,266,null,null,null,null,null,null,null,null,0,0,0,0,0,0,0,0,0,0,0,0,0]
[null,267,null,null,null,null,null,null,null,null,0,0,0,0,0,0,0,0,0,0,0,0,0]
[null,268,null,null,null,null,null,null,null,null,0,0,0,0,0,0,0,0,0,0,0,0,0]
[null,269,null,null,null,null,null,null,null,null,0,0,0,0,0,0,0,0,0,0,0,0,0]
[null,270,null,null,null,null,null,null,null,null,0,0,0,0,0,0,0,0,0,0,0,0,0]
[null,271,null,null,null,null,null,null,null,null,{"$f":"IF($D276=K$5,$F276,0)","v":0},0,0,0,0,0,0,0,0,0,0,0,0]
[null,272,null,null,null,null,null,null,null,null,0,0,0,0,0,0,0,0,0,0,0,0,0]
[null,273,null,null,null,null,null,null,null,null,0,0,0,0,0,0,0,0,0,0,0,0,0]
[null,274,null,null,null,null,null,null,null,null,0,0,0,0,0,0,0,0,0,0,0,0,0]
[null,275,null,null,null,null,null,null,null,null,0,0,0,0,0,0,0,0,0,0,0,0,0]
[null,276,null,null,null,null,null,null,null,null,0,0,0,0,0,0,0,0,0,0,0,0,0]
[null,277,null,null,null,null,null,null,null,null,0,0,0,0,0,0,0,0,0,0,0,0,0]
[null,278,null,null,null,null,null,null,null,null,0,0,0,0,0,0,0,0,0,0,0,0,0]
[null,279,null,null,null,null,null,null,null,null,0,0,0,0,0,0,0,0,0,0,0,0,0]
[null,280,null,null,null,null,null,null,null,null,0,0,0,0,0,0,0,0,0,0,0,0,0]
[null,281,null,null,null,null,null,null,null,null,{"$f":"IF($D286=K$5,$F286,0)","v":0},0,0,0,0,0,0,0,0,0,0,0,0]
[null,282,null,null,null,null,null,null,null,null,0,0,0,0,0,0,0,0,0,0,0,0,0]
[null,283,null,null,null,null,null,null,null,null,0,0,0,0,0,0,0,0,0,0,0,0,0]
[null,284,null,null,null,null,null,null,null,null,0,0,0,0,0,0,0,0,0,0,0,0,0]
[null,285,null,null,null,null,null,null,null,null,0,0,0,0,0,0,0,0,0,0,0,0,0]
[null,286,null,null,null,null,null,null,null,null,0,0,0,0,0,0,0,0,0,0,0,0,0]
[null,287,null,null,null,null,null,null,null,null,0,0,0,0,0,0,0,0,0,0,0,0,0]
[null,288,null,null,null,null,null,null,null,null,0,0,0,0,0,0,0,0,0,0,0,0,0]
[null,289,null,null,null,null,null,null,null,null,0,0,0,0,0,0,0,0,0,0,0,0,0]
[null,290,null,null,null,null,null,null,null,null,0,0,0,0,0,0,0,0,0,0,0,0,0]
[null,291,null,null,null,null,null,null,null,null,{"$f":"IF($D296=K$5,$F296,0)","v":0},0,0,0,0,0,0,0,0,0,0,0,0]
[null,292,null,null,null,null,null,null,null,null,0,0,0,0,0,0,0,0,0,0,0,0,0]
[null,293,null,null,null,null,null,null,null,null,0,0,0,0,0,0,0,0,0,0,0,0,0]
[null,294,null,null,null,null,null,null,null,null,0,0,0,0,0,0,0,0,0,0,0,0,0]
[null,295,null,null,null,null,null,null,null,null,0,0,0,0,0,0,0,0,0,0,0,0,0]
[null,296,null,null,null,null,null,null,null,null,0,0,0,0,0,0,0,0,0,0,0,0,0]
[null,297,null,null,null,null,null,null,null,null,0,0,0,0,0,0,0,0,0,0,0,0,0]
[null,298,null,null,null,null,null,null,null,null,0,0,0,0,0,0,0,0,0,0,0,0,0]
[null,299,null,null,null,null,null,null,null,null,0,0,0,0,0,0,0,0,0,0,0,0,0]
[null,300,null,null,null,null,null,null,null,null,0,0,0,0,0,0,0,0,0,0,0,0,0]
[null,null,null,null,null,null,null,null,null,null,{"$f":"SUM(K6:K305)","v":0},{"$f":"SUM(L6:L305)","v":0},0,0,0,0,0,0,0,0,0,0,0]

{"sheet":"19","index":19,"n_rows":306,"n_cols":23,"rows_kept":306,"cut":false,"hidden":false,"merged":[]}
[]
[null,null,{"$f":"menu!B26","v":"NUEVA SECCCION"}]
[]
[null,null,null,null,null,null,null,null,null,"Enero"]
[null,null,"DIA","MES","CONCEPTO","TOTAL",null,null,null,"Febrero","Enero","Febrero","Marzo","Abril","Mayo","Junio","Julio","Agosto","Septiembre","Octubre","Noviembre","Diciembre"]
[null,1,null,null,null,null,null,null,null,"Marzo",{"$f":"IF($D6=K$5,$F6,0)","v":0},0,0,0,0,0,0,0,0,0,0,0,0]
[null,2,null,null,null,null,null,null,null,"Abril",0,0,0,0,0,0,0,0,0,0,0,0,0]
[null,3,null,null,null,null,null,null,null,"Mayo",0,0,0,0,0,0,0,0,0,0,0,0,0]
[null,4,null,null,null,null,null,null,null,"Junio",0,0,0,0,0,0,0,0,0,0,0,0,0]
[null,5,null,null,null,null,null,null,null,"Julio",0,0,0,0,0,0,0,0,0,0,0,0,0]
[null,6,null,null,null,null,null,null,null,"Agosto",0,0,0,0,0,0,0,0,0,0,0,0,0]
[null,7,null,null,null,null,null,null,null,"Septiembre",0,0,0,0,0,0,0,0,0,0,0,0,0]
[null,8,null,null,null,null,null,null,null,"Octubre",0,0,0,0,0,0,0,0,0,0,0,0,0]
[null,9,null,null,null,null,null,null,null,"Noviembre",0,0,0,0,0,0,0,0,0,0,0,0,0]
[null,10,null,null,null,null,null,null,null,"Diciembre",0,0,0,0,0,0,0,0,0,0,0,0,0]
[null,11,null,null,null,null,null,null,null,null,{"$f":"IF($D16=K$5,$F16,0)","v":0},0,0,0,0,0,0,0,0,0,0,0,0]
[null,12,null,null,null,null,null,null,null,null,0,0,0,0,0,0,0,0,0,0,0,0,0]
[null,13,null,null,null,null,null,null,null,null,0,0,0,0,0,0,0,0,0,0,0,0,0]
[null,14,null,null,null,null,null,null,null,null,0,0,0,0,0,0,0,0,0,0,0,0,0]
[null,15,null,null,null,null,null,null,null,null,0,0,0,0,0,0,0,0,0,0,0,0,0]
[null,16,null,null,null,null,null,null,null,null,0,0,0,0,0,0,0,0,0,0,0,0,0]
[null,17,null,null,null,null,null,null,null,null,0,0,0,0,0,0,0,0,0,0,0,0,0]
[null,18,null,null,null,null,null,null,null,null,0,0,0,0,0,0,0,0,0,0,0,0,0]
[null,19,null,null,null,null,null,null,null,null,0,0,0,0,0,0,0,0,0,0,0,0,0]
[null,20,null,null,null,null,null,null,null,null,0,0,0,0,0,0,0,0,0,0,0,0,0]
[null,21,null,null,null,null,null,null,null,null,{"$f":"IF($D26=K$5,$F26,0)","v":0},0,0,0,0,0,0,0,0,0,0,0,0]
[null,22,null,null,null,null,null,null,null,null,0,0,0,0,0,0,0,0,0,0,0,0,0]
[null,23,null,null,null,null,null,null,null,null,0,0,0,0,0,0,0,0,0,0,0,0,0]
[null,24,null,null,null,null,null,null,null,null,0,0,0,0,0,0,0,0,0,0,0,0,0]
[null,25,null,null,null,null,null,null,null,null,0,0,0,0,0,0,0,0,0,0,0,0,0]
[null,26,null,null,null,null,null,null,null,null,0,0,0,0,0,0,0,0,0,0,0,0,0]
[null,27,null,null,null,null,null,null,null,null,0,0,0,0,0,0,0,0,0,0,0,0,0]
[null,28,null,null,null,null,null,null,null,null,0,0,0,0,0,0,0,0,0,0,0,0,0]
[null,29,null,null,null,null,null,null,null,null,0,0,0,0,0,0,0,0,0,0,0,0,0]
[null,30,null,null,null,null,null,null,null,null,0,0,0,0,0,0,0,0,0,0,0,0,0]
[null,31,null,null,null,null,null,null,null,null,{"$f":"IF($D36=K$5,$F36,0)","v":0},0,0,0,0,0,0,0,0,0,0,0,0]
[null,32,null,null,null,null,null,null,null,null,0,0,0,0,0,0,0,0,0,0,0,0,0]
[null,33,null,null,null,null,null,null,null,null,0,0,0,0,0,0,0,0,0,0,0,0,0]
[null,34,null,null,null,null,null,null,null,null,0,0,0,0,0,0,0,0,0,0,0,0,0]
[null,35,null,null,null,null,null,null,null,null,0,0,0,0,0,0,0,0,0,0,0,0,0]
[null,36,null,null,null,null,null,null,null,null,0,0,0,0,0,0,0,0,0,0,0,0,0]
[null,37,null,null,null,null,null,null,null,null,0,0,0,0,0,0,0,0,0,0,0,0,0]
[null,38,null,null,null,null,null,null,null,null,0,0,0,0,0,0,0,0,0,0,0,0,0]
[null,39,null,null,null,null,null,null,null,null,0,0,0,0,0,0,0,0,0,0,0,0,0]
[null,40,null,null,null,null,null,null,null,null,0,0,0,0,0,0,0,0,0,0,0,0,0]
[null,41,null,null,null,null,null,null,null,null,{"$f":"IF($D46=K$5,$F46,0)","v":0},0,0,0,0,0,0,0,0,0,0,0,0]
[null,42,null,null,null,null,null,null,null,null,0,0,0,0,0,0,0,0,0,0,0,0,0]
[null,43,null,null,null,null,null,null,null,null,0,0,0,0,0,0,0,0,0,0,0,0,0]
[null,44,null,null,null,null,null,null,null,null,0,0,0,0,0,0,0,0,0,0,0,0,0]
[null,45,null,null,null,null,null,null,null,null,0,0,0,0,0,0,0,0,0,0,0,0,0]
[null,46,null,null,null,null,null,null,null,null,0,0,0,0,0,0,0,0,0,0,0,0,0]
[null,47,null,null,null,null,null,null,null,null,0,0,0,0,0,0,0,0,0,0,0,0,0]
[null,48,null,null,null,null,null,null,null,null,0,0,0,0,0,0,0,0,0,0,0,0,0]
[null,49,null,null,null,null,null,null,null,null,0,0,0,0,0,0,0,0,0,0,0,0,0]
[null,50,null,null,null,null,null,null,null,null,0,0,0,0,0,0,0,0,0,0,0,0,0]
[null,51,null,null,null,null,null,null,null,null,{"$f":"IF($D56=K$5,$F56,0)","v":0},0,0,0,0,0,0,0,0,0,0,0,0]
[null,52,null,null,null,null,null,null,null,null,0,0,0,0,0,0,0,0,0,0,0,0,0]
[null,53,null,null,null,null,null,null,null,null,0,0,0,0,0,0,0,0,0,0,0,0,0]
[null,54,null,null,null,null,null,null,null,null,0,0,0,0,0,0,0,0,0,0,0,0,0]
[null,55,null,null,null,null,null,null,null,null,0,0,0,0,0,0,0,0,0,0,0,0,0]
[null,56,null,null,null,null,null,null,null,null,0,0,0,0,0,0,0,0,0,0,0,0,0]
[null,57,null,null,null,null,null,null,null,null,0,0,0,0,0,0,0,0,0,0,0,0,0]
[null,58,null,null,null,null,null,null,null,null,0,0,0,0,0,0,0,0,0,0,0,0,0]
[null,59,null,null,null,null,null,null,null,null,0,0,0,0,0,0,0,0,0,0,0,0,0]
[null,60,null,null,null,null,null,null,null,null,0,0,0,0,0,0,0,0,0,0,0,0,0]
[null,61,null,null,null,null,null,null,null,null,{"$f":"IF($D66=K$5,$F66,0)","v":0},0,0,0,0,0,0,0,0,0,0,0,0]
[null,62,null,null,null,null,null,null,null,null,0,0,0,0,0,0,0,0,0,0,0,0,0]
[null,63,null,null,null,null,null,null,null,null,0,0,0,0,0,0,0,0,0,0,0,0,0]
[null,64,null,null,null,null,null,null,null,null,0,0,0,0,0,0,0,0,0,0,0,0,0]
[null,65,null,null,null,null,null,null,null,null,0,0,0,0,0,0,0,0,0,0,0,0,0]
[null,66,null,null,null,null,null,null,null,null,0,0,0,0,0,0,0,0,0,0,0,0,0]
[null,67,null,null,null,null,null,null,null,null,0,0,0,0,0,0,0,0,0,0,0,0,0]
[null,68,null,null,null,null,null,null,null,null,0,0,0,0,0,0,0,0,0,0,0,0,0]
[null,69,null,null,null,null,null,null,null,null,0,0,0,0,0,0,0,0,0,0,0,0,0]
[null,70,null,null,null,null,null,null,null,null,0,0,0,0,0,0,0,0,0,0,0,0,0]
[null,71,null,null,null,null,null,null,null,null,{"$f":"IF($D76=K$5,$F76,0)","v":0},0,0,0,0,0,0,0,0,0,0,0,0]
[null,72,null,null,null,null,null,null,null,null,0,0,0,0,0,0,0,0,0,0,0,0,0]
[null,73,null,null,null,null,null,null,null,null,0,0,0,0,0,0,0,0,0,0,0,0,0]
[null,74,null,null,null,null,null,null,null,null,0,0,0,0,0,0,0,0,0,0,0,0,0]
[null,75,null,null,null,null,null,null,null,null,0,0,0,0,0,0,0,0,0,0,0,0,0]
[null,76,null,null,null,null,null,null,null,null,0,0,0,0,0,0,0,0,0,0,0,0,0]
[null,77,null,null,null,null,null,null,null,null,0,0,0,0,0,0,0,0,0,0,0,0,0]
[null,78,null,null,null,null,null,null,null,null,0,0,0,0,0,0,0,0,0,0,0,0,0]
[null,79,null,null,null,null,null,null,null,null,0,0,0,0,0,0,0,0,0,0,0,0,0]
[null,80,null,null,null,null,null,null,null,null,0,0,0,0,0,0,0,0,0,0,0,0,0]
[null,81,null,null,null,null,null,null,null,null,{"$f":"IF($D86=K$5,$F86,0)","v":0},0,0,0,0,0,0,0,0,0,0,0,0]
[null,82,null,null,null,null,null,null,null,null,0,0,0,0,0,0,0,0,0,0,0,0,0]
[null,83,null,null,null,null,null,null,null,null,0,0,0,0,0,0,0,0,0,0,0,0,0]
[null,84,null,null,null,null,null,null,null,null,0,0,0,0,0,0,0,0,0,0,0,0,0]
[null,85,null,null,null,null,null,null,null,null,0,0,0,0,0,0,0,0,0,0,0,0,0]
[null,86,null,null,null,null,null,null,null,null,0,0,0,0,0,0,0,0,0,0,0,0,0]
[null,87,null,null,null,null,null,null,null,null,0,0,0,0,0,0,0,0,0,0,0,0,0]
[null,88,null,null,null,null,null,null,null,null,0,0,0,0,0,0,0,0,0,0,0,0,0]
[null,89,null,null,null,null,null,null,null,null,0,0,0,0,0,0,0,0,0,0,0,0,0]
[null,90,null,null,null,null,null,null,null,null,0,0,0,0,0,0,0,0,0,0,0,0,0]
[null,91,null,null,null,null,null,null,null,null,{"$f":"IF($D96=K$5,$F96,0)","v":0},0,0,0,0,0,0,0,0,0,0,0,0]
[null,92,null,null,null,null,null,null,null,null,0,0,0,0,0,0,0,0,0,0,0,0,0]
[null,93,null,null,null,null,null,null,null,null,0,0,0,0,0,0,0,0,0,0,0,0,0]
[null,94,null,null,null,null,null,null,null,null,0,0,0,0,0,0,0,0,0,0,0,0,0]
[null,95,null,null,null,null,null,null,null,null,0,0,0,0,0,0,0,0,0,0,0,0,0]
[null,96,null,null,null,null,null,null,null,null,0,0,0,0,0,0,0,0,0,0,0,0,0]
[null,97,null,null,null,null,null,null,null,null,0,0,0,0,0,0,0,0,0,0,0,0,0]
[null,98,null,null,null,null,null,null,null,null,0,0,0,0,0,0,0,0,0,0,0,0,0]
[null,99,null,null,null,null,null,null,null,null,0,0,0,0,0,0,0,0,0,0,0,0,0]
[null,100,null,null,null,null,null,null,null,null,0,0,0,0,0,0,0,0,0,0,0,0,0]
[null,101,null,null,null,null,null,null,null,null,{"$f":"IF($D106=K$5,$F106,0)","v":0},0,0,0,0,0,0,0,0,0,0,0,0]
[null,102,null,null,null,null,null,null,null,null,0,0,0,0,0,0,0,0,0,0,0,0,0]
[null,103,null,null,null,null,null,null,null,null,0,0,0,0,0,0,0,0,0,0,0,0,0]
[null,104,null,null,null,null,null,null,null,null,0,0,0,0,0,0,0,0,0,0,0,0,0]
[null,105,null,null,null,null,null,null,null,null,0,0,0,0,0,0,0,0,0,0,0,0,0]
[null,106,null,null,null,null,null,null,null,null,0,0,0,0,0,0,0,0,0,0,0,0,0]
[null,107,null,null,null,null,null,null,null,null,0,0,0,0,0,0,0,0,0,0,0,0,0]
[null,108,null,null,null,null,null,null,null,null,0,0,0,0,0,0,0,0,0,0,0,0,0]
[null,109,null,null,null,null,null,null,null,null,0,0,0,0,0,0,0,0,0,0,0,0,0]
[null,110,null,null,null,null,null,null,null,null,0,0,0,0,0,0,0,0,0,0,0,0,0]
[null,111,null,null,null,null,null,null,null,null,{"$f":"IF($D116=K$5,$F116,0)","v":0},0,0,0,0,0,0,0,0,0,0,0,0]
[null,112,null,null,null,null,null,null,null,null,0,0,0,0,0,0,0,0,0,0,0,0,0]
[null,113,null,null,null,null,null,null,null,null,0,0,0,0,0,0,0,0,0,0,0,0,0]
[null,114,null,null,null,null,null,null,null,null,0,0,0,0,0,0,0,0,0,0,0,0,0]
[null,115,null,null,null,null,null,null,null,null,0,0,0,0,0,0,0,0,0,0,0,0,0]
[null,116,null,null,null,null,null,null,null,null,0,0,0,0,0,0,0,0,0,0,0,0,0]
[null,117,null,null,null,null,null,null,null,null,0,0,0,0,0,0,0,0,0,0,0,0,0]
[null,118,null,null,null,null,null,null,null,null,0,0,0,0,0,0,0,0,0,0,0,0,0]
[null,119,null,null,null,null,null,null,null,null,0,0,0,0,0,0,0,0,0,0,0,0,0]
[null,120,null,null,null,null,null,null,null,null,0,0,0,0,0,0,0,0,0,0,0,0,0]
[null,121,null,null,null,null,null,null,null,null,{"$f":"IF($D126=K$5,$F126,0)","v":0},0,0,0,0,0,0,0,0,0,0,0,0]
[null,122,null,null,null,null,null,null,null,null,0,0,0,0,0,0,0,0,0,0,0,0,0]
[null,123,null,null,null,null,null,null,null,null,0,0,0,0,0,0,0,0,0,0,0,0,0]
[null,124,null,null,null,null,null,null,null,null,0,0,0,0,0,0,0,0,0,0,0,0,0]
[null,125,null,null,null,null,null,null,null,null,0,0,0,0,0,0,0,0,0,0,0,0,0]
[null,126,null,null,null,null,null,null,null,null,0,0,0,0,0,0,0,0,0,0,0,0,0]
[null,127,null,null,null,null,null,null,null,null,0,0,0,0,0,0,0,0,0,0,0,0,0]
[null,128,null,null,null,null,null,null,null,null,0,0,0,0,0,0,0,0,0,0,0,0,0]
[null,129,null,null,null,null,null,null,null,null,0,0,0,0,0,0,0,0,0,0,0,0,0]
[null,130,null,null,null,null,null,null,null,null,0,0,0,0,0,0,0,0,0,0,0,0,0]
[null,131,null,null,null,null,null,null,null,null,{"$f":"IF($D136=K$5,$F136,0)","v":0},0,0,0,0,0,0,0,0,0,0,0,0]
[null,132,null,null,null,null,null,null,null,null,0,0,0,0,0,0,0,0,0,0,0,0,0]
[null,133,null,null,null,null,null,null,null,null,0,0,0,0,0,0,0,0,0,0,0,0,0]
[null,134,null,null,null,null,null,null,null,null,0,0,0,0,0,0,0,0,0,0,0,0,0]
[null,135,null,null,null,null,null,null,null,null,0,0,0,0,0,0,0,0,0,0,0,0,0]
[null,136,null,null,null,null,null,null,null,null,0,0,0,0,0,0,0,0,0,0,0,0,0]
[null,137,null,null,null,null,null,null,null,null,0,0,0,0,0,0,0,0,0,0,0,0,0]
[null,138,null,null,null,null,null,null,null,null,0,0,0,0,0,0,0,0,0,0,0,0,0]
[null,139,null,null,null,null,null,null,null,null,0,0,0,0,0,0,0,0,0,0,0,0,0]
[null,140,null,null,null,null,null,null,null,null,0,0,0,0,0,0,0,0,0,0,0,0,0]
[null,141,null,null,null,null,null,null,null,null,{"$f":"IF($D146=K$5,$F146,0)","v":0},0,0,0,0,0,0,0,0,0,0,0,0]
[null,142,null,null,null,null,null,null,null,null,0,0,0,0,0,0,0,0,0,0,0,0,0]
[null,143,null,null,null,null,null,null,null,null,0,0,0,0,0,0,0,0,0,0,0,0,0]
[null,144,null,null,null,null,null,null,null,null,0,0,0,0,0,0,0,0,0,0,0,0,0]
[null,145,null,null,null,null,null,null,null,null,0,0,0,0,0,0,0,0,0,0,0,0,0]
[null,146,null,null,null,null,null,null,null,null,0,0,0,0,0,0,0,0,0,0,0,0,0]
[null,147,null,null,null,null,null,null,null,null,0,0,0,0,0,0,0,0,0,0,0,0,0]
[null,148,null,null,null,null,null,null,null,null,0,0,0,0,0,0,0,0,0,0,0,0,0]
[null,149,null,null,null,null,null,null,null,null,0,0,0,0,0,0,0,0,0,0,0,0,0]
[null,150,null,null,null,null,null,null,null,null,0,0,0,0,0,0,0,0,0,0,0,0,0]
[null,151,null,null,null,null,null,null,null,null,{"$f":"IF($D156=K$5,$F156,0)","v":0},0,0,0,0,0,0,0,0,0,0,0,0]
[null,152,null,null,null,null,null,null,null,null,0,0,0,0,0,0,0,0,0,0,0,0,0]
[null,153,null,null,null,null,null,null,null,null,0,0,0,0,0,0,0,0,0,0,0,0,0]
[null,154,null,null,null,null,null,null,null,null,0,0,0,0,0,0,0,0,0,0,0,0,0]
[null,155,null,null,null,null,null,null,null,null,0,0,0,0,0,0,0,0,0,0,0,0,0]
[null,156,null,null,null,null,null,null,null,null,0,0,0,0,0,0,0,0,0,0,0,0,0]
[null,157,null,null,null,null,null,null,null,null,0,0,0,0,0,0,0,0,0,0,0,0,0]
[null,158,null,null,null,null,null,null,null,null,0,0,0,0,0,0,0,0,0,0,0,0,0]
[null,159,null,null,null,null,null,null,null,null,0,0,0,0,0,0,0,0,0,0,0,0,0]
[null,160,null,null,null,null,null,null,null,null,0,0,0,0,0,0,0,0,0,0,0,0,0]
[null,161,null,null,null,null,null,null,null,null,{"$f":"IF($D166=K$5,$F166,0)","v":0},0,0,0,0,0,0,0,0,0,0,0,0]
[null,162,null,null,null,null,null,null,null,null,0,0,0,0,0,0,0,0,0,0,0,0,0]
[null,163,null,null,null,null,null,null,null,null,0,0,0,0,0,0,0,0,0,0,0,0,0]
[null,164,null,null,null,null,null,null,null,null,0,0,0,0,0,0,0,0,0,0,0,0,0]
[null,165,null,null,null,null,null,null,null,null,0,0,0,0,0,0,0,0,0,0,0,0,0]
[null,166,null,null,null,null,null,null,null,null,0,0,0,0,0,0,0,0,0,0,0,0,0]
[null,167,null,null,null,null,null,null,null,null,0,0,0,0,0,0,0,0,0,0,0,0,0]
[null,168,null,null,null,null,null,null,null,null,0,0,0,0,0,0,0,0,0,0,0,0,0]
[null,169,null,null,null,null,null,null,null,null,0,0,0,0,0,0,0,0,0,0,0,0,0]
[null,170,null,null,null,null,null,null,null,null,0,0,0,0,0,0,0,0,0,0,0,0,0]
[null,171,null,null,null,null,null,null,null,null,{"$f":"IF($D176=K$5,$F176,0)","v":0},0,0,0,0,0,0,0,0,0,0,0,0]
[null,172,null,null,null,null,null,null,null,null,0,0,0,0,0,0,0,0,0,0,0,0,0]
[null,173,null,null,null,null,null,null,null,null,0,0,0,0,0,0,0,0,0,0,0,0,0]
[null,174,null,null,null,null,null,null,null,null,0,0,0,0,0,0,0,0,0,0,0,0,0]
[null,175,null,null,null,null,null,null,null,null,0,0,0,0,0,0,0,0,0,0,0,0,0]
[null,176,null,null,null,null,null,null,null,null,0,0,0,0,0,0,0,0,0,0,0,0,0]
[null,177,null,null,null,null,null,null,null,null,0,0,0,0,0,0,0,0,0,0,0,0,0]
[null,178,null,null,null,null,null,null,null,null,0,0,0,0,0,0,0,0,0,0,0,0,0]
[null,179,null,null,null,null,null,null,null,null,0,0,0,0,0,0,0,0,0,0,0,0,0]
[null,180,null,null,null,null,null,null,null,null,0,0,0,0,0,0,0,0,0,0,0,0,0]
[null,181,null,null,null,null,null,null,null,null,{"$f":"IF($D186=K$5,$F186,0)","v":0},0,0,0,0,0,0,0,0,0,0,0,0]
[null,182,null,null,null,null,null,null,null,null,0,0,0,0,0,0,0,0,0,0,0,0,0]
[null,183,null,null,null,null,null,null,null,null,0,0,0,0,0,0,0,0,0,0,0,0,0]
[null,184,null,null,null,null,null,null,null,null,0,0,0,0,0,0,0,0,0,0,0,0,0]
[null,185,null,null,null,null,null,null,null,null,0,0,0,0,0,0,0,0,0,0,0,0,0]
[null,186,null,null,null,null,null,null,null,null,0,0,0,0,0,0,0,0,0,0,0,0,0]
[null,187,null,null,null,null,null,null,null,null,0,0,0,0,0,0,0,0,0,0,0,0,0]
[null,188,null,null,null,null,null,null,null,null,0,0,0,0,0,0,0,0,0,0,0,0,0]
[null,189,null,null,null,null,null,null,null,null,0,0,0,0,0,0,0,0,0,0,0,0,0]
[null,190,null,null,null,null,null,null,null,null,0,0,0,0,0,0,0,0,0,0,0,0,0]
[null,191,null,null,null,null,null,null,null,null,{"$f":"IF($D196=K$5,$F196,0)","v":0},0,0,0,0,0,0,0,0,0,0,0,0]
[null,192,null,null,null,null,null,null,null,null,0,0,0,0,0,0,0,0,0,0,0,0,0]
[null,193,null,null,null,null,null,null,null,null,0,0,0,0,0,0,0,0,0,0,0,0,0]
[null,194,null,null,null,null,null,null,null,null,0,0,0,0,0,0,0,0,0,0,0,0,0]
[null,195,null,null,null,null,null,null,null,null,0,0,0,0,0,0,0,0,0,0,0,0,0]
[null,196,null,null,null,null,null,null,null,null,0,0,0,0,0,0,0,0,0,0,0,0,0]
[null,197,null,null,null,null,null,null,null,null,0,0,0,0,0,0,0,0,0,0,0,0,0]
[null,198,null,null,null,null,null,null,null,null,0,0,0,0,0,0,0,0,0,0,0,0,0]
[null,199,null,null,null,null,null,null,null,null,0,0,0,0,0,0,0,0,0,0,0,0,0]
[null,200,null,null,null,null,null,null,null,null,0,0,0,0,0,0,0,0,0,0,0,0,0]
[null,201,null,null,null,null,null,null,null,null,{"$f":"IF($D206=K$5,$F206,0)","v":0},0,0,0,0,0,0,0,0,0,0,0,0]
[null,202,null,null,null,null,null,null,null,null,0,0,0,0,0,0,0,0,0,0,0,0,0]
[null,203,null,null,null,null,null,null,null,null,0,0,0,0,0,0,0,0,0,0,0,0,0]
[null,204,null,null,null,null,null,null,null,null,0,0,0,0,0,0,0,0,0,0,0,0,0]
[null,205,null,null,null,null,null,null,null,null,0,0,0,0,0,0,0,0,0,0,0,0,0]
[null,206,null,null,null,null,null,null,null,null,0,0,0,0,0,0,0,0,0,0,0,0,0]
[null,207,null,null,null,null,null,null,null,null,0,0,0,0,0,0,0,0,0,0,0,0,0]
[null,208,null,null,null,null,null,null,null,null,0,0,0,0,0,0,0,0,0,0,0,0,0]
[null,209,null,null,null,null,null,null,null,null,0,0,0,0,0,0,0,0,0,0,0,0,0]
[null,210,null,null,null,null,null,null,null,null,0,0,0,0,0,0,0,0,0,0,0,0,0]
[null,211,null,null,null,null,null,null,null,null,{"$f":"IF($D216=K$5,$F216,0)","v":0},0,0,0,0,0,0,0,0,0,0,0,0]
[null,212,null,null,null,null,null,null,null,null,0,0,0,0,0,0,0,0,0,0,0,0,0]
[null,213,null,null,null,null,null,null,null,null,0,0,0,0,0,0,0,0,0,0,0,0,0]
[null,214,null,null,null,null,null,null,null,null,0,0,0,0,0,0,0,0,0,0,0,0,0]
[null,215,null,null,null,null,null,null,null,null,0,0,0,0,0,0,0,0,0,0,0,0,0]
[null,216,null,null,null,null,null,null,null,null,0,0,0,0,0,0,0,0,0,0,0,0,0]
[null,217,null,null,null,null,null,null,null,null,0,0,0,0,0,0,0,0,0,0,0,0,0]
[null,218,null,null,null,null,null,null,null,null,0,0,0,0,0,0,0,0,0,0,0,0,0]
[null,219,null,null,null,null,null,null,null,null,0,0,0,0,0,0,0,0,0,0,0,0,0]
[null,220,null,null,null,null,null,null,null,null,0,0,0,0,0,0,0,0,0,0,0,0,0]
[null,221,null,null,null,null,null,null,null,null,{"$f":"IF($D226=K$5,$F226,0)","v":0},0,0,0,0,0,0,0,0,0,0,0,0]
[null,222,null,null,null,null,null,null,null,null,0,0,0,0,0,0,0,0,0,0,0,0,0]
[null,223,null,null,null,null,null,null,null,null,0,0,0,0,0,0,0,0,0,0,0,0,0]
[null,224,null,null,null,null,null,null,null,null,0,0,0,0,0,0,0,0,0,0,0,0,0]
[null,225,null,null,null,null,null,null,null,null,0,0,0,0,0,0,0,0,0,0,0,0,0]
[null,226,null,null,null,null,null,null,null,null,0,0,0,0,0,0,0,0,0,0,0,0,0]
[null,227,null,null,null,null,null,null,null,null,0,0,0,0,0,0,0,0,0,0,0,0,0]
[null,228,null,null,null,null,null,null,null,null,0,0,0,0,0,0,0,0,0,0,0,0,0]
[null,229,null,null,null,null,null,null,null,null,0,0,0,0,0,0,0,0,0,0,0,0,0]
[null,230,null,null,null,null,null,null,null,null,0,0,0,0,0,0,0,0,0,0,0,0,0]
[null,231,null,null,null,null,null,null,null,null,{"$f":"IF($D236=K$5,$F236,0)","v":0},0,0,0,0,0,0,0,0,0,0,0,0]
[null,232,null,null,null,null,null,null,null,null,0,0,0,0,0,0,0,0,0,0,0,0,0]
[null,233,null,null,null,null,null,null,null,null,0,0,0,0,0,0,0,0,0,0,0,0,0]
[null,234,null,null,null,null,null,null,null,null,0,0,0,0,0,0,0,0,0,0,0,0,0]
[null,235,null,null,null,null,null,null,null,null,0,0,0,0,0,0,0,0,0,0,0,0,0]
[null,236,null,null,null,null,null,null,null,null,0,0,0,0,0,0,0,0,0,0,0,0,0]
[null,237,null,null,null,null,null,null,null,null,0,0,0,0,0,0,0,0,0,0,0,0,0]
[null,238,null,null,null,null,null,null,null,null,0,0,0,0,0,0,0,0,0,0,0,0,0]
[null,239,null,null,null,null,null,null,null,null,0,0,0,0,0,0,0,0,0,0,0,0,0]
[null,240,null,null,null,null,null,null,null,null,0,0,0,0,0,0,0,0,0,0,0,0,0]
[null,241,null,null,null,null,null,null,null,null,{"$f":"IF($D246=K$5,$F246,0)","v":0},0,0,0,0,0,0,0,0,0,0,0,0]
[null,242,null,null,null,null,null,null,null,null,0,0,0,0,0,0,0,0,0,0,0,0,0]
[null,243,null,null,null,null,null,null,null,null,0,0,0,0,0,0,0,0,0,0,0,0,0]
[null,244,null,null,null,null,null,null,null,null,0,0,0,0,0,0,0,0,0,0,0,0,0]
[null,245,null,null,null,null,null,null,null,null,0,0,0,0,0,0,0,0,0,0,0,0,0]
[null,246,null,null,null,null,null,null,null,null,0,0,0,0,0,0,0,0,0,0,0,0,0]
[null,247,null,null,null,null,null,null,null,null,0,0,0,0,0,0,0,0,0,0,0,0,0]
[null,248,null,null,null,null,null,null,null,null,0,0,0,0,0,0,0,0,0,0,0,0,0]
[null,249,null,null,null,null,null,null,null,null,0,0,0,0,0,0,0,0,0,0,0,0,0]
[null,250,null,null,null,null,null,null,null,null,0,0,0,0,0,0,0,0,0,0,0,0,0]
[null,251,null,null,null,null,null,null,null,null,{"$f":"IF($D256=K$5,$F256,0)","v":0},0,0,0,0,0,0,0,0,0,0,0,0]
[null,252,null,null,null,null,null,null,null,null,0,0,0,0,0,0,0,0,0,0,0,0,0]
[null,253,null,null,null,null,null,null,null,null,0,0,0,0,0,0,0,0,0,0,0,0,0]
[null,254,null,null,null,null,null,null,null,null,0,0,0,0,0,0,0,0,0,0,0,0,0]
[null,255,null,null,null,null,null,null,null,null,0,0,0,0,0,0,0,0,0,0,0,0,0]
[null,256,null,null,null,null,null,null,null,null,0,0,0,0,0,0,0,0,0,0,0,0,0]
[null,257,null,null,null,null,null,null,null,null,0,0,0,0,0,0,0,0,0,0,0,0,0]
[null,258,null,null,null,null,null,null,null,null,0,0,0,0,0,0,0,0,0,0,0,0,0]
[null,259,null,null,null,null,null,null,null,null,0,0,0,0,0,0,0,0,0,0,0,0,0]
[null,260,null,null,null,null,null,null,null,null,0,0,0,0,0,0,0,0,0,0,0,0,0]
[null,261,null,null,null,null,null,null,null,null,{"$f":"IF($D266=K$5,$F266,0)","v":0},0,0,0,0,0,0,0,0,0,0,0,0]
[null,262,null,null,null,null,null,null,null,null,0,0,0,0,0,0,0,0,0,0,0,0,0]
[null,263,null,null,null,null,null,null,null,null,0,0,0,0,0,0,0,0,0,0,0,0,0]
[null,264,null,null,null,null,null,null,null,null,0,0,0,0,0,0,0,0,0,0,0,0,0]
[null,265,null,null,null,null,null,null,null,null,0,0,0,0,0,0,0,0,0,0,0,0,0]
[null,266,null,null,null,null,null,null,null,null,0,0,0,0,0,0,0,0,0,0,0,0,0]
[null,267,null,null,null,null,null,null,null,null,0,0,0,0,0,0,0,0,0,0,0,0,0]
[null,268,null,null,null,null,null,null,null,null,0,0,0,0,0,0,0,0,0,0,0,0,0]
[null,269,null,null,null,null,null,null,null,null,0,0,0,0,0,0,0,0,0,0,0,0,0]
[null,270,null,null,null,null,null,null,null,null,0,0,0,0,0,0,0,0,0,0,0,0,0]
[null,271,null,null,null,null,null,null,null,null,{"$f":"IF($D276=K$5,$F276,0)","v":0},0,0,0,0,0,0,0,0,0,0,0,0]
[null,272,null,null,null,null,null,null,null,null,0,0,0,0,0,0,0,0,0,0,0,0,0]
[null,273,null,null,null,null,null,null,null,null,0,0,0,0,0,0,0,0,0,0,0,0,0]
[null,274,null,null,null,null,null,null,null,null,0,0,0,0,0,0,0,0,0,0,0,0,0]
[null,275,null,null,null,null,null,null,null,null,0,0,0,0,0,0,0,0,0,0,0,0,0]
[null,276,null,null,null,null,null,null,null,null,0,0,0,0,0,0,0,0,0,0,0,0,0]
[null,277,null,null,null,null,null,null,null,null,0,0,0,0,0,0,0,0,0,0,0,0,0]
[null,278,null,null,null,null,null,null,null,null,0,0,0,0,0,0,0,0,0,0,0,0,0]
[null,279,null,null,null,null,null,null,null,null,0,0,0,0,0,0,0,0,0,0,0,0,0]
[null,280,null,null,null,null,null,null,null,null,0,0,0,0,0,0,0,0,0,0,0,0,0]
[null,281,null,null,null,null,null,null,null,null,{"$f":"IF($D286=K$5,$F286,0)","v":0},0,0,0,0,0,0,0,0,0,0,0,0]
[null,282,null,null,null,null,null,null,null,null,0,0,0,0,0,0,0,0,0,0,0,0,0]
[null,283,null,null,null,null,null,null,null,null,0,0,0,0,0,0,0,0,0,0,0,0,0]
[null,284,null,null,null,null,null,null,null,null,0,0,0,0,0,0,0,0,0,0,0,0,0]
[null,285,null,null,null,null,null,null,null,null,0,0,0,0,0,0,0,0,0,0,0,0,0]
[null,286,null,null,null,null,null,null,null,null,0,0,0,0,0,0,0,0,0,0,0,0,0]
[null,287,null,null,null,null,null,null,null,null,0,0,0,0,0,0,0,0,0,0,0,0,0]
[null,288,null,null,null,null,null,null,null,null,0,0,0,0,0,0,0,0,0,0,0,0,0]
[null,289,null,null,null,null,null,null,null,null,0,0,0,0,0,0,0,0,0,0,0,0,0]
[null,290,null,null,null,null,null,null,null,null,0,0,0,0,0,0,0,0,0,0,0,0,0]
[null,291,null,null,null,null,null,null,null,null,{"$f":"IF($D296=K$5,$F296,0)","v":0},0,0,0,0,0,0,0,0,0,0,0,0]
[null,292,null,null,null,null,null,null,null,null,0,0,0,0,0,0,0,0,0,0,0,0,0]
[null,293,null,null,null,null,null,null,null,null,0,0,0,0,0,0,0,0,0,0,0,0,0]
[null,294,null,null,null,null,null,null,null,null,0,0,0,0,0,0,0,0,0,0,0,0,0]
[null,295,null,null,null,null,null,null,null,null,0,0,0,0,0,0,0,0,0,0,0,0,0]
[null,296,null,null,null,null,null,null,null,null,0,0,0,0,0,0,0,0,0,0,0,0,0]
[null,297,null,null,null,null,null,null,null,null,0,0,0,0,0,0,0,0,0,0,0,0,0]
[null,298,null,null,null,null,null,null,null,null,0,0,0,0,0,0,0,0,0,0,0,0,0]
[null,299,null,null,null,null,null,null,null,null,0,0,0,0,0,0,0,0,0,0,0,0,0]
[null,300,null,null,null,null,null,null,null,null,0,0,0,0,0,0,0,0,0,0,0,0,0]
[null,null,null,null,null,null,null,null,null,null,{"$f":"SUM(K6:K305)","v":0},{"$f":"SUM(L6:L305)","v":0},0,0,0,0,0,0,0,0,0,0,0]

{"sheet":"20","index":20,"n_rows":306,"n_cols":23,"rows_kept":306,"cut":false,"hidden":false,"merged":[]}
[]
[null,null,{"$f":"menu!B27","v":"NUEVA SECCCION"}]
[]
[null,null,null,null,null,null,null,null,null,"Enero"]
[null,null,"DIA","MES","CONCEPTO","TOTAL",null,null,null,"Febrero","Enero","Febrero","Marzo","Abril","Mayo","Junio","Julio","Agosto","Septiembre","Octubre","Noviembre","Diciembre"]
[null,1,null,null,null,null,null,null,null,"Marzo",{"$f":"IF($D6=K$5,$F6,0)","v":0},0,0,0,0,0,0,0,0,0,0,0,0]
[null,2,null,null,null,null,null,null,null,"Abril",0,0,0,0,0,0,0,0,0,0,0,0,0]
[null,3,null,null,null,null,null,null,null,"Mayo",0,0,0,0,0,0,0,0,0,0,0,0,0]
[null,4,null,null,null,null,null,null,null,"Junio",0,0,0,0,0,0,0,0,0,0,0,0,0]
[null,5,null,null,null,null,null,null,null,"Julio",0,0,0,0,0,0,0,0,0,0,0,0,0]
[null,6,null,null,null,null,null,null,null,"Agosto",0,0,0,0,0,0,0,0,0,0,0,0,0]
[null,7,null,null,null,null,null,null,null,"Septiembre",0,0,0,0,0,0,0,0,0,0,0,0,0]
[null,8,null,null,null,null,null,null,null,"Octubre",0,0,0,0,0,0,0,0,0,0,0,0,0]
[null,9,null,null,null,null,null,null,null,"Noviembre",0,0,0,0,0,0,0,0,0,0,0,0,0]
[null,10,null,null,null,null,null,null,null,"Diciembre",0,0,0,0,0,0,0,0,0,0,0,0,0]
[null,11,null,null,null,null,null,null,null,null,{"$f":"IF($D16=K$5,$F16,0)","v":0},0,0,0,0,0,0,0,0,0,0,0,0]
[null,12,null,null,null,null,null,null,null,null,0,0,0,0,0,0,0,0,0,0,0,0,0]
[null,13,null,null,null,null,null,null,null,null,0,0,0,0,0,0,0,0,0,0,0,0,0]
[null,14,null,null,null,null,null,null,null,null,0,0,0,0,0,0,0,0,0,0,0,0,0]
[null,15,null,null,null,null,null,null,null,null,0,0,0,0,0,0,0,0,0,0,0,0,0]
[null,16,null,null,null,null,null,null,null,null,0,0,0,0,0,0,0,0,0,0,0,0,0]
[null,17,null,null,null,null,null,null,null,null,0,0,0,0,0,0,0,0,0,0,0,0,0]
[null,18,null,null,null,null,null,null,null,null,0,0,0,0,0,0,0,0,0,0,0,0,0]
[null,19,null,null,null,null,null,null,null,null,0,0,0,0,0,0,0,0,0,0,0,0,0]
[null,20,null,null,null,null,null,null,null,null,0,0,0,0,0,0,0,0,0,0,0,0,0]
[null,21,null,null,null,null,null,null,null,null,{"$f":"IF($D26=K$5,$F26,0)","v":0},0,0,0,0,0,0,0,0,0,0,0,0]
[null,22,null,null,null,null,null,null,null,null,0,0,0,0,0,0,0,0,0,0,0,0,0]
[null,23,null,null,null,null,null,null,null,null,0,0,0,0,0,0,0,0,0,0,0,0,0]
[null,24,null,null,null,null,null,null,null,null,0,0,0,0,0,0,0,0,0,0,0,0,0]
[null,25,null,null,null,null,null,null,null,null,0,0,0,0,0,0,0,0,0,0,0,0,0]
[null,26,null,null,null,null,null,null,null,null,0,0,0,0,0,0,0,0,0,0,0,0,0]
[null,27,null,null,null,null,null,null,null,null,0,0,0,0,0,0,0,0,0,0,0,0,0]
[null,28,null,null,null,null,null,null,null,null,0,0,0,0,0,0,0,0,0,0,0,0,0]
[null,29,null,null,null,null,null,null,null,null,0,0,0,0,0,0,0,0,0,0,0,0,0]
[null,30,null,null,null,null,null,null,null,null,0,0,0,0,0,0,0,0,0,0,0,0,0]
[null,31,null,null,null,null,null,null,null,null,{"$f":"IF($D36=K$5,$F36,0)","v":0},0,0,0,0,0,0,0,0,0,0,0,0]
[null,32,null,null,null,null,null,null,null,null,0,0,0,0,0,0,0,0,0,0,0,0,0]
[null,33,null,null,null,null,null,null,null,null,0,0,0,0,0,0,0,0,0,0,0,0,0]
[null,34,null,null,null,null,null,null,null,null,0,0,0,0,0,0,0,0,0,0,0,0,0]
[null,35,null,null,null,null,null,null,null,null,0,0,0,0,0,0,0,0,0,0,0,0,0]
[null,36,null,null,null,null,null,null,null,null,0,0,0,0,0,0,0,0,0,0,0,0,0]
[null,37,null,null,null,null,null,null,null,null,0,0,0,0,0,0,0,0,0,0,0,0,0]
[null,38,null,null,null,null,null,null,null,null,0,0,0,0,0,0,0,0,0,0,0,0,0]
[null,39,null,null,null,null,null,null,null,null,0,0,0,0,0,0,0,0,0,0,0,0,0]
[null,40,null,null,null,null,null,null,null,null,0,0,0,0,0,0,0,0,0,0,0,0,0]
[null,41,null,null,null,null,null,null,null,null,{"$f":"IF($D46=K$5,$F46,0)","v":0},0,0,0,0,0,0,0,0,0,0,0,0]
[null,42,null,null,null,null,null,null,null,null,0,0,0,0,0,0,0,0,0,0,0,0,0]
[null,43,null,null,null,null,null,null,null,null,0,0,0,0,0,0,0,0,0,0,0,0,0]
[null,44,null,null,null,null,null,null,null,null,0,0,0,0,0,0,0,0,0,0,0,0,0]
[null,45,null,null,null,null,null,null,null,null,0,0,0,0,0,0,0,0,0,0,0,0,0]
[null,46,null,null,null,null,null,null,null,null,0,0,0,0,0,0,0,0,0,0,0,0,0]
[null,47,null,null,null,null,null,null,null,null,0,0,0,0,0,0,0,0,0,0,0,0,0]
[null,48,null,null,null,null,null,null,null,null,0,0,0,0,0,0,0,0,0,0,0,0,0]
[null,49,null,null,null,null,null,null,null,null,0,0,0,0,0,0,0,0,0,0,0,0,0]
[null,50,null,null,null,null,null,null,null,null,0,0,0,0,0,0,0,0,0,0,0,0,0]
[null,51,null,null,null,null,null,null,null,null,{"$f":"IF($D56=K$5,$F56,0)","v":0},0,0,0,0,0,0,0,0,0,0,0,0]
[null,52,null,null,null,null,null,null,null,null,0,0,0,0,0,0,0,0,0,0,0,0,0]
[null,53,null,null,null,null,null,null,null,null,0,0,0,0,0,0,0,0,0,0,0,0,0]
[null,54,null,null,null,null,null,null,null,null,0,0,0,0,0,0,0,0,0,0,0,0,0]
[null,55,null,null,null,null,null,null,null,null,0,0,0,0,0,0,0,0,0,0,0,0,0]
[null,56,null,null,null,null,null,null,null,null,0,0,0,0,0,0,0,0,0,0,0,0,0]
[null,57,null,null,null,null,null,null,null,null,0,0,0,0,0,0,0,0,0,0,0,0,0]
[null,58,null,null,null,null,null,null,null,null,0,0,0,0,0,0,0,0,0,0,0,0,0]
[null,59,null,null,null,null,null,null,null,null,0,0,0,0,0,0,0,0,0,0,0,0,0]
[null,60,null,null,null,null,null,null,null,null,0,0,0,0,0,0,0,0,0,0,0,0,0]
[null,61,null,null,null,null,null,null,null,null,{"$f":"IF($D66=K$5,$F66,0)","v":0},0,0,0,0,0,0,0,0,0,0,0,0]
[null,62,null,null,null,null,null,null,null,null,0,0,0,0,0,0,0,0,0,0,0,0,0]
[null,63,null,null,null,null,null,null,null,null,0,0,0,0,0,0,0,0,0,0,0,0,0]
[null,64,null,null,null,null,null,null,null,null,0,0,0,0,0,0,0,0,0,0,0,0,0]
[null,65,null,null,null,null,null,null,null,null,0,0,0,0,0,0,0,0,0,0,0,0,0]
[null,66,null,null,null,null,null,null,null,null,0,0,0,0,0,0,0,0,0,0,0,0,0]
[null,67,null,null,null,null,null,null,null,null,0,0,0,0,0,0,0,0,0,0,0,0,0]
[null,68,null,null,null,null,null,null,null,null,0,0,0,0,0,0,0,0,0,0,0,0,0]
[null,69,null,null,null,null,null,null,null,null,0,0,0,0,0,0,0,0,0,0,0,0,0]
[null,70,null,null,null,null,null,null,null,null,0,0,0,0,0,0,0,0,0,0,0,0,0]
[null,71,null,null,null,null,null,null,null,null,{"$f":"IF($D76=K$5,$F76,0)","v":0},0,0,0,0,0,0,0,0,0,0,0,0]
[null,72,null,null,null,null,null,null,null,null,0,0,0,0,0,0,0,0,0,0,0,0,0]
[null,73,null,null,null,null,null,null,null,null,0,0,0,0,0,0,0,0,0,0,0,0,0]
[null,74,null,null,null,null,null,null,null,null,0,0,0,0,0,0,0,0,0,0,0,0,0]
[null,75,null,null,null,null,null,null,null,null,0,0,0,0,0,0,0,0,0,0,0,0,0]
[null,76,null,null,null,null,null,null,null,null,0,0,0,0,0,0,0,0,0,0,0,0,0]
[null,77,null,null,null,null,null,null,null,null,0,0,0,0,0,0,0,0,0,0,0,0,0]
[null,78,null,null,null,null,null,null,null,null,0,0,0,0,0,0,0,0,0,0,0,0,0]
[null,79,null,null,null,null,null,null,null,null,0,0,0,0,0,0,0,0,0,0,0,0,0]
[null,80,null,null,null,null,null,null,null,null,0,0,0,0,0,0,0,0,0,0,0,0,0]
[null,81,null,null,null,null,null,null,null,null,{"$f":"IF($D86=K$5,$F86,0)","v":0},0,0,0,0,0,0,0,0,0,0,0,0]
[null,82,null,null,null,null,null,null,null,null,0,0,0,0,0,0,0,0,0,0,0,0,0]
[null,83,null,null,null,null,null,null,null,null,0,0,0,0,0,0,0,0,0,0,0,0,0]
[null,84,null,null,null,null,null,null,null,null,0,0,0,0,0,0,0,0,0,0,0,0,0]
[null,85,null,null,null,null,null,null,null,null,0,0,0,0,0,0,0,0,0,0,0,0,0]
[null,86,null,null,null,null,null,null,null,null,0,0,0,0,0,0,0,0,0,0,0,0,0]
[null,87,null,null,null,null,null,null,null,null,0,0,0,0,0,0,0,0,0,0,0,0,0]
[null,88,null,null,null,null,null,null,null,null,0,0,0,0,0,0,0,0,0,0,0,0,0]
[null,89,null,null,null,null,null,null,null,null,0,0,0,0,0,0,0,0,0,0,0,0,0]
[null,90,null,null,null,null,null,null,null,null,0,0,0,0,0,0,0,0,0,0,0,0,0]
[null,91,null,null,null,null,null,null,null,null,{"$f":"IF($D96=K$5,$F96,0)","v":0},0,0,0,0,0,0,0,0,0,0,0,0]
[null,92,null,null,null,null,null,null,null,null,0,0,0,0,0,0,0,0,0,0,0,0,0]
[null,93,null,null,null,null,null,null,null,null,0,0,0,0,0,0,0,0,0,0,0,0,0]
[null,94,null,null,null,null,null,null,null,null,0,0,0,0,0,0,0,0,0,0,0,0,0]
[null,95,null,null,null,null,null,null,null,null,0,0,0,0,0,0,0,0,0,0,0,0,0]
[null,96,null,null,null,null,null,null,null,null,0,0,0,0,0,0,0,0,0,0,0,0,0]
[null,97,null,null,null,null,null,null,null,null,0,0,0,0,0,0,0,0,0,0,0,0,0]
[null,98,null,null,null,null,null,null,null,null,0,0,0,0,0,0,0,0,0,0,0,0,0]
[null,99,null,null,null,null,null,null,null,null,0,0,0,0,0,0,0,0,0,0,0,0,0]
[null,100,null,null,null,null,null,null,null,null,0,0,0,0,0,0,0,0,0,0,0,0,0]
[null,101,null,null,null,null,null,null,null,null,{"$f":"IF($D106=K$5,$F106,0)","v":0},0,0,0,0,0,0,0,0,0,0,0,0]
[null,102,null,null,null,null,null,null,null,null,0,0,0,0,0,0,0,0,0,0,0,0,0]
[null,103,null,null,null,null,null,null,null,null,0,0,0,0,0,0,0,0,0,0,0,0,0]
[null,104,null,null,null,null,null,null,null,null,0,0,0,0,0,0,0,0,0,0,0,0,0]
[null,105,null,null,null,null,null,null,null,null,0,0,0,0,0,0,0,0,0,0,0,0,0]
[null,106,null,null,null,null,null,null,null,null,0,0,0,0,0,0,0,0,0,0,0,0,0]
[null,107,null,null,null,null,null,null,null,null,0,0,0,0,0,0,0,0,0,0,0,0,0]
[null,108,null,null,null,null,null,null,null,null,0,0,0,0,0,0,0,0,0,0,0,0,0]
[null,109,null,null,null,null,null,null,null,null,0,0,0,0,0,0,0,0,0,0,0,0,0]
[null,110,null,null,null,null,null,null,null,null,0,0,0,0,0,0,0,0,0,0,0,0,0]
[null,111,null,null,null,null,null,null,null,null,{"$f":"IF($D116=K$5,$F116,0)","v":0},0,0,0,0,0,0,0,0,0,0,0,0]
[null,112,null,null,null,null,null,null,null,null,0,0,0,0,0,0,0,0,0,0,0,0,0]
[null,113,null,null,null,null,null,null,null,null,0,0,0,0,0,0,0,0,0,0,0,0,0]
[null,114,null,null,null,null,null,null,null,null,0,0,0,0,0,0,0,0,0,0,0,0,0]
[null,115,null,null,null,null,null,null,null,null,0,0,0,0,0,0,0,0,0,0,0,0,0]
[null,116,null,null,null,null,null,null,null,null,0,0,0,0,0,0,0,0,0,0,0,0,0]
[null,117,null,null,null,null,null,null,null,null,0,0,0,0,0,0,0,0,0,0,0,0,0]
[null,118,null,null,null,null,null,null,null,null,0,0,0,0,0,0,0,0,0,0,0,0,0]
[null,119,null,null,null,null,null,null,null,null,0,0,0,0,0,0,0,0,0,0,0,0,0]
[null,120,null,null,null,null,null,null,null,null,0,0,0,0,0,0,0,0,0,0,0,0,0]
[null,121,null,null,null,null,null,null,null,null,{"$f":"IF($D126=K$5,$F126,0)","v":0},0,0,0,0,0,0,0,0,0,0,0,0]
[null,122,null,null,null,null,null,null,null,null,0,0,0,0,0,0,0,0,0,0,0,0,0]
[null,123,null,null,null,null,null,null,null,null,0,0,0,0,0,0,0,0,0,0,0,0,0]
[null,124,null,null,null,null,null,null,null,null,0,0,0,0,0,0,0,0,0,0,0,0,0]
[null,125,null,null,null,null,null,null,null,null,0,0,0,0,0,0,0,0,0,0,0,0,0]
[null,126,null,null,null,null,null,null,null,null,0,0,0,0,0,0,0,0,0,0,0,0,0]
[null,127,null,null,null,null,null,null,null,null,0,0,0,0,0,0,0,0,0,0,0,0,0]
[null,128,null,null,null,null,null,null,null,null,0,0,0,0,0,0,0,0,0,0,0,0,0]
[null,129,null,null,null,null,null,null,null,null,0,0,0,0,0,0,0,0,0,0,0,0,0]
[null,130,null,null,null,null,null,null,null,null,0,0,0,0,0,0,0,0,0,0,0,0,0]
[null,131,null,null,null,null,null,null,null,null,{"$f":"IF($D136=K$5,$F136,0)","v":0},0,0,0,0,0,0,0,0,0,0,0,0]
[null,132,null,null,null,null,null,null,null,null,0,0,0,0,0,0,0,0,0,0,0,0,0]
[null,133,null,null,null,null,null,null,null,null,0,0,0,0,0,0,0,0,0,0,0,0,0]
[null,134,null,null,null,null,null,null,null,null,0,0,0,0,0,0,0,0,0,0,0,0,0]
[null,135,null,null,null,null,null,null,null,null,0,0,0,0,0,0,0,0,0,0,0,0,0]
[null,136,null,null,null,null,null,null,null,null,0,0,0,0,0,0,0,0,0,0,0,0,0]
[null,137,null,null,null,null,null,null,null,null,0,0,0,0,0,0,0,0,0,0,0,0,0]
[null,138,null,null,null,null,null,null,null,null,0,0,0,0,0,0,0,0,0,0,0,0,0]
[null,139,null,null,null,null,null,null,null,null,0,0,0,0,0,0,0,0,0,0,0,0,0]
[null,140,null,null,null,null,null,null,null,null,0,0,0,0,0,0,0,0,0,0,0,0,0]
[null,141,null,null,null,null,null,null,null,null,{"$f":"IF($D146=K$5,$F146,0)","v":0},0,0,0,0,0,0,0,0,0,0,0,0]
[null,142,null,null,null,null,null,null,null,null,0,0,0,0,0,0,0,0,0,0,0,0,0]
[null,143,null,null,null,null,null,null,null,null,0,0,0,0,0,0,0,0,0,0,0,0,0]
[null,144,null,null,null,null,null,null,null,null,0,0,0,0,0,0,0,0,0,0,0,0,0]
[null,145,null,null,null,null,null,null,null,null,0,0,0,0,0,0,0,0,0,0,0,0,0]
[null,146,null,null,null,null,null,null,null,null,0,0,0,0,0,0,0,0,0,0,0,0,0]
[null,147,null,null,null,null,null,null,null,null,0,0,0,0,0,0,0,0,0,0,0,0,0]
[null,148,null,null,null,null,null,null,null,null,0,0,0,0,0,0,0,0,0,0,0,0,0]
[null,149,null,null,null,null,null,null,null,null,0,0,0,0,0,0,0,0,0,0,0,0,0]
[null,150,null,null,null,null,null,null,null,null,0,0,0,0,0,0,0,0,0,0,0,0,0]
[null,151,null,null,null,null,null,null,null,null,{"$f":"IF($D156=K$5,$F156,0)","v":0},0,0,0,0,0,0,0,0,0,0,0,0]
[null,152,null,null,null,null,null,null,null,null,0,0,0,0,0,0,0,0,0,0,0,0,0]
[null,153,null,null,null,null,null,null,null,null,0,0,0,0,0,0,0,0,0,0,0,0,0]
[null,154,null,null,null,null,null,null,null,null,0,0,0,0,0,0,0,0,0,0,0,0,0]
[null,155,null,null,null,null,null,null,null,null,0,0,0,0,0,0,0,0,0,0,0,0,0]
[null,156,null,null,null,null,null,null,null,null,0,0,0,0,0,0,0,0,0,0,0,0,0]
[null,157,null,null,null,null,null,null,null,null,0,0,0,0,0,0,0,0,0,0,0,0,0]
[null,158,null,null,null,null,null,null,null,null,0,0,0,0,0,0,0,0,0,0,0,0,0]
[null,159,null,null,null,null,null,null,null,null,0,0,0,0,0,0,0,0,0,0,0,0,0]
[null,160,null,null,null,null,null,null,null,null,0,0,0,0,0,0,0,0,0,0,0,0,0]
[null,161,null,null,null,null,null,null,null,null,{"$f":"IF($D166=K$5,$F166,0)","v":0},0,0,0,0,0,0,0,0,0,0,0,0]
[null,162,null,null,null,null,null,null,null,null,0,0,0,0,0,0,0,0,0,0,0,0,0]
[null,163,null,null,null,null,null,null,null,null,0,0,0,0,0,0,0,0,0,0,0,0,0]
[null,164,null,null,null,null,null,null,null,null,0,0,0,0,0,0,0,0,0,0,0,0,0]
[null,165,null,null,null,null,null,null,null,null,0,0,0,0,0,0,0,0,0,0,0,0,0]
[null,166,null,null,null,null,null,null,null,null,0,0,0,0,0,0,0,0,0,0,0,0,0]
[null,167,null,null,null,null,null,null,null,null,0,0,0,0,0,0,0,0,0,0,0,0,0]
[null,168,null,null,null,null,null,null,null,null,0,0,0,0,0,0,0,0,0,0,0,0,0]
[null,169,null,null,null,null,null,null,null,null,0,0,0,0,0,0,0,0,0,0,0,0,0]
[null,170,null,null,null,null,null,null,null,null,0,0,0,0,0,0,0,0,0,0,0,0,0]
[null,171,null,null,null,null,null,null,null,null,{"$f":"IF($D176=K$5,$F176,0)","v":0},0,0,0,0,0,0,0,0,0,0,0,0]
[null,172,null,null,null,null,null,null,null,null,0,0,0,0,0,0,0,0,0,0,0,0,0]
[null,173,null,null,null,null,null,null,null,null,0,0,0,0,0,0,0,0,0,0,0,0,0]
[null,174,null,null,null,null,null,null,null,null,0,0,0,0,0,0,0,0,0,0,0,0,0]
[null,175,null,null,null,null,null,null,null,null,0,0,0,0,0,0,0,0,0,0,0,0,0]
[null,176,null,null,null,null,null,null,null,null,0,0,0,0,0,0,0,0,0,0,0,0,0]
[null,177,null,null,null,null,null,null,null,null,0,0,0,0,0,0,0,0,0,0,0,0,0]
[null,178,null,null,null,null,null,null,null,null,0,0,0,0,0,0,0,0,0,0,0,0,0]
[null,179,null,null,null,null,null,null,null,null,0,0,0,0,0,0,0,0,0,0,0,0,0]
[null,180,null,null,null,null,null,null,null,null,0,0,0,0,0,0,0,0,0,0,0,0,0]
[null,181,null,null,null,null,null,null,null,null,{"$f":"IF($D186=K$5,$F186,0)","v":0},0,0,0,0,0,0,0,0,0,0,0,0]
[null,182,null,null,null,null,null,null,null,null,0,0,0,0,0,0,0,0,0,0,0,0,0]
[null,183,null,null,null,null,null,null,null,null,0,0,0,0,0,0,0,0,0,0,0,0,0]
[null,184,null,null,null,null,null,null,null,null,0,0,0,0,0,0,0,0,0,0,0,0,0]
[null,185,null,null,null,null,null,null,null,null,0,0,0,0,0,0,0,0,0,0,0,0,0]
[null,186,null,null,null,null,null,null,null,null,0,0,0,0,0,0,0,0,0,0,0,0,0]
[null,187,null,null,null,null,null,null,null,null,0,0,0,0,0,0,0,0,0,0,0,0,0]
[null,188,null,null,null,null,null,null,null,null,0,0,0,0,0,0,0,0,0,0,0,0,0]
[null,189,null,null,null,null,null,null,null,null,0,0,0,0,0,0,0,0,0,0,0,0,0]
[null,190,null,null,null,null,null,null,null,null,0,0,0,0,0,0,0,0,0,0,0,0,0]
[null,191,null,null,null,null,null,null,null,null,{"$f":"IF($D196=K$5,$F196,0)","v":0},0,0,0,0,0,0,0,0,0,0,0,0]
[null,192,null,null,null,null,null,null,null,null,0,0,0,0,0,0,0,0,0,0,0,0,0]
[null,193,null,null,null,null,null,null,null,null,0,0,0,0,0,0,0,0,0,0,0,0,0]
[null,194,null,null,null,null,null,null,null,null,0,0,0,0,0,0,0,0,0,0,0,0,0]
[null,195,null,null,null,null,null,null,null,null,0,0,0,0,0,0,0,0,0,0,0,0,0]
[null,196,null,null,null,null,null,null,null,null,0,0,0,0,0,0,0,0,0,0,0,0,0]
[null,197,null,null,null,null,null,null,null,null,0,0,0,0,0,0,0,0,0,0,0,0,0]
[null,198,null,null,null,null,null,null,null,null,0,0,0,0,0,0,0,0,0,0,0,0,0]
[null,199,null,null,null,null,null,null,null,null,0,0,0,0,0,0,0,0,0,0,0,0,0]
[null,200,null,null,null,null,null,null,null,null,0,0,0,0,0,0,0,0,0,0,0,0,0]
[null,201,null,null,null,null,null,null,null,null,{"$f":"IF($D206=K$5,$F206,0)","v":0},0,0,0,0,0,0,0,0,0,0,0,0]
[null,202,null,null,null,null,null,null,null,null,0,0,0,0,0,0,0,0,0,0,0,0,0]
[null,203,null,null,null,null,null,null,null,null,0,0,0,0,0,0,0,0,0,0,0,0,0]
[null,204,null,null,null,null,null,null,null,null,0,0,0,0,0,0,0,0,0,0,0,0,0]
[null,205,null,null,null,null,null,null,null,null,0,0,0,0,0,0,0,0,0,0,0,0,0]
[null,206,null,null,null,null,null,null,null,null,0,0,0,0,0,0,0,0,0,0,0,0,0]
[null,207,null,null,null,null,null,null,null,null,0,0,0,0,0,0,0,0,0,0,0,0,0]
[null,208,null,null,null,null,null,null,null,null,0,0,0,0,0,0,0,0,0,0,0,0,0]
[null,209,null,null,null,null,null,null,null,null,0,0,0,0,0,0,0,0,0,0,0,0,0]
[null,210,null,null,null,null,null,null,null,null,0,0,0,0,0,0,0,0,0,0,0,0,0]
[null,211,null,null,null,null,null,null,null,null,{"$f":"IF($D216=K$5,$F216,0)","v":0},0,0,0,0,0,0,0,0,0,0,0,0]
[null,212,null,null,null,null,null,null,null,null,0,0,0,0,0,0,0,0,0,0,0,0,0]
[null,213,null,null,null,null,null,null,null,null,0,0,0,0,0,0,0,0,0,0,0,0,0]
[null,214,null,null,null,null,null,null,null,null,0,0,0,0,0,0,0,0,0,0,0,0,0]
[null,215,null,null,null,null,null,null,null,null,0,0,0,0,0,0,0,0,0,0,0,0,0]
[null,216,null,null,null,null,null,null,null,null,0,0,0,0,0,0,0,0,0,0,0,0,0]
[null,217,null,null,null,null,null,null,null,null,0,0,0,0,0,0,0,0,0,0,0,0,0]
[null,218,null,null,null,null,null,null,null,null,0,0,0,0,0,0,0,0,0,0,0,0,0]
[null,219,null,null,null,null,null,null,null,null,0,0,0,0,0,0,0,0,0,0,0,0,0]
[null,220,null,null,null,null,null,null,null,null,0,0,0,0,0,0,0,0,0,0,0,0,0]
[null,221,null,null,null,null,null,null,null,null,{"$f":"IF($D226=K$5,$F226,0)","v":0},0,0,0,0,0,0,0,0,0,0,0,0]
[null,222,null,null,null,null,null,null,null,null,0,0,0,0,0,0,0,0,0,0,0,0,0]
[null,223,null,null,null,null,null,null,null,null,0,0,0,0,0,0,0,0,0,0,0,0,0]
[null,224,null,null,null,null,null,null,null,null,0,0,0,0,0,0,0,0,0,0,0,0,0]
[null,225,null,null,null,null,null,null,null,null,0,0,0,0,0,0,0,0,0,0,0,0,0]
[null,226,null,null,null,null,null,null,null,null,0,0,0,0,0,0,0,0,0,0,0,0,0]
[null,227,null,null,null,null,null,null,null,null,0,0,0,0,0,0,0,0,0,0,0,0,0]
[null,228,null,null,null,null,null,null,null,null,0,0,0,0,0,0,0,0,0,0,0,0,0]
[null,229,null,null,null,null,null,null,null,null,0,0,0,0,0,0,0,0,0,0,0,0,0]
[null,230,null,null,null,null,null,null,null,null,0,0,0,0,0,0,0,0,0,0,0,0,0]
[null,231,null,null,null,null,null,null,null,null,{"$f":"IF($D236=K$5,$F236,0)","v":0},0,0,0,0,0,0,0,0,0,0,0,0]
[null,232,null,null,null,null,null,null,null,null,0,0,0,0,0,0,0,0,0,0,0,0,0]
[null,233,null,null,null,null,null,null,null,null,0,0,0,0,0,0,0,0,0,0,0,0,0]
[null,234,null,null,null,null,null,null,null,null,0,0,0,0,0,0,0,0,0,0,0,0,0]
[null,235,null,null,null,null,null,null,null,null,0,0,0,0,0,0,0,0,0,0,0,0,0]
[null,236,null,null,null,null,null,null,null,null,0,0,0,0,0,0,0,0,0,0,0,0,0]
[null,237,null,null,null,null,null,null,null,null,0,0,0,0,0,0,0,0,0,0,0,0,0]
[null,238,null,null,null,null,null,null,null,null,0,0,0,0,0,0,0,0,0,0,0,0,0]
[null,239,null,null,null,null,null,null,null,null,0,0,0,0,0,0,0,0,0,0,0,0,0]
[null,240,null,null,null,null,null,null,null,null,0,0,0,0,0,0,0,0,0,0,0,0,0]
[null,241,null,null,null,null,null,null,null,null,{"$f":"IF($D246=K$5,$F246,0)","v":0},0,0,0,0,0,0,0,0,0,0,0,0]
[null,242,null,null,null,null,null,null,null,null,0,0,0,0,0,0,0,0,0,0,0,0,0]
[null,243,null,null,null,null,null,null,null,null,0,0,0,0,0,0,0,0,0,0,0,0,0]
[null,244,null,null,null,null,null,null,null,null,0,0,0,0,0,0,0,0,0,0,0,0,0]
[null,245,null,null,null,null,null,null,null,null,0,0,0,0,0,0,0,0,0,0,0,0,0]
[null,246,null,null,null,null,null,null,null,null,0,0,0,0,0,0,0,0,0,0,0,0,0]
[null,247,null,null,null,null,null,null,null,null,0,0,0,0,0,0,0,0,0,0,0,0,0]
[null,248,null,null,null,null,null,null,null,null,0,0,0,0,0,0,0,0,0,0,0,0,0]
[null,249,null,null,null,null,null,null,null,null,0,0,0,0,0,0,0,0,0,0,0,0,0]
[null,250,null,null,null,null,null,null,null,null,0,0,0,0,0,0,0,0,0,0,0,0,0]
[null,251,null,null,null,null,null,null,null,null,{"$f":"IF($D256=K$5,$F256,0)","v":0},0,0,0,0,0,0,0,0,0,0,0,0]
[null,252,null,null,null,null,null,null,null,null,0,0,0,0,0,0,0,0,0,0,0,0,0]
[null,253,null,null,null,null,null,null,null,null,0,0,0,0,0,0,0,0,0,0,0,0,0]
[null,254,null,null,null,null,null,null,null,null,0,0,0,0,0,0,0,0,0,0,0,0,0]
[null,255,null,null,null,null,null,null,null,null,0,0,0,0,0,0,0,0,0,0,0,0,0]
[null,256,null,null,null,null,null,null,null,null,0,0,0,0,0,0,0,0,0,0,0,0,0]
[null,257,null,null,null,null,null,null,null,null,0,0,0,0,0,0,0,0,0,0,0,0,0]
[null,258,null,null,null,null,null,null,null,null,0,0,0,0,0,0,0,0,0,0,0,0,0]
[null,259,null,null,null,null,null,null,null,null,0,0,0,0,0,0,0,0,0,0,0,0,0]
[null,260,null,null,null,null,null,null,null,null,0,0,0,0,0,0,0,0,0,0,0,0,0]
[null,261,null,null,null,null,null,null,null,null,{"$f":"IF($D266=K$5,$F266,0)","v":0},0,0,0,0,0,0,0,0,0,0,0,0]
[null,262,null,null,null,null,null,null,null,null,0,0,0,0,0,0,0,0,0,0,0,0,0]
[null,263,null,null,null,null,null,null,null,null,0,0,0,0,0,0,0,0,0,0,0,0,0]
[null,264,null,null,null,null,null,null,null,null,0,0,0,0,0,0,0,0,0,0,0,0,0]
[null,265,null,null,null,null,null,null,null,null,0,0,0,0,0,0,0,0,0,0,0,0,0]
[null,266,null,null,null,null,null,null,null,null,0,0,0,0,0,0,0,0,0,0,0,0,0]
[null,267,null,null,null,null,null,null,null,null,0,0,0,0,0,0,0,0,0,0,0,0,0]
[null,268,null,null,null,null,null,null,null,null,0,0,0,0,0,0,0,0,0,0,0,0,0]
[null,269,null,null,null,null,null,null,null,null,0,0,0,0,0,0,0,0,0,0,0,0,0]
[null,270,null,null,null,null,null,null,null,null,0,0,0,0,0,0,0,0,0,0,0,0,0]
[null,271,null,null,null,null,null,null,null,null,{"$f":"IF($D276=K$5,$F276,0)","v":0},0,0,0,0,0,0,0,0,0,0,0,0]
[null,272,null,null,null,null,null,null,null,null,0,0,0,0,0,0,0,0,0,0,0,0,0]
[null,273,null,null,null,null,null,null,null,null,0,0,0,0,0,0,0,0,0,0,0,0,0]
[null,274,null,null,null,null,null,null,null,null,0,0,0,0,0,0,0,0,0,0,0,0,0]
[null,275,null,null,null,null,null,null,null,null,0,0,0,0,0,0,0,0,0,0,0,0,0]
[null,276,null,null,null,null,null,null,null,null,0,0,0,0,0,0,0,0,0,0,0,0,0]
[null,277,null,null,null,null,null,null,null,null,0,0,0,0,0,0,0,0,0,0,0,0,0]
[null,278,null,null,null,null,null,null,null,null,0,0,0,0,0,0,0,0,0,0,0,0,0]
[null,279,null,null,null,null,null,null,null,null,0,0,0,0,0,0,0,0,0,0,0,0,0]
[null,280,null,null,null,null,null,null,null,null,0,0,0,0,0,0,0,0,0,0,0,0,0]
[null,281,null,null,null,null,null,null,null,null,{"$f":"IF($D286=K$5,$F286,0)","v":0},0,0,0,0,0,0,0,0,0,0,0,0]
[null,282,null,null,null,null,null,null,null,null,0,0,0,0,0,0,0,0,0,0,0,0,0]
[null,283,null,null,null,null,null,null,null,null,0,0,0,0,0,0,0,0,0,0,0,0,0]
[null,284,null,null,null,null,null,null,null,null,0,0,0,0,0,0,0,0,0,0,0,0,0]
[null,285,null,null,null,null,null,null,null,null,0,0,0,0,0,0,0,0,0,0,0,0,0]
[null,286,null,null,null,null,null,null,null,null,0,0,0,0,0,0,0,0,0,0,0,0,0]
[null,287,null,null,null,null,null,null,null,null,0,0,0,0,0,0,0,0,0,0,0,0,0]
[null,288,null,null,null,null,null,null,null,null,0,0,0,0,0,0,0,0,0,0,0,0,0]
[null,289,null,null,null,null,null,null,null,null,0,0,0,0,0,0,0,0,0,0,0,0,0]
[null,290,null,null,null,null,null,null,null,null,0,0,0,0,0,0,0,0,0,0,0,0,0]
[null,291,null,null,null,null,null,null,null,null,{"$f":"IF($D296=K$5,$F296,0)","v":0},0,0,0,0,0,0,0,0,0,0,0,0]
[null,292,null,null,null,null,null,null,null,null,0,0,0,0,0,0,0,0,0,0,0,0,0]
[null,293,null,null,null,null,null,null,null,null,0,0,0,0,0,0,0,0,0,0,0,0,0]
[null,294,null,null,null,null,null,null,null,null,0,0,0,0,0,0,0,0,0,0,0,0,0]
[null,295,null,null,null,null,null,null,null,null,0,0,0,0,0,0,0,0,0,0,0,0,0]
[null,296,null,null,null,null,null,null,null,null,0,0,0,0,0,0,0,0,0,0,0,0,0]
[null,297,null,null,null,null,null,null,null,null,0,0,0,0,0,0,0,0,0,0,0,0,0]
[null,298,null,null,null,null,null,null,null,null,0,0,0,0,0,0,0,0,0,0,0,0,0]
[null,299,null,null,null,null,null,null,null,null,0,0,0,0,0,0,0,0,0,0,0,0,0]
[null,300,null,null,null,null,null,null,null,null,0,0,0,0,0,0,0,0,0,0,0,0,0]
[null,null,null,null,null,null,null,null,null,null,{"$f":"SUM(K6:K305)","v":0},{"$f":"SUM(L6:L305)","v":0},0,0,0,0,0,0,0,0,0,0,0]

{"sheet":"mes","index":21,"n_rows":6010,"n_cols":25,"rows_kept":6010,"cut":false,"hidden":false,"merged":[[1,8,1,9]]}
[null,null,null,null,null,null,null,null,null,null,null,null,null,null,null,null,null,null,null,null,null,null,null,{"$f":"menu!B7","v":"NOMINA"}]
[null,"CONSULTA MES ",null,null,null,null,null,null,"CALCULANDO",null,null,null,null,null,null,null,null,null,null,null,null,null,null,{"$f":"menu!B8","v":"OTROS INGRESOS"}]
[]
[null,null,null,null,null,null,null,null,null,"Enero"]
[null,null,"DIA","MES","CONCEPTO","TOTAL",null,null,null,"Febrero"]
[null,1,{"$f":"'1'!C6","v":0},{"$f":"'1'!D6","v":0},{"$f":"'1'!E6","v":0},{"$f":"'1'!F6","v":0},null,null,null,"Marzo",null,null,null,null,null,null,null,null,null,null,null,null,null,{"$f":"IF($E$2=$J4,menu!E31,0)","v":0},{"$f":"IF($E$2=$J4,menu!E32,0)","v":0}]
[null,2,{"$f":"'1'!C7","v":0},{"$f":"'1'!D7","v":0},{"$f":"'1'!E7","v":0},{"$f":"'1'!F7","v":0},null,null,null,"Abril",null,null,null,null,null,null,null,null,null,null,null,null,null,{"$f":"IF($E$2=$J5,menu!F31,0)","v":0},{"$f":"IF($E$2=$J5,menu!F32,0)","v":0}]
[null,3,{"$f":"'1'!C8","v":0},{"$f":"'1'!D8","v":0},{"$f":"'1'!E8","v":0},{"$f":"'1'!F8","v":0},null,null,null,"Mayo",null,null,null,null,null,null,null,null,null,null,null,null,null,{"$f":"IF($E$2=$J6,menu!G31,0)","v":0},{"$f":"IF($E$2=$J6,menu!G32,0)","v":0}]
[null,4,{"$f":"'1'!C9","v":0},{"$f":"'1'!D9","v":0},{"$f":"'1'!E9","v":0},{"$f":"'1'!F9","v":0},null,null,null,"Junio",null,null,null,null,null,null,null,null,null,null,null,null,null,{"$f":"IF($E$2=$J7,menu!H31,0)","v":0},{"$f":"IF($E$2=$J7,menu!H32,0)","v":0}]
[null,5,{"$f":"'1'!C10","v":0},{"$f":"'1'!D10","v":0},{"$f":"'1'!E10","v":0},{"$f":"'1'!F10","v":0},null,null,null,"Julio",null,null,null,null,null,null,null,null,null,null,null,null,null,{"$f":"IF($E$2=$J8,menu!I31,0)","v":0},{"$f":"IF($E$2=$J8,menu!I32,0)","v":0}]
[null,6,{"$f":"'1'!C11","v":0},{"$f":"'1'!D11","v":0},{"$f":"'1'!E11","v":0},{"$f":"'1'!F11","v":0},null,null,null,"Agosto",null,null,null,null,null,null,null,null,null,null,null,null,null,{"$f":"IF($E$2=$J9,menu!J31,0)","v":0},{"$f":"IF($E$2=$J9,menu!J32,0)","v":0}]
[null,7,{"$f":"'1'!C12","v":0},{"$f":"'1'!D12","v":0},{"$f":"'1'!E12","v":0},{"$f":"'1'!F12","v":0},null,null,null,"Septiembre",null,null,null,null,null,null,null,null,null,null,null,null,null,{"$f":"IF($E$2=$J10,menu!K31,0)","v":0},{"$f":"IF($E$2=$J10,menu!K32,0)","v":0}]
[null,8,{"$f":"'1'!C13","v":0},{"$f":"'1'!D13","v":0},{"$f":"'1'!E13","v":0},{"$f":"'1'!F13","v":0},null,null,null,"Octubre",null,null,null,null,null,null,null,null,null,null,null,null,null,{"$f":"IF($E$2=$J11,menu!L31,0)","v":0},{"$f":"IF($E$2=$J11,menu!L32,0)","v":0}]
[null,9,{"$f":"'1'!C14","v":0},{"$f":"'1'!D14","v":0},{"$f":"'1'!E14","v":0},{"$f":"'1'!F14","v":0},null,null,null,"Noviembre",null,null,null,null,null,null,null,null,null,null,null,null,null,{"$f":"IF($E$2=$J12,menu!M31,0)","v":0},{"$f":"IF($E$2=$J12,menu!M32,0)","v":0}]
[null,10,{"$f":"'1'!C15","v":0},{"$f":"'1'!D15","v":0},{"$f":"'1'!E15","v":0},{"$f":"'1'!F15","v":0},null,null,null,"Diciembre",null,null,null,null,null,null,null,null,null,null,null,null,null,{"$f":"IF($E$2=$J13,menu!N31,0)","v":0},{"$f":"IF($E$2=$J13,menu!N32,0)","v":0}]
[null,11,{"$f":"'1'!C16","v":0},{"$f":"'1'!D16","v":0},{"$f":"'1'!E16","v":0},{"$f":"'1'!F16","v":0},null,null,null,null,null,null,null,null,null,null,null,null,null,null,null,null,null,{"$f":"IF($E$2=$J14,menu!O31,0)","v":0},{"$f":"IF($E$2=$J14,menu!O32,0)","v":0}]
[null,12,{"$f":"'1'!C17","v":0},{"$f":"'1'!D17","v":0},{"$f":"'1'!E17","v":0},{"$f":"'1'!F17","v":0},null,null,null,null,null,null,null,null,null,null,null,null,null,null,null,null,null,{"$f":"IF($E$2=$J15,menu!P31,0)","v":0},{"$f":"IF($E$2=$J15,menu!P32,0)","v":0}]
[null,13,{"$f":"'1'!C18","v":0},{"$f":"'1'!D18","v":0},{"$f":"'1'!E18","v":0},{"$f":"'1'!F18","v":0},null,null,null,null,null,null,null,null,null,null,null,null,null,null,null,null,null,{"$f":"SUM(X6:X17)","v":0},{"$f":"SUM(Y6:Y17)","v":0}]
[null,14,{"$f":"'1'!C19","v":0},{"$f":"'1'!D19","v":0},{"$f":"'1'!E19","v":0},{"$f":"'1'!F19","v":0}]
[null,15,{"$f":"'1'!C20","v":0},{"$f":"'1'!D20","v":0},{"$f":"'1'!E20","v":0},{"$f":"'1'!F20","v":0}]
[null,16,{"$f":"'1'!C21","v":0},{"$f":"'1'!D21","v":0},{"$f":"'1'!E21","v":0},{"$f":"'1'!F21","v":0}]
[null,17,{"$f":"'1'!C22","v":0},{"$f":"'1'!D22","v":0},{"$f":"'1'!E22","v":0},{"$f":"'1'!F22","v":0}]
[null,18,{"$f":"'1'!C23","v":0},{"$f":"'1'!D23","v":0},{"$f":"'1'!E23","v":0},{"$f":"'1'!F23","v":0}]
[null,19,{"$f":"'1'!C24","v":0},{"$f":"'1'!D24","v":0},{"$f":"'1'!E24","v":0},{"$f":"'1'!F24","v":0}]
[null,20,{"$f":"'1'!C25","v":0},{"$f":"'1'!D25","v":0},{"$f":"'1'!E25","v":0},{"$f":"'1'!F25","v":0}]
[null,21,{"$f":"'1'!C26","v":0},{"$f":"'1'!D26","v":0},{"$f":"'1'!E26","v":0},{"$f":"'1'!F26","v":0}]
[null,22,{"$f":"'1'!C27","v":0},{"$f":"'1'!D27","v":0},{"$f":"'1'!E27","v":0},{"$f":"'1'!F27","v":0}]
[null,23,{"$f":"'1'!C28","v":0},{"$f":"'1'!D28","v":0},{"$f":"'1'!E28","v":0},{"$f":"'1'!F28","v":0}]
[null,24,{"$f":"'1'!C29","v":0},{"$f":"'1'!D29","v":0},{"$f":"'1'!E29","v":0},{"$f":"'1'!F29","v":0}]
[null,25,{"$f":"'1'!C30","v":0},{"$f":"'1'!D30","v":0},{"$f":"'1'!E30","v":0},{"$f":"'1'!F30","v":0}]
[null,26,{"$f":"'1'!C31","v":0},{"$f":"'1'!D31","v":0},{"$f":"'1'!E31","v":0},{"$f":"'1'!F31","v":0}]
[null,27,{"$f":"'1'!C32","v":0},{"$f":"'1'!D32","v":0},{"$f":"'1'!E32","v":0},{"$f":"'1'!F32","v":0}]
[null,28,{"$f":"'1'!C33","v":0},{"$f":"'1'!D33","v":0},{"$f":"'1'!E33","v":0},{"$f":"'1'!F33","v":0}]
[null,29,{"$f":"'1'!C34","v":0},{"$f":"'1'!D34","v":0},{"$f":"'1'!E34","v":0},{"$f":"'1'!F34","v":0}]
[null,30,{"$f":"'1'!C35","v":0},{"$f":"'1'!D35","v":0},{"$f":"'1'!E35","v":0},{"$f":"'1'!F35","v":0}]
[null,31,{"$f":"'1'!C36","v":0},{"$f":"'1'!D36","v":0},{"$f":"'1'!E36","v":0},{"$f":"'1'!F36","v":0}]
[null,32,{"$f":"'1'!C37","v":0},{"$f":"'1'!D37","v":0},{"$f":"'1'!E37","v":0},{"$f":"'1'!F37","v":0}]
[null,33,{"$f":"'1'!C38","v":0},{"$f":"'1'!D38","v":0},{"$f":"'1'!E38","v":0},{"$f":"'1'!F38","v":0}]
[null,34,{"$f":"'1'!C39","v":0},{"$f":"'1'!D39","v":0},{"$f":"'1'!E39","v":0},{"$f":"'1'!F39","v":0}]
[null,35,{"$f":"'1'!C40","v":0},{"$f":"'1'!D40","v":0},{"$f":"'1'!E40","v":0},{"$f":"'1'!F40","v":0}]
[null,36,{"$f":"'1'!C41","v":0},{"$f":"'1'!D41","v":0},{"$f":"'1'!E41","v":0},{"$f":"'1'!F41","v":0}]
[null,37,{"$f":"'1'!C42","v":0},{"$f":"'1'!D42","v":0},{"$f":"'1'!E42","v":0},{"$f":"'1'!F42","v":0}]
[null,38,{"$f":"'1'!C43","v":0},{"$f":"'1'!D43","v":0},{"$f":"'1'!E43","v":0},{"$f":"'1'!F43","v":0}]
[null,39,{"$f":"'1'!C44","v":0},{"$f":"'1'!D44","v":0},{"$f":"'1'!E44","v":0},{"$f":"'1'!F44","v":0}]
[null,40,{"$f":"'1'!C45","v":0},{"$f":"'1'!D45","v":0},{"$f":"'1'!E45","v":0},{"$f":"'1'!F45","v":0}]
[null,41,{"$f":"'1'!C46","v":0},{"$f":"'1'!D46","v":0},{"$f":"'1'!E46","v":0},{"$f":"'1'!F46","v":0}]
[null,42,{"$f":"'1'!C47","v":0},{"$f":"'1'!D47","v":0},{"$f":"'1'!E47","v":0},{"$f":"'1'!F47","v":0}]
[null,43,{"$f":"'1'!C48","v":0},{"$f":"'1'!D48","v":0},{"$f":"'1'!E48","v":0},{"$f":"'1'!F48","v":0}]
[null,44,{"$f":"'1'!C49","v":0},{"$f":"'1'!D49","v":0},{"$f":"'1'!E49","v":0},{"$f":"'1'!F49","v":0}]
[null,45,{"$f":"'1'!C50","v":0},{"$f":"'1'!D50","v":0},{"$f":"'1'!E50","v":0},{"$f":"'1'!F50","v":0}]
[null,46,{"$f":"'1'!C51","v":0},{"$f":"'1'!D51","v":0},{"$f":"'1'!E51","v":0},{"$f":"'1'!F51","v":0}]
[null,47,{"$f":"'1'!C52","v":0},{"$f":"'1'!D52","v":0},{"$f":"'1'!E52","v":0},{"$f":"'1'!F52","v":0}]
[null,48,{"$f":"'1'!C53","v":0},{"$f":"'1'!D53","v":0},{"$f":"'1'!E53","v":0},{"$f":"'1'!F53","v":0}]
[null,49,{"$f":"'1'!C54","v":0},{"$f":"'1'!D54","v":0},{"$f":"'1'!E54","v":0},{"$f":"'1'!F54","v":0}]
[null,50,{"$f":"'1'!C55","v":0},{"$f":"'1'!D55","v":0},{"$f":"'1'!E55","v":0},{"$f":"'1'!F55","v":0}]
[null,51,{"$f":"'1'!C56","v":0},{"$f":"'1'!D56","v":0},{"$f":"'1'!E56","v":0},{"$f":"'1'!F56","v":0}]
[null,52,{"$f":"'1'!C57","v":0},{"$f":"'1'!D57","v":0},{"$f":"'1'!E57","v":0},{"$f":"'1'!F57","v":0}]
[null,53,{"$f":"'1'!C58","v":0},{"$f":"'1'!D58","v":0},{"$f":"'1'!E58","v":0},{"$f":"'1'!F58","v":0}]
[null,54,{"$f":"'1'!C59","v":0},{"$f":"'1'!D59","v":0},{"$f":"'1'!E59","v":0},{"$f":"'1'!F59","v":0}]
[null,55,{"$f":"'1'!C60","v":0},{"$f":"'1'!D60","v":0},{"$f":"'1'!E60","v":0},{"$f":"'1'!F60","v":0}]
[null,56,{"$f":"'1'!C61","v":0},{"$f":"'1'!D61","v":0},{"$f":"'1'!E61","v":0},{"$f":"'1'!F61","v":0}]
[null,57,{"$f":"'1'!C62","v":0},{"$f":"'1'!D62","v":0},{"$f":"'1'!E62","v":0},{"$f":"'1'!F62","v":0}]
[null,58,{"$f":"'1'!C63","v":0},{"$f":"'1'!D63","v":0},{"$f":"'1'!E63","v":0},{"$f":"'1'!F63","v":0}]
[null,59,{"$f":"'1'!C64","v":0},{"$f":"'1'!D64","v":0},{"$f":"'1'!E64","v":0},{"$f":"'1'!F64","v":0}]
[null,60,{"$f":"'1'!C65","v":0},{"$f":"'1'!D65","v":0},{"$f":"'1'!E65","v":0},{"$f":"'1'!F65","v":0}]
[null,61,{"$f":"'1'!C66","v":0},{"$f":"'1'!D66","v":0},{"$f":"'1'!E66","v":0},{"$f":"'1'!F66","v":0}]
[null,62,{"$f":"'1'!C67","v":0},{"$f":"'1'!D67","v":0},{"$f":"'1'!E67","v":0},{"$f":"'1'!F67","v":0}]
[null,63,{"$f":"'1'!C68","v":0},{"$f":"'1'!D68","v":0},{"$f":"'1'!E68","v":0},{"$f":"'1'!F68","v":0}]
[null,64,{"$f":"'1'!C69","v":0},{"$f":"'1'!D69","v":0},{"$f":"'1'!E69","v":0},{"$f":"'1'!F69","v":0}]
[null,65,{"$f":"'1'!C70","v":0},{"$f":"'1'!D70","v":0},{"$f":"'1'!E70","v":0},{"$f":"'1'!F70","v":0}]
[null,66,{"$f":"'1'!C71","v":0},{"$f":"'1'!D71","v":0},{"$f":"'1'!E71","v":0},{"$f":"'1'!F71","v":0}]
[null,67,{"$f":"'1'!C72","v":0},{"$f":"'1'!D72","v":0},{"$f":"'1'!E72","v":0},{"$f":"'1'!F72","v":0}]
[null,68,{"$f":"'1'!C73","v":0},{"$f":"'1'!D73","v":0},{"$f":"'1'!E73","v":0},{"$f":"'1'!F73","v":0}]
[null,69,{"$f":"'1'!C74","v":0},{"$f":"'1'!D74","v":0},{"$f":"'1'!E74","v":0},{"$f":"'1'!F74","v":0}]
[null,70,{"$f":"'1'!C75","v":0},{"$f":"'1'!D75","v":0},{"$f":"'1'!E75","v":0},{"$f":"'1'!F75","v":0}]
[null,71,{"$f":"'1'!C76","v":0},{"$f":"'1'!D76","v":0},{"$f":"'1'!E76","v":0},{"$f":"'1'!F76","v":0}]
[null,72,{"$f":"'1'!C77","v":0},{"$f":"'1'!D77","v":0},{"$f":"'1'!E77","v":0},{"$f":"'1'!F77","v":0}]
[null,73,{"$f":"'1'!C78","v":0},{"$f":"'1'!D78","v":0},{"$f":"'1'!E78","v":0},{"$f":"'1'!F78","v":0}]
[null,74,{"$f":"'1'!C79","v":0},{"$f":"'1'!D79","v":0},{"$f":"'1'!E79","v":0},{"$f":"'1'!F79","v":0}]
[null,75,{"$f":"'1'!C80","v":0},{"$f":"'1'!D80","v":0},{"$f":"'1'!E80","v":0},{"$f":"'1'!F80","v":0}]
[null,76,{"$f":"'1'!C81","v":0},{"$f":"'1'!D81","v":0},{"$f":"'1'!E81","v":0},{"$f":"'1'!F81","v":0}]
[null,77,{"$f":"'1'!C82","v":0},{"$f":"'1'!D82","v":0},{"$f":"'1'!E82","v":0},{"$f":"'1'!F82","v":0}]
[null,78,{"$f":"'1'!C83","v":0},{"$f":"'1'!D83","v":0},{"$f":"'1'!E83","v":0},{"$f":"'1'!F83","v":0}]
[null,79,{"$f":"'1'!C84","v":0},{"$f":"'1'!D84","v":0},{"$f":"'1'!E84","v":0},{"$f":"'1'!F84","v":0}]
[null,80,{"$f":"'1'!C85","v":0},{"$f":"'1'!D85","v":0},{"$f":"'1'!E85","v":0},{"$f":"'1'!F85","v":0}]
[null,81,{"$f":"'1'!C86","v":0},{"$f":"'1'!D86","v":0},{"$f":"'1'!E86","v":0},{"$f":"'1'!F86","v":0}]
[null,82,{"$f":"'1'!C87","v":0},{"$f":"'1'!D87","v":0},{"$f":"'1'!E87","v":0},{"$f":"'1'!F87","v":0}]
[null,83,{"$f":"'1'!C88","v":0},{"$f":"'1'!D88","v":0},{"$f":"'1'!E88","v":0},{"$f":"'1'!F88","v":0}]
[null,84,{"$f":"'1'!C89","v":0},{"$f":"'1'!D89","v":0},{"$f":"'1'!E89","v":0},{"$f":"'1'!F89","v":0}]
[null,85,{"$f":"'1'!C90","v":0},{"$f":"'1'!D90","v":0},{"$f":"'1'!E90","v":0},{"$f":"'1'!F90","v":0}]
[null,86,{"$f":"'1'!C91","v":0},{"$f":"'1'!D91","v":0},{"$f":"'1'!E91","v":0},{"$f":"'1'!F91","v":0}]
[null,87,{"$f":"'1'!C92","v":0},{"$f":"'1'!D92","v":0},{"$f":"'1'!E92","v":0},{"$f":"'1'!F92","v":0}]
[null,88,{"$f":"'1'!C93","v":0},{"$f":"'1'!D93","v":0},{"$f":"'1'!E93","v":0},{"$f":"'1'!F93","v":0}]
[null,89,{"$f":"'1'!C94","v":0},{"$f":"'1'!D94","v":0},{"$f":"'1'!E94","v":0},{"$f":"'1'!F94","v":0}]
[null,90,{"$f":"'1'!C95","v":0},{"$f":"'1'!D95","v":0},{"$f":"'1'!E95","v":0},{"$f":"'1'!F95","v":0}]
[null,91,{"$f":"'1'!C96","v":0},{"$f":"'1'!D96","v":0},{"$f":"'1'!E96","v":0},{"$f":"'1'!F96","v":0}]
[null,92,{"$f":"'1'!C97","v":0},{"$f":"'1'!D97","v":0},{"$f":"'1'!E97","v":0},{"$f":"'1'!F97","v":0}]
[null,93,{"$f":"'1'!C98","v":0},{"$f":"'1'!D98","v":0},{"$f":"'1'!E98","v":0},{"$f":"'1'!F98","v":0}]
[null,94,{"$f":"'1'!C99","v":0},{"$f":"'1'!D99","v":0},{"$f":"'1'!E99","v":0},{"$f":"'1'!F99","v":0}]
[null,95,{"$f":"'1'!C100","v":0},{"$f":"'1'!D100","v":0},{"$f":"'1'!E100","v":0},{"$f":"'1'!F100","v":0}]
[null,96,{"$f":"'1'!C101","v":0},{"$f":"'1'!D101","v":0},{"$f":"'1'!E101","v":0},{"$f":"'1'!F101","v":0}]
[null,97,{"$f":"'1'!C102","v":0},{"$f":"'1'!D102","v":0},{"$f":"'1'!E102","v":0},{"$f":"'1'!F102","v":0}]
[null,98,{"$f":"'1'!C103","v":0},{"$f":"'1'!D103","v":0},{"$f":"'1'!E103","v":0},{"$f":"'1'!F103","v":0}]
[null,99,{"$f":"'1'!C104","v":0},{"$f":"'1'!D104","v":0},{"$f":"'1'!E104","v":0},{"$f":"'1'!F104","v":0}]
[null,100,{"$f":"'1'!C105","v":0},{"$f":"'1'!D105","v":0},{"$f":"'1'!E105","v":0},{"$f":"'1'!F105","v":0}]
[null,101,{"$f":"'1'!C106","v":0},{"$f":"'1'!D106","v":0},{"$f":"'1'!E106","v":0},{"$f":"'1'!F106","v":0}]
[null,102,{"$f":"'1'!C107","v":0},{"$f":"'1'!D107","v":0},{"$f":"'1'!E107","v":0},{"$f":"'1'!F107","v":0}]
[null,103,{"$f":"'1'!C108","v":0},{"$f":"'1'!D108","v":0},{"$f":"'1'!E108","v":0},{"$f":"'1'!F108","v":0}]
[null,104,{"$f":"'1'!C109","v":0},{"$f":"'1'!D109","v":0},{"$f":"'1'!E109","v":0},{"$f":"'1'!F109","v":0}]
[null,105,{"$f":"'1'!C110","v":0},{"$f":"'1'!D110","v":0},{"$f":"'1'!E110","v":0},{"$f":"'1'!F110","v":0}]
[null,106,{"$f":"'1'!C111","v":0},{"$f":"'1'!D111","v":0},{"$f":"'1'!E111","v":0},{"$f":"'1'!F111","v":0}]
[null,107,{"$f":"'1'!C112","v":0},{"$f":"'1'!D112","v":0},{"$f":"'1'!E112","v":0},{"$f":"'1'!F112","v":0}]
[null,108,{"$f":"'1'!C113","v":0},{"$f":"'1'!D113","v":0},{"$f":"'1'!E113","v":0},{"$f":"'1'!F113","v":0}]
[null,109,{"$f":"'1'!C114","v":0},{"$f":"'1'!D114","v":0},{"$f":"'1'!E114","v":0},{"$f":"'1'!F114","v":0}]
[null,110,{"$f":"'1'!C115","v":0},{"$f":"'1'!D115","v":0},{"$f":"'1'!E115","v":0},{"$f":"'1'!F115","v":0}]
[null,111,{"$f":"'1'!C116","v":0},{"$f":"'1'!D116","v":0},{"$f":"'1'!E116","v":0},{"$f":"'1'!F116","v":0}]
[null,112,{"$f":"'1'!C117","v":0},{"$f":"'1'!D117","v":0},{"$f":"'1'!E117","v":0},{"$f":"'1'!F117","v":0}]
[null,113,{"$f":"'1'!C118","v":0},{"$f":"'1'!D118","v":0},{"$f":"'1'!E118","v":0},{"$f":"'1'!F118","v":0}]
[null,114,{"$f":"'1'!C119","v":0},{"$f":"'1'!D119","v":0},{"$f":"'1'!E119","v":0},{"$f":"'1'!F119","v":0}]
[null,115,{"$f":"'1'!C120","v":0},{"$f":"'1'!D120","v":0},{"$f":"'1'!E120","v":0},{"$f":"'1'!F120","v":0}]
[null,116,{"$f":"'1'!C121","v":0},{"$f":"'1'!D121","v":0},{"$f":"'1'!E121","v":0},{"$f":"'1'!F121","v":0}]
[null,117,{"$f":"'1'!C122","v":0},{"$f":"'1'!D122","v":0},{"$f":"'1'!E122","v":0},{"$f":"'1'!F122","v":0}]
[null,118,{"$f":"'1'!C123","v":0},{"$f":"'1'!D123","v":0},{"$f":"'1'!E123","v":0},{"$f":"'1'!F123","v":0}]
[null,119,{"$f":"'1'!C124","v":0},{"$f":"'1'!D124","v":0},{"$f":"'1'!E124","v":0},{"$f":"'1'!F124","v":0}]
[null,120,{"$f":"'1'!C125","v":0},{"$f":"'1'!D125","v":0},{"$f":"'1'!E125","v":0},{"$f":"'1'!F125","v":0}]
[null,121,{"$f":"'1'!C126","v":0},{"$f":"'1'!D126","v":0},{"$f":"'1'!E126","v":0},{"$f":"'1'!F126","v":0}]
[null,122,{"$f":"'1'!C127","v":0},{"$f":"'1'!D127","v":0},{"$f":"'1'!E127","v":0},{"$f":"'1'!F127","v":0}]
[null,123,{"$f":"'1'!C128","v":0},{"$f":"'1'!D128","v":0},{"$f":"'1'!E128","v":0},{"$f":"'1'!F128","v":0}]
[null,124,{"$f":"'1'!C129","v":0},{"$f":"'1'!D129","v":0},{"$f":"'1'!E129","v":0},{"$f":"'1'!F129","v":0}]
[null,125,{"$f":"'1'!C130","v":0},{"$f":"'1'!D130","v":0},{"$f":"'1'!E130","v":0},{"$f":"'1'!F130","v":0}]
[null,126,{"$f":"'1'!C131","v":0},{"$f":"'1'!D131","v":0},{"$f":"'1'!E131","v":0},{"$f":"'1'!F131","v":0}]
[null,127,{"$f":"'1'!C132","v":0},{"$f":"'1'!D132","v":0},{"$f":"'1'!E132","v":0},{"$f":"'1'!F132","v":0}]
[null,128,{"$f":"'1'!C133","v":0},{"$f":"'1'!D133","v":0},{"$f":"'1'!E133","v":0},{"$f":"'1'!F133","v":0}]
[null,129,{"$f":"'1'!C134","v":0},{"$f":"'1'!D134","v":0},{"$f":"'1'!E134","v":0},{"$f":"'1'!F134","v":0}]
[null,130,{"$f":"'1'!C135","v":0},{"$f":"'1'!D135","v":0},{"$f":"'1'!E135","v":0},{"$f":"'1'!F135","v":0}]
[null,131,{"$f":"'1'!C136","v":0},{"$f":"'1'!D136","v":0},{"$f":"'1'!E136","v":0},{"$f":"'1'!F136","v":0}]
[null,132,{"$f":"'1'!C137","v":0},{"$f":"'1'!D137","v":0},{"$f":"'1'!E137","v":0},{"$f":"'1'!F137","v":0}]
[null,133,{"$f":"'1'!C138","v":0},{"$f":"'1'!D138","v":0},{"$f":"'1'!E138","v":0},{"$f":"'1'!F138","v":0}]
[null,134,{"$f":"'1'!C139","v":0},{"$f":"'1'!D139","v":0},{"$f":"'1'!E139","v":0},{"$f":"'1'!F139","v":0}]
[null,135,{"$f":"'1'!C140","v":0},{"$f":"'1'!D140","v":0},{"$f":"'1'!E140","v":0},{"$f":"'1'!F140","v":0}]
[null,136,{"$f":"'1'!C141","v":0},{"$f":"'1'!D141","v":0},{"$f":"'1'!E141","v":0},{"$f":"'1'!F141","v":0}]
[null,137,{"$f":"'1'!C142","v":0},{"$f":"'1'!D142","v":0},{"$f":"'1'!E142","v":0},{"$f":"'1'!F142","v":0}]
[null,138,{"$f":"'1'!C143","v":0},{"$f":"'1'!D143","v":0},{"$f":"'1'!E143","v":0},{"$f":"'1'!F143","v":0}]
[null,139,{"$f":"'1'!C144","v":0},{"$f":"'1'!D144","v":0},{"$f":"'1'!E144","v":0},{"$f":"'1'!F144","v":0}]
[null,140,{"$f":"'1'!C145","v":0},{"$f":"'1'!D145","v":0},{"$f":"'1'!E145","v":0},{"$f":"'1'!F145","v":0}]
[null,141,{"$f":"'1'!C146","v":0},{"$f":"'1'!D146","v":0},{"$f":"'1'!E146","v":0},{"$f":"'1'!F146","v":0}]
[null,142,{"$f":"'1'!C147","v":0},{"$f":"'1'!D147","v":0},{"$f":"'1'!E147","v":0},{"$f":"'1'!F147","v":0}]
[null,143,{"$f":"'1'!C148","v":0},{"$f":"'1'!D148","v":0},{"$f":"'1'!E148","v":0},{"$f":"'1'!F148","v":0}]
[null,144,{"$f":"'1'!C149","v":0},{"$f":"'1'!D149","v":0},{"$f":"'1'!E149","v":0},{"$f":"'1'!F149","v":0}]
[null,145,{"$f":"'1'!C150","v":0},{"$f":"'1'!D150","v":0},{"$f":"'1'!E150","v":0},{"$f":"'1'!F150","v":0}]
[null,146,{"$f":"'1'!C151","v":0},{"$f":"'1'!D151","v":0},{"$f":"'1'!E151","v":0},{"$f":"'1'!F151","v":0}]
[null,147,{"$f":"'1'!C152","v":0},{"$f":"'1'!D152","v":0},{"$f":"'1'!E152","v":0},{"$f":"'1'!F152","v":0}]
[null,148,{"$f":"'1'!C153","v":0},{"$f":"'1'!D153","v":0},{"$f":"'1'!E153","v":0},{"$f":"'1'!F153","v":0}]
[null,149,{"$f":"'1'!C154","v":0},{"$f":"'1'!D154","v":0},{"$f":"'1'!E154","v":0},{"$f":"'1'!F154","v":0}]
[null,150,{"$f":"'1'!C155","v":0},{"$f":"'1'!D155","v":0},{"$f":"'1'!E155","v":0},{"$f":"'1'!F155","v":0}]
[null,151,{"$f":"'1'!C156","v":0},{"$f":"'1'!D156","v":0},{"$f":"'1'!E156","v":0},{"$f":"'1'!F156","v":0}]
[null,152,{"$f":"'1'!C157","v":0},{"$f":"'1'!D157","v":0},{"$f":"'1'!E157","v":0},{"$f":"'1'!F157","v":0}]
[null,153,{"$f":"'1'!C158","v":0},{"$f":"'1'!D158","v":0},{"$f":"'1'!E158","v":0},{"$f":"'1'!F158","v":0}]
[null,154,{"$f":"'1'!C159","v":0},{"$f":"'1'!D159","v":0},{"$f":"'1'!E159","v":0},{"$f":"'1'!F159","v":0}]
[null,155,{"$f":"'1'!C160","v":0},{"$f":"'1'!D160","v":0},{"$f":"'1'!E160","v":0},{"$f":"'1'!F160","v":0}]
[null,156,{"$f":"'1'!C161","v":0},{"$f":"'1'!D161","v":0},{"$f":"'1'!E161","v":0},{"$f":"'1'!F161","v":0}]
[null,157,{"$f":"'1'!C162","v":0},{"$f":"'1'!D162","v":0},{"$f":"'1'!E162","v":0},{"$f":"'1'!F162","v":0}]
[null,158,{"$f":"'1'!C163","v":0},{"$f":"'1'!D163","v":0},{"$f":"'1'!E163","v":0},{"$f":"'1'!F163","v":0}]
[null,159,{"$f":"'1'!C164","v":0},{"$f":"'1'!D164","v":0},{"$f":"'1'!E164","v":0},{"$f":"'1'!F164","v":0}]
[null,160,{"$f":"'1'!C165","v":0},{"$f":"'1'!D165","v":0},{"$f":"'1'!E165","v":0},{"$f":"'1'!F165","v":0}]
[null,161,{"$f":"'1'!C166","v":0},{"$f":"'1'!D166","v":0},{"$f":"'1'!E166","v":0},{"$f":"'1'!F166","v":0}]
[null,162,{"$f":"'1'!C167","v":0},{"$f":"'1'!D167","v":0},{"$f":"'1'!E167","v":0},{"$f":"'1'!F167","v":0}]
[null,163,{"$f":"'1'!C168","v":0},{"$f":"'1'!D168","v":0},{"$f":"'1'!E168","v":0},{"$f":"'1'!F168","v":0}]
[null,164,{"$f":"'1'!C169","v":0},{"$f":"'1'!D169","v":0},{"$f":"'1'!E169","v":0},{"$f":"'1'!F169","v":0}]
[null,165,{"$f":"'1'!C170","v":0},{"$f":"'1'!D170","v":0},{"$f":"'1'!E170","v":0},{"$f":"'1'!F170","v":0}]
[null,166,{"$f":"'1'!C171","v":0},{"$f":"'1'!D171","v":0},{"$f":"'1'!E171","v":0},{"$f":"'1'!F171","v":0}]
[null,167,{"$f":"'1'!C172","v":0},{"$f":"'1'!D172","v":0},{"$f":"'1'!E172","v":0},{"$f":"'1'!F172","v":0}]
[null,168,{"$f":"'1'!C173","v":0},{"$f":"'1'!D173","v":0},{"$f":"'1'!E173","v":0},{"$f":"'1'!F173","v":0}]
[null,169,{"$f":"'1'!C174","v":0},{"$f":"'1'!D174","v":0},{"$f":"'1'!E174","v":0},{"$f":"'1'!F174","v":0}]
[null,170,{"$f":"'1'!C175","v":0},{"$f":"'1'!D175","v":0},{"$f":"'1'!E175","v":0},{"$f":"'1'!F175","v":0}]
[null,171,{"$f":"'1'!C176","v":0},{"$f":"'1'!D176","v":0},{"$f":"'1'!E176","v":0},{"$f":"'1'!F176","v":0}]
[null,172,{"$f":"'1'!C177","v":0},{"$f":"'1'!D177","v":0},{"$f":"'1'!E177","v":0},{"$f":"'1'!F177","v":0}]
[null,173,{"$f":"'1'!C178","v":0},{"$f":"'1'!D178","v":0},{"$f":"'1'!E178","v":0},{"$f":"'1'!F178","v":0}]
[null,174,{"$f":"'1'!C179","v":0},{"$f":"'1'!D179","v":0},{"$f":"'1'!E179","v":0},{"$f":"'1'!F179","v":0}]
[null,175,{"$f":"'1'!C180","v":0},{"$f":"'1'!D180","v":0},{"$f":"'1'!E180","v":0},{"$f":"'1'!F180","v":0}]
[null,176,{"$f":"'1'!C181","v":0},{"$f":"'1'!D181","v":0},{"$f":"'1'!E181","v":0},{"$f":"'1'!F181","v":0}]
[null,177,{"$f":"'1'!C182","v":0},{"$f":"'1'!D182","v":0},{"$f":"'1'!E182","v":0},{"$f":"'1'!F182","v":0}]
[null,178,{"$f":"'1'!C183","v":0},{"$f":"'1'!D183","v":0},{"$f":"'1'!E183","v":0},{"$f":"'1'!F183","v":0}]
[null,179,{"$f":"'1'!C184","v":0},{"$f":"'1'!D184","v":0},{"$f":"'1'!E184","v":0},{"$f":"'1'!F184","v":0}]
[null,180,{"$f":"'1'!C185","v":0},{"$f":"'1'!D185","v":0},{"$f":"'1'!E185","v":0},{"$f":"'1'!F185","v":0}]
[null,181,{"$f":"'1'!C186","v":0},{"$f":"'1'!D186","v":0},{"$f":"'1'!E186","v":0},{"$f":"'1'!F186","v":0}]
[null,182,{"$f":"'1'!C187","v":0},{"$f":"'1'!D187","v":0},{"$f":"'1'!E187","v":0},{"$f":"'1'!F187","v":0}]
[null,183,{"$f":"'1'!C188","v":0},{"$f":"'1'!D188","v":0},{"$f":"'1'!E188","v":0},{"$f":"'1'!F188","v":0}]
[null,184,{"$f":"'1'!C189","v":0},{"$f":"'1'!D189","v":0},{"$f":"'1'!E189","v":0},{"$f":"'1'!F189","v":0}]
[null,185,{"$f":"'1'!C190","v":0},{"$f":"'1'!D190","v":0},{"$f":"'1'!E190","v":0},{"$f":"'1'!F190","v":0}]
[null,186,{"$f":"'1'!C191","v":0},{"$f":"'1'!D191","v":0},{"$f":"'1'!E191","v":0},{"$f":"'1'!F191","v":0}]
[null,187,{"$f":"'1'!C192","v":0},{"$f":"'1'!D192","v":0},{"$f":"'1'!E192","v":0},{"$f":"'1'!F192","v":0}]
[null,188,{"$f":"'1'!C193","v":0},{"$f":"'1'!D193","v":0},{"$f":"'1'!E193","v":0},{"$f":"'1'!F193","v":0}]
[null,189,{"$f":"'1'!C194","v":0},{"$f":"'1'!D194","v":0},{"$f":"'1'!E194","v":0},{"$f":"'1'!F194","v":0}]
[null,190,{"$f":"'1'!C195","v":0},{"$f":"'1'!D195","v":0},{"$f":"'1'!E195","v":0},{"$f":"'1'!F195","v":0}]
[null,191,{"$f":"'1'!C196","v":0},{"$f":"'1'!D196","v":0},{"$f":"'1'!E196","v":0},{"$f":"'1'!F196","v":0}]
[null,192,{"$f":"'1'!C197","v":0},{"$f":"'1'!D197","v":0},{"$f":"'1'!E197","v":0},{"$f":"'1'!F197","v":0}]
[null,193,{"$f":"'1'!C198","v":0},{"$f":"'1'!D198","v":0},{"$f":"'1'!E198","v":0},{"$f":"'1'!F198","v":0}]
[null,194,{"$f":"'1'!C199","v":0},{"$f":"'1'!D199","v":0},{"$f":"'1'!E199","v":0},{"$f":"'1'!F199","v":0}]
[null,195,{"$f":"'1'!C200","v":0},{"$f":"'1'!D200","v":0},{"$f":"'1'!E200","v":0},{"$f":"'1'!F200","v":0}]
[null,196,{"$f":"'1'!C201","v":0},{"$f":"'1'!D201","v":0},{"$f":"'1'!E201","v":0},{"$f":"'1'!F201","v":0}]
[null,197,{"$f":"'1'!C202","v":0},{"$f":"'1'!D202","v":0},{"$f":"'1'!E202","v":0},{"$f":"'1'!F202","v":0}]
[null,198,{"$f":"'1'!C203","v":0},{"$f":"'1'!D203","v":0},{"$f":"'1'!E203","v":0},{"$f":"'1'!F203","v":0}]
[null,199,{"$f":"'1'!C204","v":0},{"$f":"'1'!D204","v":0},{"$f":"'1'!E204","v":0},{"$f":"'1'!F204","v":0}]
[null,200,{"$f":"'1'!C205","v":0},{"$f":"'1'!D205","v":0},{"$f":"'1'!E205","v":0},{"$f":"'1'!F205","v":0}]
[null,201,{"$f":"'1'!C206","v":0},{"$f":"'1'!D206","v":0},{"$f":"'1'!E206","v":0},{"$f":"'1'!F206","v":0}]
[null,202,{"$f":"'1'!C207","v":0},{"$f":"'1'!D207","v":0},{"$f":"'1'!E207","v":0},{"$f":"'1'!F207","v":0}]
[null,203,{"$f":"'1'!C208","v":0},{"$f":"'1'!D208","v":0},{"$f":"'1'!E208","v":0},{"$f":"'1'!F208","v":0}]
[null,204,{"$f":"'1'!C209","v":0},{"$f":"'1'!D209","v":0},{"$f":"'1'!E209","v":0},{"$f":"'1'!F209","v":0}]
[null,205,{"$f":"'1'!C210","v":0},{"$f":"'1'!D210","v":0},{"$f":"'1'!E210","v":0},{"$f":"'1'!F210","v":0}]
[null,206,{"$f":"'1'!C211","v":0},{"$f":"'1'!D211","v":0},{"$f":"'1'!E211","v":0},{"$f":"'1'!F211","v":0}]
[null,207,{"$f":"'1'!C212","v":0},{"$f":"'1'!D212","v":0},{"$f":"'1'!E212","v":0},{"$f":"'1'!F212","v":0}]
[null,208,{"$f":"'1'!C213","v":0},{"$f":"'1'!D213","v":0},{"$f":"'1'!E213","v":0},{"$f":"'1'!F213","v":0}]
[null,209,{"$f":"'1'!C214","v":0},{"$f":"'1'!D214","v":0},{"$f":"'1'!E214","v":0},{"$f":"'1'!F214","v":0}]
[null,210,{"$f":"'1'!C215","v":0},{"$f":"'1'!D215","v":0},{"$f":"'1'!E215","v":0},{"$f":"'1'!F215","v":0}]
[null,211,{"$f":"'1'!C216","v":0},{"$f":"'1'!D216","v":0},{"$f":"'1'!E216","v":0},{"$f":"'1'!F216","v":0}]
[null,212,{"$f":"'1'!C217","v":0},{"$f":"'1'!D217","v":0},{"$f":"'1'!E217","v":0},{"$f":"'1'!F217","v":0}]
[null,213,{"$f":"'1'!C218","v":0},{"$f":"'1'!D218","v":0},{"$f":"'1'!E218","v":0},{"$f":"'1'!F218","v":0}]
[null,214,{"$f":"'1'!C219","v":0},{"$f":"'1'!D219","v":0},{"$f":"'1'!E219","v":0},{"$f":"'1'!F219","v":0}]
[null,215,{"$f":"'1'!C220","v":0},{"$f":"'1'!D220","v":0},{"$f":"'1'!E220","v":0},{"$f":"'1'!F220","v":0}]
[null,216,{"$f":"'1'!C221","v":0},{"$f":"'1'!D221","v":0},{"$f":"'1'!E221","v":0},{"$f":"'1'!F221","v":0}]
[null,217,{"$f":"'1'!C222","v":0},{"$f":"'1'!D222","v":0},{"$f":"'1'!E222","v":0},{"$f":"'1'!F222","v":0}]
[null,218,{"$f":"'1'!C223","v":0},{"$f":"'1'!D223","v":0},{"$f":"'1'!E223","v":0},{"$f":"'1'!F223","v":0}]
[null,219,{"$f":"'1'!C224","v":0},{"$f":"'1'!D224","v":0},{"$f":"'1'!E224","v":0},{"$f":"'1'!F224","v":0}]
[null,220,{"$f":"'1'!C225","v":0},{"$f":"'1'!D225","v":0},{"$f":"'1'!E225","v":0},{"$f":"'1'!F225","v":0}]
[null,221,{"$f":"'1'!C226","v":0},{"$f":"'1'!D226","v":0},{"$f":"'1'!E226","v":0},{"$f":"'1'!F226","v":0}]
[null,222,{"$f":"'1'!C227","v":0},{"$f":"'1'!D227","v":0},{"$f":"'1'!E227","v":0},{"$f":"'1'!F227","v":0}]
[null,223,{"$f":"'1'!C228","v":0},{"$f":"'1'!D228","v":0},{"$f":"'1'!E228","v":0},{"$f":"'1'!F228","v":0}]
[null,224,{"$f":"'1'!C229","v":0},{"$f":"'1'!D229","v":0},{"$f":"'1'!E229","v":0},{"$f":"'1'!F229","v":0}]
[null,225,{"$f":"'1'!C230","v":0},{"$f":"'1'!D230","v":0},{"$f":"'1'!E230","v":0},{"$f":"'1'!F230","v":0}]
[null,226,{"$f":"'1'!C231","v":0},{"$f":"'1'!D231","v":0},{"$f":"'1'!E231","v":0},{"$f":"'1'!F231","v":0}]
[null,227,{"$f":"'1'!C232","v":0},{"$f":"'1'!D232","v":0},{"$f":"'1'!E232","v":0},{"$f":"'1'!F232","v":0}]
[null,228,{"$f":"'1'!C233","v":0},{"$f":"'1'!D233","v":0},{"$f":"'1'!E233","v":0},{"$f":"'1'!F233","v":0}]
[null,229,{"$f":"'1'!C234","v":0},{"$f":"'1'!D234","v":0},{"$f":"'1'!E234","v":0},{"$f":"'1'!F234","v":0}]
[null,230,{"$f":"'1'!C235","v":0},{"$f":"'1'!D235","v":0},{"$f":"'1'!E235","v":0},{"$f":"'1'!F235","v":0}]
[null,231,{"$f":"'1'!C236","v":0},{"$f":"'1'!D236","v":0},{"$f":"'1'!E236","v":0},{"$f":"'1'!F236","v":0}]
[null,232,{"$f":"'1'!C237","v":0},{"$f":"'1'!D237","v":0},{"$f":"'1'!E237","v":0},{"$f":"'1'!F237","v":0}]
[null,233,{"$f":"'1'!C238","v":0},{"$f":"'1'!D238","v":0},{"$f":"'1'!E238","v":0},{"$f":"'1'!F238","v":0}]
[null,234,{"$f":"'1'!C239","v":0},{"$f":"'1'!D239","v":0},{"$f":"'1'!E239","v":0},{"$f":"'1'!F239","v":0}]
[null,235,{"$f":"'1'!C240","v":0},{"$f":"'1'!D240","v":0},{"$f":"'1'!E240","v":0},{"$f":"'1'!F240","v":0}]
[null,236,{"$f":"'1'!C241","v":0},{"$f":"'1'!D241","v":0},{"$f":"'1'!E241","v":0},{"$f":"'1'!F241","v":0}]
[null,237,{"$f":"'1'!C242","v":0},{"$f":"'1'!D242","v":0},{"$f":"'1'!E242","v":0},{"$f":"'1'!F242","v":0}]
[null,238,{"$f":"'1'!C243","v":0},{"$f":"'1'!D243","v":0},{"$f":"'1'!E243","v":0},{"$f":"'1'!F243","v":0}]
[null,239,{"$f":"'1'!C244","v":0},{"$f":"'1'!D244","v":0},{"$f":"'1'!E244","v":0},{"$f":"'1'!F244","v":0}]
[null,240,{"$f":"'1'!C245","v":0},{"$f":"'1'!D245","v":0},{"$f":"'1'!E245","v":0},{"$f":"'1'!F245","v":0}]
[null,241,{"$f":"'1'!C246","v":0},{"$f":"'1'!D246","v":0},{"$f":"'1'!E246","v":0},{"$f":"'1'!F246","v":0}]
[null,242,{"$f":"'1'!C247","v":0},{"$f":"'1'!D247","v":0},{"$f":"'1'!E247","v":0},{"$f":"'1'!F247","v":0}]
[null,243,{"$f":"'1'!C248","v":0},{"$f":"'1'!D248","v":0},{"$f":"'1'!E248","v":0},{"$f":"'1'!F248","v":0}]
[null,244,{"$f":"'1'!C249","v":0},{"$f":"'1'!D249","v":0},{"$f":"'1'!E249","v":0},{"$f":"'1'!F249","v":0}]
[null,245,{"$f":"'1'!C250","v":0},{"$f":"'1'!D250","v":0},{"$f":"'1'!E250","v":0},{"$f":"'1'!F250","v":0}]
[null,246,{"$f":"'1'!C251","v":0},{"$f":"'1'!D251","v":0},{"$f":"'1'!E251","v":0},{"$f":"'1'!F251","v":0}]
[null,247,{"$f":"'1'!C252","v":0},{"$f":"'1'!D252","v":0},{"$f":"'1'!E252","v":0},{"$f":"'1'!F252","v":0}]
[null,248,{"$f":"'1'!C253","v":0},{"$f":"'1'!D253","v":0},{"$f":"'1'!E253","v":0},{"$f":"'1'!F253","v":0}]
[null,249,{"$f":"'1'!C254","v":0},{"$f":"'1'!D254","v":0},{"$f":"'1'!E254","v":0},{"$f":"'1'!F254","v":0}]
[null,250,{"$f":"'1'!C255","v":0},{"$f":"'1'!D255","v":0},{"$f":"'1'!E255","v":0},{"$f":"'1'!F255","v":0}]
[null,251,{"$f":"'1'!C256","v":0},{"$f":"'1'!D256","v":0},{"$f":"'1'!E256","v":0},{"$f":"'1'!F256","v":0}]
[null,252,{"$f":"'1'!C257","v":0},{"$f":"'1'!D257","v":0},{"$f":"'1'!E257","v":0},{"$f":"'1'!F257","v":0}]
[null,253,{"$f":"'1'!C258","v":0},{"$f":"'1'!D258","v":0},{"$f":"'1'!E258","v":0},{"$f":"'1'!F258","v":0}]
[null,254,{"$f":"'1'!C259","v":0},{"$f":"'1'!D259","v":0},{"$f":"'1'!E259","v":0},{"$f":"'1'!F259","v":0}]
[null,255,{"$f":"'1'!C260","v":0},{"$f":"'1'!D260","v":0},{"$f":"'1'!E260","v":0},{"$f":"'1'!F260","v":0}]
[null,256,{"$f":"'1'!C261","v":0},{"$f":"'1'!D261","v":0},{"$f":"'1'!E261","v":0},{"$f":"'1'!F261","v":0}]
[null,257,{"$f":"'1'!C262","v":0},{"$f":"'1'!D262","v":0},{"$f":"'1'!E262","v":0},{"$f":"'1'!F262","v":0}]
[null,258,{"$f":"'1'!C263","v":0},{"$f":"'1'!D263","v":0},{"$f":"'1'!E263","v":0},{"$f":"'1'!F263","v":0}]
[null,259,{"$f":"'1'!C264","v":0},{"$f":"'1'!D264","v":0},{"$f":"'1'!E264","v":0},{"$f":"'1'!F264","v":0}]
[null,260,{"$f":"'1'!C265","v":0},{"$f":"'1'!D265","v":0},{"$f":"'1'!E265","v":0},{"$f":"'1'!F265","v":0}]
[null,261,{"$f":"'1'!C266","v":0},{"$f":"'1'!D266","v":0},{"$f":"'1'!E266","v":0},{"$f":"'1'!F266","v":0}]
[null,262,{"$f":"'1'!C267","v":0},{"$f":"'1'!D267","v":0},{"$f":"'1'!E267","v":0},{"$f":"'1'!F267","v":0}]
[null,263,{"$f":"'1'!C268","v":0},{"$f":"'1'!D268","v":0},{"$f":"'1'!E268","v":0},{"$f":"'1'!F268","v":0}]
[null,264,{"$f":"'1'!C269","v":0},{"$f":"'1'!D269","v":0},{"$f":"'1'!E269","v":0},{"$f":"'1'!F269","v":0}]
[null,265,{"$f":"'1'!C270","v":0},{"$f":"'1'!D270","v":0},{"$f":"'1'!E270","v":0},{"$f":"'1'!F270","v":0}]
[null,266,{"$f":"'1'!C271","v":0},{"$f":"'1'!D271","v":0},{"$f":"'1'!E271","v":0},{"$f":"'1'!F271","v":0}]
[null,267,{"$f":"'1'!C272","v":0},{"$f":"'1'!D272","v":0},{"$f":"'1'!E272","v":0},{"$f":"'1'!F272","v":0}]
[null,268,{"$f":"'1'!C273","v":0},{"$f":"'1'!D273","v":0},{"$f":"'1'!E273","v":0},{"$f":"'1'!F273","v":0}]
[null,269,{"$f":"'1'!C274","v":0},{"$f":"'1'!D274","v":0},{"$f":"'1'!E274","v":0},{"$f":"'1'!F274","v":0}]
[null,270,{"$f":"'1'!C275","v":0},{"$f":"'1'!D275","v":0},{"$f":"'1'!E275","v":0},{"$f":"'1'!F275","v":0}]
[null,271,{"$f":"'1'!C276","v":0},{"$f":"'1'!D276","v":0},{"$f":"'1'!E276","v":0},{"$f":"'1'!F276","v":0}]
[null,272,{"$f":"'1'!C277","v":0},{"$f":"'1'!D277","v":0},{"$f":"'1'!E277","v":0},{"$f":"'1'!F277","v":0}]
[null,273,{"$f":"'1'!C278","v":0},{"$f":"'1'!D278","v":0},{"$f":"'1'!E278","v":0},{"$f":"'1'!F278","v":0}]
[null,274,{"$f":"'1'!C279","v":0},{"$f":"'1'!D279","v":0},{"$f":"'1'!E279","v":0},{"$f":"'1'!F279","v":0}]
[null,275,{"$f":"'1'!C280","v":0},{"$f":"'1'!D280","v":0},{"$f":"'1'!E280","v":0},{"$f":"'1'!F280","v":0}]
[null,276,{"$f":"'1'!C281","v":0},{"$f":"'1'!D281","v":0},{"$f":"'1'!E281","v":0},{"$f":"'1'!F281","v":0}]
[null,277,{"$f":"'1'!C282","v":0},{"$f":"'1'!D282","v":0},{"$f":"'1'!E282","v":0},{"$f":"'1'!F282","v":0}]
[null,278,{"$f":"'1'!C283","v":0},{"$f":"'1'!D283","v":0},{"$f":"'1'!E283","v":0},{"$f":"'1'!F283","v":0}]
[null,279,{"$f":"'1'!C284","v":0},{"$f":"'1'!D284","v":0},{"$f":"'1'!E284","v":0},{"$f":"'1'!F284","v":0}]
[null,280,{"$f":"'1'!C285","v":0},{"$f":"'1'!D285","v":0},{"$f":"'1'!E285","v":0},{"$f":"'1'!F285","v":0}]
[null,281,{"$f":"'1'!C286","v":0},{"$f":"'1'!D286","v":0},{"$f":"'1'!E286","v":0},{"$f":"'1'!F286","v":0}]
[null,282,{"$f":"'1'!C287","v":0},{"$f":"'1'!D287","v":0},{"$f":"'1'!E287","v":0},{"$f":"'1'!F287","v":0}]
[null,283,{"$f":"'1'!C288","v":0},{"$f":"'1'!D288","v":0},{"$f":"'1'!E288","v":0},{"$f":"'1'!F288","v":0}]
[null,284,{"$f":"'1'!C289","v":0},{"$f":"'1'!D289","v":0},{"$f":"'1'!E289","v":0},{"$f":"'1'!F289","v":0}]
[null,285,{"$f":"'1'!C290","v":0},{"$f":"'1'!D290","v":0},{"$f":"'1'!E290","v":0},{"$f":"'1'!F290","v":0}]
[null,286,{"$f":"'1'!C291","v":0},{"$f":"'1'!D291","v":0},{"$f":"'1'!E291","v":0},{"$f":"'1'!F291","v":0}]
[null,287,{"$f":"'1'!C292","v":0},{"$f":"'1'!D292","v":0},{"$f":"'1'!E292","v":0},{"$f":"'1'!F292","v":0}]
[null,288,{"$f":"'1'!C293","v":0},{"$f":"'1'!D293","v":0},{"$f":"'1'!E293","v":0},{"$f":"'1'!F293","v":0}]
[null,289,{"$f":"'1'!C294","v":0},{"$f":"'1'!D294","v":0},{"$f":"'1'!E294","v":0},{"$f":"'1'!F294","v":0}]
[null,290,{"$f":"'1'!C295","v":0},{"$f":"'1'!D295","v":0},{"$f":"'1'!E295","v":0},{"$f":"'1'!F295","v":0}]
[null,291,{"$f":"'1'!C296","v":0},{"$f":"'1'!D296","v":0},{"$f":"'1'!E296","v":0},{"$f":"'1'!F296","v":0}]
[null,292,{"$f":"'1'!C297","v":0},{"$f":"'1'!D297","v":0},{"$f":"'1'!E297","v":0},{"$f":"'1'!F297","v":0}]
[null,293,{"$f":"'1'!C298","v":0},{"$f":"'1'!D298","v":0},{"$f":"'1'!E298","v":0},{"$f":"'1'!F298","v":0}]
[null,294,{"$f":"'1'!C299","v":0},{"$f":"'1'!D299","v":0},{"$f":"'1'!E299","v":0},{"$f":"'1'!F299","v":0}]
[null,295,{"$f":"'1'!C300","v":0},{"$f":"'1'!D300","v":0},{"$f":"'1'!E300","v":0},{"$f":"'1'!F300","v":0}]
[null,296,{"$f":"'1'!C301","v":0},{"$f":"'1'!D301","v":0},{"$f":"'1'!E301","v":0},{"$f":"'1'!F301","v":0}]
[null,297,{"$f":"'1'!C302","v":0},{"$f":"'1'!D302","v":0},{"$f":"'1'!E302","v":0},{"$f":"'1'!F302","v":0}]
[null,298,{"$f":"'1'!C303","v":0},{"$f":"'1'!D303","v":0},{"$f":"'1'!E303","v":0},{"$f":"'1'!F303","v":0}]
[null,299,{"$f":"'1'!C304","v":0},{"$f":"'1'!D304","v":0},{"$f":"'1'!E304","v":0},{"$f":"'1'!F304","v":0}]
[null,300,{"$f":"'1'!C305","v":0},{"$f":"'1'!D305","v":0},{"$f":"'1'!E305","v":0},{"$f":"'1'!F305","v":0}]
[null,301,{"$f":"'2'!C6","v":0},{"$f":"'2'!D6","v":0},{"$f":"'2'!E6","v":0},{"$f":"'2'!F6","v":0}]
[null,302,{"$f":"'2'!C7","v":0},{"$f":"'2'!D7","v":0},{"$f":"'2'!E7","v":0},{"$f":"'2'!F7","v":0}]
[null,303,{"$f":"'2'!C8","v":0},{"$f":"'2'!D8","v":0},{"$f":"'2'!E8","v":0},{"$f":"'2'!F8","v":0}]
[null,304,{"$f":"'2'!C9","v":0},{"$f":"'2'!D9","v":0},{"$f":"'2'!E9","v":0},{"$f":"'2'!F9","v":0}]
[null,305,{"$f":"'2'!C10","v":0},{"$f":"'2'!D10","v":0},{"$f":"'2'!E10","v":0},{"$f":"'2'!F10","v":0}]
[null,306,{"$f":"'2'!C11","v":0},{"$f":"'2'!D11","v":0},{"$f":"'2'!E11","v":0},{"$f":"'2'!F11","v":0}]
[null,307,{"$f":"'2'!C12","v":0},{"$f":"'2'!D12","v":0},{"$f":"'2'!E12","v":0},{"$f":"'2'!F12","v":0}]
[null,308,{"$f":"'2'!C13","v":0},{"$f":"'2'!D13","v":0},{"$f":"'2'!E13","v":0},{"$f":"'2'!F13","v":0}]
[null,309,{"$f":"'2'!C14","v":0},{"$f":"'2'!D14","v":0},{"$f":"'2'!E14","v":0},{"$f":"'2'!F14","v":0}]
[null,310,{"$f":"'2'!C15","v":0},{"$f":"'2'!D15","v":0},{"$f":"'2'!E15","v":0},{"$f":"'2'!F15","v":0}]
[null,311,{"$f":"'2'!C16","v":0},{"$f":"'2'!D16","v":0},{"$f":"'2'!E16","v":0},{"$f":"'2'!F16","v":0}]
[null,312,{"$f":"'2'!C17","v":0},{"$f":"'2'!D17","v":0},{"$f":"'2'!E17","v":0},{"$f":"'2'!F17","v":0}]
[null,313,{"$f":"'2'!C18","v":0},{"$f":"'2'!D18","v":0},{"$f":"'2'!E18","v":0},{"$f":"'2'!F18","v":0}]
[null,314,{"$f":"'2'!C19","v":0},{"$f":"'2'!D19","v":0},{"$f":"'2'!E19","v":0},{"$f":"'2'!F19","v":0}]
[null,315,{"$f":"'2'!C20","v":0},{"$f":"'2'!D20","v":0},{"$f":"'2'!E20","v":0},{"$f":"'2'!F20","v":0}]
[null,316,{"$f":"'2'!C21","v":0},{"$f":"'2'!D21","v":0},{"$f":"'2'!E21","v":0},{"$f":"'2'!F21","v":0}]
[null,317,{"$f":"'2'!C22","v":0},{"$f":"'2'!D22","v":0},{"$f":"'2'!E22","v":0},{"$f":"'2'!F22","v":0}]
[null,318,{"$f":"'2'!C23","v":0},{"$f":"'2'!D23","v":0},{"$f":"'2'!E23","v":0},{"$f":"'2'!F23","v":0}]
[null,319,{"$f":"'2'!C24","v":0},{"$f":"'2'!D24","v":0},{"$f":"'2'!E24","v":0},{"$f":"'2'!F24","v":0}]
[null,320,{"$f":"'2'!C25","v":0},{"$f":"'2'!D25","v":0},{"$f":"'2'!E25","v":0},{"$f":"'2'!F25","v":0}]
[null,321,{"$f":"'2'!C26","v":0},{"$f":"'2'!D26","v":0},{"$f":"'2'!E26","v":0},{"$f":"'2'!F26","v":0}]
[null,322,{"$f":"'2'!C27","v":0},{"$f":"'2'!D27","v":0},{"$f":"'2'!E27","v":0},{"$f":"'2'!F27","v":0}]
[null,323,{"$f":"'2'!C28","v":0},{"$f":"'2'!D28","v":0},{"$f":"'2'!E28","v":0},{"$f":"'2'!F28","v":0}]
[null,324,{"$f":"'2'!C29","v":0},{"$f":"'2'!D29","v":0},{"$f":"'2'!E29","v":0},{"$f":"'2'!F29","v":0}]
[null,325,{"$f":"'2'!C30","v":0},{"$f":"'2'!D30","v":0},{"$f":"'2'!E30","v":0},{"$f":"'2'!F30","v":0}]
[null,326,{"$f":"'2'!C31","v":0},{"$f":"'2'!D31","v":0},{"$f":"'2'!E31","v":0},{"$f":"'2'!F31","v":0}]
[null,327,{"$f":"'2'!C32","v":0},{"$f":"'2'!D32","v":0},{"$f":"'2'!E32","v":0},{"$f":"'2'!F32","v":0}]
[null,328,{"$f":"'2'!C33","v":0},{"$f":"'2'!D33","v":0},{"$f":"'2'!E33","v":0},{"$f":"'2'!F33","v":0}]
[null,329,{"$f":"'2'!C34","v":0},{"$f":"'2'!D34","v":0},{"$f":"'2'!E34","v":0},{"$f":"'2'!F34","v":0}]
[null,330,{"$f":"'2'!C35","v":0},{"$f":"'2'!D35","v":0},{"$f":"'2'!E35","v":0},{"$f":"'2'!F35","v":0}]
[null,331,{"$f":"'2'!C36","v":0},{"$f":"'2'!D36","v":0},{"$f":"'2'!E36","v":0},{"$f":"'2'!F36","v":0}]
[null,332,{"$f":"'2'!C37","v":0},{"$f":"'2'!D37","v":0},{"$f":"'2'!E37","v":0},{"$f":"'2'!F37","v":0}]
[null,333,{"$f":"'2'!C38","v":0},{"$f":"'2'!D38","v":0},{"$f":"'2'!E38","v":0},{"$f":"'2'!F38","v":0}]
[null,334,{"$f":"'2'!C39","v":0},{"$f":"'2'!D39","v":0},{"$f":"'2'!E39","v":0},{"$f":"'2'!F39","v":0}]
[null,335,{"$f":"'2'!C40","v":0},{"$f":"'2'!D40","v":0},{"$f":"'2'!E40","v":0},{"$f":"'2'!F40","v":0}]
[null,336,{"$f":"'2'!C41","v":0},{"$f":"'2'!D41","v":0},{"$f":"'2'!E41","v":0},{"$f":"'2'!F41","v":0}]
[null,337,{"$f":"'2'!C42","v":0},{"$f":"'2'!D42","v":0},{"$f":"'2'!E42","v":0},{"$f":"'2'!F42","v":0}]
[null,338,{"$f":"'2'!C43","v":0},{"$f":"'2'!D43","v":0},{"$f":"'2'!E43","v":0},{"$f":"'2'!F43","v":0}]
[null,339,{"$f":"'2'!C44","v":0},{"$f":"'2'!D44","v":0},{"$f":"'2'!E44","v":0},{"$f":"'2'!F44","v":0}]
[null,340,{"$f":"'2'!C45","v":0},{"$f":"'2'!D45","v":0},{"$f":"'2'!E45","v":0},{"$f":"'2'!F45","v":0}]
[null,341,{"$f":"'2'!C46","v":0},{"$f":"'2'!D46","v":0},{"$f":"'2'!E46","v":0},{"$f":"'2'!F46","v":0}]
[null,342,{"$f":"'2'!C47","v":0},{"$f":"'2'!D47","v":0},{"$f":"'2'!E47","v":0},{"$f":"'2'!F47","v":0}]
[null,343,{"$f":"'2'!C48","v":0},{"$f":"'2'!D48","v":0},{"$f":"'2'!E48","v":0},{"$f":"'2'!F48","v":0}]
[null,344,{"$f":"'2'!C49","v":0},{"$f":"'2'!D49","v":0},{"$f":"'2'!E49","v":0},{"$f":"'2'!F49","v":0}]
[null,345,{"$f":"'2'!C50","v":0},{"$f":"'2'!D50","v":0},{"$f":"'2'!E50","v":0},{"$f":"'2'!F50","v":0}]
[null,346,{"$f":"'2'!C51","v":0},{"$f":"'2'!D51","v":0},{"$f":"'2'!E51","v":0},{"$f":"'2'!F51","v":0}]
[null,347,{"$f":"'2'!C52","v":0},{"$f":"'2'!D52","v":0},{"$f":"'2'!E52","v":0},{"$f":"'2'!F52","v":0}]
[null,348,{"$f":"'2'!C53","v":0},{"$f":"'2'!D53","v":0},{"$f":"'2'!E53","v":0},{"$f":"'2'!F53","v":0}]
[null,349,{"$f":"'2'!C54","v":0},{"$f":"'2'!D54","v":0},{"$f":"'2'!E54","v":0},{"$f":"'2'!F54","v":0}]
[null,350,{"$f":"'2'!C55","v":0},{"$f":"'2'!D55","v":0},{"$f":"'2'!E55","v":0},{"$f":"'2'!F55","v":0}]
[null,351,{"$f":"'2'!C56","v":0},{"$f":"'2'!D56","v":0},{"$f":"'2'!E56","v":0},{"$f":"'2'!F56","v":0}]
[null,352,{"$f":"'2'!C57","v":0},{"$f":"'2'!D57","v":0},{"$f":"'2'!E57","v":0},{"$f":"'2'!F57","v":0}]
[null,353,{"$f":"'2'!C58","v":0},{"$f":"'2'!D58","v":0},{"$f":"'2'!E58","v":0},{"$f":"'2'!F58","v":0}]
[null,354,{"$f":"'2'!C59","v":0},{"$f":"'2'!D59","v":0},{"$f":"'2'!E59","v":0},{"$f":"'2'!F59","v":0}]
[null,355,{"$f":"'2'!C60","v":0},{"$f":"'2'!D60","v":0},{"$f":"'2'!E60","v":0},{"$f":"'2'!F60","v":0}]
[null,356,{"$f":"'2'!C61","v":0},{"$f":"'2'!D61","v":0},{"$f":"'2'!E61","v":0},{"$f":"'2'!F61","v":0}]
[null,357,{"$f":"'2'!C62","v":0},{"$f":"'2'!D62","v":0},{"$f":"'2'!E62","v":0},{"$f":"'2'!F62","v":0}]
[null,358,{"$f":"'2'!C63","v":0},{"$f":"'2'!D63","v":0},{"$f":"'2'!E63","v":0},{"$f":"'2'!F63","v":0}]
[null,359,{"$f":"'2'!C64","v":0},{"$f":"'2'!D64","v":0},{"$f":"'2'!E64","v":0},{"$f":"'2'!F64","v":0}]
[null,360,{"$f":"'2'!C65","v":0},{"$f":"'2'!D65","v":0},{"$f":"'2'!E65","v":0},{"$f":"'2'!F65","v":0}]
[null,361,{"$f":"'2'!C66","v":0},{"$f":"'2'!D66","v":0},{"$f":"'2'!E66","v":0},{"$f":"'2'!F66","v":0}]
[null,362,{"$f":"'2'!C67","v":0},{"$f":"'2'!D67","v":0},{"$f":"'2'!E67","v":0},{"$f":"'2'!F67","v":0}]
[null,363,{"$f":"'2'!C68","v":0},{"$f":"'2'!D68","v":0},{"$f":"'2'!E68","v":0},{"$f":"'2'!F68","v":0}]
[null,364,{"$f":"'2'!C69","v":0},{"$f":"'2'!D69","v":0},{"$f":"'2'!E69","v":0},{"$f":"'2'!F69","v":0}]
[null,365,{"$f":"'2'!C70","v":0},{"$f":"'2'!D70","v":0},{"$f":"'2'!E70","v":0},{"$f":"'2'!F70","v":0}]
[null,366,{"$f":"'2'!C71","v":0},{"$f":"'2'!D71","v":0},{"$f":"'2'!E71","v":0},{"$f":"'2'!F71","v":0}]
[null,367,{"$f":"'2'!C72","v":0},{"$f":"'2'!D72","v":0},{"$f":"'2'!E72","v":0},{"$f":"'2'!F72","v":0}]
[null,368,{"$f":"'2'!C73","v":0},{"$f":"'2'!D73","v":0},{"$f":"'2'!E73","v":0},{"$f":"'2'!F73","v":0}]
[null,369,{"$f":"'2'!C74","v":0},{"$f":"'2'!D74","v":0},{"$f":"'2'!E74","v":0},{"$f":"'2'!F74","v":0}]
[null,370,{"$f":"'2'!C75","v":0},{"$f":"'2'!D75","v":0},{"$f":"'2'!E75","v":0},{"$f":"'2'!F75","v":0}]
[null,371,{"$f":"'2'!C76","v":0},{"$f":"'2'!D76","v":0},{"$f":"'2'!E76","v":0},{"$f":"'2'!F76","v":0}]
[null,372,{"$f":"'2'!C77","v":0},{"$f":"'2'!D77","v":0},{"$f":"'2'!E77","v":0},{"$f":"'2'!F77","v":0}]
[null,373,{"$f":"'2'!C78","v":0},{"$f":"'2'!D78","v":0},{"$f":"'2'!E78","v":0},{"$f":"'2'!F78","v":0}]
[null,374,{"$f":"'2'!C79","v":0},{"$f":"'2'!D79","v":0},{"$f":"'2'!E79","v":0},{"$f":"'2'!F79","v":0}]
[null,375,{"$f":"'2'!C80","v":0},{"$f":"'2'!D80","v":0},{"$f":"'2'!E80","v":0},{"$f":"'2'!F80","v":0}]
[null,376,{"$f":"'2'!C81","v":0},{"$f":"'2'!D81","v":0},{"$f":"'2'!E81","v":0},{"$f":"'2'!F81","v":0}]
[null,377,{"$f":"'2'!C82","v":0},{"$f":"'2'!D82","v":0},{"$f":"'2'!E82","v":0},{"$f":"'2'!F82","v":0}]
[null,378,{"$f":"'2'!C83","v":0},{"$f":"'2'!D83","v":0},{"$f":"'2'!E83","v":0},{"$f":"'2'!F83","v":0}]
[null,379,{"$f":"'2'!C84","v":0},{"$f":"'2'!D84","v":0},{"$f":"'2'!E84","v":0},{"$f":"'2'!F84","v":0}]
[null,380,{"$f":"'2'!C85","v":0},{"$f":"'2'!D85","v":0},{"$f":"'2'!E85","v":0},{"$f":"'2'!F85","v":0}]
[null,381,{"$f":"'2'!C86","v":0},{"$f":"'2'!D86","v":0},{"$f":"'2'!E86","v":0},{"$f":"'2'!F86","v":0}]
[null,382,{"$f":"'2'!C87","v":0},{"$f":"'2'!D87","v":0},{"$f":"'2'!E87","v":0},{"$f":"'2'!F87","v":0}]
[null,383,{"$f":"'2'!C88","v":0},{"$f":"'2'!D88","v":0},{"$f":"'2'!E88","v":0},{"$f":"'2'!F88","v":0}]
[null,384,{"$f":"'2'!C89","v":0},{"$f":"'2'!D89","v":0},{"$f":"'2'!E89","v":0},{"$f":"'2'!F89","v":0}]
[null,385,{"$f":"'2'!C90","v":0},{"$f":"'2'!D90","v":0},{"$f":"'2'!E90","v":0},{"$f":"'2'!F90","v":0}]
[null,386,{"$f":"'2'!C91","v":0},{"$f":"'2'!D91","v":0},{"$f":"'2'!E91","v":0},{"$f":"'2'!F91","v":0}]
[null,387,{"$f":"'2'!C92","v":0},{"$f":"'2'!D92","v":0},{"$f":"'2'!E92","v":0},{"$f":"'2'!F92","v":0}]
[null,388,{"$f":"'2'!C93","v":0},{"$f":"'2'!D93","v":0},{"$f":"'2'!E93","v":0},{"$f":"'2'!F93","v":0}]
[null,389,{"$f":"'2'!C94","v":0},{"$f":"'2'!D94","v":0},{"$f":"'2'!E94","v":0},{"$f":"'2'!F94","v":0}]
[null,390,{"$f":"'2'!C95","v":0},{"$f":"'2'!D95","v":0},{"$f":"'2'!E95","v":0},{"$f":"'2'!F95","v":0}]
[null,391,{"$f":"'2'!C96","v":0},{"$f":"'2'!D96","v":0},{"$f":"'2'!E96","v":0},{"$f":"'2'!F96","v":0}]
[null,392,{"$f":"'2'!C97","v":0},{"$f":"'2'!D97","v":0},{"$f":"'2'!E97","v":0},{"$f":"'2'!F97","v":0}]
[null,393,{"$f":"'2'!C98","v":0},{"$f":"'2'!D98","v":0},{"$f":"'2'!E98","v":0},{"$f":"'2'!F98","v":0}]
[null,394,{"$f":"'2'!C99","v":0},{"$f":"'2'!D99","v":0},{"$f":"'2'!E99","v":0},{"$f":"'2'!F99","v":0}]
[null,395,{"$f":"'2'!C100","v":0},{"$f":"'2'!D100","v":0},{"$f":"'2'!E100","v":0},{"$f":"'2'!F100","v":0}]
[null,396,{"$f":"'2'!C101","v":0},{"$f":"'2'!D101","v":0},{"$f":"'2'!E101","v":0},{"$f":"'2'!F101","v":0}]
[null,397,{"$f":"'2'!C102","v":0},{"$f":"'2'!D102","v":0},{"$f":"'2'!E102","v":0},{"$f":"'2'!F102","v":0}]
[null,398,{"$f":"'2'!C103","v":0},{"$f":"'2'!D103","v":0},{"$f":"'2'!E103","v":0},{"$f":"'2'!F103","v":0}]
[null,399,{"$f":"'2'!C104","v":0},{"$f":"'2'!D104","v":0},{"$f":"'2'!E104","v":0},{"$f":"'2'!F104","v":0}]
[null,400,{"$f":"'2'!C105","v":0},{"$f":"'2'!D105","v":0},{"$f":"'2'!E105","v":0},{"$f":"'2'!F105","v":0}]
[null,401,{"$f":"'2'!C106","v":0},{"$f":"'2'!D106","v":0},{"$f":"'2'!E106","v":0},{"$f":"'2'!F106","v":0}]
[null,402,{"$f":"'2'!C107","v":0},{"$f":"'2'!D107","v":0},{"$f":"'2'!E107","v":0},{"$f":"'2'!F107","v":0}]
[null,403,{"$f":"'2'!C108","v":0},{"$f":"'2'!D108","v":0},{"$f":"'2'!E108","v":0},{"$f":"'2'!F108","v":0}]
[null,404,{"$f":"'2'!C109","v":0},{"$f":"'2'!D109","v":0},{"$f":"'2'!E109","v":0},{"$f":"'2'!F109","v":0}]
[null,405,{"$f":"'2'!C110","v":0},{"$f":"'2'!D110","v":0},{"$f":"'2'!E110","v":0},{"$f":"'2'!F110","v":0}]
[null,406,{"$f":"'2'!C111","v":0},{"$f":"'2'!D111","v":0},{"$f":"'2'!E111","v":0},{"$f":"'2'!F111","v":0}]
[null,407,{"$f":"'2'!C112","v":0},{"$f":"'2'!D112","v":0},{"$f":"'2'!E112","v":0},{"$f":"'2'!F112","v":0}]
[null,408,{"$f":"'2'!C113","v":0},{"$f":"'2'!D113","v":0},{"$f":"'2'!E113","v":0},{"$f":"'2'!F113","v":0}]
[null,409,{"$f":"'2'!C114","v":0},{"$f":"'2'!D114","v":0},{"$f":"'2'!E114","v":0},{"$f":"'2'!F114","v":0}]
[null,410,{"$f":"'2'!C115","v":0},{"$f":"'2'!D115","v":0},{"$f":"'2'!E115","v":0},{"$f":"'2'!F115","v":0}]
[null,411,{"$f":"'2'!C116","v":0},{"$f":"'2'!D116","v":0},{"$f":"'2'!E116","v":0},{"$f":"'2'!F116","v":0}]
[null,412,{"$f":"'2'!C117","v":0},{"$f":"'2'!D117","v":0},{"$f":"'2'!E117","v":0},{"$f":"'2'!F117","v":0}]
[null,413,{"$f":"'2'!C118","v":0},{"$f":"'2'!D118","v":0},{"$f":"'2'!E118","v":0},{"$f":"'2'!F118","v":0}]
[null,414,{"$f":"'2'!C119","v":0},{"$f":"'2'!D119","v":0},{"$f":"'2'!E119","v":0},{"$f":"'2'!F119","v":0}]
[null,415,{"$f":"'2'!C120","v":0},{"$f":"'2'!D120","v":0},{"$f":"'2'!E120","v":0},{"$f":"'2'!F120","v":0}]
[null,416,{"$f":"'2'!C121","v":0},{"$f":"'2'!D121","v":0},{"$f":"'2'!E121","v":0},{"$f":"'2'!F121","v":0}]
[null,417,{"$f":"'2'!C122","v":0},{"$f":"'2'!D122","v":0},{"$f":"'2'!E122","v":0},{"$f":"'2'!F122","v":0}]
[null,418,{"$f":"'2'!C123","v":0},{"$f":"'2'!D123","v":0},{"$f":"'2'!E123","v":0},{"$f":"'2'!F123","v":0}]
[null,419,{"$f":"'2'!C124","v":0},{"$f":"'2'!D124","v":0},{"$f":"'2'!E124","v":0},{"$f":"'2'!F124","v":0}]
[null,420,{"$f":"'2'!C125","v":0},{"$f":"'2'!D125","v":0},{"$f":"'2'!E125","v":0},{"$f":"'2'!F125","v":0}]
[null,421,{"$f":"'2'!C126","v":0},{"$f":"'2'!D126","v":0},{"$f":"'2'!E126","v":0},{"$f":"'2'!F126","v":0}]
[null,422,{"$f":"'2'!C127","v":0},{"$f":"'2'!D127","v":0},{"$f":"'2'!E127","v":0},{"$f":"'2'!F127","v":0}]
[null,423,{"$f":"'2'!C128","v":0},{"$f":"'2'!D128","v":0},{"$f":"'2'!E128","v":0},{"$f":"'2'!F128","v":0}]
[null,424,{"$f":"'2'!C129","v":0},{"$f":"'2'!D129","v":0},{"$f":"'2'!E129","v":0},{"$f":"'2'!F129","v":0}]
[null,425,{"$f":"'2'!C130","v":0},{"$f":"'2'!D130","v":0},{"$f":"'2'!E130","v":0},{"$f":"'2'!F130","v":0}]
[null,426,{"$f":"'2'!C131","v":0},{"$f":"'2'!D131","v":0},{"$f":"'2'!E131","v":0},{"$f":"'2'!F131","v":0}]
[null,427,{"$f":"'2'!C132","v":0},{"$f":"'2'!D132","v":0},{"$f":"'2'!E132","v":0},{"$f":"'2'!F132","v":0}]
[null,428,{"$f":"'2'!C133","v":0},{"$f":"'2'!D133","v":0},{"$f":"'2'!E133","v":0},{"$f":"'2'!F133","v":0}]
[null,429,{"$f":"'2'!C134","v":0},{"$f":"'2'!D134","v":0},{"$f":"'2'!E134","v":0},{"$f":"'2'!F134","v":0}]
[null,430,{"$f":"'2'!C135","v":0},{"$f":"'2'!D135","v":0},{"$f":"'2'!E135","v":0},{"$f":"'2'!F135","v":0}]
[null,431,{"$f":"'2'!C136","v":0},{"$f":"'2'!D136","v":0},{"$f":"'2'!E136","v":0},{"$f":"'2'!F136","v":0}]
[null,432,{"$f":"'2'!C137","v":0},{"$f":"'2'!D137","v":0},{"$f":"'2'!E137","v":0},{"$f":"'2'!F137","v":0}]
[null,433,{"$f":"'2'!C138","v":0},{"$f":"'2'!D138","v":0},{"$f":"'2'!E138","v":0},{"$f":"'2'!F138","v":0}]
[null,434,{"$f":"'2'!C139","v":0},{"$f":"'2'!D139","v":0},{"$f":"'2'!E139","v":0},{"$f":"'2'!F139","v":0}]
[null,435,{"$f":"'2'!C140","v":0},{"$f":"'2'!D140","v":0},{"$f":"'2'!E140","v":0},{"$f":"'2'!F140","v":0}]
[null,436,{"$f":"'2'!C141","v":0},{"$f":"'2'!D141","v":0},{"$f":"'2'!E141","v":0},{"$f":"'2'!F141","v":0}]
[null,437,{"$f":"'2'!C142","v":0},{"$f":"'2'!D142","v":0},{"$f":"'2'!E142","v":0},{"$f":"'2'!F142","v":0}]
[null,438,{"$f":"'2'!C143","v":0},{"$f":"'2'!D143","v":0},{"$f":"'2'!E143","v":0},{"$f":"'2'!F143","v":0}]
[null,439,{"$f":"'2'!C144","v":0},{"$f":"'2'!D144","v":0},{"$f":"'2'!E144","v":0},{"$f":"'2'!F144","v":0}]
[null,440,{"$f":"'2'!C145","v":0},{"$f":"'2'!D145","v":0},{"$f":"'2'!E145","v":0},{"$f":"'2'!F145","v":0}]
[null,441,{"$f":"'2'!C146","v":0},{"$f":"'2'!D146","v":0},{"$f":"'2'!E146","v":0},{"$f":"'2'!F146","v":0}]
[null,442,{"$f":"'2'!C147","v":0},{"$f":"'2'!D147","v":0},{"$f":"'2'!E147","v":0},{"$f":"'2'!F147","v":0}]
[null,443,{"$f":"'2'!C148","v":0},{"$f":"'2'!D148","v":0},{"$f":"'2'!E148","v":0},{"$f":"'2'!F148","v":0}]
[null,444,{"$f":"'2'!C149","v":0},{"$f":"'2'!D149","v":0},{"$f":"'2'!E149","v":0},{"$f":"'2'!F149","v":0}]
[null,445,{"$f":"'2'!C150","v":0},{"$f":"'2'!D150","v":0},{"$f":"'2'!E150","v":0},{"$f":"'2'!F150","v":0}]
[null,446,{"$f":"'2'!C151","v":0},{"$f":"'2'!D151","v":0},{"$f":"'2'!E151","v":0},{"$f":"'2'!F151","v":0}]
[null,447,{"$f":"'2'!C152","v":0},{"$f":"'2'!D152","v":0},{"$f":"'2'!E152","v":0},{"$f":"'2'!F152","v":0}]
[null,448,{"$f":"'2'!C153","v":0},{"$f":"'2'!D153","v":0},{"$f":"'2'!E153","v":0},{"$f":"'2'!F153","v":0}]
[null,449,{"$f":"'2'!C154","v":0},{"$f":"'2'!D154","v":0},{"$f":"'2'!E154","v":0},{"$f":"'2'!F154","v":0}]
[null,450,{"$f":"'2'!C155","v":0},{"$f":"'2'!D155","v":0},{"$f":"'2'!E155","v":0},{"$f":"'2'!F155","v":0}]
[null,451,{"$f":"'2'!C156","v":0},{"$f":"'2'!D156","v":0},{"$f":"'2'!E156","v":0},{"$f":"'2'!F156","v":0}]
[null,452,{"$f":"'2'!C157","v":0},{"$f":"'2'!D157","v":0},{"$f":"'2'!E157","v":0},{"$f":"'2'!F157","v":0}]
[null,453,{"$f":"'2'!C158","v":0},{"$f":"'2'!D158","v":0},{"$f":"'2'!E158","v":0},{"$f":"'2'!F158","v":0}]
[null,454,{"$f":"'2'!C159","v":0},{"$f":"'2'!D159","v":0},{"$f":"'2'!E159","v":0},{"$f":"'2'!F159","v":0}]
[null,455,{"$f":"'2'!C160","v":0},{"$f":"'2'!D160","v":0},{"$f":"'2'!E160","v":0},{"$f":"'2'!F160","v":0}]
[null,456,{"$f":"'2'!C161","v":0},{"$f":"'2'!D161","v":0},{"$f":"'2'!E161","v":0},{"$f":"'2'!F161","v":0}]
[null,457,{"$f":"'2'!C162","v":0},{"$f":"'2'!D162","v":0},{"$f":"'2'!E162","v":0},{"$f":"'2'!F162","v":0}]
[null,458,{"$f":"'2'!C163","v":0},{"$f":"'2'!D163","v":0},{"$f":"'2'!E163","v":0},{"$f":"'2'!F163","v":0}]
[null,459,{"$f":"'2'!C164","v":0},{"$f":"'2'!D164","v":0},{"$f":"'2'!E164","v":0},{"$f":"'2'!F164","v":0}]
[null,460,{"$f":"'2'!C165","v":0},{"$f":"'2'!D165","v":0},{"$f":"'2'!E165","v":0},{"$f":"'2'!F165","v":0}]
[null,461,{"$f":"'2'!C166","v":0},{"$f":"'2'!D166","v":0},{"$f":"'2'!E166","v":0},{"$f":"'2'!F166","v":0}]
[null,462,{"$f":"'2'!C167","v":0},{"$f":"'2'!D167","v":0},{"$f":"'2'!E167","v":0},{"$f":"'2'!F167","v":0}]
[null,463,{"$f":"'2'!C168","v":0},{"$f":"'2'!D168","v":0},{"$f":"'2'!E168","v":0},{"$f":"'2'!F168","v":0}]
[null,464,{"$f":"'2'!C169","v":0},{"$f":"'2'!D169","v":0},{"$f":"'2'!E169","v":0},{"$f":"'2'!F169","v":0}]
[null,465,{"$f":"'2'!C170","v":0},{"$f":"'2'!D170","v":0},{"$f":"'2'!E170","v":0},{"$f":"'2'!F170","v":0}]
[null,466,{"$f":"'2'!C171","v":0},{"$f":"'2'!D171","v":0},{"$f":"'2'!E171","v":0},{"$f":"'2'!F171","v":0}]
[null,467,{"$f":"'2'!C172","v":0},{"$f":"'2'!D172","v":0},{"$f":"'2'!E172","v":0},{"$f":"'2'!F172","v":0}]
[null,468,{"$f":"'2'!C173","v":0},{"$f":"'2'!D173","v":0},{"$f":"'2'!E173","v":0},{"$f":"'2'!F173","v":0}]
[null,469,{"$f":"'2'!C174","v":0},{"$f":"'2'!D174","v":0},{"$f":"'2'!E174","v":0},{"$f":"'2'!F174","v":0}]
[null,470,{"$f":"'2'!C175","v":0},{"$f":"'2'!D175","v":0},{"$f":"'2'!E175","v":0},{"$f":"'2'!F175","v":0}]
[null,471,{"$f":"'2'!C176","v":0},{"$f":"'2'!D176","v":0},{"$f":"'2'!E176","v":0},{"$f":"'2'!F176","v":0}]
[null,472,{"$f":"'2'!C177","v":0},{"$f":"'2'!D177","v":0},{"$f":"'2'!E177","v":0},{"$f":"'2'!F177","v":0}]
[null,473,{"$f":"'2'!C178","v":0},{"$f":"'2'!D178","v":0},{"$f":"'2'!E178","v":0},{"$f":"'2'!F178","v":0}]
[null,474,{"$f":"'2'!C179","v":0},{"$f":"'2'!D179","v":0},{"$f":"'2'!E179","v":0},{"$f":"'2'!F179","v":0}]
[null,475,{"$f":"'2'!C180","v":0},{"$f":"'2'!D180","v":0},{"$f":"'2'!E180","v":0},{"$f":"'2'!F180","v":0}]
[null,476,{"$f":"'2'!C181","v":0},{"$f":"'2'!D181","v":0},{"$f":"'2'!E181","v":0},{"$f":"'2'!F181","v":0}]
[null,477,{"$f":"'2'!C182","v":0},{"$f":"'2'!D182","v":0},{"$f":"'2'!E182","v":0},{"$f":"'2'!F182","v":0}]
[null,478,{"$f":"'2'!C183","v":0},{"$f":"'2'!D183","v":0},{"$f":"'2'!E183","v":0},{"$f":"'2'!F183","v":0}]
[null,479,{"$f":"'2'!C184","v":0},{"$f":"'2'!D184","v":0},{"$f":"'2'!E184","v":0},{"$f":"'2'!F184","v":0}]
[null,480,{"$f":"'2'!C185","v":0},{"$f":"'2'!D185","v":0},{"$f":"'2'!E185","v":0},{"$f":"'2'!F185","v":0}]
[null,481,{"$f":"'2'!C186","v":0},{"$f":"'2'!D186","v":0},{"$f":"'2'!E186","v":0},{"$f":"'2'!F186","v":0}]
[null,482,{"$f":"'2'!C187","v":0},{"$f":"'2'!D187","v":0},{"$f":"'2'!E187","v":0},{"$f":"'2'!F187","v":0}]
[null,483,{"$f":"'2'!C188","v":0},{"$f":"'2'!D188","v":0},{"$f":"'2'!E188","v":0},{"$f":"'2'!F188","v":0}]
[null,484,{"$f":"'2'!C189","v":0},{"$f":"'2'!D189","v":0},{"$f":"'2'!E189","v":0},{"$f":"'2'!F189","v":0}]
[null,485,{"$f":"'2'!C190","v":0},{"$f":"'2'!D190","v":0},{"$f":"'2'!E190","v":0},{"$f":"'2'!F190","v":0}]
[null,486,{"$f":"'2'!C191","v":0},{"$f":"'2'!D191","v":0},{"$f":"'2'!E191","v":0},{"$f":"'2'!F191","v":0}]
[null,487,{"$f":"'2'!C192","v":0},{"$f":"'2'!D192","v":0},{"$f":"'2'!E192","v":0},{"$f":"'2'!F192","v":0}]
[null,488,{"$f":"'2'!C193","v":0},{"$f":"'2'!D193","v":0},{"$f":"'2'!E193","v":0},{"$f":"'2'!F193","v":0}]
[null,489,{"$f":"'2'!C194","v":0},{"$f":"'2'!D194","v":0},{"$f":"'2'!E194","v":0},{"$f":"'2'!F194","v":0}]
[null,490,{"$f":"'2'!C195","v":0},{"$f":"'2'!D195","v":0},{"$f":"'2'!E195","v":0},{"$f":"'2'!F195","v":0}]
[null,491,{"$f":"'2'!C196","v":0},{"$f":"'2'!D196","v":0},{"$f":"'2'!E196","v":0},{"$f":"'2'!F196","v":0}]
[null,492,{"$f":"'2'!C197","v":0},{"$f":"'2'!D197","v":0},{"$f":"'2'!E197","v":0},{"$f":"'2'!F197","v":0}]
[null,493,{"$f":"'2'!C198","v":0},{"$f":"'2'!D198","v":0},{"$f":"'2'!E198","v":0},{"$f":"'2'!F198","v":0}]
[null,494,{"$f":"'2'!C199","v":0},{"$f":"'2'!D199","v":0},{"$f":"'2'!E199","v":0},{"$f":"'2'!F199","v":0}]
[null,495,{"$f":"'2'!C200","v":0},{"$f":"'2'!D200","v":0},{"$f":"'2'!E200","v":0},{"$f":"'2'!F200","v":0}]
[null,496,{"$f":"'2'!C201","v":0},{"$f":"'2'!D201","v":0},{"$f":"'2'!E201","v":0},{"$f":"'2'!F201","v":0}]
[null,497,{"$f":"'2'!C202","v":0},{"$f":"'2'!D202","v":0},{"$f":"'2'!E202","v":0},{"$f":"'2'!F202","v":0}]
[null,498,{"$f":"'2'!C203","v":0},{"$f":"'2'!D203","v":0},{"$f":"'2'!E203","v":0},{"$f":"'2'!F203","v":0}]
[null,499,{"$f":"'2'!C204","v":0},{"$f":"'2'!D204","v":0},{"$f":"'2'!E204","v":0},{"$f":"'2'!F204","v":0}]
[null,500,{"$f":"'2'!C205","v":0},{"$f":"'2'!D205","v":0},{"$f":"'2'!E205","v":0},{"$f":"'2'!F205","v":0}]
[null,501,{"$f":"'2'!C206","v":0},{"$f":"'2'!D206","v":0},{"$f":"'2'!E206","v":0},{"$f":"'2'!F206","v":0}]
[null,502,{"$f":"'2'!C207","v":0},{"$f":"'2'!D207","v":0},{"$f":"'2'!E207","v":0},{"$f":"'2'!F207","v":0}]
[null,503,{"$f":"'2'!C208","v":0},{"$f":"'2'!D208","v":0},{"$f":"'2'!E208","v":0},{"$f":"'2'!F208","v":0}]
[null,504,{"$f":"'2'!C209","v":0},{"$f":"'2'!D209","v":0},{"$f":"'2'!E209","v":0},{"$f":"'2'!F209","v":0}]
[null,505,{"$f":"'2'!C210","v":0},{"$f":"'2'!D210","v":0},{"$f":"'2'!E210","v":0},{"$f":"'2'!F210","v":0}]
[null,506,{"$f":"'2'!C211","v":0},{"$f":"'2'!D211","v":0},{"$f":"'2'!E211","v":0},{"$f":"'2'!F211","v":0}]
[null,507,{"$f":"'2'!C212","v":0},{"$f":"'2'!D212","v":0},{"$f":"'2'!E212","v":0},{"$f":"'2'!F212","v":0}]
[null,508,{"$f":"'2'!C213","v":0},{"$f":"'2'!D213","v":0},{"$f":"'2'!E213","v":0},{"$f":"'2'!F213","v":0}]
[null,509,{"$f":"'2'!C214","v":0},{"$f":"'2'!D214","v":0},{"$f":"'2'!E214","v":0},{"$f":"'2'!F214","v":0}]
[null,510,{"$f":"'2'!C215","v":0},{"$f":"'2'!D215","v":0},{"$f":"'2'!E215","v":0},{"$f":"'2'!F215","v":0}]
[null,511,{"$f":"'2'!C216","v":0},{"$f":"'2'!D216","v":0},{"$f":"'2'!E216","v":0},{"$f":"'2'!F216","v":0}]
[null,512,{"$f":"'2'!C217","v":0},{"$f":"'2'!D217","v":0},{"$f":"'2'!E217","v":0},{"$f":"'2'!F217","v":0}]
[null,513,{"$f":"'2'!C218","v":0},{"$f":"'2'!D218","v":0},{"$f":"'2'!E218","v":0},{"$f":"'2'!F218","v":0}]
[null,514,{"$f":"'2'!C219","v":0},{"$f":"'2'!D219","v":0},{"$f":"'2'!E219","v":0},{"$f":"'2'!F219","v":0}]
[null,515,{"$f":"'2'!C220","v":0},{"$f":"'2'!D220","v":0},{"$f":"'2'!E220","v":0},{"$f":"'2'!F220","v":0}]
[null,516,{"$f":"'2'!C221","v":0},{"$f":"'2'!D221","v":0},{"$f":"'2'!E221","v":0},{"$f":"'2'!F221","v":0}]
[null,517,{"$f":"'2'!C222","v":0},{"$f":"'2'!D222","v":0},{"$f":"'2'!E222","v":0},{"$f":"'2'!F222","v":0}]
[null,518,{"$f":"'2'!C223","v":0},{"$f":"'2'!D223","v":0},{"$f":"'2'!E223","v":0},{"$f":"'2'!F223","v":0}]
[null,519,{"$f":"'2'!C224","v":0},{"$f":"'2'!D224","v":0},{"$f":"'2'!E224","v":0},{"$f":"'2'!F224","v":0}]
[null,520,{"$f":"'2'!C225","v":0},{"$f":"'2'!D225","v":0},{"$f":"'2'!E225","v":0},{"$f":"'2'!F225","v":0}]
[null,521,{"$f":"'2'!C226","v":0},{"$f":"'2'!D226","v":0},{"$f":"'2'!E226","v":0},{"$f":"'2'!F226","v":0}]
[null,522,{"$f":"'2'!C227","v":0},{"$f":"'2'!D227","v":0},{"$f":"'2'!E227","v":0},{"$f":"'2'!F227","v":0}]
[null,523,{"$f":"'2'!C228","v":0},{"$f":"'2'!D228","v":0},{"$f":"'2'!E228","v":0},{"$f":"'2'!F228","v":0}]
[null,524,{"$f":"'2'!C229","v":0},{"$f":"'2'!D229","v":0},{"$f":"'2'!E229","v":0},{"$f":"'2'!F229","v":0}]
[null,525,{"$f":"'2'!C230","v":0},{"$f":"'2'!D230","v":0},{"$f":"'2'!E230","v":0},{"$f":"'2'!F230","v":0}]
[null,526,{"$f":"'2'!C231","v":0},{"$f":"'2'!D231","v":0},{"$f":"'2'!E231","v":0},{"$f":"'2'!F231","v":0}]
[null,527,{"$f":"'2'!C232","v":0},{"$f":"'2'!D232","v":0},{"$f":"'2'!E232","v":0},{"$f":"'2'!F232","v":0}]
[null,528,{"$f":"'2'!C233","v":0},{"$f":"'2'!D233","v":0},{"$f":"'2'!E233","v":0},{"$f":"'2'!F233","v":0}]
[null,529,{"$f":"'2'!C234","v":0},{"$f":"'2'!D234","v":0},{"$f":"'2'!E234","v":0},{"$f":"'2'!F234","v":0}]
[null,530,{"$f":"'2'!C235","v":0},{"$f":"'2'!D235","v":0},{"$f":"'2'!E235","v":0},{"$f":"'2'!F235","v":0}]
[null,531,{"$f":"'2'!C236","v":0},{"$f":"'2'!D236","v":0},{"$f":"'2'!E236","v":0},{"$f":"'2'!F236","v":0}]
[null,532,{"$f":"'2'!C237","v":0},{"$f":"'2'!D237","v":0},{"$f":"'2'!E237","v":0},{"$f":"'2'!F237","v":0}]
[null,533,{"$f":"'2'!C238","v":0},{"$f":"'2'!D238","v":0},{"$f":"'2'!E238","v":0},{"$f":"'2'!F238","v":0}]
[null,534,{"$f":"'2'!C239","v":0},{"$f":"'2'!D239","v":0},{"$f":"'2'!E239","v":0},{"$f":"'2'!F239","v":0}]
[null,535,{"$f":"'2'!C240","v":0},{"$f":"'2'!D240","v":0},{"$f":"'2'!E240","v":0},{"$f":"'2'!F240","v":0}]
[null,536,{"$f":"'2'!C241","v":0},{"$f":"'2'!D241","v":0},{"$f":"'2'!E241","v":0},{"$f":"'2'!F241","v":0}]
[null,537,{"$f":"'2'!C242","v":0},{"$f":"'2'!D242","v":0},{"$f":"'2'!E242","v":0},{"$f":"'2'!F242","v":0}]
[null,538,{"$f":"'2'!C243","v":0},{"$f":"'2'!D243","v":0},{"$f":"'2'!E243","v":0},{"$f":"'2'!F243","v":0}]
[null,539,{"$f":"'2'!C244","v":0},{"$f":"'2'!D244","v":0},{"$f":"'2'!E244","v":0},{"$f":"'2'!F244","v":0}]
[null,540,{"$f":"'2'!C245","v":0},{"$f":"'2'!D245","v":0},{"$f":"'2'!E245","v":0},{"$f":"'2'!F245","v":0}]
[null,541,{"$f":"'2'!C246","v":0},{"$f":"'2'!D246","v":0},{"$f":"'2'!E246","v":0},{"$f":"'2'!F246","v":0}]
[null,542,{"$f":"'2'!C247","v":0},{"$f":"'2'!D247","v":0},{"$f":"'2'!E247","v":0},{"$f":"'2'!F247","v":0}]
[null,543,{"$f":"'2'!C248","v":0},{"$f":"'2'!D248","v":0},{"$f":"'2'!E248","v":0},{"$f":"'2'!F248","v":0}]
[null,544,{"$f":"'2'!C249","v":0},{"$f":"'2'!D249","v":0},{"$f":"'2'!E249","v":0},{"$f":"'2'!F249","v":0}]
[null,545,{"$f":"'2'!C250","v":0},{"$f":"'2'!D250","v":0},{"$f":"'2'!E250","v":0},{"$f":"'2'!F250","v":0}]
[null,546,{"$f":"'2'!C251","v":0},{"$f":"'2'!D251","v":0},{"$f":"'2'!E251","v":0},{"$f":"'2'!F251","v":0}]
[null,547,{"$f":"'2'!C252","v":0},{"$f":"'2'!D252","v":0},{"$f":"'2'!E252","v":0},{"$f":"'2'!F252","v":0}]
[null,548,{"$f":"'2'!C253","v":0},{"$f":"'2'!D253","v":0},{"$f":"'2'!E253","v":0},{"$f":"'2'!F253","v":0}]
[null,549,{"$f":"'2'!C254","v":0},{"$f":"'2'!D254","v":0},{"$f":"'2'!E254","v":0},{"$f":"'2'!F254","v":0}]
[null,550,{"$f":"'2'!C255","v":0},{"$f":"'2'!D255","v":0},{"$f":"'2'!E255","v":0},{"$f":"'2'!F255","v":0}]
[null,551,{"$f":"'2'!C256","v":0},{"$f":"'2'!D256","v":0},{"$f":"'2'!E256","v":0},{"$f":"'2'!F256","v":0}]
[null,552,{"$f":"'2'!C257","v":0},{"$f":"'2'!D257","v":0},{"$f":"'2'!E257","v":0},{"$f":"'2'!F257","v":0}]
[null,553,{"$f":"'2'!C258","v":0},{"$f":"'2'!D258","v":0},{"$f":"'2'!E258","v":0},{"$f":"'2'!F258","v":0}]
[null,554,{"$f":"'2'!C259","v":0},{"$f":"'2'!D259","v":0},{"$f":"'2'!E259","v":0},{"$f":"'2'!F259","v":0}]
[null,555,{"$f":"'2'!C260","v":0},{"$f":"'2'!D260","v":0},{"$f":"'2'!E260","v":0},{"$f":"'2'!F260","v":0}]
[null,556,{"$f":"'2'!C261","v":0},{"$f":"'2'!D261","v":0},{"$f":"'2'!E261","v":0},{"$f":"'2'!F261","v":0}]
[null,557,{"$f":"'2'!C262","v":0},{"$f":"'2'!D262","v":0},{"$f":"'2'!E262","v":0},{"$f":"'2'!F262","v":0}]
[null,558,{"$f":"'2'!C263","v":0},{"$f":"'2'!D263","v":0},{"$f":"'2'!E263","v":0},{"$f":"'2'!F263","v":0}]
[null,559,{"$f":"'2'!C264","v":0},{"$f":"'2'!D264","v":0},{"$f":"'2'!E264","v":0},{"$f":"'2'!F264","v":0}]
[null,560,{"$f":"'2'!C265","v":0},{"$f":"'2'!D265","v":0},{"$f":"'2'!E265","v":0},{"$f":"'2'!F265","v":0}]
[null,561,{"$f":"'2'!C266","v":0},{"$f":"'2'!D266","v":0},{"$f":"'2'!E266","v":0},{"$f":"'2'!F266","v":0}]
[null,562,{"$f":"'2'!C267","v":0},{"$f":"'2'!D267","v":0},{"$f":"'2'!E267","v":0},{"$f":"'2'!F267","v":0}]
[null,563,{"$f":"'2'!C268","v":0},{"$f":"'2'!D268","v":0},{"$f":"'2'!E268","v":0},{"$f":"'2'!F268","v":0}]
[null,564,{"$f":"'2'!C269","v":0},{"$f":"'2'!D269","v":0},{"$f":"'2'!E269","v":0},{"$f":"'2'!F269","v":0}]
[null,565,{"$f":"'2'!C270","v":0},{"$f":"'2'!D270","v":0},{"$f":"'2'!E270","v":0},{"$f":"'2'!F270","v":0}]
[null,566,{"$f":"'2'!C271","v":0},{"$f":"'2'!D271","v":0},{"$f":"'2'!E271","v":0},{"$f":"'2'!F271","v":0}]
[null,567,{"$f":"'2'!C272","v":0},{"$f":"'2'!D272","v":0},{"$f":"'2'!E272","v":0},{"$f":"'2'!F272","v":0}]
[null,568,{"$f":"'2'!C273","v":0},{"$f":"'2'!D273","v":0},{"$f":"'2'!E273","v":0},{"$f":"'2'!F273","v":0}]
[null,569,{"$f":"'2'!C274","v":0},{"$f":"'2'!D274","v":0},{"$f":"'2'!E274","v":0},{"$f":"'2'!F274","v":0}]
[null,570,{"$f":"'2'!C275","v":0},{"$f":"'2'!D275","v":0},{"$f":"'2'!E275","v":0},{"$f":"'2'!F275","v":0}]
[null,571,{"$f":"'2'!C276","v":0},{"$f":"'2'!D276","v":0},{"$f":"'2'!E276","v":0},{"$f":"'2'!F276","v":0}]
[null,572,{"$f":"'2'!C277","v":0},{"$f":"'2'!D277","v":0},{"$f":"'2'!E277","v":0},{"$f":"'2'!F277","v":0}]
[null,573,{"$f":"'2'!C278","v":0},{"$f":"'2'!D278","v":0},{"$f":"'2'!E278","v":0},{"$f":"'2'!F278","v":0}]
[null,574,{"$f":"'2'!C279","v":0},{"$f":"'2'!D279","v":0},{"$f":"'2'!E279","v":0},{"$f":"'2'!F279","v":0}]
[null,575,{"$f":"'2'!C280","v":0},{"$f":"'2'!D280","v":0},{"$f":"'2'!E280","v":0},{"$f":"'2'!F280","v":0}]
[null,576,{"$f":"'2'!C281","v":0},{"$f":"'2'!D281","v":0},{"$f":"'2'!E281","v":0},{"$f":"'2'!F281","v":0}]
[null,577,{"$f":"'2'!C282","v":0},{"$f":"'2'!D282","v":0},{"$f":"'2'!E282","v":0},{"$f":"'2'!F282","v":0}]
[null,578,{"$f":"'2'!C283","v":0},{"$f":"'2'!D283","v":0},{"$f":"'2'!E283","v":0},{"$f":"'2'!F283","v":0}]
[null,579,{"$f":"'2'!C284","v":0},{"$f":"'2'!D284","v":0},{"$f":"'2'!E284","v":0},{"$f":"'2'!F284","v":0}]
[null,580,{"$f":"'2'!C285","v":0},{"$f":"'2'!D285","v":0},{"$f":"'2'!E285","v":0},{"$f":"'2'!F285","v":0}]
[null,581,{"$f":"'2'!C286","v":0},{"$f":"'2'!D286","v":0},{"$f":"'2'!E286","v":0},{"$f":"'2'!F286","v":0}]
[null,582,{"$f":"'2'!C287","v":0},{"$f":"'2'!D287","v":0},{"$f":"'2'!E287","v":0},{"$f":"'2'!F287","v":0}]
[null,583,{"$f":"'2'!C288","v":0},{"$f":"'2'!D288","v":0},{"$f":"'2'!E288","v":0},{"$f":"'2'!F288","v":0}]
[null,584,{"$f":"'2'!C289","v":0},{"$f":"'2'!D289","v":0},{"$f":"'2'!E289","v":0},{"$f":"'2'!F289","v":0}]
[null,585,{"$f":"'2'!C290","v":0},{"$f":"'2'!D290","v":0},{"$f":"'2'!E290","v":0},{"$f":"'2'!F290","v":0}]
[null,586,{"$f":"'2'!C291","v":0},{"$f":"'2'!D291","v":0},{"$f":"'2'!E291","v":0},{"$f":"'2'!F291","v":0}]
[null,587,{"$f":"'2'!C292","v":0},{"$f":"'2'!D292","v":0},{"$f":"'2'!E292","v":0},{"$f":"'2'!F292","v":0}]
[null,588,{"$f":"'2'!C293","v":0},{"$f":"'2'!D293","v":0},{"$f":"'2'!E293","v":0},{"$f":"'2'!F293","v":0}]
[null,589,{"$f":"'2'!C294","v":0},{"$f":"'2'!D294","v":0},{"$f":"'2'!E294","v":0},{"$f":"'2'!F294","v":0}]
[null,590,{"$f":"'2'!C295","v":0},{"$f":"'2'!D295","v":0},{"$f":"'2'!E295","v":0},{"$f":"'2'!F295","v":0}]
[null,591,{"$f":"'2'!C296","v":0},{"$f":"'2'!D296","v":0},{"$f":"'2'!E296","v":0},{"$f":"'2'!F296","v":0}]
[null,592,{"$f":"'2'!C297","v":0},{"$f":"'2'!D297","v":0},{"$f":"'2'!E297","v":0},{"$f":"'2'!F297","v":0}]
[null,593,{"$f":"'2'!C298","v":0},{"$f":"'2'!D298","v":0},{"$f":"'2'!E298","v":0},{"$f":"'2'!F298","v":0}]
[null,594,{"$f":"'2'!C299","v":0},{"$f":"'2'!D299","v":0},{"$f":"'2'!E299","v":0},{"$f":"'2'!F299","v":0}]
[null,595,{"$f":"'2'!C300","v":0},{"$f":"'2'!D300","v":0},{"$f":"'2'!E300","v":0},{"$f":"'2'!F300","v":0}]
[null,596,{"$f":"'2'!C301","v":0},{"$f":"'2'!D301","v":0},{"$f":"'2'!E301","v":0},{"$f":"'2'!F301","v":0}]
[null,597,{"$f":"'2'!C302","v":0},{"$f":"'2'!D302","v":0},{"$f":"'2'!E302","v":0},{"$f":"'2'!F302","v":0}]
[null,598,{"$f":"'2'!C303","v":0},{"$f":"'2'!D303","v":0},{"$f":"'2'!E303","v":0},{"$f":"'2'!F303","v":0}]
[null,599,{"$f":"'2'!C304","v":0},{"$f":"'2'!D304","v":0},{"$f":"'2'!E304","v":0},{"$f":"'2'!F304","v":0}]
[null,600,{"$f":"'2'!C305","v":0},{"$f":"'2'!D305","v":0},{"$f":"'2'!E305","v":0},{"$f":"'2'!F305","v":0}]
[null,601,{"$f":"'3'!C6","v":0},{"$f":"'3'!D6","v":0},{"$f":"'3'!E6","v":0},{"$f":"'3'!F6","v":0}]
[null,602,{"$f":"'3'!C7","v":0},{"$f":"'3'!D7","v":0},{"$f":"'3'!E7","v":0},{"$f":"'3'!F7","v":0}]
[null,603,{"$f":"'3'!C8","v":0},{"$f":"'3'!D8","v":0},{"$f":"'3'!E8","v":0},{"$f":"'3'!F8","v":0}]
[null,604,{"$f":"'3'!C9","v":0},{"$f":"'3'!D9","v":0},{"$f":"'3'!E9","v":0},{"$f":"'3'!F9","v":0}]
[null,605,{"$f":"'3'!C10","v":0},{"$f":"'3'!D10","v":0},{"$f":"'3'!E10","v":0},{"$f":"'3'!F10","v":0}]
[null,606,{"$f":"'3'!C11","v":0},{"$f":"'3'!D11","v":0},{"$f":"'3'!E11","v":0},{"$f":"'3'!F11","v":0}]
[null,607,{"$f":"'3'!C12","v":0},{"$f":"'3'!D12","v":0},{"$f":"'3'!E12","v":0},{"$f":"'3'!F12","v":0}]
[null,608,{"$f":"'3'!C13","v":0},{"$f":"'3'!D13","v":0},{"$f":"'3'!E13","v":0},{"$f":"'3'!F13","v":0}]
[null,609,{"$f":"'3'!C14","v":0},{"$f":"'3'!D14","v":0},{"$f":"'3'!E14","v":0},{"$f":"'3'!F14","v":0}]
[null,610,{"$f":"'3'!C15","v":0},{"$f":"'3'!D15","v":0},{"$f":"'3'!E15","v":0},{"$f":"'3'!F15","v":0}]
[null,611,{"$f":"'3'!C16","v":0},{"$f":"'3'!D16","v":0},{"$f":"'3'!E16","v":0},{"$f":"'3'!F16","v":0}]
[null,612,{"$f":"'3'!C17","v":0},{"$f":"'3'!D17","v":0},{"$f":"'3'!E17","v":0},{"$f":"'3'!F17","v":0}]
[null,613,{"$f":"'3'!C18","v":0},{"$f":"'3'!D18","v":0},{"$f":"'3'!E18","v":0},{"$f":"'3'!F18","v":0}]
[null,614,{"$f":"'3'!C19","v":0},{"$f":"'3'!D19","v":0},{"$f":"'3'!E19","v":0},{"$f":"'3'!F19","v":0}]
[null,615,{"$f":"'3'!C20","v":0},{"$f":"'3'!D20","v":0},{"$f":"'3'!E20","v":0},{"$f":"'3'!F20","v":0}]
[null,616,{"$f":"'3'!C21","v":0},{"$f":"'3'!D21","v":0},{"$f":"'3'!E21","v":0},{"$f":"'3'!F21","v":0}]
[null,617,{"$f":"'3'!C22","v":0},{"$f":"'3'!D22","v":0},{"$f":"'3'!E22","v":0},{"$f":"'3'!F22","v":0}]
[null,618,{"$f":"'3'!C23","v":0},{"$f":"'3'!D23","v":0},{"$f":"'3'!E23","v":0},{"$f":"'3'!F23","v":0}]
[null,619,{"$f":"'3'!C24","v":0},{"$f":"'3'!D24","v":0},{"$f":"'3'!E24","v":0},{"$f":"'3'!F24","v":0}]
[null,620,{"$f":"'3'!C25","v":0},{"$f":"'3'!D25","v":0},{"$f":"'3'!E25","v":0},{"$f":"'3'!F25","v":0}]
[null,621,{"$f":"'3'!C26","v":0},{"$f":"'3'!D26","v":0},{"$f":"'3'!E26","v":0},{"$f":"'3'!F26","v":0}]
[null,622,{"$f":"'3'!C27","v":0},{"$f":"'3'!D27","v":0},{"$f":"'3'!E27","v":0},{"$f":"'3'!F27","v":0}]
[null,623,{"$f":"'3'!C28","v":0},{"$f":"'3'!D28","v":0},{"$f":"'3'!E28","v":0},{"$f":"'3'!F28","v":0}]
[null,624,{"$f":"'3'!C29","v":0},{"$f":"'3'!D29","v":0},{"$f":"'3'!E29","v":0},{"$f":"'3'!F29","v":0}]
[null,625,{"$f":"'3'!C30","v":0},{"$f":"'3'!D30","v":0},{"$f":"'3'!E30","v":0},{"$f":"'3'!F30","v":0}]
[null,626,{"$f":"'3'!C31","v":0},{"$f":"'3'!D31","v":0},{"$f":"'3'!E31","v":0},{"$f":"'3'!F31","v":0}]
[null,627,{"$f":"'3'!C32","v":0},{"$f":"'3'!D32","v":0},{"$f":"'3'!E32","v":0},{"$f":"'3'!F32","v":0}]
[null,628,{"$f":"'3'!C33","v":0},{"$f":"'3'!D33","v":0},{"$f":"'3'!E33","v":0},{"$f":"'3'!F33","v":0}]
[null,629,{"$f":"'3'!C34","v":0},{"$f":"'3'!D34","v":0},{"$f":"'3'!E34","v":0},{"$f":"'3'!F34","v":0}]
[null,630,{"$f":"'3'!C35","v":0},{"$f":"'3'!D35","v":0},{"$f":"'3'!E35","v":0},{"$f":"'3'!F35","v":0}]
[null,631,{"$f":"'3'!C36","v":0},{"$f":"'3'!D36","v":0},{"$f":"'3'!E36","v":0},{"$f":"'3'!F36","v":0}]
[null,632,{"$f":"'3'!C37","v":0},{"$f":"'3'!D37","v":0},{"$f":"'3'!E37","v":0},{"$f":"'3'!F37","v":0}]
[null,633,{"$f":"'3'!C38","v":0},{"$f":"'3'!D38","v":0},{"$f":"'3'!E38","v":0},{"$f":"'3'!F38","v":0}]
[null,634,{"$f":"'3'!C39","v":0},{"$f":"'3'!D39","v":0},{"$f":"'3'!E39","v":0},{"$f":"'3'!F39","v":0}]
[null,635,{"$f":"'3'!C40","v":0},{"$f":"'3'!D40","v":0},{"$f":"'3'!E40","v":0},{"$f":"'3'!F40","v":0}]
[null,636,{"$f":"'3'!C41","v":0},{"$f":"'3'!D41","v":0},{"$f":"'3'!E41","v":0},{"$f":"'3'!F41","v":0}]
[null,637,{"$f":"'3'!C42","v":0},{"$f":"'3'!D42","v":0},{"$f":"'3'!E42","v":0},{"$f":"'3'!F42","v":0}]
[null,638,{"$f":"'3'!C43","v":0},{"$f":"'3'!D43","v":0},{"$f":"'3'!E43","v":0},{"$f":"'3'!F43","v":0}]
[null,639,{"$f":"'3'!C44","v":0},{"$f":"'3'!D44","v":0},{"$f":"'3'!E44","v":0},{"$f":"'3'!F44","v":0}]
[null,640,{"$f":"'3'!C45","v":0},{"$f":"'3'!D45","v":0},{"$f":"'3'!E45","v":0},{"$f":"'3'!F45","v":0}]
[null,641,{"$f":"'3'!C46","v":0},{"$f":"'3'!D46","v":0},{"$f":"'3'!E46","v":0},{"$f":"'3'!F46","v":0}]
[null,642,{"$f":"'3'!C47","v":0},{"$f":"'3'!D47","v":0},{"$f":"'3'!E47","v":0},{"$f":"'3'!F47","v":0}]
[null,643,{"$f":"'3'!C48","v":0},{"$f":"'3'!D48","v":0},{"$f":"'3'!E48","v":0},{"$f":"'3'!F48","v":0}]
[null,644,{"$f":"'3'!C49","v":0},{"$f":"'3'!D49","v":0},{"$f":"'3'!E49","v":0},{"$f":"'3'!F49","v":0}]
[null,645,{"$f":"'3'!C50","v":0},{"$f":"'3'!D50","v":0},{"$f":"'3'!E50","v":0},{"$f":"'3'!F50","v":0}]
[null,646,{"$f":"'3'!C51","v":0},{"$f":"'3'!D51","v":0},{"$f":"'3'!E51","v":0},{"$f":"'3'!F51","v":0}]
[null,647,{"$f":"'3'!C52","v":0},{"$f":"'3'!D52","v":0},{"$f":"'3'!E52","v":0},{"$f":"'3'!F52","v":0}]
[null,648,{"$f":"'3'!C53","v":0},{"$f":"'3'!D53","v":0},{"$f":"'3'!E53","v":0},{"$f":"'3'!F53","v":0}]
[null,649,{"$f":"'3'!C54","v":0},{"$f":"'3'!D54","v":0},{"$f":"'3'!E54","v":0},{"$f":"'3'!F54","v":0}]
[null,650,{"$f":"'3'!C55","v":0},{"$f":"'3'!D55","v":0},{"$f":"'3'!E55","v":0},{"$f":"'3'!F55","v":0}]
[null,651,{"$f":"'3'!C56","v":0},{"$f":"'3'!D56","v":0},{"$f":"'3'!E56","v":0},{"$f":"'3'!F56","v":0}]
[null,652,{"$f":"'3'!C57","v":0},{"$f":"'3'!D57","v":0},{"$f":"'3'!E57","v":0},{"$f":"'3'!F57","v":0}]
[null,653,{"$f":"'3'!C58","v":0},{"$f":"'3'!D58","v":0},{"$f":"'3'!E58","v":0},{"$f":"'3'!F58","v":0}]
[null,654,{"$f":"'3'!C59","v":0},{"$f":"'3'!D59","v":0},{"$f":"'3'!E59","v":0},{"$f":"'3'!F59","v":0}]
[null,655,{"$f":"'3'!C60","v":0},{"$f":"'3'!D60","v":0},{"$f":"'3'!E60","v":0},{"$f":"'3'!F60","v":0}]
[null,656,{"$f":"'3'!C61","v":0},{"$f":"'3'!D61","v":0},{"$f":"'3'!E61","v":0},{"$f":"'3'!F61","v":0}]
[null,657,{"$f":"'3'!C62","v":0},{"$f":"'3'!D62","v":0},{"$f":"'3'!E62","v":0},{"$f":"'3'!F62","v":0}]
[null,658,{"$f":"'3'!C63","v":0},{"$f":"'3'!D63","v":0},{"$f":"'3'!E63","v":0},{"$f":"'3'!F63","v":0}]
[null,659,{"$f":"'3'!C64","v":0},{"$f":"'3'!D64","v":0},{"$f":"'3'!E64","v":0},{"$f":"'3'!F64","v":0}]
[null,660,{"$f":"'3'!C65","v":0},{"$f":"'3'!D65","v":0},{"$f":"'3'!E65","v":0},{"$f":"'3'!F65","v":0}]
[null,661,{"$f":"'3'!C66","v":0},{"$f":"'3'!D66","v":0},{"$f":"'3'!E66","v":0},{"$f":"'3'!F66","v":0}]
[null,662,{"$f":"'3'!C67","v":0},{"$f":"'3'!D67","v":0},{"$f":"'3'!E67","v":0},{"$f":"'3'!F67","v":0}]
[null,663,{"$f":"'3'!C68","v":0},{"$f":"'3'!D68","v":0},{"$f":"'3'!E68","v":0},{"$f":"'3'!F68","v":0}]
[null,664,{"$f":"'3'!C69","v":0},{"$f":"'3'!D69","v":0},{"$f":"'3'!E69","v":0},{"$f":"'3'!F69","v":0}]
[null,665,{"$f":"'3'!C70","v":0},{"$f":"'3'!D70","v":0},{"$f":"'3'!E70","v":0},{"$f":"'3'!F70","v":0}]
[null,666,{"$f":"'3'!C71","v":0},{"$f":"'3'!D71","v":0},{"$f":"'3'!E71","v":0},{"$f":"'3'!F71","v":0}]
[null,667,{"$f":"'3'!C72","v":0},{"$f":"'3'!D72","v":0},{"$f":"'3'!E72","v":0},{"$f":"'3'!F72","v":0}]
[null,668,{"$f":"'3'!C73","v":0},{"$f":"'3'!D73","v":0},{"$f":"'3'!E73","v":0},{"$f":"'3'!F73","v":0}]
[null,669,{"$f":"'3'!C74","v":0},{"$f":"'3'!D74","v":0},{"$f":"'3'!E74","v":0},{"$f":"'3'!F74","v":0}]
[null,670,{"$f":"'3'!C75","v":0},{"$f":"'3'!D75","v":0},{"$f":"'3'!E75","v":0},{"$f":"'3'!F75","v":0}]
[null,671,{"$f":"'3'!C76","v":0},{"$f":"'3'!D76","v":0},{"$f":"'3'!E76","v":0},{"$f":"'3'!F76","v":0}]
[null,672,{"$f":"'3'!C77","v":0},{"$f":"'3'!D77","v":0},{"$f":"'3'!E77","v":0},{"$f":"'3'!F77","v":0}]
[null,673,{"$f":"'3'!C78","v":0},{"$f":"'3'!D78","v":0},{"$f":"'3'!E78","v":0},{"$f":"'3'!F78","v":0}]
[null,674,{"$f":"'3'!C79","v":0},{"$f":"'3'!D79","v":0},{"$f":"'3'!E79","v":0},{"$f":"'3'!F79","v":0}]
[null,675,{"$f":"'3'!C80","v":0},{"$f":"'3'!D80","v":0},{"$f":"'3'!E80","v":0},{"$f":"'3'!F80","v":0}]
[null,676,{"$f":"'3'!C81","v":0},{"$f":"'3'!D81","v":0},{"$f":"'3'!E81","v":0},{"$f":"'3'!F81","v":0}]
[null,677,{"$f":"'3'!C82","v":0},{"$f":"'3'!D82","v":0},{"$f":"'3'!E82","v":0},{"$f":"'3'!F82","v":0}]
[null,678,{"$f":"'3'!C83","v":0},{"$f":"'3'!D83","v":0},{"$f":"'3'!E83","v":0},{"$f":"'3'!F83","v":0}]
[null,679,{"$f":"'3'!C84","v":0},{"$f":"'3'!D84","v":0},{"$f":"'3'!E84","v":0},{"$f":"'3'!F84","v":0}]
[null,680,{"$f":"'3'!C85","v":0},{"$f":"'3'!D85","v":0},{"$f":"'3'!E85","v":0},{"$f":"'3'!F85","v":0}]
[null,681,{"$f":"'3'!C86","v":0},{"$f":"'3'!D86","v":0},{"$f":"'3'!E86","v":0},{"$f":"'3'!F86","v":0}]
[null,682,{"$f":"'3'!C87","v":0},{"$f":"'3'!D87","v":0},{"$f":"'3'!E87","v":0},{"$f":"'3'!F87","v":0}]
[null,683,{"$f":"'3'!C88","v":0},{"$f":"'3'!D88","v":0},{"$f":"'3'!E88","v":0},{"$f":"'3'!F88","v":0}]
[null,684,{"$f":"'3'!C89","v":0},{"$f":"'3'!D89","v":0},{"$f":"'3'!E89","v":0},{"$f":"'3'!F89","v":0}]
[null,685,{"$f":"'3'!C90","v":0},{"$f":"'3'!D90","v":0},{"$f":"'3'!E90","v":0},{"$f":"'3'!F90","v":0}]
[null,686,{"$f":"'3'!C91","v":0},{"$f":"'3'!D91","v":0},{"$f":"'3'!E91","v":0},{"$f":"'3'!F91","v":0}]
[null,687,{"$f":"'3'!C92","v":0},{"$f":"'3'!D92","v":0},{"$f":"'3'!E92","v":0},{"$f":"'3'!F92","v":0}]
[null,688,{"$f":"'3'!C93","v":0},{"$f":"'3'!D93","v":0},{"$f":"'3'!E93","v":0},{"$f":"'3'!F93","v":0}]
[null,689,{"$f":"'3'!C94","v":0},{"$f":"'3'!D94","v":0},{"$f":"'3'!E94","v":0},{"$f":"'3'!F94","v":0}]
[null,690,{"$f":"'3'!C95","v":0},{"$f":"'3'!D95","v":0},{"$f":"'3'!E95","v":0},{"$f":"'3'!F95","v":0}]
[null,691,{"$f":"'3'!C96","v":0},{"$f":"'3'!D96","v":0},{"$f":"'3'!E96","v":0},{"$f":"'3'!F96","v":0}]
[null,692,{"$f":"'3'!C97","v":0},{"$f":"'3'!D97","v":0},{"$f":"'3'!E97","v":0},{"$f":"'3'!F97","v":0}]
[null,693,{"$f":"'3'!C98","v":0},{"$f":"'3'!D98","v":0},{"$f":"'3'!E98","v":0},{"$f":"'3'!F98","v":0}]
[null,694,{"$f":"'3'!C99","v":0},{"$f":"'3'!D99","v":0},{"$f":"'3'!E99","v":0},{"$f":"'3'!F99","v":0}]
[null,695,{"$f":"'3'!C100","v":0},{"$f":"'3'!D100","v":0},{"$f":"'3'!E100","v":0},{"$f":"'3'!F100","v":0}]
[null,696,{"$f":"'3'!C101","v":0},{"$f":"'3'!D101","v":0},{"$f":"'3'!E101","v":0},{"$f":"'3'!F101","v":0}]
[null,697,{"$f":"'3'!C102","v":0},{"$f":"'3'!D102","v":0},{"$f":"'3'!E102","v":0},{"$f":"'3'!F102","v":0}]
[null,698,{"$f":"'3'!C103","v":0},{"$f":"'3'!D103","v":0},{"$f":"'3'!E103","v":0},{"$f":"'3'!F103","v":0}]
[null,699,{"$f":"'3'!C104","v":0},{"$f":"'3'!D104","v":0},{"$f":"'3'!E104","v":0},{"$f":"'3'!F104","v":0}]
[null,700,{"$f":"'3'!C105","v":0},{"$f":"'3'!D105","v":0},{"$f":"'3'!E105","v":0},{"$f":"'3'!F105","v":0}]
[null,701,{"$f":"'3'!C106","v":0},{"$f":"'3'!D106","v":0},{"$f":"'3'!E106","v":0},{"$f":"'3'!F106","v":0}]
[null,702,{"$f":"'3'!C107","v":0},{"$f":"'3'!D107","v":0},{"$f":"'3'!E107","v":0},{"$f":"'3'!F107","v":0}]
[null,703,{"$f":"'3'!C108","v":0},{"$f":"'3'!D108","v":0},{"$f":"'3'!E108","v":0},{"$f":"'3'!F108","v":0}]
[null,704,{"$f":"'3'!C109","v":0},{"$f":"'3'!D109","v":0},{"$f":"'3'!E109","v":0},{"$f":"'3'!F109","v":0}]
[null,705,{"$f":"'3'!C110","v":0},{"$f":"'3'!D110","v":0},{"$f":"'3'!E110","v":0},{"$f":"'3'!F110","v":0}]
[null,706,{"$f":"'3'!C111","v":0},{"$f":"'3'!D111","v":0},{"$f":"'3'!E111","v":0},{"$f":"'3'!F111","v":0}]
[null,707,{"$f":"'3'!C112","v":0},{"$f":"'3'!D112","v":0},{"$f":"'3'!E112","v":0},{"$f":"'3'!F112","v":0}]
[null,708,{"$f":"'3'!C113","v":0},{"$f":"'3'!D113","v":0},{"$f":"'3'!E113","v":0},{"$f":"'3'!F113","v":0}]
[null,709,{"$f":"'3'!C114","v":0},{"$f":"'3'!D114","v":0},{"$f":"'3'!E114","v":0},{"$f":"'3'!F114","v":0}]
[null,710,{"$f":"'3'!C115","v":0},{"$f":"'3'!D115","v":0},{"$f":"'3'!E115","v":0},{"$f":"'3'!F115","v":0}]
[null,711,{"$f":"'3'!C116","v":0},{"$f":"'3'!D116","v":0},{"$f":"'3'!E116","v":0},{"$f":"'3'!F116","v":0}]
[null,712,{"$f":"'3'!C117","v":0},{"$f":"'3'!D117","v":0},{"$f":"'3'!E117","v":0},{"$f":"'3'!F117","v":0}]
[null,713,{"$f":"'3'!C118","v":0},{"$f":"'3'!D118","v":0},{"$f":"'3'!E118","v":0},{"$f":"'3'!F118","v":0}]
[null,714,{"$f":"'3'!C119","v":0},{"$f":"'3'!D119","v":0},{"$f":"'3'!E119","v":0},{"$f":"'3'!F119","v":0}]
[null,715,{"$f":"'3'!C120","v":0},{"$f":"'3'!D120","v":0},{"$f":"'3'!E120","v":0},{"$f":"'3'!F120","v":0}]
[null,716,{"$f":"'3'!C121","v":0},{"$f":"'3'!D121","v":0},{"$f":"'3'!E121","v":0},{"$f":"'3'!F121","v":0}]
[null,717,{"$f":"'3'!C122","v":0},{"$f":"'3'!D122","v":0},{"$f":"'3'!E122","v":0},{"$f":"'3'!F122","v":0}]
[null,718,{"$f":"'3'!C123","v":0},{"$f":"'3'!D123","v":0},{"$f":"'3'!E123","v":0},{"$f":"'3'!F123","v":0}]
[null,719,{"$f":"'3'!C124","v":0},{"$f":"'3'!D124","v":0},{"$f":"'3'!E124","v":0},{"$f":"'3'!F124","v":0}]
[null,720,{"$f":"'3'!C125","v":0},{"$f":"'3'!D125","v":0},{"$f":"'3'!E125","v":0},{"$f":"'3'!F125","v":0}]
[null,721,{"$f":"'3'!C126","v":0},{"$f":"'3'!D126","v":0},{"$f":"'3'!E126","v":0},{"$f":"'3'!F126","v":0}]
[null,722,{"$f":"'3'!C127","v":0},{"$f":"'3'!D127","v":0},{"$f":"'3'!E127","v":0},{"$f":"'3'!F127","v":0}]
[null,723,{"$f":"'3'!C128","v":0},{"$f":"'3'!D128","v":0},{"$f":"'3'!E128","v":0},{"$f":"'3'!F128","v":0}]
[null,724,{"$f":"'3'!C129","v":0},{"$f":"'3'!D129","v":0},{"$f":"'3'!E129","v":0},{"$f":"'3'!F129","v":0}]
[null,725,{"$f":"'3'!C130","v":0},{"$f":"'3'!D130","v":0},{"$f":"'3'!E130","v":0},{"$f":"'3'!F130","v":0}]
[null,726,{"$f":"'3'!C131","v":0},{"$f":"'3'!D131","v":0},{"$f":"'3'!E131","v":0},{"$f":"'3'!F131","v":0}]
[null,727,{"$f":"'3'!C132","v":0},{"$f":"'3'!D132","v":0},{"$f":"'3'!E132","v":0},{"$f":"'3'!F132","v":0}]
[null,728,{"$f":"'3'!C133","v":0},{"$f":"'3'!D133","v":0},{"$f":"'3'!E133","v":0},{"$f":"'3'!F133","v":0}]
[null,729,{"$f":"'3'!C134","v":0},{"$f":"'3'!D134","v":0},{"$f":"'3'!E134","v":0},{"$f":"'3'!F134","v":0}]
[null,730,{"$f":"'3'!C135","v":0},{"$f":"'3'!D135","v":0},{"$f":"'3'!E135","v":0},{"$f":"'3'!F135","v":0}]
[null,731,{"$f":"'3'!C136","v":0},{"$f":"'3'!D136","v":0},{"$f":"'3'!E136","v":0},{"$f":"'3'!F136","v":0}]
[null,732,{"$f":"'3'!C137","v":0},{"$f":"'3'!D137","v":0},{"$f":"'3'!E137","v":0},{"$f":"'3'!F137","v":0}]
[null,733,{"$f":"'3'!C138","v":0},{"$f":"'3'!D138","v":0},{"$f":"'3'!E138","v":0},{"$f":"'3'!F138","v":0}]
[null,734,{"$f":"'3'!C139","v":0},{"$f":"'3'!D139","v":0},{"$f":"'3'!E139","v":0},{"$f":"'3'!F139","v":0}]
[null,735,{"$f":"'3'!C140","v":0},{"$f":"'3'!D140","v":0},{"$f":"'3'!E140","v":0},{"$f":"'3'!F140","v":0}]
[null,736,{"$f":"'3'!C141","v":0},{"$f":"'3'!D141","v":0},{"$f":"'3'!E141","v":0},{"$f":"'3'!F141","v":0}]
[null,737,{"$f":"'3'!C142","v":0},{"$f":"'3'!D142","v":0},{"$f":"'3'!E142","v":0},{"$f":"'3'!F142","v":0}]
[null,738,{"$f":"'3'!C143","v":0},{"$f":"'3'!D143","v":0},{"$f":"'3'!E143","v":0},{"$f":"'3'!F143","v":0}]
[null,739,{"$f":"'3'!C144","v":0},{"$f":"'3'!D144","v":0},{"$f":"'3'!E144","v":0},{"$f":"'3'!F144","v":0}]
[null,740,{"$f":"'3'!C145","v":0},{"$f":"'3'!D145","v":0},{"$f":"'3'!E145","v":0},{"$f":"'3'!F145","v":0}]
[null,741,{"$f":"'3'!C146","v":0},{"$f":"'3'!D146","v":0},{"$f":"'3'!E146","v":0},{"$f":"'3'!F146","v":0}]
[null,742,{"$f":"'3'!C147","v":0},{"$f":"'3'!D147","v":0},{"$f":"'3'!E147","v":0},{"$f":"'3'!F147","v":0}]
[null,743,{"$f":"'3'!C148","v":0},{"$f":"'3'!D148","v":0},{"$f":"'3'!E148","v":0},{"$f":"'3'!F148","v":0}]
[null,744,{"$f":"'3'!C149","v":0},{"$f":"'3'!D149","v":0},{"$f":"'3'!E149","v":0},{"$f":"'3'!F149","v":0}]
[null,745,{"$f":"'3'!C150","v":0},{"$f":"'3'!D150","v":0},{"$f":"'3'!E150","v":0},{"$f":"'3'!F150","v":0}]
[null,746,{"$f":"'3'!C151","v":0},{"$f":"'3'!D151","v":0},{"$f":"'3'!E151","v":0},{"$f":"'3'!F151","v":0}]
[null,747,{"$f":"'3'!C152","v":0},{"$f":"'3'!D152","v":0},{"$f":"'3'!E152","v":0},{"$f":"'3'!F152","v":0}]
[null,748,{"$f":"'3'!C153","v":0},{"$f":"'3'!D153","v":0},{"$f":"'3'!E153","v":0},{"$f":"'3'!F153","v":0}]
[null,749,{"$f":"'3'!C154","v":0},{"$f":"'3'!D154","v":0},{"$f":"'3'!E154","v":0},{"$f":"'3'!F154","v":0}]
[null,750,{"$f":"'3'!C155","v":0},{"$f":"'3'!D155","v":0},{"$f":"'3'!E155","v":0},{"$f":"'3'!F155","v":0}]
[null,751,{"$f":"'3'!C156","v":0},{"$f":"'3'!D156","v":0},{"$f":"'3'!E156","v":0},{"$f":"'3'!F156","v":0}]
[null,752,{"$f":"'3'!C157","v":0},{"$f":"'3'!D157","v":0},{"$f":"'3'!E157","v":0},{"$f":"'3'!F157","v":0}]
[null,753,{"$f":"'3'!C158","v":0},{"$f":"'3'!D158","v":0},{"$f":"'3'!E158","v":0},{"$f":"'3'!F158","v":0}]
[null,754,{"$f":"'3'!C159","v":0},{"$f":"'3'!D159","v":0},{"$f":"'3'!E159","v":0},{"$f":"'3'!F159","v":0}]
[null,755,{"$f":"'3'!C160","v":0},{"$f":"'3'!D160","v":0},{"$f":"'3'!E160","v":0},{"$f":"'3'!F160","v":0}]
[null,756,{"$f":"'3'!C161","v":0},{"$f":"'3'!D161","v":0},{"$f":"'3'!E161","v":0},{"$f":"'3'!F161","v":0}]
[null,757,{"$f":"'3'!C162","v":0},{"$f":"'3'!D162","v":0},{"$f":"'3'!E162","v":0},{"$f":"'3'!F162","v":0}]
[null,758,{"$f":"'3'!C163","v":0},{"$f":"'3'!D163","v":0},{"$f":"'3'!E163","v":0},{"$f":"'3'!F163","v":0}]
[null,759,{"$f":"'3'!C164","v":0},{"$f":"'3'!D164","v":0},{"$f":"'3'!E164","v":0},{"$f":"'3'!F164","v":0}]
[null,760,{"$f":"'3'!C165","v":0},{"$f":"'3'!D165","v":0},{"$f":"'3'!E165","v":0},{"$f":"'3'!F165","v":0}]
[null,761,{"$f":"'3'!C166","v":0},{"$f":"'3'!D166","v":0},{"$f":"'3'!E166","v":0},{"$f":"'3'!F166","v":0}]
[null,762,{"$f":"'3'!C167","v":0},{"$f":"'3'!D167","v":0},{"$f":"'3'!E167","v":0},{"$f":"'3'!F167","v":0}]
[null,763,{"$f":"'3'!C168","v":0},{"$f":"'3'!D168","v":0},{"$f":"'3'!E168","v":0},{"$f":"'3'!F168","v":0}]
[null,764,{"$f":"'3'!C169","v":0},{"$f":"'3'!D169","v":0},{"$f":"'3'!E169","v":0},{"$f":"'3'!F169","v":0}]
[null,765,{"$f":"'3'!C170","v":0},{"$f":"'3'!D170","v":0},{"$f":"'3'!E170","v":0},{"$f":"'3'!F170","v":0}]
[null,766,{"$f":"'3'!C171","v":0},{"$f":"'3'!D171","v":0},{"$f":"'3'!E171","v":0},{"$f":"'3'!F171","v":0}]
[null,767,{"$f":"'3'!C172","v":0},{"$f":"'3'!D172","v":0},{"$f":"'3'!E172","v":0},{"$f":"'3'!F172","v":0}]
[null,768,{"$f":"'3'!C173","v":0},{"$f":"'3'!D173","v":0},{"$f":"'3'!E173","v":0},{"$f":"'3'!F173","v":0}]
[null,769,{"$f":"'3'!C174","v":0},{"$f":"'3'!D174","v":0},{"$f":"'3'!E174","v":0},{"$f":"'3'!F174","v":0}]
[null,770,{"$f":"'3'!C175","v":0},{"$f":"'3'!D175","v":0},{"$f":"'3'!E175","v":0},{"$f":"'3'!F175","v":0}]
[null,771,{"$f":"'3'!C176","v":0},{"$f":"'3'!D176","v":0},{"$f":"'3'!E176","v":0},{"$f":"'3'!F176","v":0}]
[null,772,{"$f":"'3'!C177","v":0},{"$f":"'3'!D177","v":0},{"$f":"'3'!E177","v":0},{"$f":"'3'!F177","v":0}]
[null,773,{"$f":"'3'!C178","v":0},{"$f":"'3'!D178","v":0},{"$f":"'3'!E178","v":0},{"$f":"'3'!F178","v":0}]
[null,774,{"$f":"'3'!C179","v":0},{"$f":"'3'!D179","v":0},{"$f":"'3'!E179","v":0},{"$f":"'3'!F179","v":0}]
[null,775,{"$f":"'3'!C180","v":0},{"$f":"'3'!D180","v":0},{"$f":"'3'!E180","v":0},{"$f":"'3'!F180","v":0}]
[null,776,{"$f":"'3'!C181","v":0},{"$f":"'3'!D181","v":0},{"$f":"'3'!E181","v":0},{"$f":"'3'!F181","v":0}]
[null,777,{"$f":"'3'!C182","v":0},{"$f":"'3'!D182","v":0},{"$f":"'3'!E182","v":0},{"$f":"'3'!F182","v":0}]
[null,778,{"$f":"'3'!C183","v":0},{"$f":"'3'!D183","v":0},{"$f":"'3'!E183","v":0},{"$f":"'3'!F183","v":0}]
[null,779,{"$f":"'3'!C184","v":0},{"$f":"'3'!D184","v":0},{"$f":"'3'!E184","v":0},{"$f":"'3'!F184","v":0}]
[null,780,{"$f":"'3'!C185","v":0},{"$f":"'3'!D185","v":0},{"$f":"'3'!E185","v":0},{"$f":"'3'!F185","v":0}]
[null,781,{"$f":"'3'!C186","v":0},{"$f":"'3'!D186","v":0},{"$f":"'3'!E186","v":0},{"$f":"'3'!F186","v":0}]
[null,782,{"$f":"'3'!C187","v":0},{"$f":"'3'!D187","v":0},{"$f":"'3'!E187","v":0},{"$f":"'3'!F187","v":0}]
[null,783,{"$f":"'3'!C188","v":0},{"$f":"'3'!D188","v":0},{"$f":"'3'!E188","v":0},{"$f":"'3'!F188","v":0}]
[null,784,{"$f":"'3'!C189","v":0},{"$f":"'3'!D189","v":0},{"$f":"'3'!E189","v":0},{"$f":"'3'!F189","v":0}]
[null,785,{"$f":"'3'!C190","v":0},{"$f":"'3'!D190","v":0},{"$f":"'3'!E190","v":0},{"$f":"'3'!F190","v":0}]
[null,786,{"$f":"'3'!C191","v":0},{"$f":"'3'!D191","v":0},{"$f":"'3'!E191","v":0},{"$f":"'3'!F191","v":0}]
[null,787,{"$f":"'3'!C192","v":0},{"$f":"'3'!D192","v":0},{"$f":"'3'!E192","v":0},{"$f":"'3'!F192","v":0}]
[null,788,{"$f":"'3'!C193","v":0},{"$f":"'3'!D193","v":0},{"$f":"'3'!E193","v":0},{"$f":"'3'!F193","v":0}]
[null,789,{"$f":"'3'!C194","v":0},{"$f":"'3'!D194","v":0},{"$f":"'3'!E194","v":0},{"$f":"'3'!F194","v":0}]
[null,790,{"$f":"'3'!C195","v":0},{"$f":"'3'!D195","v":0},{"$f":"'3'!E195","v":0},{"$f":"'3'!F195","v":0}]
[null,791,{"$f":"'3'!C196","v":0},{"$f":"'3'!D196","v":0},{"$f":"'3'!E196","v":0},{"$f":"'3'!F196","v":0}]
[null,792,{"$f":"'3'!C197","v":0},{"$f":"'3'!D197","v":0},{"$f":"'3'!E197","v":0},{"$f":"'3'!F197","v":0}]
[null,793,{"$f":"'3'!C198","v":0},{"$f":"'3'!D198","v":0},{"$f":"'3'!E198","v":0},{"$f":"'3'!F198","v":0}]
[null,794,{"$f":"'3'!C199","v":0},{"$f":"'3'!D199","v":0},{"$f":"'3'!E199","v":0},{"$f":"'3'!F199","v":0}]
[null,795,{"$f":"'3'!C200","v":0},{"$f":"'3'!D200","v":0},{"$f":"'3'!E200","v":0},{"$f":"'3'!F200","v":0}]
[null,796,{"$f":"'3'!C201","v":0},{"$f":"'3'!D201","v":0},{"$f":"'3'!E201","v":0},{"$f":"'3'!F201","v":0}]
[null,797,{"$f":"'3'!C202","v":0},{"$f":"'3'!D202","v":0},{"$f":"'3'!E202","v":0},{"$f":"'3'!F202","v":0}]
[null,798,{"$f":"'3'!C203","v":0},{"$f":"'3'!D203","v":0},{"$f":"'3'!E203","v":0},{"$f":"'3'!F203","v":0}]
[null,799,{"$f":"'3'!C204","v":0},{"$f":"'3'!D204","v":0},{"$f":"'3'!E204","v":0},{"$f":"'3'!F204","v":0}]
[null,800,{"$f":"'3'!C205","v":0},{"$f":"'3'!D205","v":0},{"$f":"'3'!E205","v":0},{"$f":"'3'!F205","v":0}]
[null,801,{"$f":"'3'!C206","v":0},{"$f":"'3'!D206","v":0},{"$f":"'3'!E206","v":0},{"$f":"'3'!F206","v":0}]
[null,802,{"$f":"'3'!C207","v":0},{"$f":"'3'!D207","v":0},{"$f":"'3'!E207","v":0},{"$f":"'3'!F207","v":0}]
[null,803,{"$f":"'3'!C208","v":0},{"$f":"'3'!D208","v":0},{"$f":"'3'!E208","v":0},{"$f":"'3'!F208","v":0}]
[null,804,{"$f":"'3'!C209","v":0},{"$f":"'3'!D209","v":0},{"$f":"'3'!E209","v":0},{"$f":"'3'!F209","v":0}]
[null,805,{"$f":"'3'!C210","v":0},{"$f":"'3'!D210","v":0},{"$f":"'3'!E210","v":0},{"$f":"'3'!F210","v":0}]
[null,806,{"$f":"'3'!C211","v":0},{"$f":"'3'!D211","v":0},{"$f":"'3'!E211","v":0},{"$f":"'3'!F211","v":0}]
[null,807,{"$f":"'3'!C212","v":0},{"$f":"'3'!D212","v":0},{"$f":"'3'!E212","v":0},{"$f":"'3'!F212","v":0}]
[null,808,{"$f":"'3'!C213","v":0},{"$f":"'3'!D213","v":0},{"$f":"'3'!E213","v":0},{"$f":"'3'!F213","v":0}]
[null,809,{"$f":"'3'!C214","v":0},{"$f":"'3'!D214","v":0},{"$f":"'3'!E214","v":0},{"$f":"'3'!F214","v":0}]
[null,810,{"$f":"'3'!C215","v":0},{"$f":"'3'!D215","v":0},{"$f":"'3'!E215","v":0},{"$f":"'3'!F215","v":0}]
[null,811,{"$f":"'3'!C216","v":0},{"$f":"'3'!D216","v":0},{"$f":"'3'!E216","v":0},{"$f":"'3'!F216","v":0}]
[null,812,{"$f":"'3'!C217","v":0},{"$f":"'3'!D217","v":0},{"$f":"'3'!E217","v":0},{"$f":"'3'!F217","v":0}]
[null,813,{"$f":"'3'!C218","v":0},{"$f":"'3'!D218","v":0},{"$f":"'3'!E218","v":0},{"$f":"'3'!F218","v":0}]
[null,814,{"$f":"'3'!C219","v":0},{"$f":"'3'!D219","v":0},{"$f":"'3'!E219","v":0},{"$f":"'3'!F219","v":0}]
[null,815,{"$f":"'3'!C220","v":0},{"$f":"'3'!D220","v":0},{"$f":"'3'!E220","v":0},{"$f":"'3'!F220","v":0}]
[null,816,{"$f":"'3'!C221","v":0},{"$f":"'3'!D221","v":0},{"$f":"'3'!E221","v":0},{"$f":"'3'!F221","v":0}]
[null,817,{"$f":"'3'!C222","v":0},{"$f":"'3'!D222","v":0},{"$f":"'3'!E222","v":0},{"$f":"'3'!F222","v":0}]
[null,818,{"$f":"'3'!C223","v":0},{"$f":"'3'!D223","v":0},{"$f":"'3'!E223","v":0},{"$f":"'3'!F223","v":0}]
[null,819,{"$f":"'3'!C224","v":0},{"$f":"'3'!D224","v":0},{"$f":"'3'!E224","v":0},{"$f":"'3'!F224","v":0}]
[null,820,{"$f":"'3'!C225","v":0},{"$f":"'3'!D225","v":0},{"$f":"'3'!E225","v":0},{"$f":"'3'!F225","v":0}]
[null,821,{"$f":"'3'!C226","v":0},{"$f":"'3'!D226","v":0},{"$f":"'3'!E226","v":0},{"$f":"'3'!F226","v":0}]
[null,822,{"$f":"'3'!C227","v":0},{"$f":"'3'!D227","v":0},{"$f":"'3'!E227","v":0},{"$f":"'3'!F227","v":0}]
[null,823,{"$f":"'3'!C228","v":0},{"$f":"'3'!D228","v":0},{"$f":"'3'!E228","v":0},{"$f":"'3'!F228","v":0}]
[null,824,{"$f":"'3'!C229","v":0},{"$f":"'3'!D229","v":0},{"$f":"'3'!E229","v":0},{"$f":"'3'!F229","v":0}]
[null,825,{"$f":"'3'!C230","v":0},{"$f":"'3'!D230","v":0},{"$f":"'3'!E230","v":0},{"$f":"'3'!F230","v":0}]
[null,826,{"$f":"'3'!C231","v":0},{"$f":"'3'!D231","v":0},{"$f":"'3'!E231","v":0},{"$f":"'3'!F231","v":0}]
[null,827,{"$f":"'3'!C232","v":0},{"$f":"'3'!D232","v":0},{"$f":"'3'!E232","v":0},{"$f":"'3'!F232","v":0}]
[null,828,{"$f":"'3'!C233","v":0},{"$f":"'3'!D233","v":0},{"$f":"'3'!E233","v":0},{"$f":"'3'!F233","v":0}]
[null,829,{"$f":"'3'!C234","v":0},{"$f":"'3'!D234","v":0},{"$f":"'3'!E234","v":0},{"$f":"'3'!F234","v":0}]
[null,830,{"$f":"'3'!C235","v":0},{"$f":"'3'!D235","v":0},{"$f":"'3'!E235","v":0},{"$f":"'3'!F235","v":0}]
[null,831,{"$f":"'3'!C236","v":0},{"$f":"'3'!D236","v":0},{"$f":"'3'!E236","v":0},{"$f":"'3'!F236","v":0}]
[null,832,{"$f":"'3'!C237","v":0},{"$f":"'3'!D237","v":0},{"$f":"'3'!E237","v":0},{"$f":"'3'!F237","v":0}]
[null,833,{"$f":"'3'!C238","v":0},{"$f":"'3'!D238","v":0},{"$f":"'3'!E238","v":0},{"$f":"'3'!F238","v":0}]
[null,834,{"$f":"'3'!C239","v":0},{"$f":"'3'!D239","v":0},{"$f":"'3'!E239","v":0},{"$f":"'3'!F239","v":0}]
[null,835,{"$f":"'3'!C240","v":0},{"$f":"'3'!D240","v":0},{"$f":"'3'!E240","v":0},{"$f":"'3'!F240","v":0}]
[null,836,{"$f":"'3'!C241","v":0},{"$f":"'3'!D241","v":0},{"$f":"'3'!E241","v":0},{"$f":"'3'!F241","v":0}]
[null,837,{"$f":"'3'!C242","v":0},{"$f":"'3'!D242","v":0},{"$f":"'3'!E242","v":0},{"$f":"'3'!F242","v":0}]
[null,838,{"$f":"'3'!C243","v":0},{"$f":"'3'!D243","v":0},{"$f":"'3'!E243","v":0},{"$f":"'3'!F243","v":0}]
[null,839,{"$f":"'3'!C244","v":0},{"$f":"'3'!D244","v":0},{"$f":"'3'!E244","v":0},{"$f":"'3'!F244","v":0}]
[null,840,{"$f":"'3'!C245","v":0},{"$f":"'3'!D245","v":0},{"$f":"'3'!E245","v":0},{"$f":"'3'!F245","v":0}]
[null,841,{"$f":"'3'!C246","v":0},{"$f":"'3'!D246","v":0},{"$f":"'3'!E246","v":0},{"$f":"'3'!F246","v":0}]
[null,842,{"$f":"'3'!C247","v":0},{"$f":"'3'!D247","v":0},{"$f":"'3'!E247","v":0},{"$f":"'3'!F247","v":0}]
[null,843,{"$f":"'3'!C248","v":0},{"$f":"'3'!D248","v":0},{"$f":"'3'!E248","v":0},{"$f":"'3'!F248","v":0}]
[null,844,{"$f":"'3'!C249","v":0},{"$f":"'3'!D249","v":0},{"$f":"'3'!E249","v":0},{"$f":"'3'!F249","v":0}]
[null,845,{"$f":"'3'!C250","v":0},{"$f":"'3'!D250","v":0},{"$f":"'3'!E250","v":0},{"$f":"'3'!F250","v":0}]
[null,846,{"$f":"'3'!C251","v":0},{"$f":"'3'!D251","v":0},{"$f":"'3'!E251","v":0},{"$f":"'3'!F251","v":0}]
[null,847,{"$f":"'3'!C252","v":0},{"$f":"'3'!D252","v":0},{"$f":"'3'!E252","v":0},{"$f":"'3'!F252","v":0}]
[null,848,{"$f":"'3'!C253","v":0},{"$f":"'3'!D253","v":0},{"$f":"'3'!E253","v":0},{"$f":"'3'!F253","v":0}]
[null,849,{"$f":"'3'!C254","v":0},{"$f":"'3'!D254","v":0},{"$f":"'3'!E254","v":0},{"$f":"'3'!F254","v":0}]
[null,850,{"$f":"'3'!C255","v":0},{"$f":"'3'!D255","v":0},{"$f":"'3'!E255","v":0},{"$f":"'3'!F255","v":0}]
[null,851,{"$f":"'3'!C256","v":0},{"$f":"'3'!D256","v":0},{"$f":"'3'!E256","v":0},{"$f":"'3'!F256","v":0}]
[null,852,{"$f":"'3'!C257","v":0},{"$f":"'3'!D257","v":0},{"$f":"'3'!E257","v":0},{"$f":"'3'!F257","v":0}]
[null,853,{"$f":"'3'!C258","v":0},{"$f":"'3'!D258","v":0},{"$f":"'3'!E258","v":0},{"$f":"'3'!F258","v":0}]
[null,854,{"$f":"'3'!C259","v":0},{"$f":"'3'!D259","v":0},{"$f":"'3'!E259","v":0},{"$f":"'3'!F259","v":0}]
[null,855,{"$f":"'3'!C260","v":0},{"$f":"'3'!D260","v":0},{"$f":"'3'!E260","v":0},{"$f":"'3'!F260","v":0}]
[null,856,{"$f":"'3'!C261","v":0},{"$f":"'3'!D261","v":0},{"$f":"'3'!E261","v":0},{"$f":"'3'!F261","v":0}]
[null,857,{"$f":"'3'!C262","v":0},{"$f":"'3'!D262","v":0},{"$f":"'3'!E262","v":0},{"$f":"'3'!F262","v":0}]
[null,858,{"$f":"'3'!C263","v":0},{"$f":"'3'!D263","v":0},{"$f":"'3'!E263","v":0},{"$f":"'3'!F263","v":0}]
[null,859,{"$f":"'3'!C264","v":0},{"$f":"'3'!D264","v":0},{"$f":"'3'!E264","v":0},{"$f":"'3'!F264","v":0}]
[null,860,{"$f":"'3'!C265","v":0},{"$f":"'3'!D265","v":0},{"$f":"'3'!E265","v":0},{"$f":"'3'!F265","v":0}]
[null,861,{"$f":"'3'!C266","v":0},{"$f":"'3'!D266","v":0},{"$f":"'3'!E266","v":0},{"$f":"'3'!F266","v":0}]
[null,862,{"$f":"'3'!C267","v":0},{"$f":"'3'!D267","v":0},{"$f":"'3'!E267","v":0},{"$f":"'3'!F267","v":0}]
[null,863,{"$f":"'3'!C268","v":0},{"$f":"'3'!D268","v":0},{"$f":"'3'!E268","v":0},{"$f":"'3'!F268","v":0}]
[null,864,{"$f":"'3'!C269","v":0},{"$f":"'3'!D269","v":0},{"$f":"'3'!E269","v":0},{"$f":"'3'!F269","v":0}]
[null,865,{"$f":"'3'!C270","v":0},{"$f":"'3'!D270","v":0},{"$f":"'3'!E270","v":0},{"$f":"'3'!F270","v":0}]
[null,866,{"$f":"'3'!C271","v":0},{"$f":"'3'!D271","v":0},{"$f":"'3'!E271","v":0},{"$f":"'3'!F271","v":0}]
[null,867,{"$f":"'3'!C272","v":0},{"$f":"'3'!D272","v":0},{"$f":"'3'!E272","v":0},{"$f":"'3'!F272","v":0}]
[null,868,{"$f":"'3'!C273","v":0},{"$f":"'3'!D273","v":0},{"$f":"'3'!E273","v":0},{"$f":"'3'!F273","v":0}]
[null,869,{"$f":"'3'!C274","v":0},{"$f":"'3'!D274","v":0},{"$f":"'3'!E274","v":0},{"$f":"'3'!F274","v":0}]
[null,870,{"$f":"'3'!C275","v":0},{"$f":"'3'!D275","v":0},{"$f":"'3'!E275","v":0},{"$f":"'3'!F275","v":0}]
[null,871,{"$f":"'3'!C276","v":0},{"$f":"'3'!D276","v":0},{"$f":"'3'!E276","v":0},{"$f":"'3'!F276","v":0}]
[null,872,{"$f":"'3'!C277","v":0},{"$f":"'3'!D277","v":0},{"$f":"'3'!E277","v":0},{"$f":"'3'!F277","v":0}]
[null,873,{"$f":"'3'!C278","v":0},{"$f":"'3'!D278","v":0},{"$f":"'3'!E278","v":0},{"$f":"'3'!F278","v":0}]
[null,874,{"$f":"'3'!C279","v":0},{"$f":"'3'!D279","v":0},{"$f":"'3'!E279","v":0},{"$f":"'3'!F279","v":0}]
[null,875,{"$f":"'3'!C280","v":0},{"$f":"'3'!D280","v":0},{"$f":"'3'!E280","v":0},{"$f":"'3'!F280","v":0}]
[null,876,{"$f":"'3'!C281","v":0},{"$f":"'3'!D281","v":0},{"$f":"'3'!E281","v":0},{"$f":"'3'!F281","v":0}]
[null,877,{"$f":"'3'!C282","v":0},{"$f":"'3'!D282","v":0},{"$f":"'3'!E282","v":0},{"$f":"'3'!F282","v":0}]
[null,878,{"$f":"'3'!C283","v":0},{"$f":"'3'!D283","v":0},{"$f":"'3'!E283","v":0},{"$f":"'3'!F283","v":0}]
[null,879,{"$f":"'3'!C284","v":0},{"$f":"'3'!D284","v":0},{"$f":"'3'!E284","v":0},{"$f":"'3'!F284","v":0}]
[null,880,{"$f":"'3'!C285","v":0},{"$f":"'3'!D285","v":0},{"$f":"'3'!E285","v":0},{"$f":"'3'!F285","v":0}]
[null,881,{"$f":"'3'!C286","v":0},{"$f":"'3'!D286","v":0},{"$f":"'3'!E286","v":0},{"$f":"'3'!F286","v":0}]
[null,882,{"$f":"'3'!C287","v":0},{"$f":"'3'!D287","v":0},{"$f":"'3'!E287","v":0},{"$f":"'3'!F287","v":0}]
[null,883,{"$f":"'3'!C288","v":0},{"$f":"'3'!D288","v":0},{"$f":"'3'!E288","v":0},{"$f":"'3'!F288","v":0}]
[null,884,{"$f":"'3'!C289","v":0},{"$f":"'3'!D289","v":0},{"$f":"'3'!E289","v":0},{"$f":"'3'!F289","v":0}]
[null,885,{"$f":"'3'!C290","v":0},{"$f":"'3'!D290","v":0},{"$f":"'3'!E290","v":0},{"$f":"'3'!F290","v":0}]
[null,886,{"$f":"'3'!C291","v":0},{"$f":"'3'!D291","v":0},{"$f":"'3'!E291","v":0},{"$f":"'3'!F291","v":0}]
[null,887,{"$f":"'3'!C292","v":0},{"$f":"'3'!D292","v":0},{"$f":"'3'!E292","v":0},{"$f":"'3'!F292","v":0}]
[null,888,{"$f":"'3'!C293","v":0},{"$f":"'3'!D293","v":0},{"$f":"'3'!E293","v":0},{"$f":"'3'!F293","v":0}]
[null,889,{"$f":"'3'!C294","v":0},{"$f":"'3'!D294","v":0},{"$f":"'3'!E294","v":0},{"$f":"'3'!F294","v":0}]
[null,890,{"$f":"'3'!C295","v":0},{"$f":"'3'!D295","v":0},{"$f":"'3'!E295","v":0},{"$f":"'3'!F295","v":0}]
[null,891,{"$f":"'3'!C296","v":0},{"$f":"'3'!D296","v":0},{"$f":"'3'!E296","v":0},{"$f":"'3'!F296","v":0}]
[null,892,{"$f":"'3'!C297","v":0},{"$f":"'3'!D297","v":0},{"$f":"'3'!E297","v":0},{"$f":"'3'!F297","v":0}]
[null,893,{"$f":"'3'!C298","v":0},{"$f":"'3'!D298","v":0},{"$f":"'3'!E298","v":0},{"$f":"'3'!F298","v":0}]
[null,894,{"$f":"'3'!C299","v":0},{"$f":"'3'!D299","v":0},{"$f":"'3'!E299","v":0},{"$f":"'3'!F299","v":0}]
[null,895,{"$f":"'3'!C300","v":0},{"$f":"'3'!D300","v":0},{"$f":"'3'!E300","v":0},{"$f":"'3'!F300","v":0}]
[null,896,{"$f":"'3'!C301","v":0},{"$f":"'3'!D301","v":0},{"$f":"'3'!E301","v":0},{"$f":"'3'!F301","v":0}]
[null,897,{"$f":"'3'!C302","v":0},{"$f":"'3'!D302","v":0},{"$f":"'3'!E302","v":0},{"$f":"'3'!F302","v":0}]
[null,898,{"$f":"'3'!C303","v":0},{"$f":"'3'!D303","v":0},{"$f":"'3'!E303","v":0},{"$f":"'3'!F303","v":0}]
[null,899,{"$f":"'3'!C304","v":0},{"$f":"'3'!D304","v":0},{"$f":"'3'!E304","v":0},{"$f":"'3'!F304","v":0}]
[null,900,{"$f":"'3'!C305","v":0},{"$f":"'3'!D305","v":0},{"$f":"'3'!E305","v":0},{"$f":"'3'!F305","v":0}]
[null,901,{"$f":"'4'!C6","v":0},{"$f":"'4'!D6","v":0},{"$f":"'4'!E6","v":0},{"$f":"'4'!F6","v":0}]
[null,902,{"$f":"'4'!C7","v":0},{"$f":"'4'!D7","v":0},{"$f":"'4'!E7","v":0},{"$f":"'4'!F7","v":0}]
[null,903,{"$f":"'4'!C8","v":0},{"$f":"'4'!D8","v":0},{"$f":"'4'!E8","v":0},{"$f":"'4'!F8","v":0}]
[null,904,{"$f":"'4'!C9","v":0},{"$f":"'4'!D9","v":0},{"$f":"'4'!E9","v":0},{"$f":"'4'!F9","v":0}]
[null,905,{"$f":"'4'!C10","v":0},{"$f":"'4'!D10","v":0},{"$f":"'4'!E10","v":0},{"$f":"'4'!F10","v":0}]
[null,906,{"$f":"'4'!C11","v":0},{"$f":"'4'!D11","v":0},{"$f":"'4'!E11","v":0},{"$f":"'4'!F11","v":0}]
[null,907,{"$f":"'4'!C12","v":0},{"$f":"'4'!D12","v":0},{"$f":"'4'!E12","v":0},{"$f":"'4'!F12","v":0}]
[null,908,{"$f":"'4'!C13","v":0},{"$f":"'4'!D13","v":0},{"$f":"'4'!E13","v":0},{"$f":"'4'!F13","v":0}]
[null,909,{"$f":"'4'!C14","v":0},{"$f":"'4'!D14","v":0},{"$f":"'4'!E14","v":0},{"$f":"'4'!F14","v":0}]
[null,910,{"$f":"'4'!C15","v":0},{"$f":"'4'!D15","v":0},{"$f":"'4'!E15","v":0},{"$f":"'4'!F15","v":0}]
[null,911,{"$f":"'4'!C16","v":0},{"$f":"'4'!D16","v":0},{"$f":"'4'!E16","v":0},{"$f":"'4'!F16","v":0}]
[null,912,{"$f":"'4'!C17","v":0},{"$f":"'4'!D17","v":0},{"$f":"'4'!E17","v":0},{"$f":"'4'!F17","v":0}]
[null,913,{"$f":"'4'!C18","v":0},{"$f":"'4'!D18","v":0},{"$f":"'4'!E18","v":0},{"$f":"'4'!F18","v":0}]
[null,914,{"$f":"'4'!C19","v":0},{"$f":"'4'!D19","v":0},{"$f":"'4'!E19","v":0},{"$f":"'4'!F19","v":0}]
[null,915,{"$f":"'4'!C20","v":0},{"$f":"'4'!D20","v":0},{"$f":"'4'!E20","v":0},{"$f":"'4'!F20","v":0}]
[null,916,{"$f":"'4'!C21","v":0},{"$f":"'4'!D21","v":0},{"$f":"'4'!E21","v":0},{"$f":"'4'!F21","v":0}]
[null,917,{"$f":"'4'!C22","v":0},{"$f":"'4'!D22","v":0},{"$f":"'4'!E22","v":0},{"$f":"'4'!F22","v":0}]
[null,918,{"$f":"'4'!C23","v":0},{"$f":"'4'!D23","v":0},{"$f":"'4'!E23","v":0},{"$f":"'4'!F23","v":0}]
[null,919,{"$f":"'4'!C24","v":0},{"$f":"'4'!D24","v":0},{"$f":"'4'!E24","v":0},{"$f":"'4'!F24","v":0}]
[null,920,{"$f":"'4'!C25","v":0},{"$f":"'4'!D25","v":0},{"$f":"'4'!E25","v":0},{"$f":"'4'!F25","v":0}]
[null,921,{"$f":"'4'!C26","v":0},{"$f":"'4'!D26","v":0},{"$f":"'4'!E26","v":0},{"$f":"'4'!F26","v":0}]
[null,922,{"$f":"'4'!C27","v":0},{"$f":"'4'!D27","v":0},{"$f":"'4'!E27","v":0},{"$f":"'4'!F27","v":0}]
[null,923,{"$f":"'4'!C28","v":0},{"$f":"'4'!D28","v":0},{"$f":"'4'!E28","v":0},{"$f":"'4'!F28","v":0}]
[null,924,{"$f":"'4'!C29","v":0},{"$f":"'4'!D29","v":0},{"$f":"'4'!E29","v":0},{"$f":"'4'!F29","v":0}]
[null,925,{"$f":"'4'!C30","v":0},{"$f":"'4'!D30","v":0},{"$f":"'4'!E30","v":0},{"$f":"'4'!F30","v":0}]
[null,926,{"$f":"'4'!C31","v":0},{"$f":"'4'!D31","v":0},{"$f":"'4'!E31","v":0},{"$f":"'4'!F31","v":0}]
[null,927,{"$f":"'4'!C32","v":0},{"$f":"'4'!D32","v":0},{"$f":"'4'!E32","v":0},{"$f":"'4'!F32","v":0}]
[null,928,{"$f":"'4'!C33","v":0},{"$f":"'4'!D33","v":0},{"$f":"'4'!E33","v":0},{"$f":"'4'!F33","v":0}]
[null,929,{"$f":"'4'!C34","v":0},{"$f":"'4'!D34","v":0},{"$f":"'4'!E34","v":0},{"$f":"'4'!F34","v":0}]
[null,930,{"$f":"'4'!C35","v":0},{"$f":"'4'!D35","v":0},{"$f":"'4'!E35","v":0},{"$f":"'4'!F35","v":0}]
[null,931,{"$f":"'4'!C36","v":0},{"$f":"'4'!D36","v":0},{"$f":"'4'!E36","v":0},{"$f":"'4'!F36","v":0}]
[null,932,{"$f":"'4'!C37","v":0},{"$f":"'4'!D37","v":0},{"$f":"'4'!E37","v":0},{"$f":"'4'!F37","v":0}]
[null,933,{"$f":"'4'!C38","v":0},{"$f":"'4'!D38","v":0},{"$f":"'4'!E38","v":0},{"$f":"'4'!F38","v":0}]
[null,934,{"$f":"'4'!C39","v":0},{"$f":"'4'!D39","v":0},{"$f":"'4'!E39","v":0},{"$f":"'4'!F39","v":0}]
[null,935,{"$f":"'4'!C40","v":0},{"$f":"'4'!D40","v":0},{"$f":"'4'!E40","v":0},{"$f":"'4'!F40","v":0}]
[null,936,{"$f":"'4'!C41","v":0},{"$f":"'4'!D41","v":0},{"$f":"'4'!E41","v":0},{"$f":"'4'!F41","v":0}]
[null,937,{"$f":"'4'!C42","v":0},{"$f":"'4'!D42","v":0},{"$f":"'4'!E42","v":0},{"$f":"'4'!F42","v":0}]
[null,938,{"$f":"'4'!C43","v":0},{"$f":"'4'!D43","v":0},{"$f":"'4'!E43","v":0},{"$f":"'4'!F43","v":0}]
[null,939,{"$f":"'4'!C44","v":0},{"$f":"'4'!D44","v":0},{"$f":"'4'!E44","v":0},{"$f":"'4'!F44","v":0}]
[null,940,{"$f":"'4'!C45","v":0},{"$f":"'4'!D45","v":0},{"$f":"'4'!E45","v":0},{"$f":"'4'!F45","v":0}]
[null,941,{"$f":"'4'!C46","v":0},{"$f":"'4'!D46","v":0},{"$f":"'4'!E46","v":0},{"$f":"'4'!F46","v":0}]
[null,942,{"$f":"'4'!C47","v":0},{"$f":"'4'!D47","v":0},{"$f":"'4'!E47","v":0},{"$f":"'4'!F47","v":0}]
[null,943,{"$f":"'4'!C48","v":0},{"$f":"'4'!D48","v":0},{"$f":"'4'!E48","v":0},{"$f":"'4'!F48","v":0}]
[null,944,{"$f":"'4'!C49","v":0},{"$f":"'4'!D49","v":0},{"$f":"'4'!E49","v":0},{"$f":"'4'!F49","v":0}]
[null,945,{"$f":"'4'!C50","v":0},{"$f":"'4'!D50","v":0},{"$f":"'4'!E50","v":0},{"$f":"'4'!F50","v":0}]
[null,946,{"$f":"'4'!C51","v":0},{"$f":"'4'!D51","v":0},{"$f":"'4'!E51","v":0},{"$f":"'4'!F51","v":0}]
[null,947,{"$f":"'4'!C52","v":0},{"$f":"'4'!D52","v":0},{"$f":"'4'!E52","v":0},{"$f":"'4'!F52","v":0}]
[null,948,{"$f":"'4'!C53","v":0},{"$f":"'4'!D53","v":0},{"$f":"'4'!E53","v":0},{"$f":"'4'!F53","v":0}]
[null,949,{"$f":"'4'!C54","v":0},{"$f":"'4'!D54","v":0},{"$f":"'4'!E54","v":0},{"$f":"'4'!F54","v":0}]
[null,950,{"$f":"'4'!C55","v":0},{"$f":"'4'!D55","v":0},{"$f":"'4'!E55","v":0},{"$f":"'4'!F55","v":0}]
[null,951,{"$f":"'4'!C56","v":0},{"$f":"'4'!D56","v":0},{"$f":"'4'!E56","v":0},{"$f":"'4'!F56","v":0}]
[null,952,{"$f":"'4'!C57","v":0},{"$f":"'4'!D57","v":0},{"$f":"'4'!E57","v":0},{"$f":"'4'!F57","v":0}]
[null,953,{"$f":"'4'!C58","v":0},{"$f":"'4'!D58","v":0},{"$f":"'4'!E58","v":0},{"$f":"'4'!F58","v":0}]
[null,954,{"$f":"'4'!C59","v":0},{"$f":"'4'!D59","v":0},{"$f":"'4'!E59","v":0},{"$f":"'4'!F59","v":0}]
[null,955,{"$f":"'4'!C60","v":0},{"$f":"'4'!D60","v":0},{"$f":"'4'!E60","v":0},{"$f":"'4'!F60","v":0}]
[null,956,{"$f":"'4'!C61","v":0},{"$f":"'4'!D61","v":0},{"$f":"'4'!E61","v":0},{"$f":"'4'!F61","v":0}]
[null,957,{"$f":"'4'!C62","v":0},{"$f":"'4'!D62","v":0},{"$f":"'4'!E62","v":0},{"$f":"'4'!F62","v":0}]
[null,958,{"$f":"'4'!C63","v":0},{"$f":"'4'!D63","v":0},{"$f":"'4'!E63","v":0},{"$f":"'4'!F63","v":0}]
[null,959,{"$f":"'4'!C64","v":0},{"$f":"'4'!D64","v":0},{"$f":"'4'!E64","v":0},{"$f":"'4'!F64","v":0}]
[null,960,{"$f":"'4'!C65","v":0},{"$f":"'4'!D65","v":0},{"$f":"'4'!E65","v":0},{"$f":"'4'!F65","v":0}]
[null,961,{"$f":"'4'!C66","v":0},{"$f":"'4'!D66","v":0},{"$f":"'4'!E66","v":0},{"$f":"'4'!F66","v":0}]
[null,962,{"$f":"'4'!C67","v":0},{"$f":"'4'!D67","v":0},{"$f":"'4'!E67","v":0},{"$f":"'4'!F67","v":0}]
[null,963,{"$f":"'4'!C68","v":0},{"$f":"'4'!D68","v":0},{"$f":"'4'!E68","v":0},{"$f":"'4'!F68","v":0}]
[null,964,{"$f":"'4'!C69","v":0},{"$f":"'4'!D69","v":0},{"$f":"'4'!E69","v":0},{"$f":"'4'!F69","v":0}]
[null,965,{"$f":"'4'!C70","v":0},{"$f":"'4'!D70","v":0},{"$f":"'4'!E70","v":0},{"$f":"'4'!F70","v":0}]
[null,966,{"$f":"'4'!C71","v":0},{"$f":"'4'!D71","v":0},{"$f":"'4'!E71","v":0},{"$f":"'4'!F71","v":0}]
[null,967,{"$f":"'4'!C72","v":0},{"$f":"'4'!D72","v":0},{"$f":"'4'!E72","v":0},{"$f":"'4'!F72","v":0}]
[null,968,{"$f":"'4'!C73","v":0},{"$f":"'4'!D73","v":0},{"$f":"'4'!E73","v":0},{"$f":"'4'!F73","v":0}]
[null,969,{"$f":"'4'!C74","v":0},{"$f":"'4'!D74","v":0},{"$f":"'4'!E74","v":0},{"$f":"'4'!F74","v":0}]
[null,970,{"$f":"'4'!C75","v":0},{"$f":"'4'!D75","v":0},{"$f":"'4'!E75","v":0},{"$f":"'4'!F75","v":0}]
[null,971,{"$f":"'4'!C76","v":0},{"$f":"'4'!D76","v":0},{"$f":"'4'!E76","v":0},{"$f":"'4'!F76","v":0}]
[null,972,{"$f":"'4'!C77","v":0},{"$f":"'4'!D77","v":0},{"$f":"'4'!E77","v":0},{"$f":"'4'!F77","v":0}]
[null,973,{"$f":"'4'!C78","v":0},{"$f":"'4'!D78","v":0},{"$f":"'4'!E78","v":0},{"$f":"'4'!F78","v":0}]
[null,974,{"$f":"'4'!C79","v":0},{"$f":"'4'!D79","v":0},{"$f":"'4'!E79","v":0},{"$f":"'4'!F79","v":0}]
[null,975,{"$f":"'4'!C80","v":0},{"$f":"'4'!D80","v":0},{"$f":"'4'!E80","v":0},{"$f":"'4'!F80","v":0}]
[null,976,{"$f":"'4'!C81","v":0},{"$f":"'4'!D81","v":0},{"$f":"'4'!E81","v":0},{"$f":"'4'!F81","v":0}]
[null,977,{"$f":"'4'!C82","v":0},{"$f":"'4'!D82","v":0},{"$f":"'4'!E82","v":0},{"$f":"'4'!F82","v":0}]
[null,978,{"$f":"'4'!C83","v":0},{"$f":"'4'!D83","v":0},{"$f":"'4'!E83","v":0},{"$f":"'4'!F83","v":0}]
[null,979,{"$f":"'4'!C84","v":0},{"$f":"'4'!D84","v":0},{"$f":"'4'!E84","v":0},{"$f":"'4'!F84","v":0}]
[null,980,{"$f":"'4'!C85","v":0},{"$f":"'4'!D85","v":0},{"$f":"'4'!E85","v":0},{"$f":"'4'!F85","v":0}]
[null,981,{"$f":"'4'!C86","v":0},{"$f":"'4'!D86","v":0},{"$f":"'4'!E86","v":0},{"$f":"'4'!F86","v":0}]
[null,982,{"$f":"'4'!C87","v":0},{"$f":"'4'!D87","v":0},{"$f":"'4'!E87","v":0},{"$f":"'4'!F87","v":0}]
[null,983,{"$f":"'4'!C88","v":0},{"$f":"'4'!D88","v":0},{"$f":"'4'!E88","v":0},{"$f":"'4'!F88","v":0}]
[null,984,{"$f":"'4'!C89","v":0},{"$f":"'4'!D89","v":0},{"$f":"'4'!E89","v":0},{"$f":"'4'!F89","v":0}]
[null,985,{"$f":"'4'!C90","v":0},{"$f":"'4'!D90","v":0},{"$f":"'4'!E90","v":0},{"$f":"'4'!F90","v":0}]
[null,986,{"$f":"'4'!C91","v":0},{"$f":"'4'!D91","v":0},{"$f":"'4'!E91","v":0},{"$f":"'4'!F91","v":0}]
[null,987,{"$f":"'4'!C92","v":0},{"$f":"'4'!D92","v":0},{"$f":"'4'!E92","v":0},{"$f":"'4'!F92","v":0}]
[null,988,{"$f":"'4'!C93","v":0},{"$f":"'4'!D93","v":0},{"$f":"'4'!E93","v":0},{"$f":"'4'!F93","v":0}]
[null,989,{"$f":"'4'!C94","v":0},{"$f":"'4'!D94","v":0},{"$f":"'4'!E94","v":0},{"$f":"'4'!F94","v":0}]
[null,990,{"$f":"'4'!C95","v":0},{"$f":"'4'!D95","v":0},{"$f":"'4'!E95","v":0},{"$f":"'4'!F95","v":0}]
[null,991,{"$f":"'4'!C96","v":0},{"$f":"'4'!D96","v":0},{"$f":"'4'!E96","v":0},{"$f":"'4'!F96","v":0}]
[null,992,{"$f":"'4'!C97","v":0},{"$f":"'4'!D97","v":0},{"$f":"'4'!E97","v":0},{"$f":"'4'!F97","v":0}]
[null,993,{"$f":"'4'!C98","v":0},{"$f":"'4'!D98","v":0},{"$f":"'4'!E98","v":0},{"$f":"'4'!F98","v":0}]
[null,994,{"$f":"'4'!C99","v":0},{"$f":"'4'!D99","v":0},{"$f":"'4'!E99","v":0},{"$f":"'4'!F99","v":0}]
[null,995,{"$f":"'4'!C100","v":0},{"$f":"'4'!D100","v":0},{"$f":"'4'!E100","v":0},{"$f":"'4'!F100","v":0}]
[null,996,{"$f":"'4'!C101","v":0},{"$f":"'4'!D101","v":0},{"$f":"'4'!E101","v":0},{"$f":"'4'!F101","v":0}]
[null,997,{"$f":"'4'!C102","v":0},{"$f":"'4'!D102","v":0},{"$f":"'4'!E102","v":0},{"$f":"'4'!F102","v":0}]
[null,998,{"$f":"'4'!C103","v":0},{"$f":"'4'!D103","v":0},{"$f":"'4'!E103","v":0},{"$f":"'4'!F103","v":0}]
[null,999,{"$f":"'4'!C104","v":0},{"$f":"'4'!D104","v":0},{"$f":"'4'!E104","v":0},{"$f":"'4'!F104","v":0}]
[null,1000,{"$f":"'4'!C105","v":0},{"$f":"'4'!D105","v":0},{"$f":"'4'!E105","v":0},{"$f":"'4'!F105","v":0}]
[null,1001,{"$f":"'4'!C106","v":0},{"$f":"'4'!D106","v":0},{"$f":"'4'!E106","v":0},{"$f":"'4'!F106","v":0}]
[null,1002,{"$f":"'4'!C107","v":0},{"$f":"'4'!D107","v":0},{"$f":"'4'!E107","v":0},{"$f":"'4'!F107","v":0}]
[null,1003,{"$f":"'4'!C108","v":0},{"$f":"'4'!D108","v":0},{"$f":"'4'!E108","v":0},{"$f":"'4'!F108","v":0}]
[null,1004,{"$f":"'4'!C109","v":0},{"$f":"'4'!D109","v":0},{"$f":"'4'!E109","v":0},{"$f":"'4'!F109","v":0}]
[null,1005,{"$f":"'4'!C110","v":0},{"$f":"'4'!D110","v":0},{"$f":"'4'!E110","v":0},{"$f":"'4'!F110","v":0}]
[null,1006,{"$f":"'4'!C111","v":0},{"$f":"'4'!D111","v":0},{"$f":"'4'!E111","v":0},{"$f":"'4'!F111","v":0}]
[null,1007,{"$f":"'4'!C112","v":0},{"$f":"'4'!D112","v":0},{"$f":"'4'!E112","v":0},{"$f":"'4'!F112","v":0}]
[null,1008,{"$f":"'4'!C113","v":0},{"$f":"'4'!D113","v":0},{"$f":"'4'!E113","v":0},{"$f":"'4'!F113","v":0}]
[null,1009,{"$f":"'4'!C114","v":0},{"$f":"'4'!D114","v":0},{"$f":"'4'!E114","v":0},{"$f":"'4'!F114","v":0}]
[null,1010,{"$f":"'4'!C115","v":0},{"$f":"'4'!D115","v":0},{"$f":"'4'!E115","v":0},{"$f":"'4'!F115","v":0}]
[null,1011,{"$f":"'4'!C116","v":0},{"$f":"'4'!D116","v":0},{"$f":"'4'!E116","v":0},{"$f":"'4'!F116","v":0}]
[null,1012,{"$f":"'4'!C117","v":0},{"$f":"'4'!D117","v":0},{"$f":"'4'!E117","v":0},{"$f":"'4'!F117","v":0}]
[null,1013,{"$f":"'4'!C118","v":0},{"$f":"'4'!D118","v":0},{"$f":"'4'!E118","v":0},{"$f":"'4'!F118","v":0}]
[null,1014,{"$f":"'4'!C119","v":0},{"$f":"'4'!D119","v":0},{"$f":"'4'!E119","v":0},{"$f":"'4'!F119","v":0}]
[null,1015,{"$f":"'4'!C120","v":0},{"$f":"'4'!D120","v":0},{"$f":"'4'!E120","v":0},{"$f":"'4'!F120","v":0}]
[null,1016,{"$f":"'4'!C121","v":0},{"$f":"'4'!D121","v":0},{"$f":"'4'!E121","v":0},{"$f":"'4'!F121","v":0}]
[null,1017,{"$f":"'4'!C122","v":0},{"$f":"'4'!D122","v":0},{"$f":"'4'!E122","v":0},{"$f":"'4'!F122","v":0}]
[null,1018,{"$f":"'4'!C123","v":0},{"$f":"'4'!D123","v":0},{"$f":"'4'!E123","v":0},{"$f":"'4'!F123","v":0}]
[null,1019,{"$f":"'4'!C124","v":0},{"$f":"'4'!D124","v":0},{"$f":"'4'!E124","v":0},{"$f":"'4'!F124","v":0}]
[null,1020,{"$f":"'4'!C125","v":0},{"$f":"'4'!D125","v":0},{"$f":"'4'!E125","v":0},{"$f":"'4'!F125","v":0}]
[null,1021,{"$f":"'4'!C126","v":0},{"$f":"'4'!D126","v":0},{"$f":"'4'!E126","v":0},{"$f":"'4'!F126","v":0}]
[null,1022,{"$f":"'4'!C127","v":0},{"$f":"'4'!D127","v":0},{"$f":"'4'!E127","v":0},{"$f":"'4'!F127","v":0}]
[null,1023,{"$f":"'4'!C128","v":0},{"$f":"'4'!D128","v":0},{"$f":"'4'!E128","v":0},{"$f":"'4'!F128","v":0}]
[null,1024,{"$f":"'4'!C129","v":0},{"$f":"'4'!D129","v":0},{"$f":"'4'!E129","v":0},{"$f":"'4'!F129","v":0}]
[null,1025,{"$f":"'4'!C130","v":0},{"$f":"'4'!D130","v":0},{"$f":"'4'!E130","v":0},{"$f":"'4'!F130","v":0}]
[null,1026,{"$f":"'4'!C131","v":0},{"$f":"'4'!D131","v":0},{"$f":"'4'!E131","v":0},{"$f":"'4'!F131","v":0}]
[null,1027,{"$f":"'4'!C132","v":0},{"$f":"'4'!D132","v":0},{"$f":"'4'!E132","v":0},{"$f":"'4'!F132","v":0}]
[null,1028,{"$f":"'4'!C133","v":0},{"$f":"'4'!D133","v":0},{"$f":"'4'!E133","v":0},{"$f":"'4'!F133","v":0}]
[null,1029,{"$f":"'4'!C134","v":0},{"$f":"'4'!D134","v":0},{"$f":"'4'!E134","v":0},{"$f":"'4'!F134","v":0}]
[null,1030,{"$f":"'4'!C135","v":0},{"$f":"'4'!D135","v":0},{"$f":"'4'!E135","v":0},{"$f":"'4'!F135","v":0}]
[null,1031,{"$f":"'4'!C136","v":0},{"$f":"'4'!D136","v":0},{"$f":"'4'!E136","v":0},{"$f":"'4'!F136","v":0}]
[null,1032,{"$f":"'4'!C137","v":0},{"$f":"'4'!D137","v":0},{"$f":"'4'!E137","v":0},{"$f":"'4'!F137","v":0}]
[null,1033,{"$f":"'4'!C138","v":0},{"$f":"'4'!D138","v":0},{"$f":"'4'!E138","v":0},{"$f":"'4'!F138","v":0}]
[null,1034,{"$f":"'4'!C139","v":0},{"$f":"'4'!D139","v":0},{"$f":"'4'!E139","v":0},{"$f":"'4'!F139","v":0}]
[null,1035,{"$f":"'4'!C140","v":0},{"$f":"'4'!D140","v":0},{"$f":"'4'!E140","v":0},{"$f":"'4'!F140","v":0}]
[null,1036,{"$f":"'4'!C141","v":0},{"$f":"'4'!D141","v":0},{"$f":"'4'!E141","v":0},{"$f":"'4'!F141","v":0}]
[null,1037,{"$f":"'4'!C142","v":0},{"$f":"'4'!D142","v":0},{"$f":"'4'!E142","v":0},{"$f":"'4'!F142","v":0}]
[null,1038,{"$f":"'4'!C143","v":0},{"$f":"'4'!D143","v":0},{"$f":"'4'!E143","v":0},{"$f":"'4'!F143","v":0}]
[null,1039,{"$f":"'4'!C144","v":0},{"$f":"'4'!D144","v":0},{"$f":"'4'!E144","v":0},{"$f":"'4'!F144","v":0}]
[null,1040,{"$f":"'4'!C145","v":0},{"$f":"'4'!D145","v":0},{"$f":"'4'!E145","v":0},{"$f":"'4'!F145","v":0}]
[null,1041,{"$f":"'4'!C146","v":0},{"$f":"'4'!D146","v":0},{"$f":"'4'!E146","v":0},{"$f":"'4'!F146","v":0}]
[null,1042,{"$f":"'4'!C147","v":0},{"$f":"'4'!D147","v":0},{"$f":"'4'!E147","v":0},{"$f":"'4'!F147","v":0}]
[null,1043,{"$f":"'4'!C148","v":0},{"$f":"'4'!D148","v":0},{"$f":"'4'!E148","v":0},{"$f":"'4'!F148","v":0}]
[null,1044,{"$f":"'4'!C149","v":0},{"$f":"'4'!D149","v":0},{"$f":"'4'!E149","v":0},{"$f":"'4'!F149","v":0}]
[null,1045,{"$f":"'4'!C150","v":0},{"$f":"'4'!D150","v":0},{"$f":"'4'!E150","v":0},{"$f":"'4'!F150","v":0}]
[null,1046,{"$f":"'4'!C151","v":0},{"$f":"'4'!D151","v":0},{"$f":"'4'!E151","v":0},{"$f":"'4'!F151","v":0}]
[null,1047,{"$f":"'4'!C152","v":0},{"$f":"'4'!D152","v":0},{"$f":"'4'!E152","v":0},{"$f":"'4'!F152","v":0}]
[null,1048,{"$f":"'4'!C153","v":0},{"$f":"'4'!D153","v":0},{"$f":"'4'!E153","v":0},{"$f":"'4'!F153","v":0}]
[null,1049,{"$f":"'4'!C154","v":0},{"$f":"'4'!D154","v":0},{"$f":"'4'!E154","v":0},{"$f":"'4'!F154","v":0}]
[null,1050,{"$f":"'4'!C155","v":0},{"$f":"'4'!D155","v":0},{"$f":"'4'!E155","v":0},{"$f":"'4'!F155","v":0}]
[null,1051,{"$f":"'4'!C156","v":0},{"$f":"'4'!D156","v":0},{"$f":"'4'!E156","v":0},{"$f":"'4'!F156","v":0}]
[null,1052,{"$f":"'4'!C157","v":0},{"$f":"'4'!D157","v":0},{"$f":"'4'!E157","v":0},{"$f":"'4'!F157","v":0}]
[null,1053,{"$f":"'4'!C158","v":0},{"$f":"'4'!D158","v":0},{"$f":"'4'!E158","v":0},{"$f":"'4'!F158","v":0}]
[null,1054,{"$f":"'4'!C159","v":0},{"$f":"'4'!D159","v":0},{"$f":"'4'!E159","v":0},{"$f":"'4'!F159","v":0}]
[null,1055,{"$f":"'4'!C160","v":0},{"$f":"'4'!D160","v":0},{"$f":"'4'!E160","v":0},{"$f":"'4'!F160","v":0}]
[null,1056,{"$f":"'4'!C161","v":0},{"$f":"'4'!D161","v":0},{"$f":"'4'!E161","v":0},{"$f":"'4'!F161","v":0}]
[null,1057,{"$f":"'4'!C162","v":0},{"$f":"'4'!D162","v":0},{"$f":"'4'!E162","v":0},{"$f":"'4'!F162","v":0}]
[null,1058,{"$f":"'4'!C163","v":0},{"$f":"'4'!D163","v":0},{"$f":"'4'!E163","v":0},{"$f":"'4'!F163","v":0}]
[null,1059,{"$f":"'4'!C164","v":0},{"$f":"'4'!D164","v":0},{"$f":"'4'!E164","v":0},{"$f":"'4'!F164","v":0}]
[null,1060,{"$f":"'4'!C165","v":0},{"$f":"'4'!D165","v":0},{"$f":"'4'!E165","v":0},{"$f":"'4'!F165","v":0}]
[null,1061,{"$f":"'4'!C166","v":0},{"$f":"'4'!D166","v":0},{"$f":"'4'!E166","v":0},{"$f":"'4'!F166","v":0}]
[null,1062,{"$f":"'4'!C167","v":0},{"$f":"'4'!D167","v":0},{"$f":"'4'!E167","v":0},{"$f":"'4'!F167","v":0}]
[null,1063,{"$f":"'4'!C168","v":0},{"$f":"'4'!D168","v":0},{"$f":"'4'!E168","v":0},{"$f":"'4'!F168","v":0}]
[null,1064,{"$f":"'4'!C169","v":0},{"$f":"'4'!D169","v":0},{"$f":"'4'!E169","v":0},{"$f":"'4'!F169","v":0}]
[null,1065,{"$f":"'4'!C170","v":0},{"$f":"'4'!D170","v":0},{"$f":"'4'!E170","v":0},{"$f":"'4'!F170","v":0}]
[null,1066,{"$f":"'4'!C171","v":0},{"$f":"'4'!D171","v":0},{"$f":"'4'!E171","v":0},{"$f":"'4'!F171","v":0}]
[null,1067,{"$f":"'4'!C172","v":0},{"$f":"'4'!D172","v":0},{"$f":"'4'!E172","v":0},{"$f":"'4'!F172","v":0}]
[null,1068,{"$f":"'4'!C173","v":0},{"$f":"'4'!D173","v":0},{"$f":"'4'!E173","v":0},{"$f":"'4'!F173","v":0}]
[null,1069,{"$f":"'4'!C174","v":0},{"$f":"'4'!D174","v":0},{"$f":"'4'!E174","v":0},{"$f":"'4'!F174","v":0}]
[null,1070,{"$f":"'4'!C175","v":0},{"$f":"'4'!D175","v":0},{"$f":"'4'!E175","v":0},{"$f":"'4'!F175","v":0}]
[null,1071,{"$f":"'4'!C176","v":0},{"$f":"'4'!D176","v":0},{"$f":"'4'!E176","v":0},{"$f":"'4'!F176","v":0}]
[null,1072,{"$f":"'4'!C177","v":0},{"$f":"'4'!D177","v":0},{"$f":"'4'!E177","v":0},{"$f":"'4'!F177","v":0}]
[null,1073,{"$f":"'4'!C178","v":0},{"$f":"'4'!D178","v":0},{"$f":"'4'!E178","v":0},{"$f":"'4'!F178","v":0}]
[null,1074,{"$f":"'4'!C179","v":0},{"$f":"'4'!D179","v":0},{"$f":"'4'!E179","v":0},{"$f":"'4'!F179","v":0}]
[null,1075,{"$f":"'4'!C180","v":0},{"$f":"'4'!D180","v":0},{"$f":"'4'!E180","v":0},{"$f":"'4'!F180","v":0}]
[null,1076,{"$f":"'4'!C181","v":0},{"$f":"'4'!D181","v":0},{"$f":"'4'!E181","v":0},{"$f":"'4'!F181","v":0}]
[null,1077,{"$f":"'4'!C182","v":0},{"$f":"'4'!D182","v":0},{"$f":"'4'!E182","v":0},{"$f":"'4'!F182","v":0}]
[null,1078,{"$f":"'4'!C183","v":0},{"$f":"'4'!D183","v":0},{"$f":"'4'!E183","v":0},{"$f":"'4'!F183","v":0}]
[null,1079,{"$f":"'4'!C184","v":0},{"$f":"'4'!D184","v":0},{"$f":"'4'!E184","v":0},{"$f":"'4'!F184","v":0}]
[null,1080,{"$f":"'4'!C185","v":0},{"$f":"'4'!D185","v":0},{"$f":"'4'!E185","v":0},{"$f":"'4'!F185","v":0}]
[null,1081,{"$f":"'4'!C186","v":0},{"$f":"'4'!D186","v":0},{"$f":"'4'!E186","v":0},{"$f":"'4'!F186","v":0}]
[null,1082,{"$f":"'4'!C187","v":0},{"$f":"'4'!D187","v":0},{"$f":"'4'!E187","v":0},{"$f":"'4'!F187","v":0}]
[null,1083,{"$f":"'4'!C188","v":0},{"$f":"'4'!D188","v":0},{"$f":"'4'!E188","v":0},{"$f":"'4'!F188","v":0}]
[null,1084,{"$f":"'4'!C189","v":0},{"$f":"'4'!D189","v":0},{"$f":"'4'!E189","v":0},{"$f":"'4'!F189","v":0}]
[null,1085,{"$f":"'4'!C190","v":0},{"$f":"'4'!D190","v":0},{"$f":"'4'!E190","v":0},{"$f":"'4'!F190","v":0}]
[null,1086,{"$f":"'4'!C191","v":0},{"$f":"'4'!D191","v":0},{"$f":"'4'!E191","v":0},{"$f":"'4'!F191","v":0}]
[null,1087,{"$f":"'4'!C192","v":0},{"$f":"'4'!D192","v":0},{"$f":"'4'!E192","v":0},{"$f":"'4'!F192","v":0}]
[null,1088,{"$f":"'4'!C193","v":0},{"$f":"'4'!D193","v":0},{"$f":"'4'!E193","v":0},{"$f":"'4'!F193","v":0}]
[null,1089,{"$f":"'4'!C194","v":0},{"$f":"'4'!D194","v":0},{"$f":"'4'!E194","v":0},{"$f":"'4'!F194","v":0}]
[null,1090,{"$f":"'4'!C195","v":0},{"$f":"'4'!D195","v":0},{"$f":"'4'!E195","v":0},{"$f":"'4'!F195","v":0}]
[null,1091,{"$f":"'4'!C196","v":0},{"$f":"'4'!D196","v":0},{"$f":"'4'!E196","v":0},{"$f":"'4'!F196","v":0}]
[null,1092,{"$f":"'4'!C197","v":0},{"$f":"'4'!D197","v":0},{"$f":"'4'!E197","v":0},{"$f":"'4'!F197","v":0}]
[null,1093,{"$f":"'4'!C198","v":0},{"$f":"'4'!D198","v":0},{"$f":"'4'!E198","v":0},{"$f":"'4'!F198","v":0}]
[null,1094,{"$f":"'4'!C199","v":0},{"$f":"'4'!D199","v":0},{"$f":"'4'!E199","v":0},{"$f":"'4'!F199","v":0}]
[null,1095,{"$f":"'4'!C200","v":0},{"$f":"'4'!D200","v":0},{"$f":"'4'!E200","v":0},{"$f":"'4'!F200","v":0}]
[null,1096,{"$f":"'4'!C201","v":0},{"$f":"'4'!D201","v":0},{"$f":"'4'!E201","v":0},{"$f":"'4'!F201","v":0}]
[null,1097,{"$f":"'4'!C202","v":0},{"$f":"'4'!D202","v":0},{"$f":"'4'!E202","v":0},{"$f":"'4'!F202","v":0}]
[null,1098,{"$f":"'4'!C203","v":0},{"$f":"'4'!D203","v":0},{"$f":"'4'!E203","v":0},{"$f":"'4'!F203","v":0}]
[null,1099,{"$f":"'4'!C204","v":0},{"$f":"'4'!D204","v":0},{"$f":"'4'!E204","v":0},{"$f":"'4'!F204","v":0}]
[null,1100,{"$f":"'4'!C205","v":0},{"$f":"'4'!D205","v":0},{"$f":"'4'!E205","v":0},{"$f":"'4'!F205","v":0}]
[null,1101,{"$f":"'4'!C206","v":0},{"$f":"'4'!D206","v":0},{"$f":"'4'!E206","v":0},{"$f":"'4'!F206","v":0}]
[null,1102,{"$f":"'4'!C207","v":0},{"$f":"'4'!D207","v":0},{"$f":"'4'!E207","v":0},{"$f":"'4'!F207","v":0}]
[null,1103,{"$f":"'4'!C208","v":0},{"$f":"'4'!D208","v":0},{"$f":"'4'!E208","v":0},{"$f":"'4'!F208","v":0}]
[null,1104,{"$f":"'4'!C209","v":0},{"$f":"'4'!D209","v":0},{"$f":"'4'!E209","v":0},{"$f":"'4'!F209","v":0}]
[null,1105,{"$f":"'4'!C210","v":0},{"$f":"'4'!D210","v":0},{"$f":"'4'!E210","v":0},{"$f":"'4'!F210","v":0}]
[null,1106,{"$f":"'4'!C211","v":0},{"$f":"'4'!D211","v":0},{"$f":"'4'!E211","v":0},{"$f":"'4'!F211","v":0}]
[null,1107,{"$f":"'4'!C212","v":0},{"$f":"'4'!D212","v":0},{"$f":"'4'!E212","v":0},{"$f":"'4'!F212","v":0}]
[null,1108,{"$f":"'4'!C213","v":0},{"$f":"'4'!D213","v":0},{"$f":"'4'!E213","v":0},{"$f":"'4'!F213","v":0}]
[null,1109,{"$f":"'4'!C214","v":0},{"$f":"'4'!D214","v":0},{"$f":"'4'!E214","v":0},{"$f":"'4'!F214","v":0}]
[null,1110,{"$f":"'4'!C215","v":0},{"$f":"'4'!D215","v":0},{"$f":"'4'!E215","v":0},{"$f":"'4'!F215","v":0}]
[null,1111,{"$f":"'4'!C216","v":0},{"$f":"'4'!D216","v":0},{"$f":"'4'!E216","v":0},{"$f":"'4'!F216","v":0}]
[null,1112,{"$f":"'4'!C217","v":0},{"$f":"'4'!D217","v":0},{"$f":"'4'!E217","v":0},{"$f":"'4'!F217","v":0}]
[null,1113,{"$f":"'4'!C218","v":0},{"$f":"'4'!D218","v":0},{"$f":"'4'!E218","v":0},{"$f":"'4'!F218","v":0}]
[null,1114,{"$f":"'4'!C219","v":0},{"$f":"'4'!D219","v":0},{"$f":"'4'!E219","v":0},{"$f":"'4'!F219","v":0}]
[null,1115,{"$f":"'4'!C220","v":0},{"$f":"'4'!D220","v":0},{"$f":"'4'!E220","v":0},{"$f":"'4'!F220","v":0}]
[null,1116,{"$f":"'4'!C221","v":0},{"$f":"'4'!D221","v":0},{"$f":"'4'!E221","v":0},{"$f":"'4'!F221","v":0}]
[null,1117,{"$f":"'4'!C222","v":0},{"$f":"'4'!D222","v":0},{"$f":"'4'!E222","v":0},{"$f":"'4'!F222","v":0}]
[null,1118,{"$f":"'4'!C223","v":0},{"$f":"'4'!D223","v":0},{"$f":"'4'!E223","v":0},{"$f":"'4'!F223","v":0}]
[null,1119,{"$f":"'4'!C224","v":0},{"$f":"'4'!D224","v":0},{"$f":"'4'!E224","v":0},{"$f":"'4'!F224","v":0}]
[null,1120,{"$f":"'4'!C225","v":0},{"$f":"'4'!D225","v":0},{"$f":"'4'!E225","v":0},{"$f":"'4'!F225","v":0}]
[null,1121,{"$f":"'4'!C226","v":0},{"$f":"'4'!D226","v":0},{"$f":"'4'!E226","v":0},{"$f":"'4'!F226","v":0}]
[null,1122,{"$f":"'4'!C227","v":0},{"$f":"'4'!D227","v":0},{"$f":"'4'!E227","v":0},{"$f":"'4'!F227","v":0}]
[null,1123,{"$f":"'4'!C228","v":0},{"$f":"'4'!D228","v":0},{"$f":"'4'!E228","v":0},{"$f":"'4'!F228","v":0}]
[null,1124,{"$f":"'4'!C229","v":0},{"$f":"'4'!D229","v":0},{"$f":"'4'!E229","v":0},{"$f":"'4'!F229","v":0}]
[null,1125,{"$f":"'4'!C230","v":0},{"$f":"'4'!D230","v":0},{"$f":"'4'!E230","v":0},{"$f":"'4'!F230","v":0}]
[null,1126,{"$f":"'4'!C231","v":0},{"$f":"'4'!D231","v":0},{"$f":"'4'!E231","v":0},{"$f":"'4'!F231","v":0}]
[null,1127,{"$f":"'4'!C232","v":0},{"$f":"'4'!D232","v":0},{"$f":"'4'!E232","v":0},{"$f":"'4'!F232","v":0}]
[null,1128,{"$f":"'4'!C233","v":0},{"$f":"'4'!D233","v":0},{"$f":"'4'!E233","v":0},{"$f":"'4'!F233","v":0}]
[null,1129,{"$f":"'4'!C234","v":0},{"$f":"'4'!D234","v":0},{"$f":"'4'!E234","v":0},{"$f":"'4'!F234","v":0}]
[null,1130,{"$f":"'4'!C235","v":0},{"$f":"'4'!D235","v":0},{"$f":"'4'!E235","v":0},{"$f":"'4'!F235","v":0}]
[null,1131,{"$f":"'4'!C236","v":0},{"$f":"'4'!D236","v":0},{"$f":"'4'!E236","v":0},{"$f":"'4'!F236","v":0}]
[null,1132,{"$f":"'4'!C237","v":0},{"$f":"'4'!D237","v":0},{"$f":"'4'!E237","v":0},{"$f":"'4'!F237","v":0}]
[null,1133,{"$f":"'4'!C238","v":0},{"$f":"'4'!D238","v":0},{"$f":"'4'!E238","v":0},{"$f":"'4'!F238","v":0}]
[null,1134,{"$f":"'4'!C239","v":0},{"$f":"'4'!D239","v":0},{"$f":"'4'!E239","v":0},{"$f":"'4'!F239","v":0}]
[null,1135,{"$f":"'4'!C240","v":0},{"$f":"'4'!D240","v":0},{"$f":"'4'!E240","v":0},{"$f":"'4'!F240","v":0}]
[null,1136,{"$f":"'4'!C241","v":0},{"$f":"'4'!D241","v":0},{"$f":"'4'!E241","v":0},{"$f":"'4'!F241","v":0}]
[null,1137,{"$f":"'4'!C242","v":0},{"$f":"'4'!D242","v":0},{"$f":"'4'!E242","v":0},{"$f":"'4'!F242","v":0}]
[null,1138,{"$f":"'4'!C243","v":0},{"$f":"'4'!D243","v":0},{"$f":"'4'!E243","v":0},{"$f":"'4'!F243","v":0}]
[null,1139,{"$f":"'4'!C244","v":0},{"$f":"'4'!D244","v":0},{"$f":"'4'!E244","v":0},{"$f":"'4'!F244","v":0}]
[null,1140,{"$f":"'4'!C245","v":0},{"$f":"'4'!D245","v":0},{"$f":"'4'!E245","v":0},{"$f":"'4'!F245","v":0}]
[null,1141,{"$f":"'4'!C246","v":0},{"$f":"'4'!D246","v":0},{"$f":"'4'!E246","v":0},{"$f":"'4'!F246","v":0}]
[null,1142,{"$f":"'4'!C247","v":0},{"$f":"'4'!D247","v":0},{"$f":"'4'!E247","v":0},{"$f":"'4'!F247","v":0}]
[null,1143,{"$f":"'4'!C248","v":0},{"$f":"'4'!D248","v":0},{"$f":"'4'!E248","v":0},{"$f":"'4'!F248","v":0}]
[null,1144,{"$f":"'4'!C249","v":0},{"$f":"'4'!D249","v":0},{"$f":"'4'!E249","v":0},{"$f":"'4'!F249","v":0}]
[null,1145,{"$f":"'4'!C250","v":0},{"$f":"'4'!D250","v":0},{"$f":"'4'!E250","v":0},{"$f":"'4'!F250","v":0}]
[null,1146,{"$f":"'4'!C251","v":0},{"$f":"'4'!D251","v":0},{"$f":"'4'!E251","v":0},{"$f":"'4'!F251","v":0}]
[null,1147,{"$f":"'4'!C252","v":0},{"$f":"'4'!D252","v":0},{"$f":"'4'!E252","v":0},{"$f":"'4'!F252","v":0}]
[null,1148,{"$f":"'4'!C253","v":0},{"$f":"'4'!D253","v":0},{"$f":"'4'!E253","v":0},{"$f":"'4'!F253","v":0}]
[null,1149,{"$f":"'4'!C254","v":0},{"$f":"'4'!D254","v":0},{"$f":"'4'!E254","v":0},{"$f":"'4'!F254","v":0}]
[null,1150,{"$f":"'4'!C255","v":0},{"$f":"'4'!D255","v":0},{"$f":"'4'!E255","v":0},{"$f":"'4'!F255","v":0}]
[null,1151,{"$f":"'4'!C256","v":0},{"$f":"'4'!D256","v":0},{"$f":"'4'!E256","v":0},{"$f":"'4'!F256","v":0}]
[null,1152,{"$f":"'4'!C257","v":0},{"$f":"'4'!D257","v":0},{"$f":"'4'!E257","v":0},{"$f":"'4'!F257","v":0}]
[null,1153,{"$f":"'4'!C258","v":0},{"$f":"'4'!D258","v":0},{"$f":"'4'!E258","v":0},{"$f":"'4'!F258","v":0}]
[null,1154,{"$f":"'4'!C259","v":0},{"$f":"'4'!D259","v":0},{"$f":"'4'!E259","v":0},{"$f":"'4'!F259","v":0}]
[null,1155,{"$f":"'4'!C260","v":0},{"$f":"'4'!D260","v":0},{"$f":"'4'!E260","v":0},{"$f":"'4'!F260","v":0}]
[null,1156,{"$f":"'4'!C261","v":0},{"$f":"'4'!D261","v":0},{"$f":"'4'!E261","v":0},{"$f":"'4'!F261","v":0}]
[null,1157,{"$f":"'4'!C262","v":0},{"$f":"'4'!D262","v":0},{"$f":"'4'!E262","v":0},{"$f":"'4'!F262","v":0}]
[null,1158,{"$f":"'4'!C263","v":0},{"$f":"'4'!D263","v":0},{"$f":"'4'!E263","v":0},{"$f":"'4'!F263","v":0}]
[null,1159,{"$f":"'4'!C264","v":0},{"$f":"'4'!D264","v":0},{"$f":"'4'!E264","v":0},{"$f":"'4'!F264","v":0}]
[null,1160,{"$f":"'4'!C265","v":0},{"$f":"'4'!D265","v":0},{"$f":"'4'!E265","v":0},{"$f":"'4'!F265","v":0}]
[null,1161,{"$f":"'4'!C266","v":0},{"$f":"'4'!D266","v":0},{"$f":"'4'!E266","v":0},{"$f":"'4'!F266","v":0}]
[null,1162,{"$f":"'4'!C267","v":0},{"$f":"'4'!D267","v":0},{"$f":"'4'!E267","v":0},{"$f":"'4'!F267","v":0}]
[null,1163,{"$f":"'4'!C268","v":0},{"$f":"'4'!D268","v":0},{"$f":"'4'!E268","v":0},{"$f":"'4'!F268","v":0}]
[null,1164,{"$f":"'4'!C269","v":0},{"$f":"'4'!D269","v":0},{"$f":"'4'!E269","v":0},{"$f":"'4'!F269","v":0}]
[null,1165,{"$f":"'4'!C270","v":0},{"$f":"'4'!D270","v":0},{"$f":"'4'!E270","v":0},{"$f":"'4'!F270","v":0}]
[null,1166,{"$f":"'4'!C271","v":0},{"$f":"'4'!D271","v":0},{"$f":"'4'!E271","v":0},{"$f":"'4'!F271","v":0}]
[null,1167,{"$f":"'4'!C272","v":0},{"$f":"'4'!D272","v":0},{"$f":"'4'!E272","v":0},{"$f":"'4'!F272","v":0}]
[null,1168,{"$f":"'4'!C273","v":0},{"$f":"'4'!D273","v":0},{"$f":"'4'!E273","v":0},{"$f":"'4'!F273","v":0}]
[null,1169,{"$f":"'4'!C274","v":0},{"$f":"'4'!D274","v":0},{"$f":"'4'!E274","v":0},{"$f":"'4'!F274","v":0}]
[null,1170,{"$f":"'4'!C275","v":0},{"$f":"'4'!D275","v":0},{"$f":"'4'!E275","v":0},{"$f":"'4'!F275","v":0}]
[null,1171,{"$f":"'4'!C276","v":0},{"$f":"'4'!D276","v":0},{"$f":"'4'!E276","v":0},{"$f":"'4'!F276","v":0}]
[null,1172,{"$f":"'4'!C277","v":0},{"$f":"'4'!D277","v":0},{"$f":"'4'!E277","v":0},{"$f":"'4'!F277","v":0}]
[null,1173,{"$f":"'4'!C278","v":0},{"$f":"'4'!D278","v":0},{"$f":"'4'!E278","v":0},{"$f":"'4'!F278","v":0}]
[null,1174,{"$f":"'4'!C279","v":0},{"$f":"'4'!D279","v":0},{"$f":"'4'!E279","v":0},{"$f":"'4'!F279","v":0}]
[null,1175,{"$f":"'4'!C280","v":0},{"$f":"'4'!D280","v":0},{"$f":"'4'!E280","v":0},{"$f":"'4'!F280","v":0}]
[null,1176,{"$f":"'4'!C281","v":0},{"$f":"'4'!D281","v":0},{"$f":"'4'!E281","v":0},{"$f":"'4'!F281","v":0}]
[null,1177,{"$f":"'4'!C282","v":0},{"$f":"'4'!D282","v":0},{"$f":"'4'!E282","v":0},{"$f":"'4'!F282","v":0}]
[null,1178,{"$f":"'4'!C283","v":0},{"$f":"'4'!D283","v":0},{"$f":"'4'!E283","v":0},{"$f":"'4'!F283","v":0}]
[null,1179,{"$f":"'4'!C284","v":0},{"$f":"'4'!D284","v":0},{"$f":"'4'!E284","v":0},{"$f":"'4'!F284","v":0}]
[null,1180,{"$f":"'4'!C285","v":0},{"$f":"'4'!D285","v":0},{"$f":"'4'!E285","v":0},{"$f":"'4'!F285","v":0}]
[null,1181,{"$f":"'4'!C286","v":0},{"$f":"'4'!D286","v":0},{"$f":"'4'!E286","v":0},{"$f":"'4'!F286","v":0}]
[null,1182,{"$f":"'4'!C287","v":0},{"$f":"'4'!D287","v":0},{"$f":"'4'!E287","v":0},{"$f":"'4'!F287","v":0}]
[null,1183,{"$f":"'4'!C288","v":0},{"$f":"'4'!D288","v":0},{"$f":"'4'!E288","v":0},{"$f":"'4'!F288","v":0}]
[null,1184,{"$f":"'4'!C289","v":0},{"$f":"'4'!D289","v":0},{"$f":"'4'!E289","v":0},{"$f":"'4'!F289","v":0}]
[null,1185,{"$f":"'4'!C290","v":0},{"$f":"'4'!D290","v":0},{"$f":"'4'!E290","v":0},{"$f":"'4'!F290","v":0}]
[null,1186,{"$f":"'4'!C291","v":0},{"$f":"'4'!D291","v":0},{"$f":"'4'!E291","v":0},{"$f":"'4'!F291","v":0}]
[null,1187,{"$f":"'4'!C292","v":0},{"$f":"'4'!D292","v":0},{"$f":"'4'!E292","v":0},{"$f":"'4'!F292","v":0}]
[null,1188,{"$f":"'4'!C293","v":0},{"$f":"'4'!D293","v":0},{"$f":"'4'!E293","v":0},{"$f":"'4'!F293","v":0}]
[null,1189,{"$f":"'4'!C294","v":0},{"$f":"'4'!D294","v":0},{"$f":"'4'!E294","v":0},{"$f":"'4'!F294","v":0}]
[null,1190,{"$f":"'4'!C295","v":0},{"$f":"'4'!D295","v":0},{"$f":"'4'!E295","v":0},{"$f":"'4'!F295","v":0}]
[null,1191,{"$f":"'4'!C296","v":0},{"$f":"'4'!D296","v":0},{"$f":"'4'!E296","v":0},{"$f":"'4'!F296","v":0}]
[null,1192,{"$f":"'4'!C297","v":0},{"$f":"'4'!D297","v":0},{"$f":"'4'!E297","v":0},{"$f":"'4'!F297","v":0}]
[null,1193,{"$f":"'4'!C298","v":0},{"$f":"'4'!D298","v":0},{"$f":"'4'!E298","v":0},{"$f":"'4'!F298","v":0}]
[null,1194,{"$f":"'4'!C299","v":0},{"$f":"'4'!D299","v":0},{"$f":"'4'!E299","v":0},{"$f":"'4'!F299","v":0}]
[null,1195,{"$f":"'4'!C300","v":0},{"$f":"'4'!D300","v":0},{"$f":"'4'!E300","v":0},{"$f":"'4'!F300","v":0}]
[null,1196,{"$f":"'4'!C301","v":0},{"$f":"'4'!D301","v":0},{"$f":"'4'!E301","v":0},{"$f":"'4'!F301","v":0}]
[null,1197,{"$f":"'4'!C302","v":0},{"$f":"'4'!D302","v":0},{"$f":"'4'!E302","v":0},{"$f":"'4'!F302","v":0}]
[null,1198,{"$f":"'4'!C303","v":0},{"$f":"'4'!D303","v":0},{"$f":"'4'!E303","v":0},{"$f":"'4'!F303","v":0}]
[null,1199,{"$f":"'4'!C304","v":0},{"$f":"'4'!D304","v":0},{"$f":"'4'!E304","v":0},{"$f":"'4'!F304","v":0}]
[null,1200,{"$f":"'4'!C305","v":0},{"$f":"'4'!D305","v":0},{"$f":"'4'!E305","v":0},{"$f":"'4'!F305","v":0}]
[null,1201,{"$f":"'5'!C6","v":0},{"$f":"'5'!D6","v":0},{"$f":"'5'!E6","v":0},{"$f":"'5'!F6","v":0}]
[null,1202,{"$f":"'5'!C7","v":0},{"$f":"'5'!D7","v":0},{"$f":"'5'!E7","v":0},{"$f":"'5'!F7","v":0}]
[null,1203,{"$f":"'5'!C8","v":0},{"$f":"'5'!D8","v":0},{"$f":"'5'!E8","v":0},{"$f":"'5'!F8","v":0}]
[null,1204,{"$f":"'5'!C9","v":0},{"$f":"'5'!D9","v":0},{"$f":"'5'!E9","v":0},{"$f":"'5'!F9","v":0}]
[null,1205,{"$f":"'5'!C10","v":0},{"$f":"'5'!D10","v":0},{"$f":"'5'!E10","v":0},{"$f":"'5'!F10","v":0}]
[null,1206,{"$f":"'5'!C11","v":0},{"$f":"'5'!D11","v":0},{"$f":"'5'!E11","v":0},{"$f":"'5'!F11","v":0}]
[null,1207,{"$f":"'5'!C12","v":0},{"$f":"'5'!D12","v":0},{"$f":"'5'!E12","v":0},{"$f":"'5'!F12","v":0}]
[null,1208,{"$f":"'5'!C13","v":0},{"$f":"'5'!D13","v":0},{"$f":"'5'!E13","v":0},{"$f":"'5'!F13","v":0}]
[null,1209,{"$f":"'5'!C14","v":0},{"$f":"'5'!D14","v":0},{"$f":"'5'!E14","v":0},{"$f":"'5'!F14","v":0}]
[null,1210,{"$f":"'5'!C15","v":0},{"$f":"'5'!D15","v":0},{"$f":"'5'!E15","v":0},{"$f":"'5'!F15","v":0}]
[null,1211,{"$f":"'5'!C16","v":0},{"$f":"'5'!D16","v":0},{"$f":"'5'!E16","v":0},{"$f":"'5'!F16","v":0}]
[null,1212,{"$f":"'5'!C17","v":0},{"$f":"'5'!D17","v":0},{"$f":"'5'!E17","v":0},{"$f":"'5'!F17","v":0}]
[null,1213,{"$f":"'5'!C18","v":0},{"$f":"'5'!D18","v":0},{"$f":"'5'!E18","v":0},{"$f":"'5'!F18","v":0}]
[null,1214,{"$f":"'5'!C19","v":0},{"$f":"'5'!D19","v":0},{"$f":"'5'!E19","v":0},{"$f":"'5'!F19","v":0}]
[null,1215,{"$f":"'5'!C20","v":0},{"$f":"'5'!D20","v":0},{"$f":"'5'!E20","v":0},{"$f":"'5'!F20","v":0}]
[null,1216,{"$f":"'5'!C21","v":0},{"$f":"'5'!D21","v":0},{"$f":"'5'!E21","v":0},{"$f":"'5'!F21","v":0}]
[null,1217,{"$f":"'5'!C22","v":0},{"$f":"'5'!D22","v":0},{"$f":"'5'!E22","v":0},{"$f":"'5'!F22","v":0}]
[null,1218,{"$f":"'5'!C23","v":0},{"$f":"'5'!D23","v":0},{"$f":"'5'!E23","v":0},{"$f":"'5'!F23","v":0}]
[null,1219,{"$f":"'5'!C24","v":0},{"$f":"'5'!D24","v":0},{"$f":"'5'!E24","v":0},{"$f":"'5'!F24","v":0}]
[null,1220,{"$f":"'5'!C25","v":0},{"$f":"'5'!D25","v":0},{"$f":"'5'!E25","v":0},{"$f":"'5'!F25","v":0}]
[null,1221,{"$f":"'5'!C26","v":0},{"$f":"'5'!D26","v":0},{"$f":"'5'!E26","v":0},{"$f":"'5'!F26","v":0}]
[null,1222,{"$f":"'5'!C27","v":0},{"$f":"'5'!D27","v":0},{"$f":"'5'!E27","v":0},{"$f":"'5'!F27","v":0}]
[null,1223,{"$f":"'5'!C28","v":0},{"$f":"'5'!D28","v":0},{"$f":"'5'!E28","v":0},{"$f":"'5'!F28","v":0}]
[null,1224,{"$f":"'5'!C29","v":0},{"$f":"'5'!D29","v":0},{"$f":"'5'!E29","v":0},{"$f":"'5'!F29","v":0}]
[null,1225,{"$f":"'5'!C30","v":0},{"$f":"'5'!D30","v":0},{"$f":"'5'!E30","v":0},{"$f":"'5'!F30","v":0}]
[null,1226,{"$f":"'5'!C31","v":0},{"$f":"'5'!D31","v":0},{"$f":"'5'!E31","v":0},{"$f":"'5'!F31","v":0}]
[null,1227,{"$f":"'5'!C32","v":0},{"$f":"'5'!D32","v":0},{"$f":"'5'!E32","v":0},{"$f":"'5'!F32","v":0}]
[null,1228,{"$f":"'5'!C33","v":0},{"$f":"'5'!D33","v":0},{"$f":"'5'!E33","v":0},{"$f":"'5'!F33","v":0}]
[null,1229,{"$f":"'5'!C34","v":0},{"$f":"'5'!D34","v":0},{"$f":"'5'!E34","v":0},{"$f":"'5'!F34","v":0}]
[null,1230,{"$f":"'5'!C35","v":0},{"$f":"'5'!D35","v":0},{"$f":"'5'!E35","v":0},{"$f":"'5'!F35","v":0}]
[null,1231,{"$f":"'5'!C36","v":0},{"$f":"'5'!D36","v":0},{"$f":"'5'!E36","v":0},{"$f":"'5'!F36","v":0}]
[null,1232,{"$f":"'5'!C37","v":0},{"$f":"'5'!D37","v":0},{"$f":"'5'!E37","v":0},{"$f":"'5'!F37","v":0}]
[null,1233,{"$f":"'5'!C38","v":0},{"$f":"'5'!D38","v":0},{"$f":"'5'!E38","v":0},{"$f":"'5'!F38","v":0}]
[null,1234,{"$f":"'5'!C39","v":0},{"$f":"'5'!D39","v":0},{"$f":"'5'!E39","v":0},{"$f":"'5'!F39","v":0}]
[null,1235,{"$f":"'5'!C40","v":0},{"$f":"'5'!D40","v":0},{"$f":"'5'!E40","v":0},{"$f":"'5'!F40","v":0}]
[null,1236,{"$f":"'5'!C41","v":0},{"$f":"'5'!D41","v":0},{"$f":"'5'!E41","v":0},{"$f":"'5'!F41","v":0}]
[null,1237,{"$f":"'5'!C42","v":0},{"$f":"'5'!D42","v":0},{"$f":"'5'!E42","v":0},{"$f":"'5'!F42","v":0}]
[null,1238,{"$f":"'5'!C43","v":0},{"$f":"'5'!D43","v":0},{"$f":"'5'!E43","v":0},{"$f":"'5'!F43","v":0}]
[null,1239,{"$f":"'5'!C44","v":0},{"$f":"'5'!D44","v":0},{"$f":"'5'!E44","v":0},{"$f":"'5'!F44","v":0}]
[null,1240,{"$f":"'5'!C45","v":0},{"$f":"'5'!D45","v":0},{"$f":"'5'!E45","v":0},{"$f":"'5'!F45","v":0}]
[null,1241,{"$f":"'5'!C46","v":0},{"$f":"'5'!D46","v":0},{"$f":"'5'!E46","v":0},{"$f":"'5'!F46","v":0}]
[null,1242,{"$f":"'5'!C47","v":0},{"$f":"'5'!D47","v":0},{"$f":"'5'!E47","v":0},{"$f":"'5'!F47","v":0}]
[null,1243,{"$f":"'5'!C48","v":0},{"$f":"'5'!D48","v":0},{"$f":"'5'!E48","v":0},{"$f":"'5'!F48","v":0}]
[null,1244,{"$f":"'5'!C49","v":0},{"$f":"'5'!D49","v":0},{"$f":"'5'!E49","v":0},{"$f":"'5'!F49","v":0}]
[null,1245,{"$f":"'5'!C50","v":0},{"$f":"'5'!D50","v":0},{"$f":"'5'!E50","v":0},{"$f":"'5'!F50","v":0}]
[null,1246,{"$f":"'5'!C51","v":0},{"$f":"'5'!D51","v":0},{"$f":"'5'!E51","v":0},{"$f":"'5'!F51","v":0}]
[null,1247,{"$f":"'5'!C52","v":0},{"$f":"'5'!D52","v":0},{"$f":"'5'!E52","v":0},{"$f":"'5'!F52","v":0}]
[null,1248,{"$f":"'5'!C53","v":0},{"$f":"'5'!D53","v":0},{"$f":"'5'!E53","v":0},{"$f":"'5'!F53","v":0}]
[null,1249,{"$f":"'5'!C54","v":0},{"$f":"'5'!D54","v":0},{"$f":"'5'!E54","v":0},{"$f":"'5'!F54","v":0}]
[null,1250,{"$f":"'5'!C55","v":0},{"$f":"'5'!D55","v":0},{"$f":"'5'!E55","v":0},{"$f":"'5'!F55","v":0}]
[null,1251,{"$f":"'5'!C56","v":0},{"$f":"'5'!D56","v":0},{"$f":"'5'!E56","v":0},{"$f":"'5'!F56","v":0}]
[null,1252,{"$f":"'5'!C57","v":0},{"$f":"'5'!D57","v":0},{"$f":"'5'!E57","v":0},{"$f":"'5'!F57","v":0}]
[null,1253,{"$f":"'5'!C58","v":0},{"$f":"'5'!D58","v":0},{"$f":"'5'!E58","v":0},{"$f":"'5'!F58","v":0}]
[null,1254,{"$f":"'5'!C59","v":0},{"$f":"'5'!D59","v":0},{"$f":"'5'!E59","v":0},{"$f":"'5'!F59","v":0}]
[null,1255,{"$f":"'5'!C60","v":0},{"$f":"'5'!D60","v":0},{"$f":"'5'!E60","v":0},{"$f":"'5'!F60","v":0}]
[null,1256,{"$f":"'5'!C61","v":0},{"$f":"'5'!D61","v":0},{"$f":"'5'!E61","v":0},{"$f":"'5'!F61","v":0}]
[null,1257,{"$f":"'5'!C62","v":0},{"$f":"'5'!D62","v":0},{"$f":"'5'!E62","v":0},{"$f":"'5'!F62","v":0}]
[null,1258,{"$f":"'5'!C63","v":0},{"$f":"'5'!D63","v":0},{"$f":"'5'!E63","v":0},{"$f":"'5'!F63","v":0}]
[null,1259,{"$f":"'5'!C64","v":0},{"$f":"'5'!D64","v":0},{"$f":"'5'!E64","v":0},{"$f":"'5'!F64","v":0}]
[null,1260,{"$f":"'5'!C65","v":0},{"$f":"'5'!D65","v":0},{"$f":"'5'!E65","v":0},{"$f":"'5'!F65","v":0}]
[null,1261,{"$f":"'5'!C66","v":0},{"$f":"'5'!D66","v":0},{"$f":"'5'!E66","v":0},{"$f":"'5'!F66","v":0}]
[null,1262,{"$f":"'5'!C67","v":0},{"$f":"'5'!D67","v":0},{"$f":"'5'!E67","v":0},{"$f":"'5'!F67","v":0}]
[null,1263,{"$f":"'5'!C68","v":0},{"$f":"'5'!D68","v":0},{"$f":"'5'!E68","v":0},{"$f":"'5'!F68","v":0}]
[null,1264,{"$f":"'5'!C69","v":0},{"$f":"'5'!D69","v":0},{"$f":"'5'!E69","v":0},{"$f":"'5'!F69","v":0}]
[null,1265,{"$f":"'5'!C70","v":0},{"$f":"'5'!D70","v":0},{"$f":"'5'!E70","v":0},{"$f":"'5'!F70","v":0}]
[null,1266,{"$f":"'5'!C71","v":0},{"$f":"'5'!D71","v":0},{"$f":"'5'!E71","v":0},{"$f":"'5'!F71","v":0}]
[null,1267,{"$f":"'5'!C72","v":0},{"$f":"'5'!D72","v":0},{"$f":"'5'!E72","v":0},{"$f":"'5'!F72","v":0}]
[null,1268,{"$f":"'5'!C73","v":0},{"$f":"'5'!D73","v":0},{"$f":"'5'!E73","v":0},{"$f":"'5'!F73","v":0}]
[null,1269,{"$f":"'5'!C74","v":0},{"$f":"'5'!D74","v":0},{"$f":"'5'!E74","v":0},{"$f":"'5'!F74","v":0}]
[null,1270,{"$f":"'5'!C75","v":0},{"$f":"'5'!D75","v":0},{"$f":"'5'!E75","v":0},{"$f":"'5'!F75","v":0}]
[null,1271,{"$f":"'5'!C76","v":0},{"$f":"'5'!D76","v":0},{"$f":"'5'!E76","v":0},{"$f":"'5'!F76","v":0}]
[null,1272,{"$f":"'5'!C77","v":0},{"$f":"'5'!D77","v":0},{"$f":"'5'!E77","v":0},{"$f":"'5'!F77","v":0}]
[null,1273,{"$f":"'5'!C78","v":0},{"$f":"'5'!D78","v":0},{"$f":"'5'!E78","v":0},{"$f":"'5'!F78","v":0}]
[null,1274,{"$f":"'5'!C79","v":0},{"$f":"'5'!D79","v":0},{"$f":"'5'!E79","v":0},{"$f":"'5'!F79","v":0}]
[null,1275,{"$f":"'5'!C80","v":0},{"$f":"'5'!D80","v":0},{"$f":"'5'!E80","v":0},{"$f":"'5'!F80","v":0}]
[null,1276,{"$f":"'5'!C81","v":0},{"$f":"'5'!D81","v":0},{"$f":"'5'!E81","v":0},{"$f":"'5'!F81","v":0}]
[null,1277,{"$f":"'5'!C82","v":0},{"$f":"'5'!D82","v":0},{"$f":"'5'!E82","v":0},{"$f":"'5'!F82","v":0}]
[null,1278,{"$f":"'5'!C83","v":0},{"$f":"'5'!D83","v":0},{"$f":"'5'!E83","v":0},{"$f":"'5'!F83","v":0}]
[null,1279,{"$f":"'5'!C84","v":0},{"$f":"'5'!D84","v":0},{"$f":"'5'!E84","v":0},{"$f":"'5'!F84","v":0}]
[null,1280,{"$f":"'5'!C85","v":0},{"$f":"'5'!D85","v":0},{"$f":"'5'!E85","v":0},{"$f":"'5'!F85","v":0}]
[null,1281,{"$f":"'5'!C86","v":0},{"$f":"'5'!D86","v":0},{"$f":"'5'!E86","v":0},{"$f":"'5'!F86","v":0}]
[null,1282,{"$f":"'5'!C87","v":0},{"$f":"'5'!D87","v":0},{"$f":"'5'!E87","v":0},{"$f":"'5'!F87","v":0}]
[null,1283,{"$f":"'5'!C88","v":0},{"$f":"'5'!D88","v":0},{"$f":"'5'!E88","v":0},{"$f":"'5'!F88","v":0}]
[null,1284,{"$f":"'5'!C89","v":0},{"$f":"'5'!D89","v":0},{"$f":"'5'!E89","v":0},{"$f":"'5'!F89","v":0}]
[null,1285,{"$f":"'5'!C90","v":0},{"$f":"'5'!D90","v":0},{"$f":"'5'!E90","v":0},{"$f":"'5'!F90","v":0}]
[null,1286,{"$f":"'5'!C91","v":0},{"$f":"'5'!D91","v":0},{"$f":"'5'!E91","v":0},{"$f":"'5'!F91","v":0}]
[null,1287,{"$f":"'5'!C92","v":0},{"$f":"'5'!D92","v":0},{"$f":"'5'!E92","v":0},{"$f":"'5'!F92","v":0}]
[null,1288,{"$f":"'5'!C93","v":0},{"$f":"'5'!D93","v":0},{"$f":"'5'!E93","v":0},{"$f":"'5'!F93","v":0}]
[null,1289,{"$f":"'5'!C94","v":0},{"$f":"'5'!D94","v":0},{"$f":"'5'!E94","v":0},{"$f":"'5'!F94","v":0}]
[null,1290,{"$f":"'5'!C95","v":0},{"$f":"'5'!D95","v":0},{"$f":"'5'!E95","v":0},{"$f":"'5'!F95","v":0}]
[null,1291,{"$f":"'5'!C96","v":0},{"$f":"'5'!D96","v":0},{"$f":"'5'!E96","v":0},{"$f":"'5'!F96","v":0}]
[null,1292,{"$f":"'5'!C97","v":0},{"$f":"'5'!D97","v":0},{"$f":"'5'!E97","v":0},{"$f":"'5'!F97","v":0}]
[null,1293,{"$f":"'5'!C98","v":0},{"$f":"'5'!D98","v":0},{"$f":"'5'!E98","v":0},{"$f":"'5'!F98","v":0}]
[null,1294,{"$f":"'5'!C99","v":0},{"$f":"'5'!D99","v":0},{"$f":"'5'!E99","v":0},{"$f":"'5'!F99","v":0}]
[null,1295,{"$f":"'5'!C100","v":0},{"$f":"'5'!D100","v":0},{"$f":"'5'!E100","v":0},{"$f":"'5'!F100","v":0}]
[null,1296,{"$f":"'5'!C101","v":0},{"$f":"'5'!D101","v":0},{"$f":"'5'!E101","v":0},{"$f":"'5'!F101","v":0}]
[null,1297,{"$f":"'5'!C102","v":0},{"$f":"'5'!D102","v":0},{"$f":"'5'!E102","v":0},{"$f":"'5'!F102","v":0}]
[null,1298,{"$f":"'5'!C103","v":0},{"$f":"'5'!D103","v":0},{"$f":"'5'!E103","v":0},{"$f":"'5'!F103","v":0}]
[null,1299,{"$f":"'5'!C104","v":0},{"$f":"'5'!D104","v":0},{"$f":"'5'!E104","v":0},{"$f":"'5'!F104","v":0}]
[null,1300,{"$f":"'5'!C105","v":0},{"$f":"'5'!D105","v":0},{"$f":"'5'!E105","v":0},{"$f":"'5'!F105","v":0}]
[null,1301,{"$f":"'5'!C106","v":0},{"$f":"'5'!D106","v":0},{"$f":"'5'!E106","v":0},{"$f":"'5'!F106","v":0}]
[null,1302,{"$f":"'5'!C107","v":0},{"$f":"'5'!D107","v":0},{"$f":"'5'!E107","v":0},{"$f":"'5'!F107","v":0}]
[null,1303,{"$f":"'5'!C108","v":0},{"$f":"'5'!D108","v":0},{"$f":"'5'!E108","v":0},{"$f":"'5'!F108","v":0}]
[null,1304,{"$f":"'5'!C109","v":0},{"$f":"'5'!D109","v":0},{"$f":"'5'!E109","v":0},{"$f":"'5'!F109","v":0}]
[null,1305,{"$f":"'5'!C110","v":0},{"$f":"'5'!D110","v":0},{"$f":"'5'!E110","v":0},{"$f":"'5'!F110","v":0}]
[null,1306,{"$f":"'5'!C111","v":0},{"$f":"'5'!D111","v":0},{"$f":"'5'!E111","v":0},{"$f":"'5'!F111","v":0}]
[null,1307,{"$f":"'5'!C112","v":0},{"$f":"'5'!D112","v":0},{"$f":"'5'!E112","v":0},{"$f":"'5'!F112","v":0}]
[null,1308,{"$f":"'5'!C113","v":0},{"$f":"'5'!D113","v":0},{"$f":"'5'!E113","v":0},{"$f":"'5'!F113","v":0}]
[null,1309,{"$f":"'5'!C114","v":0},{"$f":"'5'!D114","v":0},{"$f":"'5'!E114","v":0},{"$f":"'5'!F114","v":0}]
[null,1310,{"$f":"'5'!C115","v":0},{"$f":"'5'!D115","v":0},{"$f":"'5'!E115","v":0},{"$f":"'5'!F115","v":0}]
[null,1311,{"$f":"'5'!C116","v":0},{"$f":"'5'!D116","v":0},{"$f":"'5'!E116","v":0},{"$f":"'5'!F116","v":0}]
[null,1312,{"$f":"'5'!C117","v":0},{"$f":"'5'!D117","v":0},{"$f":"'5'!E117","v":0},{"$f":"'5'!F117","v":0}]
[null,1313,{"$f":"'5'!C118","v":0},{"$f":"'5'!D118","v":0},{"$f":"'5'!E118","v":0},{"$f":"'5'!F118","v":0}]
[null,1314,{"$f":"'5'!C119","v":0},{"$f":"'5'!D119","v":0},{"$f":"'5'!E119","v":0},{"$f":"'5'!F119","v":0}]
[null,1315,{"$f":"'5'!C120","v":0},{"$f":"'5'!D120","v":0},{"$f":"'5'!E120","v":0},{"$f":"'5'!F120","v":0}]
[null,1316,{"$f":"'5'!C121","v":0},{"$f":"'5'!D121","v":0},{"$f":"'5'!E121","v":0},{"$f":"'5'!F121","v":0}]
[null,1317,{"$f":"'5'!C122","v":0},{"$f":"'5'!D122","v":0},{"$f":"'5'!E122","v":0},{"$f":"'5'!F122","v":0}]
[null,1318,{"$f":"'5'!C123","v":0},{"$f":"'5'!D123","v":0},{"$f":"'5'!E123","v":0},{"$f":"'5'!F123","v":0}]
[null,1319,{"$f":"'5'!C124","v":0},{"$f":"'5'!D124","v":0},{"$f":"'5'!E124","v":0},{"$f":"'5'!F124","v":0}]
[null,1320,{"$f":"'5'!C125","v":0},{"$f":"'5'!D125","v":0},{"$f":"'5'!E125","v":0},{"$f":"'5'!F125","v":0}]
[null,1321,{"$f":"'5'!C126","v":0},{"$f":"'5'!D126","v":0},{"$f":"'5'!E126","v":0},{"$f":"'5'!F126","v":0}]
[null,1322,{"$f":"'5'!C127","v":0},{"$f":"'5'!D127","v":0},{"$f":"'5'!E127","v":0},{"$f":"'5'!F127","v":0}]
[null,1323,{"$f":"'5'!C128","v":0},{"$f":"'5'!D128","v":0},{"$f":"'5'!E128","v":0},{"$f":"'5'!F128","v":0}]
[null,1324,{"$f":"'5'!C129","v":0},{"$f":"'5'!D129","v":0},{"$f":"'5'!E129","v":0},{"$f":"'5'!F129","v":0}]
[null,1325,{"$f":"'5'!C130","v":0},{"$f":"'5'!D130","v":0},{"$f":"'5'!E130","v":0},{"$f":"'5'!F130","v":0}]
[null,1326,{"$f":"'5'!C131","v":0},{"$f":"'5'!D131","v":0},{"$f":"'5'!E131","v":0},{"$f":"'5'!F131","v":0}]
[null,1327,{"$f":"'5'!C132","v":0},{"$f":"'5'!D132","v":0},{"$f":"'5'!E132","v":0},{"$f":"'5'!F132","v":0}]
[null,1328,{"$f":"'5'!C133","v":0},{"$f":"'5'!D133","v":0},{"$f":"'5'!E133","v":0},{"$f":"'5'!F133","v":0}]
[null,1329,{"$f":"'5'!C134","v":0},{"$f":"'5'!D134","v":0},{"$f":"'5'!E134","v":0},{"$f":"'5'!F134","v":0}]
[null,1330,{"$f":"'5'!C135","v":0},{"$f":"'5'!D135","v":0},{"$f":"'5'!E135","v":0},{"$f":"'5'!F135","v":0}]
[null,1331,{"$f":"'5'!C136","v":0},{"$f":"'5'!D136","v":0},{"$f":"'5'!E136","v":0},{"$f":"'5'!F136","v":0}]
[null,1332,{"$f":"'5'!C137","v":0},{"$f":"'5'!D137","v":0},{"$f":"'5'!E137","v":0},{"$f":"'5'!F137","v":0}]
[null,1333,{"$f":"'5'!C138","v":0},{"$f":"'5'!D138","v":0},{"$f":"'5'!E138","v":0},{"$f":"'5'!F138","v":0}]
[null,1334,{"$f":"'5'!C139","v":0},{"$f":"'5'!D139","v":0},{"$f":"'5'!E139","v":0},{"$f":"'5'!F139","v":0}]
[null,1335,{"$f":"'5'!C140","v":0},{"$f":"'5'!D140","v":0},{"$f":"'5'!E140","v":0},{"$f":"'5'!F140","v":0}]
[null,1336,{"$f":"'5'!C141","v":0},{"$f":"'5'!D141","v":0},{"$f":"'5'!E141","v":0},{"$f":"'5'!F141","v":0}]
[null,1337,{"$f":"'5'!C142","v":0},{"$f":"'5'!D142","v":0},{"$f":"'5'!E142","v":0},{"$f":"'5'!F142","v":0}]
[null,1338,{"$f":"'5'!C143","v":0},{"$f":"'5'!D143","v":0},{"$f":"'5'!E143","v":0},{"$f":"'5'!F143","v":0}]
[null,1339,{"$f":"'5'!C144","v":0},{"$f":"'5'!D144","v":0},{"$f":"'5'!E144","v":0},{"$f":"'5'!F144","v":0}]
[null,1340,{"$f":"'5'!C145","v":0},{"$f":"'5'!D145","v":0},{"$f":"'5'!E145","v":0},{"$f":"'5'!F145","v":0}]
[null,1341,{"$f":"'5'!C146","v":0},{"$f":"'5'!D146","v":0},{"$f":"'5'!E146","v":0},{"$f":"'5'!F146","v":0}]
[null,1342,{"$f":"'5'!C147","v":0},{"$f":"'5'!D147","v":0},{"$f":"'5'!E147","v":0},{"$f":"'5'!F147","v":0}]
[null,1343,{"$f":"'5'!C148","v":0},{"$f":"'5'!D148","v":0},{"$f":"'5'!E148","v":0},{"$f":"'5'!F148","v":0}]
[null,1344,{"$f":"'5'!C149","v":0},{"$f":"'5'!D149","v":0},{"$f":"'5'!E149","v":0},{"$f":"'5'!F149","v":0}]
[null,1345,{"$f":"'5'!C150","v":0},{"$f":"'5'!D150","v":0},{"$f":"'5'!E150","v":0},{"$f":"'5'!F150","v":0}]
[null,1346,{"$f":"'5'!C151","v":0},{"$f":"'5'!D151","v":0},{"$f":"'5'!E151","v":0},{"$f":"'5'!F151","v":0}]
[null,1347,{"$f":"'5'!C152","v":0},{"$f":"'5'!D152","v":0},{"$f":"'5'!E152","v":0},{"$f":"'5'!F152","v":0}]
[null,1348,{"$f":"'5'!C153","v":0},{"$f":"'5'!D153","v":0},{"$f":"'5'!E153","v":0},{"$f":"'5'!F153","v":0}]
[null,1349,{"$f":"'5'!C154","v":0},{"$f":"'5'!D154","v":0},{"$f":"'5'!E154","v":0},{"$f":"'5'!F154","v":0}]
[null,1350,{"$f":"'5'!C155","v":0},{"$f":"'5'!D155","v":0},{"$f":"'5'!E155","v":0},{"$f":"'5'!F155","v":0}]
[null,1351,{"$f":"'5'!C156","v":0},{"$f":"'5'!D156","v":0},{"$f":"'5'!E156","v":0},{"$f":"'5'!F156","v":0}]
[null,1352,{"$f":"'5'!C157","v":0},{"$f":"'5'!D157","v":0},{"$f":"'5'!E157","v":0},{"$f":"'5'!F157","v":0}]
[null,1353,{"$f":"'5'!C158","v":0},{"$f":"'5'!D158","v":0},{"$f":"'5'!E158","v":0},{"$f":"'5'!F158","v":0}]
[null,1354,{"$f":"'5'!C159","v":0},{"$f":"'5'!D159","v":0},{"$f":"'5'!E159","v":0},{"$f":"'5'!F159","v":0}]
[null,1355,{"$f":"'5'!C160","v":0},{"$f":"'5'!D160","v":0},{"$f":"'5'!E160","v":0},{"$f":"'5'!F160","v":0}]
[null,1356,{"$f":"'5'!C161","v":0},{"$f":"'5'!D161","v":0},{"$f":"'5'!E161","v":0},{"$f":"'5'!F161","v":0}]
[null,1357,{"$f":"'5'!C162","v":0},{"$f":"'5'!D162","v":0},{"$f":"'5'!E162","v":0},{"$f":"'5'!F162","v":0}]
[null,1358,{"$f":"'5'!C163","v":0},{"$f":"'5'!D163","v":0},{"$f":"'5'!E163","v":0},{"$f":"'5'!F163","v":0}]
[null,1359,{"$f":"'5'!C164","v":0},{"$f":"'5'!D164","v":0},{"$f":"'5'!E164","v":0},{"$f":"'5'!F164","v":0}]
[null,1360,{"$f":"'5'!C165","v":0},{"$f":"'5'!D165","v":0},{"$f":"'5'!E165","v":0},{"$f":"'5'!F165","v":0}]
[null,1361,{"$f":"'5'!C166","v":0},{"$f":"'5'!D166","v":0},{"$f":"'5'!E166","v":0},{"$f":"'5'!F166","v":0}]
[null,1362,{"$f":"'5'!C167","v":0},{"$f":"'5'!D167","v":0},{"$f":"'5'!E167","v":0},{"$f":"'5'!F167","v":0}]
[null,1363,{"$f":"'5'!C168","v":0},{"$f":"'5'!D168","v":0},{"$f":"'5'!E168","v":0},{"$f":"'5'!F168","v":0}]
[null,1364,{"$f":"'5'!C169","v":0},{"$f":"'5'!D169","v":0},{"$f":"'5'!E169","v":0},{"$f":"'5'!F169","v":0}]
[null,1365,{"$f":"'5'!C170","v":0},{"$f":"'5'!D170","v":0},{"$f":"'5'!E170","v":0},{"$f":"'5'!F170","v":0}]
[null,1366,{"$f":"'5'!C171","v":0},{"$f":"'5'!D171","v":0},{"$f":"'5'!E171","v":0},{"$f":"'5'!F171","v":0}]
[null,1367,{"$f":"'5'!C172","v":0},{"$f":"'5'!D172","v":0},{"$f":"'5'!E172","v":0},{"$f":"'5'!F172","v":0}]
[null,1368,{"$f":"'5'!C173","v":0},{"$f":"'5'!D173","v":0},{"$f":"'5'!E173","v":0},{"$f":"'5'!F173","v":0}]
[null,1369,{"$f":"'5'!C174","v":0},{"$f":"'5'!D174","v":0},{"$f":"'5'!E174","v":0},{"$f":"'5'!F174","v":0}]
[null,1370,{"$f":"'5'!C175","v":0},{"$f":"'5'!D175","v":0},{"$f":"'5'!E175","v":0},{"$f":"'5'!F175","v":0}]
[null,1371,{"$f":"'5'!C176","v":0},{"$f":"'5'!D176","v":0},{"$f":"'5'!E176","v":0},{"$f":"'5'!F176","v":0}]
[null,1372,{"$f":"'5'!C177","v":0},{"$f":"'5'!D177","v":0},{"$f":"'5'!E177","v":0},{"$f":"'5'!F177","v":0}]
[null,1373,{"$f":"'5'!C178","v":0},{"$f":"'5'!D178","v":0},{"$f":"'5'!E178","v":0},{"$f":"'5'!F178","v":0}]
[null,1374,{"$f":"'5'!C179","v":0},{"$f":"'5'!D179","v":0},{"$f":"'5'!E179","v":0},{"$f":"'5'!F179","v":0}]
[null,1375,{"$f":"'5'!C180","v":0},{"$f":"'5'!D180","v":0},{"$f":"'5'!E180","v":0},{"$f":"'5'!F180","v":0}]
[null,1376,{"$f":"'5'!C181","v":0},{"$f":"'5'!D181","v":0},{"$f":"'5'!E181","v":0},{"$f":"'5'!F181","v":0}]
[null,1377,{"$f":"'5'!C182","v":0},{"$f":"'5'!D182","v":0},{"$f":"'5'!E182","v":0},{"$f":"'5'!F182","v":0}]
[null,1378,{"$f":"'5'!C183","v":0},{"$f":"'5'!D183","v":0},{"$f":"'5'!E183","v":0},{"$f":"'5'!F183","v":0}]
[null,1379,{"$f":"'5'!C184","v":0},{"$f":"'5'!D184","v":0},{"$f":"'5'!E184","v":0},{"$f":"'5'!F184","v":0}]
[null,1380,{"$f":"'5'!C185","v":0},{"$f":"'5'!D185","v":0},{"$f":"'5'!E185","v":0},{"$f":"'5'!F185","v":0}]
[null,1381,{"$f":"'5'!C186","v":0},{"$f":"'5'!D186","v":0},{"$f":"'5'!E186","v":0},{"$f":"'5'!F186","v":0}]
[null,1382,{"$f":"'5'!C187","v":0},{"$f":"'5'!D187","v":0},{"$f":"'5'!E187","v":0},{"$f":"'5'!F187","v":0}]
[null,1383,{"$f":"'5'!C188","v":0},{"$f":"'5'!D188","v":0},{"$f":"'5'!E188","v":0},{"$f":"'5'!F188","v":0}]
[null,1384,{"$f":"'5'!C189","v":0},{"$f":"'5'!D189","v":0},{"$f":"'5'!E189","v":0},{"$f":"'5'!F189","v":0}]
[null,1385,{"$f":"'5'!C190","v":0},{"$f":"'5'!D190","v":0},{"$f":"'5'!E190","v":0},{"$f":"'5'!F190","v":0}]
[null,1386,{"$f":"'5'!C191","v":0},{"$f":"'5'!D191","v":0},{"$f":"'5'!E191","v":0},{"$f":"'5'!F191","v":0}]
[null,1387,{"$f":"'5'!C192","v":0},{"$f":"'5'!D192","v":0},{"$f":"'5'!E192","v":0},{"$f":"'5'!F192","v":0}]
[null,1388,{"$f":"'5'!C193","v":0},{"$f":"'5'!D193","v":0},{"$f":"'5'!E193","v":0},{"$f":"'5'!F193","v":0}]
[null,1389,{"$f":"'5'!C194","v":0},{"$f":"'5'!D194","v":0},{"$f":"'5'!E194","v":0},{"$f":"'5'!F194","v":0}]
[null,1390,{"$f":"'5'!C195","v":0},{"$f":"'5'!D195","v":0},{"$f":"'5'!E195","v":0},{"$f":"'5'!F195","v":0}]
[null,1391,{"$f":"'5'!C196","v":0},{"$f":"'5'!D196","v":0},{"$f":"'5'!E196","v":0},{"$f":"'5'!F196","v":0}]
[null,1392,{"$f":"'5'!C197","v":0},{"$f":"'5'!D197","v":0},{"$f":"'5'!E197","v":0},{"$f":"'5'!F197","v":0}]
[null,1393,{"$f":"'5'!C198","v":0},{"$f":"'5'!D198","v":0},{"$f":"'5'!E198","v":0},{"$f":"'5'!F198","v":0}]
[null,1394,{"$f":"'5'!C199","v":0},{"$f":"'5'!D199","v":0},{"$f":"'5'!E199","v":0},{"$f":"'5'!F199","v":0}]
[null,1395,{"$f":"'5'!C200","v":0},{"$f":"'5'!D200","v":0},{"$f":"'5'!E200","v":0},{"$f":"'5'!F200","v":0}]
[null,1396,{"$f":"'5'!C201","v":0},{"$f":"'5'!D201","v":0},{"$f":"'5'!E201","v":0},{"$f":"'5'!F201","v":0}]
[null,1397,{"$f":"'5'!C202","v":0},{"$f":"'5'!D202","v":0},{"$f":"'5'!E202","v":0},{"$f":"'5'!F202","v":0}]
[null,1398,{"$f":"'5'!C203","v":0},{"$f":"'5'!D203","v":0},{"$f":"'5'!E203","v":0},{"$f":"'5'!F203","v":0}]
[null,1399,{"$f":"'5'!C204","v":0},{"$f":"'5'!D204","v":0},{"$f":"'5'!E204","v":0},{"$f":"'5'!F204","v":0}]
[null,1400,{"$f":"'5'!C205","v":0},{"$f":"'5'!D205","v":0},{"$f":"'5'!E205","v":0},{"$f":"'5'!F205","v":0}]
[null,1401,{"$f":"'5'!C206","v":0},{"$f":"'5'!D206","v":0},{"$f":"'5'!E206","v":0},{"$f":"'5'!F206","v":0}]
[null,1402,{"$f":"'5'!C207","v":0},{"$f":"'5'!D207","v":0},{"$f":"'5'!E207","v":0},{"$f":"'5'!F207","v":0}]
[null,1403,{"$f":"'5'!C208","v":0},{"$f":"'5'!D208","v":0},{"$f":"'5'!E208","v":0},{"$f":"'5'!F208","v":0}]
[null,1404,{"$f":"'5'!C209","v":0},{"$f":"'5'!D209","v":0},{"$f":"'5'!E209","v":0},{"$f":"'5'!F209","v":0}]
[null,1405,{"$f":"'5'!C210","v":0},{"$f":"'5'!D210","v":0},{"$f":"'5'!E210","v":0},{"$f":"'5'!F210","v":0}]
[null,1406,{"$f":"'5'!C211","v":0},{"$f":"'5'!D211","v":0},{"$f":"'5'!E211","v":0},{"$f":"'5'!F211","v":0}]
[null,1407,{"$f":"'5'!C212","v":0},{"$f":"'5'!D212","v":0},{"$f":"'5'!E212","v":0},{"$f":"'5'!F212","v":0}]
[null,1408,{"$f":"'5'!C213","v":0},{"$f":"'5'!D213","v":0},{"$f":"'5'!E213","v":0},{"$f":"'5'!F213","v":0}]
[null,1409,{"$f":"'5'!C214","v":0},{"$f":"'5'!D214","v":0},{"$f":"'5'!E214","v":0},{"$f":"'5'!F214","v":0}]
[null,1410,{"$f":"'5'!C215","v":0},{"$f":"'5'!D215","v":0},{"$f":"'5'!E215","v":0},{"$f":"'5'!F215","v":0}]
[null,1411,{"$f":"'5'!C216","v":0},{"$f":"'5'!D216","v":0},{"$f":"'5'!E216","v":0},{"$f":"'5'!F216","v":0}]
[null,1412,{"$f":"'5'!C217","v":0},{"$f":"'5'!D217","v":0},{"$f":"'5'!E217","v":0},{"$f":"'5'!F217","v":0}]
[null,1413,{"$f":"'5'!C218","v":0},{"$f":"'5'!D218","v":0},{"$f":"'5'!E218","v":0},{"$f":"'5'!F218","v":0}]
[null,1414,{"$f":"'5'!C219","v":0},{"$f":"'5'!D219","v":0},{"$f":"'5'!E219","v":0},{"$f":"'5'!F219","v":0}]
[null,1415,{"$f":"'5'!C220","v":0},{"$f":"'5'!D220","v":0},{"$f":"'5'!E220","v":0},{"$f":"'5'!F220","v":0}]
[null,1416,{"$f":"'5'!C221","v":0},{"$f":"'5'!D221","v":0},{"$f":"'5'!E221","v":0},{"$f":"'5'!F221","v":0}]
[null,1417,{"$f":"'5'!C222","v":0},{"$f":"'5'!D222","v":0},{"$f":"'5'!E222","v":0},{"$f":"'5'!F222","v":0}]
[null,1418,{"$f":"'5'!C223","v":0},{"$f":"'5'!D223","v":0},{"$f":"'5'!E223","v":0},{"$f":"'5'!F223","v":0}]
[null,1419,{"$f":"'5'!C224","v":0},{"$f":"'5'!D224","v":0},{"$f":"'5'!E224","v":0},{"$f":"'5'!F224","v":0}]
[null,1420,{"$f":"'5'!C225","v":0},{"$f":"'5'!D225","v":0},{"$f":"'5'!E225","v":0},{"$f":"'5'!F225","v":0}]
[null,1421,{"$f":"'5'!C226","v":0},{"$f":"'5'!D226","v":0},{"$f":"'5'!E226","v":0},{"$f":"'5'!F226","v":0}]
[null,1422,{"$f":"'5'!C227","v":0},{"$f":"'5'!D227","v":0},{"$f":"'5'!E227","v":0},{"$f":"'5'!F227","v":0}]
[null,1423,{"$f":"'5'!C228","v":0},{"$f":"'5'!D228","v":0},{"$f":"'5'!E228","v":0},{"$f":"'5'!F228","v":0}]
[null,1424,{"$f":"'5'!C229","v":0},{"$f":"'5'!D229","v":0},{"$f":"'5'!E229","v":0},{"$f":"'5'!F229","v":0}]
[null,1425,{"$f":"'5'!C230","v":0},{"$f":"'5'!D230","v":0},{"$f":"'5'!E230","v":0},{"$f":"'5'!F230","v":0}]
[null,1426,{"$f":"'5'!C231","v":0},{"$f":"'5'!D231","v":0},{"$f":"'5'!E231","v":0},{"$f":"'5'!F231","v":0}]
[null,1427,{"$f":"'5'!C232","v":0},{"$f":"'5'!D232","v":0},{"$f":"'5'!E232","v":0},{"$f":"'5'!F232","v":0}]
[null,1428,{"$f":"'5'!C233","v":0},{"$f":"'5'!D233","v":0},{"$f":"'5'!E233","v":0},{"$f":"'5'!F233","v":0}]
[null,1429,{"$f":"'5'!C234","v":0},{"$f":"'5'!D234","v":0},{"$f":"'5'!E234","v":0},{"$f":"'5'!F234","v":0}]
[null,1430,{"$f":"'5'!C235","v":0},{"$f":"'5'!D235","v":0},{"$f":"'5'!E235","v":0},{"$f":"'5'!F235","v":0}]
[null,1431,{"$f":"'5'!C236","v":0},{"$f":"'5'!D236","v":0},{"$f":"'5'!E236","v":0},{"$f":"'5'!F236","v":0}]
[null,1432,{"$f":"'5'!C237","v":0},{"$f":"'5'!D237","v":0},{"$f":"'5'!E237","v":0},{"$f":"'5'!F237","v":0}]
[null,1433,{"$f":"'5'!C238","v":0},{"$f":"'5'!D238","v":0},{"$f":"'5'!E238","v":0},{"$f":"'5'!F238","v":0}]
[null,1434,{"$f":"'5'!C239","v":0},{"$f":"'5'!D239","v":0},{"$f":"'5'!E239","v":0},{"$f":"'5'!F239","v":0}]
[null,1435,{"$f":"'5'!C240","v":0},{"$f":"'5'!D240","v":0},{"$f":"'5'!E240","v":0},{"$f":"'5'!F240","v":0}]
[null,1436,{"$f":"'5'!C241","v":0},{"$f":"'5'!D241","v":0},{"$f":"'5'!E241","v":0},{"$f":"'5'!F241","v":0}]
[null,1437,{"$f":"'5'!C242","v":0},{"$f":"'5'!D242","v":0},{"$f":"'5'!E242","v":0},{"$f":"'5'!F242","v":0}]
[null,1438,{"$f":"'5'!C243","v":0},{"$f":"'5'!D243","v":0},{"$f":"'5'!E243","v":0},{"$f":"'5'!F243","v":0}]
[null,1439,{"$f":"'5'!C244","v":0},{"$f":"'5'!D244","v":0},{"$f":"'5'!E244","v":0},{"$f":"'5'!F244","v":0}]
[null,1440,{"$f":"'5'!C245","v":0},{"$f":"'5'!D245","v":0},{"$f":"'5'!E245","v":0},{"$f":"'5'!F245","v":0}]
[null,1441,{"$f":"'5'!C246","v":0},{"$f":"'5'!D246","v":0},{"$f":"'5'!E246","v":0},{"$f":"'5'!F246","v":0}]
[null,1442,{"$f":"'5'!C247","v":0},{"$f":"'5'!D247","v":0},{"$f":"'5'!E247","v":0},{"$f":"'5'!F247","v":0}]
[null,1443,{"$f":"'5'!C248","v":0},{"$f":"'5'!D248","v":0},{"$f":"'5'!E248","v":0},{"$f":"'5'!F248","v":0}]
[null,1444,{"$f":"'5'!C249","v":0},{"$f":"'5'!D249","v":0},{"$f":"'5'!E249","v":0},{"$f":"'5'!F249","v":0}]
[null,1445,{"$f":"'5'!C250","v":0},{"$f":"'5'!D250","v":0},{"$f":"'5'!E250","v":0},{"$f":"'5'!F250","v":0}]
[null,1446,{"$f":"'5'!C251","v":0},{"$f":"'5'!D251","v":0},{"$f":"'5'!E251","v":0},{"$f":"'5'!F251","v":0}]
[null,1447,{"$f":"'5'!C252","v":0},{"$f":"'5'!D252","v":0},{"$f":"'5'!E252","v":0},{"$f":"'5'!F252","v":0}]
[null,1448,{"$f":"'5'!C253","v":0},{"$f":"'5'!D253","v":0},{"$f":"'5'!E253","v":0},{"$f":"'5'!F253","v":0}]
[null,1449,{"$f":"'5'!C254","v":0},{"$f":"'5'!D254","v":0},{"$f":"'5'!E254","v":0},{"$f":"'5'!F254","v":0}]
[null,1450,{"$f":"'5'!C255","v":0},{"$f":"'5'!D255","v":0},{"$f":"'5'!E255","v":0},{"$f":"'5'!F255","v":0}]
[null,1451,{"$f":"'5'!C256","v":0},{"$f":"'5'!D256","v":0},{"$f":"'5'!E256","v":0},{"$f":"'5'!F256","v":0}]
[null,1452,{"$f":"'5'!C257","v":0},{"$f":"'5'!D257","v":0},{"$f":"'5'!E257","v":0},{"$f":"'5'!F257","v":0}]
[null,1453,{"$f":"'5'!C258","v":0},{"$f":"'5'!D258","v":0},{"$f":"'5'!E258","v":0},{"$f":"'5'!F258","v":0}]
[null,1454,{"$f":"'5'!C259","v":0},{"$f":"'5'!D259","v":0},{"$f":"'5'!E259","v":0},{"$f":"'5'!F259","v":0}]
[null,1455,{"$f":"'5'!C260","v":0},{"$f":"'5'!D260","v":0},{"$f":"'5'!E260","v":0},{"$f":"'5'!F260","v":0}]
[null,1456,{"$f":"'5'!C261","v":0},{"$f":"'5'!D261","v":0},{"$f":"'5'!E261","v":0},{"$f":"'5'!F261","v":0}]
[null,1457,{"$f":"'5'!C262","v":0},{"$f":"'5'!D262","v":0},{"$f":"'5'!E262","v":0},{"$f":"'5'!F262","v":0}]
[null,1458,{"$f":"'5'!C263","v":0},{"$f":"'5'!D263","v":0},{"$f":"'5'!E263","v":0},{"$f":"'5'!F263","v":0}]
[null,1459,{"$f":"'5'!C264","v":0},{"$f":"'5'!D264","v":0},{"$f":"'5'!E264","v":0},{"$f":"'5'!F264","v":0}]
[null,1460,{"$f":"'5'!C265","v":0},{"$f":"'5'!D265","v":0},{"$f":"'5'!E265","v":0},{"$f":"'5'!F265","v":0}]
[null,1461,{"$f":"'5'!C266","v":0},{"$f":"'5'!D266","v":0},{"$f":"'5'!E266","v":0},{"$f":"'5'!F266","v":0}]
[null,1462,{"$f":"'5'!C267","v":0},{"$f":"'5'!D267","v":0},{"$f":"'5'!E267","v":0},{"$f":"'5'!F267","v":0}]
[null,1463,{"$f":"'5'!C268","v":0},{"$f":"'5'!D268","v":0},{"$f":"'5'!E268","v":0},{"$f":"'5'!F268","v":0}]
[null,1464,{"$f":"'5'!C269","v":0},{"$f":"'5'!D269","v":0},{"$f":"'5'!E269","v":0},{"$f":"'5'!F269","v":0}]
[null,1465,{"$f":"'5'!C270","v":0},{"$f":"'5'!D270","v":0},{"$f":"'5'!E270","v":0},{"$f":"'5'!F270","v":0}]
[null,1466,{"$f":"'5'!C271","v":0},{"$f":"'5'!D271","v":0},{"$f":"'5'!E271","v":0},{"$f":"'5'!F271","v":0}]
[null,1467,{"$f":"'5'!C272","v":0},{"$f":"'5'!D272","v":0},{"$f":"'5'!E272","v":0},{"$f":"'5'!F272","v":0}]
[null,1468,{"$f":"'5'!C273","v":0},{"$f":"'5'!D273","v":0},{"$f":"'5'!E273","v":0},{"$f":"'5'!F273","v":0}]
[null,1469,{"$f":"'5'!C274","v":0},{"$f":"'5'!D274","v":0},{"$f":"'5'!E274","v":0},{"$f":"'5'!F274","v":0}]
[null,1470,{"$f":"'5'!C275","v":0},{"$f":"'5'!D275","v":0},{"$f":"'5'!E275","v":0},{"$f":"'5'!F275","v":0}]
[null,1471,{"$f":"'5'!C276","v":0},{"$f":"'5'!D276","v":0},{"$f":"'5'!E276","v":0},{"$f":"'5'!F276","v":0}]
[null,1472,{"$f":"'5'!C277","v":0},{"$f":"'5'!D277","v":0},{"$f":"'5'!E277","v":0},{"$f":"'5'!F277","v":0}]
[null,1473,{"$f":"'5'!C278","v":0},{"$f":"'5'!D278","v":0},{"$f":"'5'!E278","v":0},{"$f":"'5'!F278","v":0}]
[null,1474,{"$f":"'5'!C279","v":0},{"$f":"'5'!D279","v":0},{"$f":"'5'!E279","v":0},{"$f":"'5'!F279","v":0}]
[null,1475,{"$f":"'5'!C280","v":0},{"$f":"'5'!D280","v":0},{"$f":"'5'!E280","v":0},{"$f":"'5'!F280","v":0}]
[null,1476,{"$f":"'5'!C281","v":0},{"$f":"'5'!D281","v":0},{"$f":"'5'!E281","v":0},{"$f":"'5'!F281","v":0}]
[null,1477,{"$f":"'5'!C282","v":0},{"$f":"'5'!D282","v":0},{"$f":"'5'!E282","v":0},{"$f":"'5'!F282","v":0}]
[null,1478,{"$f":"'5'!C283","v":0},{"$f":"'5'!D283","v":0},{"$f":"'5'!E283","v":0},{"$f":"'5'!F283","v":0}]
[null,1479,{"$f":"'5'!C284","v":0},{"$f":"'5'!D284","v":0},{"$f":"'5'!E284","v":0},{"$f":"'5'!F284","v":0}]
[null,1480,{"$f":"'5'!C285","v":0},{"$f":"'5'!D285","v":0},{"$f":"'5'!E285","v":0},{"$f":"'5'!F285","v":0}]
[null,1481,{"$f":"'5'!C286","v":0},{"$f":"'5'!D286","v":0},{"$f":"'5'!E286","v":0},{"$f":"'5'!F286","v":0}]
[null,1482,{"$f":"'5'!C287","v":0},{"$f":"'5'!D287","v":0},{"$f":"'5'!E287","v":0},{"$f":"'5'!F287","v":0}]
[null,1483,{"$f":"'5'!C288","v":0},{"$f":"'5'!D288","v":0},{"$f":"'5'!E288","v":0},{"$f":"'5'!F288","v":0}]
[null,1484,{"$f":"'5'!C289","v":0},{"$f":"'5'!D289","v":0},{"$f":"'5'!E289","v":0},{"$f":"'5'!F289","v":0}]
[null,1485,{"$f":"'5'!C290","v":0},{"$f":"'5'!D290","v":0},{"$f":"'5'!E290","v":0},{"$f":"'5'!F290","v":0}]
[null,1486,{"$f":"'5'!C291","v":0},{"$f":"'5'!D291","v":0},{"$f":"'5'!E291","v":0},{"$f":"'5'!F291","v":0}]
[null,1487,{"$f":"'5'!C292","v":0},{"$f":"'5'!D292","v":0},{"$f":"'5'!E292","v":0},{"$f":"'5'!F292","v":0}]
[null,1488,{"$f":"'5'!C293","v":0},{"$f":"'5'!D293","v":0},{"$f":"'5'!E293","v":0},{"$f":"'5'!F293","v":0}]
[null,1489,{"$f":"'5'!C294","v":0},{"$f":"'5'!D294","v":0},{"$f":"'5'!E294","v":0},{"$f":"'5'!F294","v":0}]
[null,1490,{"$f":"'5'!C295","v":0},{"$f":"'5'!D295","v":0},{"$f":"'5'!E295","v":0},{"$f":"'5'!F295","v":0}]
[null,1491,{"$f":"'5'!C296","v":0},{"$f":"'5'!D296","v":0},{"$f":"'5'!E296","v":0},{"$f":"'5'!F296","v":0}]
[null,1492,{"$f":"'5'!C297","v":0},{"$f":"'5'!D297","v":0},{"$f":"'5'!E297","v":0},{"$f":"'5'!F297","v":0}]
[null,1493,{"$f":"'5'!C298","v":0},{"$f":"'5'!D298","v":0},{"$f":"'5'!E298","v":0},{"$f":"'5'!F298","v":0}]
[null,1494,{"$f":"'5'!C299","v":0},{"$f":"'5'!D299","v":0},{"$f":"'5'!E299","v":0},{"$f":"'5'!F299","v":0}]
[null,1495,{"$f":"'5'!C300","v":0},{"$f":"'5'!D300","v":0},{"$f":"'5'!E300","v":0},{"$f":"'5'!F300","v":0}]
[null,1496,{"$f":"'5'!C301","v":0},{"$f":"'5'!D301","v":0},{"$f":"'5'!E301","v":0},{"$f":"'5'!F301","v":0}]
[null,1497,{"$f":"'5'!C302","v":0},{"$f":"'5'!D302","v":0},{"$f":"'5'!E302","v":0},{"$f":"'5'!F302","v":0}]
[null,1498,{"$f":"'5'!C303","v":0},{"$f":"'5'!D303","v":0},{"$f":"'5'!E303","v":0},{"$f":"'5'!F303","v":0}]
[null,1499,{"$f":"'5'!C304","v":0},{"$f":"'5'!D304","v":0},{"$f":"'5'!E304","v":0},{"$f":"'5'!F304","v":0}]
[null,1500,{"$f":"'5'!C305","v":0},{"$f":"'5'!D305","v":0},{"$f":"'5'!E305","v":0},{"$f":"'5'!F305","v":0}]
[null,1501,{"$f":"'6'!C6","v":0},{"$f":"'6'!D6","v":0},{"$f":"'6'!E6","v":0},{"$f":"'6'!F6","v":0}]
[null,1502,{"$f":"'6'!C7","v":0},{"$f":"'6'!D7","v":0},{"$f":"'6'!E7","v":0},{"$f":"'6'!F7","v":0}]
[null,1503,{"$f":"'6'!C8","v":0},{"$f":"'6'!D8","v":0},{"$f":"'6'!E8","v":0},{"$f":"'6'!F8","v":0}]
[null,1504,{"$f":"'6'!C9","v":0},{"$f":"'6'!D9","v":0},{"$f":"'6'!E9","v":0},{"$f":"'6'!F9","v":0}]
[null,1505,{"$f":"'6'!C10","v":0},{"$f":"'6'!D10","v":0},{"$f":"'6'!E10","v":0},{"$f":"'6'!F10","v":0}]
[null,1506,{"$f":"'6'!C11","v":0},{"$f":"'6'!D11","v":0},{"$f":"'6'!E11","v":0},{"$f":"'6'!F11","v":0}]
[null,1507,{"$f":"'6'!C12","v":0},{"$f":"'6'!D12","v":0},{"$f":"'6'!E12","v":0},{"$f":"'6'!F12","v":0}]
[null,1508,{"$f":"'6'!C13","v":0},{"$f":"'6'!D13","v":0},{"$f":"'6'!E13","v":0},{"$f":"'6'!F13","v":0}]
[null,1509,{"$f":"'6'!C14","v":0},{"$f":"'6'!D14","v":0},{"$f":"'6'!E14","v":0},{"$f":"'6'!F14","v":0}]
[null,1510,{"$f":"'6'!C15","v":0},{"$f":"'6'!D15","v":0},{"$f":"'6'!E15","v":0},{"$f":"'6'!F15","v":0}]
[null,1511,{"$f":"'6'!C16","v":0},{"$f":"'6'!D16","v":0},{"$f":"'6'!E16","v":0},{"$f":"'6'!F16","v":0}]
[null,1512,{"$f":"'6'!C17","v":0},{"$f":"'6'!D17","v":0},{"$f":"'6'!E17","v":0},{"$f":"'6'!F17","v":0}]
[null,1513,{"$f":"'6'!C18","v":0},{"$f":"'6'!D18","v":0},{"$f":"'6'!E18","v":0},{"$f":"'6'!F18","v":0}]
[null,1514,{"$f":"'6'!C19","v":0},{"$f":"'6'!D19","v":0},{"$f":"'6'!E19","v":0},{"$f":"'6'!F19","v":0}]
[null,1515,{"$f":"'6'!C20","v":0},{"$f":"'6'!D20","v":0},{"$f":"'6'!E20","v":0},{"$f":"'6'!F20","v":0}]
[null,1516,{"$f":"'6'!C21","v":0},{"$f":"'6'!D21","v":0},{"$f":"'6'!E21","v":0},{"$f":"'6'!F21","v":0}]
[null,1517,{"$f":"'6'!C22","v":0},{"$f":"'6'!D22","v":0},{"$f":"'6'!E22","v":0},{"$f":"'6'!F22","v":0}]
[null,1518,{"$f":"'6'!C23","v":0},{"$f":"'6'!D23","v":0},{"$f":"'6'!E23","v":0},{"$f":"'6'!F23","v":0}]
[null,1519,{"$f":"'6'!C24","v":0},{"$f":"'6'!D24","v":0},{"$f":"'6'!E24","v":0},{"$f":"'6'!F24","v":0}]
[null,1520,{"$f":"'6'!C25","v":0},{"$f":"'6'!D25","v":0},{"$f":"'6'!E25","v":0},{"$f":"'6'!F25","v":0}]
[null,1521,{"$f":"'6'!C26","v":0},{"$f":"'6'!D26","v":0},{"$f":"'6'!E26","v":0},{"$f":"'6'!F26","v":0}]
[null,1522,{"$f":"'6'!C27","v":0},{"$f":"'6'!D27","v":0},{"$f":"'6'!E27","v":0},{"$f":"'6'!F27","v":0}]
[null,1523,{"$f":"'6'!C28","v":0},{"$f":"'6'!D28","v":0},{"$f":"'6'!E28","v":0},{"$f":"'6'!F28","v":0}]
[null,1524,{"$f":"'6'!C29","v":0},{"$f":"'6'!D29","v":0},{"$f":"'6'!E29","v":0},{"$f":"'6'!F29","v":0}]
[null,1525,{"$f":"'6'!C30","v":0},{"$f":"'6'!D30","v":0},{"$f":"'6'!E30","v":0},{"$f":"'6'!F30","v":0}]
[null,1526,{"$f":"'6'!C31","v":0},{"$f":"'6'!D31","v":0},{"$f":"'6'!E31","v":0},{"$f":"'6'!F31","v":0}]
[null,1527,{"$f":"'6'!C32","v":0},{"$f":"'6'!D32","v":0},{"$f":"'6'!E32","v":0},{"$f":"'6'!F32","v":0}]
[null,1528,{"$f":"'6'!C33","v":0},{"$f":"'6'!D33","v":0},{"$f":"'6'!E33","v":0},{"$f":"'6'!F33","v":0}]
[null,1529,{"$f":"'6'!C34","v":0},{"$f":"'6'!D34","v":0},{"$f":"'6'!E34","v":0},{"$f":"'6'!F34","v":0}]
[null,1530,{"$f":"'6'!C35","v":0},{"$f":"'6'!D35","v":0},{"$f":"'6'!E35","v":0},{"$f":"'6'!F35","v":0}]
[null,1531,{"$f":"'6'!C36","v":0},{"$f":"'6'!D36","v":0},{"$f":"'6'!E36","v":0},{"$f":"'6'!F36","v":0}]
[null,1532,{"$f":"'6'!C37","v":0},{"$f":"'6'!D37","v":0},{"$f":"'6'!E37","v":0},{"$f":"'6'!F37","v":0}]
[null,1533,{"$f":"'6'!C38","v":0},{"$f":"'6'!D38","v":0},{"$f":"'6'!E38","v":0},{"$f":"'6'!F38","v":0}]
[null,1534,{"$f":"'6'!C39","v":0},{"$f":"'6'!D39","v":0},{"$f":"'6'!E39","v":0},{"$f":"'6'!F39","v":0}]
[null,1535,{"$f":"'6'!C40","v":0},{"$f":"'6'!D40","v":0},{"$f":"'6'!E40","v":0},{"$f":"'6'!F40","v":0}]
[null,1536,{"$f":"'6'!C41","v":0},{"$f":"'6'!D41","v":0},{"$f":"'6'!E41","v":0},{"$f":"'6'!F41","v":0}]
[null,1537,{"$f":"'6'!C42","v":0},{"$f":"'6'!D42","v":0},{"$f":"'6'!E42","v":0},{"$f":"'6'!F42","v":0}]
[null,1538,{"$f":"'6'!C43","v":0},{"$f":"'6'!D43","v":0},{"$f":"'6'!E43","v":0},{"$f":"'6'!F43","v":0}]
[null,1539,{"$f":"'6'!C44","v":0},{"$f":"'6'!D44","v":0},{"$f":"'6'!E44","v":0},{"$f":"'6'!F44","v":0}]
[null,1540,{"$f":"'6'!C45","v":0},{"$f":"'6'!D45","v":0},{"$f":"'6'!E45","v":0},{"$f":"'6'!F45","v":0}]
[null,1541,{"$f":"'6'!C46","v":0},{"$f":"'6'!D46","v":0},{"$f":"'6'!E46","v":0},{"$f":"'6'!F46","v":0}]
[null,1542,{"$f":"'6'!C47","v":0},{"$f":"'6'!D47","v":0},{"$f":"'6'!E47","v":0},{"$f":"'6'!F47","v":0}]
[null,1543,{"$f":"'6'!C48","v":0},{"$f":"'6'!D48","v":0},{"$f":"'6'!E48","v":0},{"$f":"'6'!F48","v":0}]
[null,1544,{"$f":"'6'!C49","v":0},{"$f":"'6'!D49","v":0},{"$f":"'6'!E49","v":0},{"$f":"'6'!F49","v":0}]
[null,1545,{"$f":"'6'!C50","v":0},{"$f":"'6'!D50","v":0},{"$f":"'6'!E50","v":0},{"$f":"'6'!F50","v":0}]
[null,1546,{"$f":"'6'!C51","v":0},{"$f":"'6'!D51","v":0},{"$f":"'6'!E51","v":0},{"$f":"'6'!F51","v":0}]
[null,1547,{"$f":"'6'!C52","v":0},{"$f":"'6'!D52","v":0},{"$f":"'6'!E52","v":0},{"$f":"'6'!F52","v":0}]
[null,1548,{"$f":"'6'!C53","v":0},{"$f":"'6'!D53","v":0},{"$f":"'6'!E53","v":0},{"$f":"'6'!F53","v":0}]
[null,1549,{"$f":"'6'!C54","v":0},{"$f":"'6'!D54","v":0},{"$f":"'6'!E54","v":0},{"$f":"'6'!F54","v":0}]
[null,1550,{"$f":"'6'!C55","v":0},{"$f":"'6'!D55","v":0},{"$f":"'6'!E55","v":0},{"$f":"'6'!F55","v":0}]
[null,1551,{"$f":"'6'!C56","v":0},{"$f":"'6'!D56","v":0},{"$f":"'6'!E56","v":0},{"$f":"'6'!F56","v":0}]
[null,1552,{"$f":"'6'!C57","v":0},{"$f":"'6'!D57","v":0},{"$f":"'6'!E57","v":0},{"$f":"'6'!F57","v":0}]
[null,1553,{"$f":"'6'!C58","v":0},{"$f":"'6'!D58","v":0},{"$f":"'6'!E58","v":0},{"$f":"'6'!F58","v":0}]
[null,1554,{"$f":"'6'!C59","v":0},{"$f":"'6'!D59","v":0},{"$f":"'6'!E59","v":0},{"$f":"'6'!F59","v":0}]
[null,1555,{"$f":"'6'!C60","v":0},{"$f":"'6'!D60","v":0},{"$f":"'6'!E60","v":0},{"$f":"'6'!F60","v":0}]
[null,1556,{"$f":"'6'!C61","v":0},{"$f":"'6'!D61","v":0},{"$f":"'6'!E61","v":0},{"$f":"'6'!F61","v":0}]
[null,1557,{"$f":"'6'!C62","v":0},{"$f":"'6'!D62","v":0},{"$f":"'6'!E62","v":0},{"$f":"'6'!F62","v":0}]
[null,1558,{"$f":"'6'!C63","v":0},{"$f":"'6'!D63","v":0},{"$f":"'6'!E63","v":0},{"$f":"'6'!F63","v":0}]
[null,1559,{"$f":"'6'!C64","v":0},{"$f":"'6'!D64","v":0},{"$f":"'6'!E64","v":0},{"$f":"'6'!F64","v":0}]
[null,1560,{"$f":"'6'!C65","v":0},{"$f":"'6'!D65","v":0},{"$f":"'6'!E65","v":0},{"$f":"'6'!F65","v":0}]
[null,1561,{"$f":"'6'!C66","v":0},{"$f":"'6'!D66","v":0},{"$f":"'6'!E66","v":0},{"$f":"'6'!F66","v":0}]
[null,1562,{"$f":"'6'!C67","v":0},{"$f":"'6'!D67","v":0},{"$f":"'6'!E67","v":0},{"$f":"'6'!F67","v":0}]
[null,1563,{"$f":"'6'!C68","v":0},{"$f":"'6'!D68","v":0},{"$f":"'6'!E68","v":0},{"$f":"'6'!F68","v":0}]
[null,1564,{"$f":"'6'!C69","v":0},{"$f":"'6'!D69","v":0},{"$f":"'6'!E69","v":0},{"$f":"'6'!F69","v":0}]
[null,1565,{"$f":"'6'!C70","v":0},{"$f":"'6'!D70","v":0},{"$f":"'6'!E70","v":0},{"$f":"'6'!F70","v":0}]
[null,1566,{"$f":"'6'!C71","v":0},{"$f":"'6'!D71","v":0},{"$f":"'6'!E71","v":0},{"$f":"'6'!F71","v":0}]
[null,1567,{"$f":"'6'!C72","v":0},{"$f":"'6'!D72","v":0},{"$f":"'6'!E72","v":0},{"$f":"'6'!F72","v":0}]
[null,1568,{"$f":"'6'!C73","v":0},{"$f":"'6'!D73","v":0},{"$f":"'6'!E73","v":0},{"$f":"'6'!F73","v":0}]
[null,1569,{"$f":"'6'!C74","v":0},{"$f":"'6'!D74","v":0},{"$f":"'6'!E74","v":0},{"$f":"'6'!F74","v":0}]
[null,1570,{"$f":"'6'!C75","v":0},{"$f":"'6'!D75","v":0},{"$f":"'6'!E75","v":0},{"$f":"'6'!F75","v":0}]
[null,1571,{"$f":"'6'!C76","v":0},{"$f":"'6'!D76","v":0},{"$f":"'6'!E76","v":0},{"$f":"'6'!F76","v":0}]
[null,1572,{"$f":"'6'!C77","v":0},{"$f":"'6'!D77","v":0},{"$f":"'6'!E77","v":0},{"$f":"'6'!F77","v":0}]
[null,1573,{"$f":"'6'!C78","v":0},{"$f":"'6'!D78","v":0},{"$f":"'6'!E78","v":0},{"$f":"'6'!F78","v":0}]
[null,1574,{"$f":"'6'!C79","v":0},{"$f":"'6'!D79","v":0},{"$f":"'6'!E79","v":0},{"$f":"'6'!F79","v":0}]
[null,1575,{"$f":"'6'!C80","v":0},{"$f":"'6'!D80","v":0},{"$f":"'6'!E80","v":0},{"$f":"'6'!F80","v":0}]
[null,1576,{"$f":"'6'!C81","v":0},{"$f":"'6'!D81","v":0},{"$f":"'6'!E81","v":0},{"$f":"'6'!F81","v":0}]
[null,1577,{"$f":"'6'!C82","v":0},{"$f":"'6'!D82","v":0},{"$f":"'6'!E82","v":0},{"$f":"'6'!F82","v":0}]
[null,1578,{"$f":"'6'!C83","v":0},{"$f":"'6'!D83","v":0},{"$f":"'6'!E83","v":0},{"$f":"'6'!F83","v":0}]
[null,1579,{"$f":"'6'!C84","v":0},{"$f":"'6'!D84","v":0},{"$f":"'6'!E84","v":0},{"$f":"'6'!F84","v":0}]
[null,1580,{"$f":"'6'!C85","v":0},{"$f":"'6'!D85","v":0},{"$f":"'6'!E85","v":0},{"$f":"'6'!F85","v":0}]
[null,1581,{"$f":"'6'!C86","v":0},{"$f":"'6'!D86","v":0},{"$f":"'6'!E86","v":0},{"$f":"'6'!F86","v":0}]
[null,1582,{"$f":"'6'!C87","v":0},{"$f":"'6'!D87","v":0},{"$f":"'6'!E87","v":0},{"$f":"'6'!F87","v":0}]
[null,1583,{"$f":"'6'!C88","v":0},{"$f":"'6'!D88","v":0},{"$f":"'6'!E88","v":0},{"$f":"'6'!F88","v":0}]
[null,1584,{"$f":"'6'!C89","v":0},{"$f":"'6'!D89","v":0},{"$f":"'6'!E89","v":0},{"$f":"'6'!F89","v":0}]
[null,1585,{"$f":"'6'!C90","v":0},{"$f":"'6'!D90","v":0},{"$f":"'6'!E90","v":0},{"$f":"'6'!F90","v":0}]
[null,1586,{"$f":"'6'!C91","v":0},{"$f":"'6'!D91","v":0},{"$f":"'6'!E91","v":0},{"$f":"'6'!F91","v":0}]
[null,1587,{"$f":"'6'!C92","v":0},{"$f":"'6'!D92","v":0},{"$f":"'6'!E92","v":0},{"$f":"'6'!F92","v":0}]
[null,1588,{"$f":"'6'!C93","v":0},{"$f":"'6'!D93","v":0},{"$f":"'6'!E93","v":0},{"$f":"'6'!F93","v":0}]
[null,1589,{"$f":"'6'!C94","v":0},{"$f":"'6'!D94","v":0},{"$f":"'6'!E94","v":0},{"$f":"'6'!F94","v":0}]
[null,1590,{"$f":"'6'!C95","v":0},{"$f":"'6'!D95","v":0},{"$f":"'6'!E95","v":0},{"$f":"'6'!F95","v":0}]
[null,1591,{"$f":"'6'!C96","v":0},{"$f":"'6'!D96","v":0},{"$f":"'6'!E96","v":0},{"$f":"'6'!F96","v":0}]
[null,1592,{"$f":"'6'!C97","v":0},{"$f":"'6'!D97","v":0},{"$f":"'6'!E97","v":0},{"$f":"'6'!F97","v":0}]
[null,1593,{"$f":"'6'!C98","v":0},{"$f":"'6'!D98","v":0},{"$f":"'6'!E98","v":0},{"$f":"'6'!F98","v":0}]
[null,1594,{"$f":"'6'!C99","v":0},{"$f":"'6'!D99","v":0},{"$f":"'6'!E99","v":0},{"$f":"'6'!F99","v":0}]
[null,1595,{"$f":"'6'!C100","v":0},{"$f":"'6'!D100","v":0},{"$f":"'6'!E100","v":0},{"$f":"'6'!F100","v":0}]
[null,1596,{"$f":"'6'!C101","v":0},{"$f":"'6'!D101","v":0},{"$f":"'6'!E101","v":0},{"$f":"'6'!F101","v":0}]
[null,1597,{"$f":"'6'!C102","v":0},{"$f":"'6'!D102","v":0},{"$f":"'6'!E102","v":0},{"$f":"'6'!F102","v":0}]
[null,1598,{"$f":"'6'!C103","v":0},{"$f":"'6'!D103","v":0},{"$f":"'6'!E103","v":0},{"$f":"'6'!F103","v":0}]
[null,1599,{"$f":"'6'!C104","v":0},{"$f":"'6'!D104","v":0},{"$f":"'6'!E104","v":0},{"$f":"'6'!F104","v":0}]
[null,1600,{"$f":"'6'!C105","v":0},{"$f":"'6'!D105","v":0},{"$f":"'6'!E105","v":0},{"$f":"'6'!F105","v":0}]
[null,1601,{"$f":"'6'!C106","v":0},{"$f":"'6'!D106","v":0},{"$f":"'6'!E106","v":0},{"$f":"'6'!F106","v":0}]
[null,1602,{"$f":"'6'!C107","v":0},{"$f":"'6'!D107","v":0},{"$f":"'6'!E107","v":0},{"$f":"'6'!F107","v":0}]
[null,1603,{"$f":"'6'!C108","v":0},{"$f":"'6'!D108","v":0},{"$f":"'6'!E108","v":0},{"$f":"'6'!F108","v":0}]
[null,1604,{"$f":"'6'!C109","v":0},{"$f":"'6'!D109","v":0},{"$f":"'6'!E109","v":0},{"$f":"'6'!F109","v":0}]
[null,1605,{"$f":"'6'!C110","v":0},{"$f":"'6'!D110","v":0},{"$f":"'6'!E110","v":0},{"$f":"'6'!F110","v":0}]
[null,1606,{"$f":"'6'!C111","v":0},{"$f":"'6'!D111","v":0},{"$f":"'6'!E111","v":0},{"$f":"'6'!F111","v":0}]
[null,1607,{"$f":"'6'!C112","v":0},{"$f":"'6'!D112","v":0},{"$f":"'6'!E112","v":0},{"$f":"'6'!F112","v":0}]
[null,1608,{"$f":"'6'!C113","v":0},{"$f":"'6'!D113","v":0},{"$f":"'6'!E113","v":0},{"$f":"'6'!F113","v":0}]
[null,1609,{"$f":"'6'!C114","v":0},{"$f":"'6'!D114","v":0},{"$f":"'6'!E114","v":0},{"$f":"'6'!F114","v":0}]
[null,1610,{"$f":"'6'!C115","v":0},{"$f":"'6'!D115","v":0},{"$f":"'6'!E115","v":0},{"$f":"'6'!F115","v":0}]
[null,1611,{"$f":"'6'!C116","v":0},{"$f":"'6'!D116","v":0},{"$f":"'6'!E116","v":0},{"$f":"'6'!F116","v":0}]
[null,1612,{"$f":"'6'!C117","v":0},{"$f":"'6'!D117","v":0},{"$f":"'6'!E117","v":0},{"$f":"'6'!F117","v":0}]
[null,1613,{"$f":"'6'!C118","v":0},{"$f":"'6'!D118","v":0},{"$f":"'6'!E118","v":0},{"$f":"'6'!F118","v":0}]
[null,1614,{"$f":"'6'!C119","v":0},{"$f":"'6'!D119","v":0},{"$f":"'6'!E119","v":0},{"$f":"'6'!F119","v":0}]
[null,1615,{"$f":"'6'!C120","v":0},{"$f":"'6'!D120","v":0},{"$f":"'6'!E120","v":0},{"$f":"'6'!F120","v":0}]
[null,1616,{"$f":"'6'!C121","v":0},{"$f":"'6'!D121","v":0},{"$f":"'6'!E121","v":0},{"$f":"'6'!F121","v":0}]
[null,1617,{"$f":"'6'!C122","v":0},{"$f":"'6'!D122","v":0},{"$f":"'6'!E122","v":0},{"$f":"'6'!F122","v":0}]
[null,1618,{"$f":"'6'!C123","v":0},{"$f":"'6'!D123","v":0},{"$f":"'6'!E123","v":0},{"$f":"'6'!F123","v":0}]
[null,1619,{"$f":"'6'!C124","v":0},{"$f":"'6'!D124","v":0},{"$f":"'6'!E124","v":0},{"$f":"'6'!F124","v":0}]
[null,1620,{"$f":"'6'!C125","v":0},{"$f":"'6'!D125","v":0},{"$f":"'6'!E125","v":0},{"$f":"'6'!F125","v":0}]
[null,1621,{"$f":"'6'!C126","v":0},{"$f":"'6'!D126","v":0},{"$f":"'6'!E126","v":0},{"$f":"'6'!F126","v":0}]
[null,1622,{"$f":"'6'!C127","v":0},{"$f":"'6'!D127","v":0},{"$f":"'6'!E127","v":0},{"$f":"'6'!F127","v":0}]
[null,1623,{"$f":"'6'!C128","v":0},{"$f":"'6'!D128","v":0},{"$f":"'6'!E128","v":0},{"$f":"'6'!F128","v":0}]
[null,1624,{"$f":"'6'!C129","v":0},{"$f":"'6'!D129","v":0},{"$f":"'6'!E129","v":0},{"$f":"'6'!F129","v":0}]
[null,1625,{"$f":"'6'!C130","v":0},{"$f":"'6'!D130","v":0},{"$f":"'6'!E130","v":0},{"$f":"'6'!F130","v":0}]
[null,1626,{"$f":"'6'!C131","v":0},{"$f":"'6'!D131","v":0},{"$f":"'6'!E131","v":0},{"$f":"'6'!F131","v":0}]
[null,1627,{"$f":"'6'!C132","v":0},{"$f":"'6'!D132","v":0},{"$f":"'6'!E132","v":0},{"$f":"'6'!F132","v":0}]
[null,1628,{"$f":"'6'!C133","v":0},{"$f":"'6'!D133","v":0},{"$f":"'6'!E133","v":0},{"$f":"'6'!F133","v":0}]
[null,1629,{"$f":"'6'!C134","v":0},{"$f":"'6'!D134","v":0},{"$f":"'6'!E134","v":0},{"$f":"'6'!F134","v":0}]
[null,1630,{"$f":"'6'!C135","v":0},{"$f":"'6'!D135","v":0},{"$f":"'6'!E135","v":0},{"$f":"'6'!F135","v":0}]
[null,1631,{"$f":"'6'!C136","v":0},{"$f":"'6'!D136","v":0},{"$f":"'6'!E136","v":0},{"$f":"'6'!F136","v":0}]
[null,1632,{"$f":"'6'!C137","v":0},{"$f":"'6'!D137","v":0},{"$f":"'6'!E137","v":0},{"$f":"'6'!F137","v":0}]
[null,1633,{"$f":"'6'!C138","v":0},{"$f":"'6'!D138","v":0},{"$f":"'6'!E138","v":0},{"$f":"'6'!F138","v":0}]
[null,1634,{"$f":"'6'!C139","v":0},{"$f":"'6'!D139","v":0},{"$f":"'6'!E139","v":0},{"$f":"'6'!F139","v":0}]
[null,1635,{"$f":"'6'!C140","v":0},{"$f":"'6'!D140","v":0},{"$f":"'6'!E140","v":0},{"$f":"'6'!F140","v":0}]
[null,1636,{"$f":"'6'!C141","v":0},{"$f":"'6'!D141","v":0},{"$f":"'6'!E141","v":0},{"$f":"'6'!F141","v":0}]
[null,1637,{"$f":"'6'!C142","v":0},{"$f":"'6'!D142","v":0},{"$f":"'6'!E142","v":0},{"$f":"'6'!F142","v":0}]
[null,1638,{"$f":"'6'!C143","v":0},{"$f":"'6'!D143","v":0},{"$f":"'6'!E143","v":0},{"$f":"'6'!F143","v":0}]
[null,1639,{"$f":"'6'!C144","v":0},{"$f":"'6'!D144","v":0},{"$f":"'6'!E144","v":0},{"$f":"'6'!F144","v":0}]
[null,1640,{"$f":"'6'!C145","v":0},{"$f":"'6'!D145","v":0},{"$f":"'6'!E145","v":0},{"$f":"'6'!F145","v":0}]
[null,1641,{"$f":"'6'!C146","v":0},{"$f":"'6'!D146","v":0},{"$f":"'6'!E146","v":0},{"$f":"'6'!F146","v":0}]
[null,1642,{"$f":"'6'!C147","v":0},{"$f":"'6'!D147","v":0},{"$f":"'6'!E147","v":0},{"$f":"'6'!F147","v":0}]
[null,1643,{"$f":"'6'!C148","v":0},{"$f":"'6'!D148","v":0},{"$f":"'6'!E148","v":0},{"$f":"'6'!F148","v":0}]
[null,1644,{"$f":"'6'!C149","v":0},{"$f":"'6'!D149","v":0},{"$f":"'6'!E149","v":0},{"$f":"'6'!F149","v":0}]
[null,1645,{"$f":"'6'!C150","v":0},{"$f":"'6'!D150","v":0},{"$f":"'6'!E150","v":0},{"$f":"'6'!F150","v":0}]
[null,1646,{"$f":"'6'!C151","v":0},{"$f":"'6'!D151","v":0},{"$f":"'6'!E151","v":0},{"$f":"'6'!F151","v":0}]
[null,1647,{"$f":"'6'!C152","v":0},{"$f":"'6'!D152","v":0},{"$f":"'6'!E152","v":0},{"$f":"'6'!F152","v":0}]
[null,1648,{"$f":"'6'!C153","v":0},{"$f":"'6'!D153","v":0},{"$f":"'6'!E153","v":0},{"$f":"'6'!F153","v":0}]
[null,1649,{"$f":"'6'!C154","v":0},{"$f":"'6'!D154","v":0},{"$f":"'6'!E154","v":0},{"$f":"'6'!F154","v":0}]
[null,1650,{"$f":"'6'!C155","v":0},{"$f":"'6'!D155","v":0},{"$f":"'6'!E155","v":0},{"$f":"'6'!F155","v":0}]
[null,1651,{"$f":"'6'!C156","v":0},{"$f":"'6'!D156","v":0},{"$f":"'6'!E156","v":0},{"$f":"'6'!F156","v":0}]
[null,1652,{"$f":"'6'!C157","v":0},{"$f":"'6'!D157","v":0},{"$f":"'6'!E157","v":0},{"$f":"'6'!F157","v":0}]
[null,1653,{"$f":"'6'!C158","v":0},{"$f":"'6'!D158","v":0},{"$f":"'6'!E158","v":0},{"$f":"'6'!F158","v":0}]
[null,1654,{"$f":"'6'!C159","v":0},{"$f":"'6'!D159","v":0},{"$f":"'6'!E159","v":0},{"$f":"'6'!F159","v":0}]
[null,1655,{"$f":"'6'!C160","v":0},{"$f":"'6'!D160","v":0},{"$f":"'6'!E160","v":0},{"$f":"'6'!F160","v":0}]
[null,1656,{"$f":"'6'!C161","v":0},{"$f":"'6'!D161","v":0},{"$f":"'6'!E161","v":0},{"$f":"'6'!F161","v":0}]
[null,1657,{"$f":"'6'!C162","v":0},{"$f":"'6'!D162","v":0},{"$f":"'6'!E162","v":0},{"$f":"'6'!F162","v":0}]
[null,1658,{"$f":"'6'!C163","v":0},{"$f":"'6'!D163","v":0},{"$f":"'6'!E163","v":0},{"$f":"'6'!F163","v":0}]
[null,1659,{"$f":"'6'!C164","v":0},{"$f":"'6'!D164","v":0},{"$f":"'6'!E164","v":0},{"$f":"'6'!F164","v":0}]
[null,1660,{"$f":"'6'!C165","v":0},{"$f":"'6'!D165","v":0},{"$f":"'6'!E165","v":0},{"$f":"'6'!F165","v":0}]
[null,1661,{"$f":"'6'!C166","v":0},{"$f":"'6'!D166","v":0},{"$f":"'6'!E166","v":0},{"$f":"'6'!F166","v":0}]
[null,1662,{"$f":"'6'!C167","v":0},{"$f":"'6'!D167","v":0},{"$f":"'6'!E167","v":0},{"$f":"'6'!F167","v":0}]
[null,1663,{"$f":"'6'!C168","v":0},{"$f":"'6'!D168","v":0},{"$f":"'6'!E168","v":0},{"$f":"'6'!F168","v":0}]
[null,1664,{"$f":"'6'!C169","v":0},{"$f":"'6'!D169","v":0},{"$f":"'6'!E169","v":0},{"$f":"'6'!F169","v":0}]
[null,1665,{"$f":"'6'!C170","v":0},{"$f":"'6'!D170","v":0},{"$f":"'6'!E170","v":0},{"$f":"'6'!F170","v":0}]
[null,1666,{"$f":"'6'!C171","v":0},{"$f":"'6'!D171","v":0},{"$f":"'6'!E171","v":0},{"$f":"'6'!F171","v":0}]
[null,1667,{"$f":"'6'!C172","v":0},{"$f":"'6'!D172","v":0},{"$f":"'6'!E172","v":0},{"$f":"'6'!F172","v":0}]
[null,1668,{"$f":"'6'!C173","v":0},{"$f":"'6'!D173","v":0},{"$f":"'6'!E173","v":0},{"$f":"'6'!F173","v":0}]
[null,1669,{"$f":"'6'!C174","v":0},{"$f":"'6'!D174","v":0},{"$f":"'6'!E174","v":0},{"$f":"'6'!F174","v":0}]
[null,1670,{"$f":"'6'!C175","v":0},{"$f":"'6'!D175","v":0},{"$f":"'6'!E175","v":0},{"$f":"'6'!F175","v":0}]
[null,1671,{"$f":"'6'!C176","v":0},{"$f":"'6'!D176","v":0},{"$f":"'6'!E176","v":0},{"$f":"'6'!F176","v":0}]
[null,1672,{"$f":"'6'!C177","v":0},{"$f":"'6'!D177","v":0},{"$f":"'6'!E177","v":0},{"$f":"'6'!F177","v":0}]
[null,1673,{"$f":"'6'!C178","v":0},{"$f":"'6'!D178","v":0},{"$f":"'6'!E178","v":0},{"$f":"'6'!F178","v":0}]
[null,1674,{"$f":"'6'!C179","v":0},{"$f":"'6'!D179","v":0},{"$f":"'6'!E179","v":0},{"$f":"'6'!F179","v":0}]
[null,1675,{"$f":"'6'!C180","v":0},{"$f":"'6'!D180","v":0},{"$f":"'6'!E180","v":0},{"$f":"'6'!F180","v":0}]
[null,1676,{"$f":"'6'!C181","v":0},{"$f":"'6'!D181","v":0},{"$f":"'6'!E181","v":0},{"$f":"'6'!F181","v":0}]
[null,1677,{"$f":"'6'!C182","v":0},{"$f":"'6'!D182","v":0},{"$f":"'6'!E182","v":0},{"$f":"'6'!F182","v":0}]
[null,1678,{"$f":"'6'!C183","v":0},{"$f":"'6'!D183","v":0},{"$f":"'6'!E183","v":0},{"$f":"'6'!F183","v":0}]
[null,1679,{"$f":"'6'!C184","v":0},{"$f":"'6'!D184","v":0},{"$f":"'6'!E184","v":0},{"$f":"'6'!F184","v":0}]
[null,1680,{"$f":"'6'!C185","v":0},{"$f":"'6'!D185","v":0},{"$f":"'6'!E185","v":0},{"$f":"'6'!F185","v":0}]
[null,1681,{"$f":"'6'!C186","v":0},{"$f":"'6'!D186","v":0},{"$f":"'6'!E186","v":0},{"$f":"'6'!F186","v":0}]
[null,1682,{"$f":"'6'!C187","v":0},{"$f":"'6'!D187","v":0},{"$f":"'6'!E187","v":0},{"$f":"'6'!F187","v":0}]
[null,1683,{"$f":"'6'!C188","v":0},{"$f":"'6'!D188","v":0},{"$f":"'6'!E188","v":0},{"$f":"'6'!F188","v":0}]
[null,1684,{"$f":"'6'!C189","v":0},{"$f":"'6'!D189","v":0},{"$f":"'6'!E189","v":0},{"$f":"'6'!F189","v":0}]
[null,1685,{"$f":"'6'!C190","v":0},{"$f":"'6'!D190","v":0},{"$f":"'6'!E190","v":0},{"$f":"'6'!F190","v":0}]
[null,1686,{"$f":"'6'!C191","v":0},{"$f":"'6'!D191","v":0},{"$f":"'6'!E191","v":0},{"$f":"'6'!F191","v":0}]
[null,1687,{"$f":"'6'!C192","v":0},{"$f":"'6'!D192","v":0},{"$f":"'6'!E192","v":0},{"$f":"'6'!F192","v":0}]
[null,1688,{"$f":"'6'!C193","v":0},{"$f":"'6'!D193","v":0},{"$f":"'6'!E193","v":0},{"$f":"'6'!F193","v":0}]
[null,1689,{"$f":"'6'!C194","v":0},{"$f":"'6'!D194","v":0},{"$f":"'6'!E194","v":0},{"$f":"'6'!F194","v":0}]
[null,1690,{"$f":"'6'!C195","v":0},{"$f":"'6'!D195","v":0},{"$f":"'6'!E195","v":0},{"$f":"'6'!F195","v":0}]
[null,1691,{"$f":"'6'!C196","v":0},{"$f":"'6'!D196","v":0},{"$f":"'6'!E196","v":0},{"$f":"'6'!F196","v":0}]
[null,1692,{"$f":"'6'!C197","v":0},{"$f":"'6'!D197","v":0},{"$f":"'6'!E197","v":0},{"$f":"'6'!F197","v":0}]
[null,1693,{"$f":"'6'!C198","v":0},{"$f":"'6'!D198","v":0},{"$f":"'6'!E198","v":0},{"$f":"'6'!F198","v":0}]
[null,1694,{"$f":"'6'!C199","v":0},{"$f":"'6'!D199","v":0},{"$f":"'6'!E199","v":0},{"$f":"'6'!F199","v":0}]
[null,1695,{"$f":"'6'!C200","v":0},{"$f":"'6'!D200","v":0},{"$f":"'6'!E200","v":0},{"$f":"'6'!F200","v":0}]
[null,1696,{"$f":"'6'!C201","v":0},{"$f":"'6'!D201","v":0},{"$f":"'6'!E201","v":0},{"$f":"'6'!F201","v":0}]
[null,1697,{"$f":"'6'!C202","v":0},{"$f":"'6'!D202","v":0},{"$f":"'6'!E202","v":0},{"$f":"'6'!F202","v":0}]
[null,1698,{"$f":"'6'!C203","v":0},{"$f":"'6'!D203","v":0},{"$f":"'6'!E203","v":0},{"$f":"'6'!F203","v":0}]
[null,1699,{"$f":"'6'!C204","v":0},{"$f":"'6'!D204","v":0},{"$f":"'6'!E204","v":0},{"$f":"'6'!F204","v":0}]
[null,1700,{"$f":"'6'!C205","v":0},{"$f":"'6'!D205","v":0},{"$f":"'6'!E205","v":0},{"$f":"'6'!F205","v":0}]
[null,1701,{"$f":"'6'!C206","v":0},{"$f":"'6'!D206","v":0},{"$f":"'6'!E206","v":0},{"$f":"'6'!F206","v":0}]
[null,1702,{"$f":"'6'!C207","v":0},{"$f":"'6'!D207","v":0},{"$f":"'6'!E207","v":0},{"$f":"'6'!F207","v":0}]
[null,1703,{"$f":"'6'!C208","v":0},{"$f":"'6'!D208","v":0},{"$f":"'6'!E208","v":0},{"$f":"'6'!F208","v":0}]
[null,1704,{"$f":"'6'!C209","v":0},{"$f":"'6'!D209","v":0},{"$f":"'6'!E209","v":0},{"$f":"'6'!F209","v":0}]
[null,1705,{"$f":"'6'!C210","v":0},{"$f":"'6'!D210","v":0},{"$f":"'6'!E210","v":0},{"$f":"'6'!F210","v":0}]
[null,1706,{"$f":"'6'!C211","v":0},{"$f":"'6'!D211","v":0},{"$f":"'6'!E211","v":0},{"$f":"'6'!F211","v":0}]
[null,1707,{"$f":"'6'!C212","v":0},{"$f":"'6'!D212","v":0},{"$f":"'6'!E212","v":0},{"$f":"'6'!F212","v":0}]
[null,1708,{"$f":"'6'!C213","v":0},{"$f":"'6'!D213","v":0},{"$f":"'6'!E213","v":0},{"$f":"'6'!F213","v":0}]
[null,1709,{"$f":"'6'!C214","v":0},{"$f":"'6'!D214","v":0},{"$f":"'6'!E214","v":0},{"$f":"'6'!F214","v":0}]
[null,1710,{"$f":"'6'!C215","v":0},{"$f":"'6'!D215","v":0},{"$f":"'6'!E215","v":0},{"$f":"'6'!F215","v":0}]
[null,1711,{"$f":"'6'!C216","v":0},{"$f":"'6'!D216","v":0},{"$f":"'6'!E216","v":0},{"$f":"'6'!F216","v":0}]
[null,1712,{"$f":"'6'!C217","v":0},{"$f":"'6'!D217","v":0},{"$f":"'6'!E217","v":0},{"$f":"'6'!F217","v":0}]
[null,1713,{"$f":"'6'!C218","v":0},{"$f":"'6'!D218","v":0},{"$f":"'6'!E218","v":0},{"$f":"'6'!F218","v":0}]
[null,1714,{"$f":"'6'!C219","v":0},{"$f":"'6'!D219","v":0},{"$f":"'6'!E219","v":0},{"$f":"'6'!F219","v":0}]
[null,1715,{"$f":"'6'!C220","v":0},{"$f":"'6'!D220","v":0},{"$f":"'6'!E220","v":0},{"$f":"'6'!F220","v":0}]
[null,1716,{"$f":"'6'!C221","v":0},{"$f":"'6'!D221","v":0},{"$f":"'6'!E221","v":0},{"$f":"'6'!F221","v":0}]
[null,1717,{"$f":"'6'!C222","v":0},{"$f":"'6'!D222","v":0},{"$f":"'6'!E222","v":0},{"$f":"'6'!F222","v":0}]
[null,1718,{"$f":"'6'!C223","v":0},{"$f":"'6'!D223","v":0},{"$f":"'6'!E223","v":0},{"$f":"'6'!F223","v":0}]
[null,1719,{"$f":"'6'!C224","v":0},{"$f":"'6'!D224","v":0},{"$f":"'6'!E224","v":0},{"$f":"'6'!F224","v":0}]
[null,1720,{"$f":"'6'!C225","v":0},{"$f":"'6'!D225","v":0},{"$f":"'6'!E225","v":0},{"$f":"'6'!F225","v":0}]
[null,1721,{"$f":"'6'!C226","v":0},{"$f":"'6'!D226","v":0},{"$f":"'6'!E226","v":0},{"$f":"'6'!F226","v":0}]
[null,1722,{"$f":"'6'!C227","v":0},{"$f":"'6'!D227","v":0},{"$f":"'6'!E227","v":0},{"$f":"'6'!F227","v":0}]
[null,1723,{"$f":"'6'!C228","v":0},{"$f":"'6'!D228","v":0},{"$f":"'6'!E228","v":0},{"$f":"'6'!F228","v":0}]
[null,1724,{"$f":"'6'!C229","v":0},{"$f":"'6'!D229","v":0},{"$f":"'6'!E229","v":0},{"$f":"'6'!F229","v":0}]
[null,1725,{"$f":"'6'!C230","v":0},{"$f":"'6'!D230","v":0},{"$f":"'6'!E230","v":0},{"$f":"'6'!F230","v":0}]
[null,1726,{"$f":"'6'!C231","v":0},{"$f":"'6'!D231","v":0},{"$f":"'6'!E231","v":0},{"$f":"'6'!F231","v":0}]
[null,1727,{"$f":"'6'!C232","v":0},{"$f":"'6'!D232","v":0},{"$f":"'6'!E232","v":0},{"$f":"'6'!F232","v":0}]
[null,1728,{"$f":"'6'!C233","v":0},{"$f":"'6'!D233","v":0},{"$f":"'6'!E233","v":0},{"$f":"'6'!F233","v":0}]
[null,1729,{"$f":"'6'!C234","v":0},{"$f":"'6'!D234","v":0},{"$f":"'6'!E234","v":0},{"$f":"'6'!F234","v":0}]
[null,1730,{"$f":"'6'!C235","v":0},{"$f":"'6'!D235","v":0},{"$f":"'6'!E235","v":0},{"$f":"'6'!F235","v":0}]
[null,1731,{"$f":"'6'!C236","v":0},{"$f":"'6'!D236","v":0},{"$f":"'6'!E236","v":0},{"$f":"'6'!F236","v":0}]
[null,1732,{"$f":"'6'!C237","v":0},{"$f":"'6'!D237","v":0},{"$f":"'6'!E237","v":0},{"$f":"'6'!F237","v":0}]
[null,1733,{"$f":"'6'!C238","v":0},{"$f":"'6'!D238","v":0},{"$f":"'6'!E238","v":0},{"$f":"'6'!F238","v":0}]
[null,1734,{"$f":"'6'!C239","v":0},{"$f":"'6'!D239","v":0},{"$f":"'6'!E239","v":0},{"$f":"'6'!F239","v":0}]
[null,1735,{"$f":"'6'!C240","v":0},{"$f":"'6'!D240","v":0},{"$f":"'6'!E240","v":0},{"$f":"'6'!F240","v":0}]
[null,1736,{"$f":"'6'!C241","v":0},{"$f":"'6'!D241","v":0},{"$f":"'6'!E241","v":0},{"$f":"'6'!F241","v":0}]
[null,1737,{"$f":"'6'!C242","v":0},{"$f":"'6'!D242","v":0},{"$f":"'6'!E242","v":0},{"$f":"'6'!F242","v":0}]
[null,1738,{"$f":"'6'!C243","v":0},{"$f":"'6'!D243","v":0},{"$f":"'6'!E243","v":0},{"$f":"'6'!F243","v":0}]
[null,1739,{"$f":"'6'!C244","v":0},{"$f":"'6'!D244","v":0},{"$f":"'6'!E244","v":0},{"$f":"'6'!F244","v":0}]
[null,1740,{"$f":"'6'!C245","v":0},{"$f":"'6'!D245","v":0},{"$f":"'6'!E245","v":0},{"$f":"'6'!F245","v":0}]
[null,1741,{"$f":"'6'!C246","v":0},{"$f":"'6'!D246","v":0},{"$f":"'6'!E246","v":0},{"$f":"'6'!F246","v":0}]
[null,1742,{"$f":"'6'!C247","v":0},{"$f":"'6'!D247","v":0},{"$f":"'6'!E247","v":0},{"$f":"'6'!F247","v":0}]
[null,1743,{"$f":"'6'!C248","v":0},{"$f":"'6'!D248","v":0},{"$f":"'6'!E248","v":0},{"$f":"'6'!F248","v":0}]
[null,1744,{"$f":"'6'!C249","v":0},{"$f":"'6'!D249","v":0},{"$f":"'6'!E249","v":0},{"$f":"'6'!F249","v":0}]
[null,1745,{"$f":"'6'!C250","v":0},{"$f":"'6'!D250","v":0},{"$f":"'6'!E250","v":0},{"$f":"'6'!F250","v":0}]
[null,1746,{"$f":"'6'!C251","v":0},{"$f":"'6'!D251","v":0},{"$f":"'6'!E251","v":0},{"$f":"'6'!F251","v":0}]
[null,1747,{"$f":"'6'!C252","v":0},{"$f":"'6'!D252","v":0},{"$f":"'6'!E252","v":0},{"$f":"'6'!F252","v":0}]
[null,1748,{"$f":"'6'!C253","v":0},{"$f":"'6'!D253","v":0},{"$f":"'6'!E253","v":0},{"$f":"'6'!F253","v":0}]
[null,1749,{"$f":"'6'!C254","v":0},{"$f":"'6'!D254","v":0},{"$f":"'6'!E254","v":0},{"$f":"'6'!F254","v":0}]
[null,1750,{"$f":"'6'!C255","v":0},{"$f":"'6'!D255","v":0},{"$f":"'6'!E255","v":0},{"$f":"'6'!F255","v":0}]
[null,1751,{"$f":"'6'!C256","v":0},{"$f":"'6'!D256","v":0},{"$f":"'6'!E256","v":0},{"$f":"'6'!F256","v":0}]
[null,1752,{"$f":"'6'!C257","v":0},{"$f":"'6'!D257","v":0},{"$f":"'6'!E257","v":0},{"$f":"'6'!F257","v":0}]
[null,1753,{"$f":"'6'!C258","v":0},{"$f":"'6'!D258","v":0},{"$f":"'6'!E258","v":0},{"$f":"'6'!F258","v":0}]
[null,1754,{"$f":"'6'!C259","v":0},{"$f":"'6'!D259","v":0},{"$f":"'6'!E259","v":0},{"$f":"'6'!F259","v":0}]
[null,1755,{"$f":"'6'!C260","v":0},{"$f":"'6'!D260","v":0},{"$f":"'6'!E260","v":0},{"$f":"'6'!F260","v":0}]
[null,1756,{"$f":"'6'!C261","v":0},{"$f":"'6'!D261","v":0},{"$f":"'6'!E261","v":0},{"$f":"'6'!F261","v":0}]
[null,1757,{"$f":"'6'!C262","v":0},{"$f":"'6'!D262","v":0},{"$f":"'6'!E262","v":0},{"$f":"'6'!F262","v":0}]
[null,1758,{"$f":"'6'!C263","v":0},{"$f":"'6'!D263","v":0},{"$f":"'6'!E263","v":0},{"$f":"'6'!F263","v":0}]
[null,1759,{"$f":"'6'!C264","v":0},{"$f":"'6'!D264","v":0},{"$f":"'6'!E264","v":0},{"$f":"'6'!F264","v":0}]
[null,1760,{"$f":"'6'!C265","v":0},{"$f":"'6'!D265","v":0},{"$f":"'6'!E265","v":0},{"$f":"'6'!F265","v":0}]
[null,1761,{"$f":"'6'!C266","v":0},{"$f":"'6'!D266","v":0},{"$f":"'6'!E266","v":0},{"$f":"'6'!F266","v":0}]
[null,1762,{"$f":"'6'!C267","v":0},{"$f":"'6'!D267","v":0},{"$f":"'6'!E267","v":0},{"$f":"'6'!F267","v":0}]
[null,1763,{"$f":"'6'!C268","v":0},{"$f":"'6'!D268","v":0},{"$f":"'6'!E268","v":0},{"$f":"'6'!F268","v":0}]
[null,1764,{"$f":"'6'!C269","v":0},{"$f":"'6'!D269","v":0},{"$f":"'6'!E269","v":0},{"$f":"'6'!F269","v":0}]
[null,1765,{"$f":"'6'!C270","v":0},{"$f":"'6'!D270","v":0},{"$f":"'6'!E270","v":0},{"$f":"'6'!F270","v":0}]
[null,1766,{"$f":"'6'!C271","v":0},{"$f":"'6'!D271","v":0},{"$f":"'6'!E271","v":0},{"$f":"'6'!F271","v":0}]
[null,1767,{"$f":"'6'!C272","v":0},{"$f":"'6'!D272","v":0},{"$f":"'6'!E272","v":0},{"$f":"'6'!F272","v":0}]
[null,1768,{"$f":"'6'!C273","v":0},{"$f":"'6'!D273","v":0},{"$f":"'6'!E273","v":0},{"$f":"'6'!F273","v":0}]
[null,1769,{"$f":"'6'!C274","v":0},{"$f":"'6'!D274","v":0},{"$f":"'6'!E274","v":0},{"$f":"'6'!F274","v":0}]
[null,1770,{"$f":"'6'!C275","v":0},{"$f":"'6'!D275","v":0},{"$f":"'6'!E275","v":0},{"$f":"'6'!F275","v":0}]
[null,1771,{"$f":"'6'!C276","v":0},{"$f":"'6'!D276","v":0},{"$f":"'6'!E276","v":0},{"$f":"'6'!F276","v":0}]
[null,1772,{"$f":"'6'!C277","v":0},{"$f":"'6'!D277","v":0},{"$f":"'6'!E277","v":0},{"$f":"'6'!F277","v":0}]
[null,1773,{"$f":"'6'!C278","v":0},{"$f":"'6'!D278","v":0},{"$f":"'6'!E278","v":0},{"$f":"'6'!F278","v":0}]
[null,1774,{"$f":"'6'!C279","v":0},{"$f":"'6'!D279","v":0},{"$f":"'6'!E279","v":0},{"$f":"'6'!F279","v":0}]
[null,1775,{"$f":"'6'!C280","v":0},{"$f":"'6'!D280","v":0},{"$f":"'6'!E280","v":0},{"$f":"'6'!F280","v":0}]
[null,1776,{"$f":"'6'!C281","v":0},{"$f":"'6'!D281","v":0},{"$f":"'6'!E281","v":0},{"$f":"'6'!F281","v":0}]
[null,1777,{"$f":"'6'!C282","v":0},{"$f":"'6'!D282","v":0},{"$f":"'6'!E282","v":0},{"$f":"'6'!F282","v":0}]
[null,1778,{"$f":"'6'!C283","v":0},{"$f":"'6'!D283","v":0},{"$f":"'6'!E283","v":0},{"$f":"'6'!F283","v":0}]
[null,1779,{"$f":"'6'!C284","v":0},{"$f":"'6'!D284","v":0},{"$f":"'6'!E284","v":0},{"$f":"'6'!F284","v":0}]
[null,1780,{"$f":"'6'!C285","v":0},{"$f":"'6'!D285","v":0},{"$f":"'6'!E285","v":0},{"$f":"'6'!F285","v":0}]
[null,1781,{"$f":"'6'!C286","v":0},{"$f":"'6'!D286","v":0},{"$f":"'6'!E286","v":0},{"$f":"'6'!F286","v":0}]
[null,1782,{"$f":"'6'!C287","v":0},{"$f":"'6'!D287","v":0},{"$f":"'6'!E287","v":0},{"$f":"'6'!F287","v":0}]
[null,1783,{"$f":"'6'!C288","v":0},{"$f":"'6'!D288","v":0},{"$f":"'6'!E288","v":0},{"$f":"'6'!F288","v":0}]
[null,1784,{"$f":"'6'!C289","v":0},{"$f":"'6'!D289","v":0},{"$f":"'6'!E289","v":0},{"$f":"'6'!F289","v":0}]
[null,1785,{"$f":"'6'!C290","v":0},{"$f":"'6'!D290","v":0},{"$f":"'6'!E290","v":0},{"$f":"'6'!F290","v":0}]
[null,1786,{"$f":"'6'!C291","v":0},{"$f":"'6'!D291","v":0},{"$f":"'6'!E291","v":0},{"$f":"'6'!F291","v":0}]
[null,1787,{"$f":"'6'!C292","v":0},{"$f":"'6'!D292","v":0},{"$f":"'6'!E292","v":0},{"$f":"'6'!F292","v":0}]
[null,1788,{"$f":"'6'!C293","v":0},{"$f":"'6'!D293","v":0},{"$f":"'6'!E293","v":0},{"$f":"'6'!F293","v":0}]
[null,1789,{"$f":"'6'!C294","v":0},{"$f":"'6'!D294","v":0},{"$f":"'6'!E294","v":0},{"$f":"'6'!F294","v":0}]
[null,1790,{"$f":"'6'!C295","v":0},{"$f":"'6'!D295","v":0},{"$f":"'6'!E295","v":0},{"$f":"'6'!F295","v":0}]
[null,1791,{"$f":"'6'!C296","v":0},{"$f":"'6'!D296","v":0},{"$f":"'6'!E296","v":0},{"$f":"'6'!F296","v":0}]
[null,1792,{"$f":"'6'!C297","v":0},{"$f":"'6'!D297","v":0},{"$f":"'6'!E297","v":0},{"$f":"'6'!F297","v":0}]
[null,1793,{"$f":"'6'!C298","v":0},{"$f":"'6'!D298","v":0},{"$f":"'6'!E298","v":0},{"$f":"'6'!F298","v":0}]
[null,1794,{"$f":"'6'!C299","v":0},{"$f":"'6'!D299","v":0},{"$f":"'6'!E299","v":0},{"$f":"'6'!F299","v":0}]
[null,1795,{"$f":"'6'!C300","v":0},{"$f":"'6'!D300","v":0},{"$f":"'6'!E300","v":0},{"$f":"'6'!F300","v":0}]
[null,1796,{"$f":"'6'!C301","v":0},{"$f":"'6'!D301","v":0},{"$f":"'6'!E301","v":0},{"$f":"'6'!F301","v":0}]
[null,1797,{"$f":"'6'!C302","v":0},{"$f":"'6'!D302","v":0},{"$f":"'6'!E302","v":0},{"$f":"'6'!F302","v":0}]
[null,1798,{"$f":"'6'!C303","v":0},{"$f":"'6'!D303","v":0},{"$f":"'6'!E303","v":0},{"$f":"'6'!F303","v":0}]
[null,1799,{"$f":"'6'!C304","v":0},{"$f":"'6'!D304","v":0},{"$f":"'6'!E304","v":0},{"$f":"'6'!F304","v":0}]
[null,1800,{"$f":"'6'!C305","v":0},{"$f":"'6'!D305","v":0},{"$f":"'6'!E305","v":0},{"$f":"'6'!F305","v":0}]
[null,1801,{"$f":"'7'!C6","v":0},{"$f":"'7'!D6","v":0},{"$f":"'7'!E6","v":0},{"$f":"'7'!F6","v":0}]
[null,1802,{"$f":"'7'!C7","v":0},{"$f":"'7'!D7","v":0},{"$f":"'7'!E7","v":0},{"$f":"'7'!F7","v":0}]
[null,1803,{"$f":"'7'!C8","v":0},{"$f":"'7'!D8","v":0},{"$f":"'7'!E8","v":0},{"$f":"'7'!F8","v":0}]
[null,1804,{"$f":"'7'!C9","v":0},{"$f":"'7'!D9","v":0},{"$f":"'7'!E9","v":0},{"$f":"'7'!F9","v":0}]
[null,1805,{"$f":"'7'!C10","v":0},{"$f":"'7'!D10","v":0},{"$f":"'7'!E10","v":0},{"$f":"'7'!F10","v":0}]
[null,1806,{"$f":"'7'!C11","v":0},{"$f":"'7'!D11","v":0},{"$f":"'7'!E11","v":0},{"$f":"'7'!F11","v":0}]
[null,1807,{"$f":"'7'!C12","v":0},{"$f":"'7'!D12","v":0},{"$f":"'7'!E12","v":0},{"$f":"'7'!F12","v":0}]
[null,1808,{"$f":"'7'!C13","v":0},{"$f":"'7'!D13","v":0},{"$f":"'7'!E13","v":0},{"$f":"'7'!F13","v":0}]
[null,1809,{"$f":"'7'!C14","v":0},{"$f":"'7'!D14","v":0},{"$f":"'7'!E14","v":0},{"$f":"'7'!F14","v":0}]
[null,1810,{"$f":"'7'!C15","v":0},{"$f":"'7'!D15","v":0},{"$f":"'7'!E15","v":0},{"$f":"'7'!F15","v":0}]
[null,1811,{"$f":"'7'!C16","v":0},{"$f":"'7'!D16","v":0},{"$f":"'7'!E16","v":0},{"$f":"'7'!F16","v":0}]
[null,1812,{"$f":"'7'!C17","v":0},{"$f":"'7'!D17","v":0},{"$f":"'7'!E17","v":0},{"$f":"'7'!F17","v":0}]
[null,1813,{"$f":"'7'!C18","v":0},{"$f":"'7'!D18","v":0},{"$f":"'7'!E18","v":0},{"$f":"'7'!F18","v":0}]
[null,1814,{"$f":"'7'!C19","v":0},{"$f":"'7'!D19","v":0},{"$f":"'7'!E19","v":0},{"$f":"'7'!F19","v":0}]
[null,1815,{"$f":"'7'!C20","v":0},{"$f":"'7'!D20","v":0},{"$f":"'7'!E20","v":0},{"$f":"'7'!F20","v":0}]
[null,1816,{"$f":"'7'!C21","v":0},{"$f":"'7'!D21","v":0},{"$f":"'7'!E21","v":0},{"$f":"'7'!F21","v":0}]
[null,1817,{"$f":"'7'!C22","v":0},{"$f":"'7'!D22","v":0},{"$f":"'7'!E22","v":0},{"$f":"'7'!F22","v":0}]
[null,1818,{"$f":"'7'!C23","v":0},{"$f":"'7'!D23","v":0},{"$f":"'7'!E23","v":0},{"$f":"'7'!F23","v":0}]
[null,1819,{"$f":"'7'!C24","v":0},{"$f":"'7'!D24","v":0},{"$f":"'7'!E24","v":0},{"$f":"'7'!F24","v":0}]
[null,1820,{"$f":"'7'!C25","v":0},{"$f":"'7'!D25","v":0},{"$f":"'7'!E25","v":0},{"$f":"'7'!F25","v":0}]
[null,1821,{"$f":"'7'!C26","v":0},{"$f":"'7'!D26","v":0},{"$f":"'7'!E26","v":0},{"$f":"'7'!F26","v":0}]
[null,1822,{"$f":"'7'!C27","v":0},{"$f":"'7'!D27","v":0},{"$f":"'7'!E27","v":0},{"$f":"'7'!F27","v":0}]
[null,1823,{"$f":"'7'!C28","v":0},{"$f":"'7'!D28","v":0},{"$f":"'7'!E28","v":0},{"$f":"'7'!F28","v":0}]
[null,1824,{"$f":"'7'!C29","v":0},{"$f":"'7'!D29","v":0},{"$f":"'7'!E29","v":0},{"$f":"'7'!F29","v":0}]
[null,1825,{"$f":"'7'!C30","v":0},{"$f":"'7'!D30","v":0},{"$f":"'7'!E30","v":0},{"$f":"'7'!F30","v":0}]
[null,1826,{"$f":"'7'!C31","v":0},{"$f":"'7'!D31","v":0},{"$f":"'7'!E31","v":0},{"$f":"'7'!F31","v":0}]
[null,1827,{"$f":"'7'!C32","v":0},{"$f":"'7'!D32","v":0},{"$f":"'7'!E32","v":0},{"$f":"'7'!F32","v":0}]
[null,1828,{"$f":"'7'!C33","v":0},{"$f":"'7'!D33","v":0},{"$f":"'7'!E33","v":0},{"$f":"'7'!F33","v":0}]
[null,1829,{"$f":"'7'!C34","v":0},{"$f":"'7'!D34","v":0},{"$f":"'7'!E34","v":0},{"$f":"'7'!F34","v":0}]
[null,1830,{"$f":"'7'!C35","v":0},{"$f":"'7'!D35","v":0},{"$f":"'7'!E35","v":0},{"$f":"'7'!F35","v":0}]
[null,1831,{"$f":"'7'!C36","v":0},{"$f":"'7'!D36","v":0},{"$f":"'7'!E36","v":0},{"$f":"'7'!F36","v":0}]
[null,1832,{"$f":"'7'!C37","v":0},{"$f":"'7'!D37","v":0},{"$f":"'7'!E37","v":0},{"$f":"'7'!F37","v":0}]
[null,1833,{"$f":"'7'!C38","v":0},{"$f":"'7'!D38","v":0},{"$f":"'7'!E38","v":0},{"$f":"'7'!F38","v":0}]
[null,1834,{"$f":"'7'!C39","v":0},{"$f":"'7'!D39","v":0},{"$f":"'7'!E39","v":0},{"$f":"'7'!F39","v":0}]
[null,1835,{"$f":"'7'!C40","v":0},{"$f":"'7'!D40","v":0},{"$f":"'7'!E40","v":0},{"$f":"'7'!F40","v":0}]
[null,1836,{"$f":"'7'!C41","v":0},{"$f":"'7'!D41","v":0},{"$f":"'7'!E41","v":0},{"$f":"'7'!F41","v":0}]
[null,1837,{"$f":"'7'!C42","v":0},{"$f":"'7'!D42","v":0},{"$f":"'7'!E42","v":0},{"$f":"'7'!F42","v":0}]
[null,1838,{"$f":"'7'!C43","v":0},{"$f":"'7'!D43","v":0},{"$f":"'7'!E43","v":0},{"$f":"'7'!F43","v":0}]
[null,1839,{"$f":"'7'!C44","v":0},{"$f":"'7'!D44","v":0},{"$f":"'7'!E44","v":0},{"$f":"'7'!F44","v":0}]
[null,1840,{"$f":"'7'!C45","v":0},{"$f":"'7'!D45","v":0},{"$f":"'7'!E45","v":0},{"$f":"'7'!F45","v":0}]
[null,1841,{"$f":"'7'!C46","v":0},{"$f":"'7'!D46","v":0},{"$f":"'7'!E46","v":0},{"$f":"'7'!F46","v":0}]
[null,1842,{"$f":"'7'!C47","v":0},{"$f":"'7'!D47","v":0},{"$f":"'7'!E47","v":0},{"$f":"'7'!F47","v":0}]
[null,1843,{"$f":"'7'!C48","v":0},{"$f":"'7'!D48","v":0},{"$f":"'7'!E48","v":0},{"$f":"'7'!F48","v":0}]
[null,1844,{"$f":"'7'!C49","v":0},{"$f":"'7'!D49","v":0},{"$f":"'7'!E49","v":0},{"$f":"'7'!F49","v":0}]
[null,1845,{"$f":"'7'!C50","v":0},{"$f":"'7'!D50","v":0},{"$f":"'7'!E50","v":0},{"$f":"'7'!F50","v":0}]
[null,1846,{"$f":"'7'!C51","v":0},{"$f":"'7'!D51","v":0},{"$f":"'7'!E51","v":0},{"$f":"'7'!F51","v":0}]
[null,1847,{"$f":"'7'!C52","v":0},{"$f":"'7'!D52","v":0},{"$f":"'7'!E52","v":0},{"$f":"'7'!F52","v":0}]
[null,1848,{"$f":"'7'!C53","v":0},{"$f":"'7'!D53","v":0},{"$f":"'7'!E53","v":0},{"$f":"'7'!F53","v":0}]
[null,1849,{"$f":"'7'!C54","v":0},{"$f":"'7'!D54","v":0},{"$f":"'7'!E54","v":0},{"$f":"'7'!F54","v":0}]
[null,1850,{"$f":"'7'!C55","v":0},{"$f":"'7'!D55","v":0},{"$f":"'7'!E55","v":0},{"$f":"'7'!F55","v":0}]
[null,1851,{"$f":"'7'!C56","v":0},{"$f":"'7'!D56","v":0},{"$f":"'7'!E56","v":0},{"$f":"'7'!F56","v":0}]
[null,1852,{"$f":"'7'!C57","v":0},{"$f":"'7'!D57","v":0},{"$f":"'7'!E57","v":0},{"$f":"'7'!F57","v":0}]
[null,1853,{"$f":"'7'!C58","v":0},{"$f":"'7'!D58","v":0},{"$f":"'7'!E58","v":0},{"$f":"'7'!F58","v":0}]
[null,1854,{"$f":"'7'!C59","v":0},{"$f":"'7'!D59","v":0},{"$f":"'7'!E59","v":0},{"$f":"'7'!F59","v":0}]
[null,1855,{"$f":"'7'!C60","v":0},{"$f":"'7'!D60","v":0},{"$f":"'7'!E60","v":0},{"$f":"'7'!F60","v":0}]
[null,1856,{"$f":"'7'!C61","v":0},{"$f":"'7'!D61","v":0},{"$f":"'7'!E61","v":0},{"$f":"'7'!F61","v":0}]
[null,1857,{"$f":"'7'!C62","v":0},{"$f":"'7'!D62","v":0},{"$f":"'7'!E62","v":0},{"$f":"'7'!F62","v":0}]
[null,1858,{"$f":"'7'!C63","v":0},{"$f":"'7'!D63","v":0},{"$f":"'7'!E63","v":0},{"$f":"'7'!F63","v":0}]
[null,1859,{"$f":"'7'!C64","v":0},{"$f":"'7'!D64","v":0},{"$f":"'7'!E64","v":0},{"$f":"'7'!F64","v":0}]
[null,1860,{"$f":"'7'!C65","v":0},{"$f":"'7'!D65","v":0},{"$f":"'7'!E65","v":0},{"$f":"'7'!F65","v":0}]
[null,1861,{"$f":"'7'!C66","v":0},{"$f":"'7'!D66","v":0},{"$f":"'7'!E66","v":0},{"$f":"'7'!F66","v":0}]
[null,1862,{"$f":"'7'!C67","v":0},{"$f":"'7'!D67","v":0},{"$f":"'7'!E67","v":0},{"$f":"'7'!F67","v":0}]
[null,1863,{"$f":"'7'!C68","v":0},{"$f":"'7'!D68","v":0},{"$f":"'7'!E68","v":0},{"$f":"'7'!F68","v":0}]
[null,1864,{"$f":"'7'!C69","v":0},{"$f":"'7'!D69","v":0},{"$f":"'7'!E69","v":0},{"$f":"'7'!F69","v":0}]
[null,1865,{"$f":"'7'!C70","v":0},{"$f":"'7'!D70","v":0},{"$f":"'7'!E70","v":0},{"$f":"'7'!F70","v":0}]
[null,1866,{"$f":"'7'!C71","v":0},{"$f":"'7'!D71","v":0},{"$f":"'7'!E71","v":0},{"$f":"'7'!F71","v":0}]
[null,1867,{"$f":"'7'!C72","v":0},{"$f":"'7'!D72","v":0},{"$f":"'7'!E72","v":0},{"$f":"'7'!F72","v":0}]
[null,1868,{"$f":"'7'!C73","v":0},{"$f":"'7'!D73","v":0},{"$f":"'7'!E73","v":0},{"$f":"'7'!F73","v":0}]
[null,1869,{"$f":"'7'!C74","v":0},{"$f":"'7'!D74","v":0},{"$f":"'7'!E74","v":0},{"$f":"'7'!F74","v":0}]
[null,1870,{"$f":"'7'!C75","v":0},{"$f":"'7'!D75","v":0},{"$f":"'7'!E75","v":0},{"$f":"'7'!F75","v":0}]
[null,1871,{"$f":"'7'!C76","v":0},{"$f":"'7'!D76","v":0},{"$f":"'7'!E76","v":0},{"$f":"'7'!F76","v":0}]
[null,1872,{"$f":"'7'!C77","v":0},{"$f":"'7'!D77","v":0},{"$f":"'7'!E77","v":0},{"$f":"'7'!F77","v":0}]
[null,1873,{"$f":"'7'!C78","v":0},{"$f":"'7'!D78","v":0},{"$f":"'7'!E78","v":0},{"$f":"'7'!F78","v":0}]
[null,1874,{"$f":"'7'!C79","v":0},{"$f":"'7'!D79","v":0},{"$f":"'7'!E79","v":0},{"$f":"'7'!F79","v":0}]
[null,1875,{"$f":"'7'!C80","v":0},{"$f":"'7'!D80","v":0},{"$f":"'7'!E80","v":0},{"$f":"'7'!F80","v":0}]
[null,1876,{"$f":"'7'!C81","v":0},{"$f":"'7'!D81","v":0},{"$f":"'7'!E81","v":0},{"$f":"'7'!F81","v":0}]
[null,1877,{"$f":"'7'!C82","v":0},{"$f":"'7'!D82","v":0},{"$f":"'7'!E82","v":0},{"$f":"'7'!F82","v":0}]
[null,1878,{"$f":"'7'!C83","v":0},{"$f":"'7'!D83","v":0},{"$f":"'7'!E83","v":0},{"$f":"'7'!F83","v":0}]
[null,1879,{"$f":"'7'!C84","v":0},{"$f":"'7'!D84","v":0},{"$f":"'7'!E84","v":0},{"$f":"'7'!F84","v":0}]
[null,1880,{"$f":"'7'!C85","v":0},{"$f":"'7'!D85","v":0},{"$f":"'7'!E85","v":0},{"$f":"'7'!F85","v":0}]
[null,1881,{"$f":"'7'!C86","v":0},{"$f":"'7'!D86","v":0},{"$f":"'7'!E86","v":0},{"$f":"'7'!F86","v":0}]
[null,1882,{"$f":"'7'!C87","v":0},{"$f":"'7'!D87","v":0},{"$f":"'7'!E87","v":0},{"$f":"'7'!F87","v":0}]
[null,1883,{"$f":"'7'!C88","v":0},{"$f":"'7'!D88","v":0},{"$f":"'7'!E88","v":0},{"$f":"'7'!F88","v":0}]
[null,1884,{"$f":"'7'!C89","v":0},{"$f":"'7'!D89","v":0},{"$f":"'7'!E89","v":0},{"$f":"'7'!F89","v":0}]
[null,1885,{"$f":"'7'!C90","v":0},{"$f":"'7'!D90","v":0},{"$f":"'7'!E90","v":0},{"$f":"'7'!F90","v":0}]
[null,1886,{"$f":"'7'!C91","v":0},{"$f":"'7'!D91","v":0},{"$f":"'7'!E91","v":0},{"$f":"'7'!F91","v":0}]
[null,1887,{"$f":"'7'!C92","v":0},{"$f":"'7'!D92","v":0},{"$f":"'7'!E92","v":0},{"$f":"'7'!F92","v":0}]
[null,1888,{"$f":"'7'!C93","v":0},{"$f":"'7'!D93","v":0},{"$f":"'7'!E93","v":0},{"$f":"'7'!F93","v":0}]
[null,1889,{"$f":"'7'!C94","v":0},{"$f":"'7'!D94","v":0},{"$f":"'7'!E94","v":0},{"$f":"'7'!F94","v":0}]
[null,1890,{"$f":"'7'!C95","v":0},{"$f":"'7'!D95","v":0},{"$f":"'7'!E95","v":0},{"$f":"'7'!F95","v":0}]
[null,1891,{"$f":"'7'!C96","v":0},{"$f":"'7'!D96","v":0},{"$f":"'7'!E96","v":0},{"$f":"'7'!F96","v":0}]
[null,1892,{"$f":"'7'!C97","v":0},{"$f":"'7'!D97","v":0},{"$f":"'7'!E97","v":0},{"$f":"'7'!F97","v":0}]
[null,1893,{"$f":"'7'!C98","v":0},{"$f":"'7'!D98","v":0},{"$f":"'7'!E98","v":0},{"$f":"'7'!F98","v":0}]
[null,1894,{"$f":"'7'!C99","v":0},{"$f":"'7'!D99","v":0},{"$f":"'7'!E99","v":0},{"$f":"'7'!F99","v":0}]
[null,1895,{"$f":"'7'!C100","v":0},{"$f":"'7'!D100","v":0},{"$f":"'7'!E100","v":0},{"$f":"'7'!F100","v":0}]
[null,1896,{"$f":"'7'!C101","v":0},{"$f":"'7'!D101","v":0},{"$f":"'7'!E101","v":0},{"$f":"'7'!F101","v":0}]
[null,1897,{"$f":"'7'!C102","v":0},{"$f":"'7'!D102","v":0},{"$f":"'7'!E102","v":0},{"$f":"'7'!F102","v":0}]
[null,1898,{"$f":"'7'!C103","v":0},{"$f":"'7'!D103","v":0},{"$f":"'7'!E103","v":0},{"$f":"'7'!F103","v":0}]
[null,1899,{"$f":"'7'!C104","v":0},{"$f":"'7'!D104","v":0},{"$f":"'7'!E104","v":0},{"$f":"'7'!F104","v":0}]
[null,1900,{"$f":"'7'!C105","v":0},{"$f":"'7'!D105","v":0},{"$f":"'7'!E105","v":0},{"$f":"'7'!F105","v":0}]
[null,1901,{"$f":"'7'!C106","v":0},{"$f":"'7'!D106","v":0},{"$f":"'7'!E106","v":0},{"$f":"'7'!F106","v":0}]
[null,1902,{"$f":"'7'!C107","v":0},{"$f":"'7'!D107","v":0},{"$f":"'7'!E107","v":0},{"$f":"'7'!F107","v":0}]
[null,1903,{"$f":"'7'!C108","v":0},{"$f":"'7'!D108","v":0},{"$f":"'7'!E108","v":0},{"$f":"'7'!F108","v":0}]
[null,1904,{"$f":"'7'!C109","v":0},{"$f":"'7'!D109","v":0},{"$f":"'7'!E109","v":0},{"$f":"'7'!F109","v":0}]
[null,1905,{"$f":"'7'!C110","v":0},{"$f":"'7'!D110","v":0},{"$f":"'7'!E110","v":0},{"$f":"'7'!F110","v":0}]
[null,1906,{"$f":"'7'!C111","v":0},{"$f":"'7'!D111","v":0},{"$f":"'7'!E111","v":0},{"$f":"'7'!F111","v":0}]
[null,1907,{"$f":"'7'!C112","v":0},{"$f":"'7'!D112","v":0},{"$f":"'7'!E112","v":0},{"$f":"'7'!F112","v":0}]
[null,1908,{"$f":"'7'!C113","v":0},{"$f":"'7'!D113","v":0},{"$f":"'7'!E113","v":0},{"$f":"'7'!F113","v":0}]
[null,1909,{"$f":"'7'!C114","v":0},{"$f":"'7'!D114","v":0},{"$f":"'7'!E114","v":0},{"$f":"'7'!F114","v":0}]
[null,1910,{"$f":"'7'!C115","v":0},{"$f":"'7'!D115","v":0},{"$f":"'7'!E115","v":0},{"$f":"'7'!F115","v":0}]
[null,1911,{"$f":"'7'!C116","v":0},{"$f":"'7'!D116","v":0},{"$f":"'7'!E116","v":0},{"$f":"'7'!F116","v":0}]
[null,1912,{"$f":"'7'!C117","v":0},{"$f":"'7'!D117","v":0},{"$f":"'7'!E117","v":0},{"$f":"'7'!F117","v":0}]
[null,1913,{"$f":"'7'!C118","v":0},{"$f":"'7'!D118","v":0},{"$f":"'7'!E118","v":0},{"$f":"'7'!F118","v":0}]
[null,1914,{"$f":"'7'!C119","v":0},{"$f":"'7'!D119","v":0},{"$f":"'7'!E119","v":0},{"$f":"'7'!F119","v":0}]
[null,1915,{"$f":"'7'!C120","v":0},{"$f":"'7'!D120","v":0},{"$f":"'7'!E120","v":0},{"$f":"'7'!F120","v":0}]
[null,1916,{"$f":"'7'!C121","v":0},{"$f":"'7'!D121","v":0},{"$f":"'7'!E121","v":0},{"$f":"'7'!F121","v":0}]
[null,1917,{"$f":"'7'!C122","v":0},{"$f":"'7'!D122","v":0},{"$f":"'7'!E122","v":0},{"$f":"'7'!F122","v":0}]
[null,1918,{"$f":"'7'!C123","v":0},{"$f":"'7'!D123","v":0},{"$f":"'7'!E123","v":0},{"$f":"'7'!F123","v":0}]
[null,1919,{"$f":"'7'!C124","v":0},{"$f":"'7'!D124","v":0},{"$f":"'7'!E124","v":0},{"$f":"'7'!F124","v":0}]
[null,1920,{"$f":"'7'!C125","v":0},{"$f":"'7'!D125","v":0},{"$f":"'7'!E125","v":0},{"$f":"'7'!F125","v":0}]
[null,1921,{"$f":"'7'!C126","v":0},{"$f":"'7'!D126","v":0},{"$f":"'7'!E126","v":0},{"$f":"'7'!F126","v":0}]
[null,1922,{"$f":"'7'!C127","v":0},{"$f":"'7'!D127","v":0},{"$f":"'7'!E127","v":0},{"$f":"'7'!F127","v":0}]
[null,1923,{"$f":"'7'!C128","v":0},{"$f":"'7'!D128","v":0},{"$f":"'7'!E128","v":0},{"$f":"'7'!F128","v":0}]
[null,1924,{"$f":"'7'!C129","v":0},{"$f":"'7'!D129","v":0},{"$f":"'7'!E129","v":0},{"$f":"'7'!F129","v":0}]
[null,1925,{"$f":"'7'!C130","v":0},{"$f":"'7'!D130","v":0},{"$f":"'7'!E130","v":0},{"$f":"'7'!F130","v":0}]
[null,1926,{"$f":"'7'!C131","v":0},{"$f":"'7'!D131","v":0},{"$f":"'7'!E131","v":0},{"$f":"'7'!F131","v":0}]
[null,1927,{"$f":"'7'!C132","v":0},{"$f":"'7'!D132","v":0},{"$f":"'7'!E132","v":0},{"$f":"'7'!F132","v":0}]
[null,1928,{"$f":"'7'!C133","v":0},{"$f":"'7'!D133","v":0},{"$f":"'7'!E133","v":0},{"$f":"'7'!F133","v":0}]
[null,1929,{"$f":"'7'!C134","v":0},{"$f":"'7'!D134","v":0},{"$f":"'7'!E134","v":0},{"$f":"'7'!F134","v":0}]
[null,1930,{"$f":"'7'!C135","v":0},{"$f":"'7'!D135","v":0},{"$f":"'7'!E135","v":0},{"$f":"'7'!F135","v":0}]
[null,1931,{"$f":"'7'!C136","v":0},{"$f":"'7'!D136","v":0},{"$f":"'7'!E136","v":0},{"$f":"'7'!F136","v":0}]
[null,1932,{"$f":"'7'!C137","v":0},{"$f":"'7'!D137","v":0},{"$f":"'7'!E137","v":0},{"$f":"'7'!F137","v":0}]
[null,1933,{"$f":"'7'!C138","v":0},{"$f":"'7'!D138","v":0},{"$f":"'7'!E138","v":0},{"$f":"'7'!F138","v":0}]
[null,1934,{"$f":"'7'!C139","v":0},{"$f":"'7'!D139","v":0},{"$f":"'7'!E139","v":0},{"$f":"'7'!F139","v":0}]
[null,1935,{"$f":"'7'!C140","v":0},{"$f":"'7'!D140","v":0},{"$f":"'7'!E140","v":0},{"$f":"'7'!F140","v":0}]
[null,1936,{"$f":"'7'!C141","v":0},{"$f":"'7'!D141","v":0},{"$f":"'7'!E141","v":0},{"$f":"'7'!F141","v":0}]
[null,1937,{"$f":"'7'!C142","v":0},{"$f":"'7'!D142","v":0},{"$f":"'7'!E142","v":0},{"$f":"'7'!F142","v":0}]
[null,1938,{"$f":"'7'!C143","v":0},{"$f":"'7'!D143","v":0},{"$f":"'7'!E143","v":0},{"$f":"'7'!F143","v":0}]
[null,1939,{"$f":"'7'!C144","v":0},{"$f":"'7'!D144","v":0},{"$f":"'7'!E144","v":0},{"$f":"'7'!F144","v":0}]
[null,1940,{"$f":"'7'!C145","v":0},{"$f":"'7'!D145","v":0},{"$f":"'7'!E145","v":0},{"$f":"'7'!F145","v":0}]
[null,1941,{"$f":"'7'!C146","v":0},{"$f":"'7'!D146","v":0},{"$f":"'7'!E146","v":0},{"$f":"'7'!F146","v":0}]
[null,1942,{"$f":"'7'!C147","v":0},{"$f":"'7'!D147","v":0},{"$f":"'7'!E147","v":0},{"$f":"'7'!F147","v":0}]
[null,1943,{"$f":"'7'!C148","v":0},{"$f":"'7'!D148","v":0},{"$f":"'7'!E148","v":0},{"$f":"'7'!F148","v":0}]
[null,1944,{"$f":"'7'!C149","v":0},{"$f":"'7'!D149","v":0},{"$f":"'7'!E149","v":0},{"$f":"'7'!F149","v":0}]
[null,1945,{"$f":"'7'!C150","v":0},{"$f":"'7'!D150","v":0},{"$f":"'7'!E150","v":0},{"$f":"'7'!F150","v":0}]
[null,1946,{"$f":"'7'!C151","v":0},{"$f":"'7'!D151","v":0},{"$f":"'7'!E151","v":0},{"$f":"'7'!F151","v":0}]
[null,1947,{"$f":"'7'!C152","v":0},{"$f":"'7'!D152","v":0},{"$f":"'7'!E152","v":0},{"$f":"'7'!F152","v":0}]
[null,1948,{"$f":"'7'!C153","v":0},{"$f":"'7'!D153","v":0},{"$f":"'7'!E153","v":0},{"$f":"'7'!F153","v":0}]
[null,1949,{"$f":"'7'!C154","v":0},{"$f":"'7'!D154","v":0},{"$f":"'7'!E154","v":0},{"$f":"'7'!F154","v":0}]
[null,1950,{"$f":"'7'!C155","v":0},{"$f":"'7'!D155","v":0},{"$f":"'7'!E155","v":0},{"$f":"'7'!F155","v":0}]
[null,1951,{"$f":"'7'!C156","v":0},{"$f":"'7'!D156","v":0},{"$f":"'7'!E156","v":0},{"$f":"'7'!F156","v":0}]
[null,1952,{"$f":"'7'!C157","v":0},{"$f":"'7'!D157","v":0},{"$f":"'7'!E157","v":0},{"$f":"'7'!F157","v":0}]
[null,1953,{"$f":"'7'!C158","v":0},{"$f":"'7'!D158","v":0},{"$f":"'7'!E158","v":0},{"$f":"'7'!F158","v":0}]
[null,1954,{"$f":"'7'!C159","v":0},{"$f":"'7'!D159","v":0},{"$f":"'7'!E159","v":0},{"$f":"'7'!F159","v":0}]
[null,1955,{"$f":"'7'!C160","v":0},{"$f":"'7'!D160","v":0},{"$f":"'7'!E160","v":0},{"$f":"'7'!F160","v":0}]
[null,1956,{"$f":"'7'!C161","v":0},{"$f":"'7'!D161","v":0},{"$f":"'7'!E161","v":0},{"$f":"'7'!F161","v":0}]
[null,1957,{"$f":"'7'!C162","v":0},{"$f":"'7'!D162","v":0},{"$f":"'7'!E162","v":0},{"$f":"'7'!F162","v":0}]
[null,1958,{"$f":"'7'!C163","v":0},{"$f":"'7'!D163","v":0},{"$f":"'7'!E163","v":0},{"$f":"'7'!F163","v":0}]
[null,1959,{"$f":"'7'!C164","v":0},{"$f":"'7'!D164","v":0},{"$f":"'7'!E164","v":0},{"$f":"'7'!F164","v":0}]
[null,1960,{"$f":"'7'!C165","v":0},{"$f":"'7'!D165","v":0},{"$f":"'7'!E165","v":0},{"$f":"'7'!F165","v":0}]
[null,1961,{"$f":"'7'!C166","v":0},{"$f":"'7'!D166","v":0},{"$f":"'7'!E166","v":0},{"$f":"'7'!F166","v":0}]
[null,1962,{"$f":"'7'!C167","v":0},{"$f":"'7'!D167","v":0},{"$f":"'7'!E167","v":0},{"$f":"'7'!F167","v":0}]
[null,1963,{"$f":"'7'!C168","v":0},{"$f":"'7'!D168","v":0},{"$f":"'7'!E168","v":0},{"$f":"'7'!F168","v":0}]
[null,1964,{"$f":"'7'!C169","v":0},{"$f":"'7'!D169","v":0},{"$f":"'7'!E169","v":0},{"$f":"'7'!F169","v":0}]
[null,1965,{"$f":"'7'!C170","v":0},{"$f":"'7'!D170","v":0},{"$f":"'7'!E170","v":0},{"$f":"'7'!F170","v":0}]
[null,1966,{"$f":"'7'!C171","v":0},{"$f":"'7'!D171","v":0},{"$f":"'7'!E171","v":0},{"$f":"'7'!F171","v":0}]
[null,1967,{"$f":"'7'!C172","v":0},{"$f":"'7'!D172","v":0},{"$f":"'7'!E172","v":0},{"$f":"'7'!F172","v":0}]
[null,1968,{"$f":"'7'!C173","v":0},{"$f":"'7'!D173","v":0},{"$f":"'7'!E173","v":0},{"$f":"'7'!F173","v":0}]
[null,1969,{"$f":"'7'!C174","v":0},{"$f":"'7'!D174","v":0},{"$f":"'7'!E174","v":0},{"$f":"'7'!F174","v":0}]
[null,1970,{"$f":"'7'!C175","v":0},{"$f":"'7'!D175","v":0},{"$f":"'7'!E175","v":0},{"$f":"'7'!F175","v":0}]
[null,1971,{"$f":"'7'!C176","v":0},{"$f":"'7'!D176","v":0},{"$f":"'7'!E176","v":0},{"$f":"'7'!F176","v":0}]
[null,1972,{"$f":"'7'!C177","v":0},{"$f":"'7'!D177","v":0},{"$f":"'7'!E177","v":0},{"$f":"'7'!F177","v":0}]
[null,1973,{"$f":"'7'!C178","v":0},{"$f":"'7'!D178","v":0},{"$f":"'7'!E178","v":0},{"$f":"'7'!F178","v":0}]
[null,1974,{"$f":"'7'!C179","v":0},{"$f":"'7'!D179","v":0},{"$f":"'7'!E179","v":0},{"$f":"'7'!F179","v":0}]
[null,1975,{"$f":"'7'!C180","v":0},{"$f":"'7'!D180","v":0},{"$f":"'7'!E180","v":0},{"$f":"'7'!F180","v":0}]
[null,1976,{"$f":"'7'!C181","v":0},{"$f":"'7'!D181","v":0},{"$f":"'7'!E181","v":0},{"$f":"'7'!F181","v":0}]
[null,1977,{"$f":"'7'!C182","v":0},{"$f":"'7'!D182","v":0},{"$f":"'7'!E182","v":0},{"$f":"'7'!F182","v":0}]
[null,1978,{"$f":"'7'!C183","v":0},{"$f":"'7'!D183","v":0},{"$f":"'7'!E183","v":0},{"$f":"'7'!F183","v":0}]
[null,1979,{"$f":"'7'!C184","v":0},{"$f":"'7'!D184","v":0},{"$f":"'7'!E184","v":0},{"$f":"'7'!F184","v":0}]
[null,1980,{"$f":"'7'!C185","v":0},{"$f":"'7'!D185","v":0},{"$f":"'7'!E185","v":0},{"$f":"'7'!F185","v":0}]
[null,1981,{"$f":"'7'!C186","v":0},{"$f":"'7'!D186","v":0},{"$f":"'7'!E186","v":0},{"$f":"'7'!F186","v":0}]
[null,1982,{"$f":"'7'!C187","v":0},{"$f":"'7'!D187","v":0},{"$f":"'7'!E187","v":0},{"$f":"'7'!F187","v":0}]
[null,1983,{"$f":"'7'!C188","v":0},{"$f":"'7'!D188","v":0},{"$f":"'7'!E188","v":0},{"$f":"'7'!F188","v":0}]
[null,1984,{"$f":"'7'!C189","v":0},{"$f":"'7'!D189","v":0},{"$f":"'7'!E189","v":0},{"$f":"'7'!F189","v":0}]
[null,1985,{"$f":"'7'!C190","v":0},{"$f":"'7'!D190","v":0},{"$f":"'7'!E190","v":0},{"$f":"'7'!F190","v":0}]
[null,1986,{"$f":"'7'!C191","v":0},{"$f":"'7'!D191","v":0},{"$f":"'7'!E191","v":0},{"$f":"'7'!F191","v":0}]
[null,1987,{"$f":"'7'!C192","v":0},{"$f":"'7'!D192","v":0},{"$f":"'7'!E192","v":0},{"$f":"'7'!F192","v":0}]
[null,1988,{"$f":"'7'!C193","v":0},{"$f":"'7'!D193","v":0},{"$f":"'7'!E193","v":0},{"$f":"'7'!F193","v":0}]
[null,1989,{"$f":"'7'!C194","v":0},{"$f":"'7'!D194","v":0},{"$f":"'7'!E194","v":0},{"$f":"'7'!F194","v":0}]
[null,1990,{"$f":"'7'!C195","v":0},{"$f":"'7'!D195","v":0},{"$f":"'7'!E195","v":0},{"$f":"'7'!F195","v":0}]
[null,1991,{"$f":"'7'!C196","v":0},{"$f":"'7'!D196","v":0},{"$f":"'7'!E196","v":0},{"$f":"'7'!F196","v":0}]
[null,1992,{"$f":"'7'!C197","v":0},{"$f":"'7'!D197","v":0},{"$f":"'7'!E197","v":0},{"$f":"'7'!F197","v":0}]
[null,1993,{"$f":"'7'!C198","v":0},{"$f":"'7'!D198","v":0},{"$f":"'7'!E198","v":0},{"$f":"'7'!F198","v":0}]
[null,1994,{"$f":"'7'!C199","v":0},{"$f":"'7'!D199","v":0},{"$f":"'7'!E199","v":0},{"$f":"'7'!F199","v":0}]
[null,1995,{"$f":"'7'!C200","v":0},{"$f":"'7'!D200","v":0},{"$f":"'7'!E200","v":0},{"$f":"'7'!F200","v":0}]
[null,1996,{"$f":"'7'!C201","v":0},{"$f":"'7'!D201","v":0},{"$f":"'7'!E201","v":0},{"$f":"'7'!F201","v":0}]
[null,1997,{"$f":"'7'!C202","v":0},{"$f":"'7'!D202","v":0},{"$f":"'7'!E202","v":0},{"$f":"'7'!F202","v":0}]
[null,1998,{"$f":"'7'!C203","v":0},{"$f":"'7'!D203","v":0},{"$f":"'7'!E203","v":0},{"$f":"'7'!F203","v":0}]
[null,1999,{"$f":"'7'!C204","v":0},{"$f":"'7'!D204","v":0},{"$f":"'7'!E204","v":0},{"$f":"'7'!F204","v":0}]
[null,2000,{"$f":"'7'!C205","v":0},{"$f":"'7'!D205","v":0},{"$f":"'7'!E205","v":0},{"$f":"'7'!F205","v":0}]
[null,2001,{"$f":"'7'!C206","v":0},{"$f":"'7'!D206","v":0},{"$f":"'7'!E206","v":0},{"$f":"'7'!F206","v":0}]
[null,2002,{"$f":"'7'!C207","v":0},{"$f":"'7'!D207","v":0},{"$f":"'7'!E207","v":0},{"$f":"'7'!F207","v":0}]
[null,2003,{"$f":"'7'!C208","v":0},{"$f":"'7'!D208","v":0},{"$f":"'7'!E208","v":0},{"$f":"'7'!F208","v":0}]
[null,2004,{"$f":"'7'!C209","v":0},{"$f":"'7'!D209","v":0},{"$f":"'7'!E209","v":0},{"$f":"'7'!F209","v":0}]
[null,2005,{"$f":"'7'!C210","v":0},{"$f":"'7'!D210","v":0},{"$f":"'7'!E210","v":0},{"$f":"'7'!F210","v":0}]
[null,2006,{"$f":"'7'!C211","v":0},{"$f":"'7'!D211","v":0},{"$f":"'7'!E211","v":0},{"$f":"'7'!F211","v":0}]
[null,2007,{"$f":"'7'!C212","v":0},{"$f":"'7'!D212","v":0},{"$f":"'7'!E212","v":0},{"$f":"'7'!F212","v":0}]
[null,2008,{"$f":"'7'!C213","v":0},{"$f":"'7'!D213","v":0},{"$f":"'7'!E213","v":0},{"$f":"'7'!F213","v":0}]
[null,2009,{"$f":"'7'!C214","v":0},{"$f":"'7'!D214","v":0},{"$f":"'7'!E214","v":0},{"$f":"'7'!F214","v":0}]
[null,2010,{"$f":"'7'!C215","v":0},{"$f":"'7'!D215","v":0},{"$f":"'7'!E215","v":0},{"$f":"'7'!F215","v":0}]
[null,2011,{"$f":"'7'!C216","v":0},{"$f":"'7'!D216","v":0},{"$f":"'7'!E216","v":0},{"$f":"'7'!F216","v":0}]
[null,2012,{"$f":"'7'!C217","v":0},{"$f":"'7'!D217","v":0},{"$f":"'7'!E217","v":0},{"$f":"'7'!F217","v":0}]
[null,2013,{"$f":"'7'!C218","v":0},{"$f":"'7'!D218","v":0},{"$f":"'7'!E218","v":0},{"$f":"'7'!F218","v":0}]
[null,2014,{"$f":"'7'!C219","v":0},{"$f":"'7'!D219","v":0},{"$f":"'7'!E219","v":0},{"$f":"'7'!F219","v":0}]
[null,2015,{"$f":"'7'!C220","v":0},{"$f":"'7'!D220","v":0},{"$f":"'7'!E220","v":0},{"$f":"'7'!F220","v":0}]
[null,2016,{"$f":"'7'!C221","v":0},{"$f":"'7'!D221","v":0},{"$f":"'7'!E221","v":0},{"$f":"'7'!F221","v":0}]
[null,2017,{"$f":"'7'!C222","v":0},{"$f":"'7'!D222","v":0},{"$f":"'7'!E222","v":0},{"$f":"'7'!F222","v":0}]
[null,2018,{"$f":"'7'!C223","v":0},{"$f":"'7'!D223","v":0},{"$f":"'7'!E223","v":0},{"$f":"'7'!F223","v":0}]
[null,2019,{"$f":"'7'!C224","v":0},{"$f":"'7'!D224","v":0},{"$f":"'7'!E224","v":0},{"$f":"'7'!F224","v":0}]
[null,2020,{"$f":"'7'!C225","v":0},{"$f":"'7'!D225","v":0},{"$f":"'7'!E225","v":0},{"$f":"'7'!F225","v":0}]
[null,2021,{"$f":"'7'!C226","v":0},{"$f":"'7'!D226","v":0},{"$f":"'7'!E226","v":0},{"$f":"'7'!F226","v":0}]
[null,2022,{"$f":"'7'!C227","v":0},{"$f":"'7'!D227","v":0},{"$f":"'7'!E227","v":0},{"$f":"'7'!F227","v":0}]
[null,2023,{"$f":"'7'!C228","v":0},{"$f":"'7'!D228","v":0},{"$f":"'7'!E228","v":0},{"$f":"'7'!F228","v":0}]
[null,2024,{"$f":"'7'!C229","v":0},{"$f":"'7'!D229","v":0},{"$f":"'7'!E229","v":0},{"$f":"'7'!F229","v":0}]
[null,2025,{"$f":"'7'!C230","v":0},{"$f":"'7'!D230","v":0},{"$f":"'7'!E230","v":0},{"$f":"'7'!F230","v":0}]
[null,2026,{"$f":"'7'!C231","v":0},{"$f":"'7'!D231","v":0},{"$f":"'7'!E231","v":0},{"$f":"'7'!F231","v":0}]
[null,2027,{"$f":"'7'!C232","v":0},{"$f":"'7'!D232","v":0},{"$f":"'7'!E232","v":0},{"$f":"'7'!F232","v":0}]
[null,2028,{"$f":"'7'!C233","v":0},{"$f":"'7'!D233","v":0},{"$f":"'7'!E233","v":0},{"$f":"'7'!F233","v":0}]
[null,2029,{"$f":"'7'!C234","v":0},{"$f":"'7'!D234","v":0},{"$f":"'7'!E234","v":0},{"$f":"'7'!F234","v":0}]
[null,2030,{"$f":"'7'!C235","v":0},{"$f":"'7'!D235","v":0},{"$f":"'7'!E235","v":0},{"$f":"'7'!F235","v":0}]
[null,2031,{"$f":"'7'!C236","v":0},{"$f":"'7'!D236","v":0},{"$f":"'7'!E236","v":0},{"$f":"'7'!F236","v":0}]
[null,2032,{"$f":"'7'!C237","v":0},{"$f":"'7'!D237","v":0},{"$f":"'7'!E237","v":0},{"$f":"'7'!F237","v":0}]
[null,2033,{"$f":"'7'!C238","v":0},{"$f":"'7'!D238","v":0},{"$f":"'7'!E238","v":0},{"$f":"'7'!F238","v":0}]
[null,2034,{"$f":"'7'!C239","v":0},{"$f":"'7'!D239","v":0},{"$f":"'7'!E239","v":0},{"$f":"'7'!F239","v":0}]
[null,2035,{"$f":"'7'!C240","v":0},{"$f":"'7'!D240","v":0},{"$f":"'7'!E240","v":0},{"$f":"'7'!F240","v":0}]
[null,2036,{"$f":"'7'!C241","v":0},{"$f":"'7'!D241","v":0},{"$f":"'7'!E241","v":0},{"$f":"'7'!F241","v":0}]
[null,2037,{"$f":"'7'!C242","v":0},{"$f":"'7'!D242","v":0},{"$f":"'7'!E242","v":0},{"$f":"'7'!F242","v":0}]
[null,2038,{"$f":"'7'!C243","v":0},{"$f":"'7'!D243","v":0},{"$f":"'7'!E243","v":0},{"$f":"'7'!F243","v":0}]
[null,2039,{"$f":"'7'!C244","v":0},{"$f":"'7'!D244","v":0},{"$f":"'7'!E244","v":0},{"$f":"'7'!F244","v":0}]
[null,2040,{"$f":"'7'!C245","v":0},{"$f":"'7'!D245","v":0},{"$f":"'7'!E245","v":0},{"$f":"'7'!F245","v":0}]
[null,2041,{"$f":"'7'!C246","v":0},{"$f":"'7'!D246","v":0},{"$f":"'7'!E246","v":0},{"$f":"'7'!F246","v":0}]
[null,2042,{"$f":"'7'!C247","v":0},{"$f":"'7'!D247","v":0},{"$f":"'7'!E247","v":0},{"$f":"'7'!F247","v":0}]
[null,2043,{"$f":"'7'!C248","v":0},{"$f":"'7'!D248","v":0},{"$f":"'7'!E248","v":0},{"$f":"'7'!F248","v":0}]
[null,2044,{"$f":"'7'!C249","v":0},{"$f":"'7'!D249","v":0},{"$f":"'7'!E249","v":0},{"$f":"'7'!F249","v":0}]
[null,2045,{"$f":"'7'!C250","v":0},{"$f":"'7'!D250","v":0},{"$f":"'7'!E250","v":0},{"$f":"'7'!F250","v":0}]
[null,2046,{"$f":"'7'!C251","v":0},{"$f":"'7'!D251","v":0},{"$f":"'7'!E251","v":0},{"$f":"'7'!F251","v":0}]
[null,2047,{"$f":"'7'!C252","v":0},{"$f":"'7'!D252","v":0},{"$f":"'7'!E252","v":0},{"$f":"'7'!F252","v":0}]
[null,2048,{"$f":"'7'!C253","v":0},{"$f":"'7'!D253","v":0},{"$f":"'7'!E253","v":0},{"$f":"'7'!F253","v":0}]
[null,2049,{"$f":"'7'!C254","v":0},{"$f":"'7'!D254","v":0},{"$f":"'7'!E254","v":0},{"$f":"'7'!F254","v":0}]
[null,2050,{"$f":"'7'!C255","v":0},{"$f":"'7'!D255","v":0},{"$f":"'7'!E255","v":0},{"$f":"'7'!F255","v":0}]
[null,2051,{"$f":"'7'!C256","v":0},{"$f":"'7'!D256","v":0},{"$f":"'7'!E256","v":0},{"$f":"'7'!F256","v":0}]
[null,2052,{"$f":"'7'!C257","v":0},{"$f":"'7'!D257","v":0},{"$f":"'7'!E257","v":0},{"$f":"'7'!F257","v":0}]
[null,2053,{"$f":"'7'!C258","v":0},{"$f":"'7'!D258","v":0},{"$f":"'7'!E258","v":0},{"$f":"'7'!F258","v":0}]
[null,2054,{"$f":"'7'!C259","v":0},{"$f":"'7'!D259","v":0},{"$f":"'7'!E259","v":0},{"$f":"'7'!F259","v":0}]
[null,2055,{"$f":"'7'!C260","v":0},{"$f":"'7'!D260","v":0},{"$f":"'7'!E260","v":0},{"$f":"'7'!F260","v":0}]
[null,2056,{"$f":"'7'!C261","v":0},{"$f":"'7'!D261","v":0},{"$f":"'7'!E261","v":0},{"$f":"'7'!F261","v":0}]
[null,2057,{"$f":"'7'!C262","v":0},{"$f":"'7'!D262","v":0},{"$f":"'7'!E262","v":0},{"$f":"'7'!F262","v":0}]
[null,2058,{"$f":"'7'!C263","v":0},{"$f":"'7'!D263","v":0},{"$f":"'7'!E263","v":0},{"$f":"'7'!F263","v":0}]
[null,2059,{"$f":"'7'!C264","v":0},{"$f":"'7'!D264","v":0},{"$f":"'7'!E264","v":0},{"$f":"'7'!F264","v":0}]
[null,2060,{"$f":"'7'!C265","v":0},{"$f":"'7'!D265","v":0},{"$f":"'7'!E265","v":0},{"$f":"'7'!F265","v":0}]
[null,2061,{"$f":"'7'!C266","v":0},{"$f":"'7'!D266","v":0},{"$f":"'7'!E266","v":0},{"$f":"'7'!F266","v":0}]
[null,2062,{"$f":"'7'!C267","v":0},{"$f":"'7'!D267","v":0},{"$f":"'7'!E267","v":0},{"$f":"'7'!F267","v":0}]
[null,2063,{"$f":"'7'!C268","v":0},{"$f":"'7'!D268","v":0},{"$f":"'7'!E268","v":0},{"$f":"'7'!F268","v":0}]
[null,2064,{"$f":"'7'!C269","v":0},{"$f":"'7'!D269","v":0},{"$f":"'7'!E269","v":0},{"$f":"'7'!F269","v":0}]
[null,2065,{"$f":"'7'!C270","v":0},{"$f":"'7'!D270","v":0},{"$f":"'7'!E270","v":0},{"$f":"'7'!F270","v":0}]
[null,2066,{"$f":"'7'!C271","v":0},{"$f":"'7'!D271","v":0},{"$f":"'7'!E271","v":0},{"$f":"'7'!F271","v":0}]
[null,2067,{"$f":"'7'!C272","v":0},{"$f":"'7'!D272","v":0},{"$f":"'7'!E272","v":0},{"$f":"'7'!F272","v":0}]
[null,2068,{"$f":"'7'!C273","v":0},{"$f":"'7'!D273","v":0},{"$f":"'7'!E273","v":0},{"$f":"'7'!F273","v":0}]
[null,2069,{"$f":"'7'!C274","v":0},{"$f":"'7'!D274","v":0},{"$f":"'7'!E274","v":0},{"$f":"'7'!F274","v":0}]
[null,2070,{"$f":"'7'!C275","v":0},{"$f":"'7'!D275","v":0},{"$f":"'7'!E275","v":0},{"$f":"'7'!F275","v":0}]
[null,2071,{"$f":"'7'!C276","v":0},{"$f":"'7'!D276","v":0},{"$f":"'7'!E276","v":0},{"$f":"'7'!F276","v":0}]
[null,2072,{"$f":"'7'!C277","v":0},{"$f":"'7'!D277","v":0},{"$f":"'7'!E277","v":0},{"$f":"'7'!F277","v":0}]
[null,2073,{"$f":"'7'!C278","v":0},{"$f":"'7'!D278","v":0},{"$f":"'7'!E278","v":0},{"$f":"'7'!F278","v":0}]
[null,2074,{"$f":"'7'!C279","v":0},{"$f":"'7'!D279","v":0},{"$f":"'7'!E279","v":0},{"$f":"'7'!F279","v":0}]
[null,2075,{"$f":"'7'!C280","v":0},{"$f":"'7'!D280","v":0},{"$f":"'7'!E280","v":0},{"$f":"'7'!F280","v":0}]
[null,2076,{"$f":"'7'!C281","v":0},{"$f":"'7'!D281","v":0},{"$f":"'7'!E281","v":0},{"$f":"'7'!F281","v":0}]
[null,2077,{"$f":"'7'!C282","v":0},{"$f":"'7'!D282","v":0},{"$f":"'7'!E282","v":0},{"$f":"'7'!F282","v":0}]
[null,2078,{"$f":"'7'!C283","v":0},{"$f":"'7'!D283","v":0},{"$f":"'7'!E283","v":0},{"$f":"'7'!F283","v":0}]
[null,2079,{"$f":"'7'!C284","v":0},{"$f":"'7'!D284","v":0},{"$f":"'7'!E284","v":0},{"$f":"'7'!F284","v":0}]
[null,2080,{"$f":"'7'!C285","v":0},{"$f":"'7'!D285","v":0},{"$f":"'7'!E285","v":0},{"$f":"'7'!F285","v":0}]
[null,2081,{"$f":"'7'!C286","v":0},{"$f":"'7'!D286","v":0},{"$f":"'7'!E286","v":0},{"$f":"'7'!F286","v":0}]
[null,2082,{"$f":"'7'!C287","v":0},{"$f":"'7'!D287","v":0},{"$f":"'7'!E287","v":0},{"$f":"'7'!F287","v":0}]
[null,2083,{"$f":"'7'!C288","v":0},{"$f":"'7'!D288","v":0},{"$f":"'7'!E288","v":0},{"$f":"'7'!F288","v":0}]
[null,2084,{"$f":"'7'!C289","v":0},{"$f":"'7'!D289","v":0},{"$f":"'7'!E289","v":0},{"$f":"'7'!F289","v":0}]
[null,2085,{"$f":"'7'!C290","v":0},{"$f":"'7'!D290","v":0},{"$f":"'7'!E290","v":0},{"$f":"'7'!F290","v":0}]
[null,2086,{"$f":"'7'!C291","v":0},{"$f":"'7'!D291","v":0},{"$f":"'7'!E291","v":0},{"$f":"'7'!F291","v":0}]
[null,2087,{"$f":"'7'!C292","v":0},{"$f":"'7'!D292","v":0},{"$f":"'7'!E292","v":0},{"$f":"'7'!F292","v":0}]
[null,2088,{"$f":"'7'!C293","v":0},{"$f":"'7'!D293","v":0},{"$f":"'7'!E293","v":0},{"$f":"'7'!F293","v":0}]
[null,2089,{"$f":"'7'!C294","v":0},{"$f":"'7'!D294","v":0},{"$f":"'7'!E294","v":0},{"$f":"'7'!F294","v":0}]
[null,2090,{"$f":"'7'!C295","v":0},{"$f":"'7'!D295","v":0},{"$f":"'7'!E295","v":0},{"$f":"'7'!F295","v":0}]
[null,2091,{"$f":"'7'!C296","v":0},{"$f":"'7'!D296","v":0},{"$f":"'7'!E296","v":0},{"$f":"'7'!F296","v":0}]
[null,2092,{"$f":"'7'!C297","v":0},{"$f":"'7'!D297","v":0},{"$f":"'7'!E297","v":0},{"$f":"'7'!F297","v":0}]
[null,2093,{"$f":"'7'!C298","v":0},{"$f":"'7'!D298","v":0},{"$f":"'7'!E298","v":0},{"$f":"'7'!F298","v":0}]
[null,2094,{"$f":"'7'!C299","v":0},{"$f":"'7'!D299","v":0},{"$f":"'7'!E299","v":0},{"$f":"'7'!F299","v":0}]
[null,2095,{"$f":"'7'!C300","v":0},{"$f":"'7'!D300","v":0},{"$f":"'7'!E300","v":0},{"$f":"'7'!F300","v":0}]
[null,2096,{"$f":"'7'!C301","v":0},{"$f":"'7'!D301","v":0},{"$f":"'7'!E301","v":0},{"$f":"'7'!F301","v":0}]
[null,2097,{"$f":"'7'!C302","v":0},{"$f":"'7'!D302","v":0},{"$f":"'7'!E302","v":0},{"$f":"'7'!F302","v":0}]
[null,2098,{"$f":"'7'!C303","v":0},{"$f":"'7'!D303","v":0},{"$f":"'7'!E303","v":0},{"$f":"'7'!F303","v":0}]
[null,2099,{"$f":"'7'!C304","v":0},{"$f":"'7'!D304","v":0},{"$f":"'7'!E304","v":0},{"$f":"'7'!F304","v":0}]
[null,2100,{"$f":"'7'!C305","v":0},{"$f":"'7'!D305","v":0},{"$f":"'7'!E305","v":0},{"$f":"'7'!F305","v":0}]
[null,2101,{"$f":"'8'!C6","v":0},{"$f":"'8'!D6","v":0},{"$f":"'8'!E6","v":0},{"$f":"'8'!F6","v":0}]
[null,2102,{"$f":"'8'!C7","v":0},{"$f":"'8'!D7","v":0},{"$f":"'8'!E7","v":0},{"$f":"'8'!F7","v":0}]
[null,2103,{"$f":"'8'!C8","v":0},{"$f":"'8'!D8","v":0},{"$f":"'8'!E8","v":0},{"$f":"'8'!F8","v":0}]
[null,2104,{"$f":"'8'!C9","v":0},{"$f":"'8'!D9","v":0},{"$f":"'8'!E9","v":0},{"$f":"'8'!F9","v":0}]
[null,2105,{"$f":"'8'!C10","v":0},{"$f":"'8'!D10","v":0},{"$f":"'8'!E10","v":0},{"$f":"'8'!F10","v":0}]
[null,2106,{"$f":"'8'!C11","v":0},{"$f":"'8'!D11","v":0},{"$f":"'8'!E11","v":0},{"$f":"'8'!F11","v":0}]
[null,2107,{"$f":"'8'!C12","v":0},{"$f":"'8'!D12","v":0},{"$f":"'8'!E12","v":0},{"$f":"'8'!F12","v":0}]
[null,2108,{"$f":"'8'!C13","v":0},{"$f":"'8'!D13","v":0},{"$f":"'8'!E13","v":0},{"$f":"'8'!F13","v":0}]
[null,2109,{"$f":"'8'!C14","v":0},{"$f":"'8'!D14","v":0},{"$f":"'8'!E14","v":0},{"$f":"'8'!F14","v":0}]
[null,2110,{"$f":"'8'!C15","v":0},{"$f":"'8'!D15","v":0},{"$f":"'8'!E15","v":0},{"$f":"'8'!F15","v":0}]
[null,2111,{"$f":"'8'!C16","v":0},{"$f":"'8'!D16","v":0},{"$f":"'8'!E16","v":0},{"$f":"'8'!F16","v":0}]
[null,2112,{"$f":"'8'!C17","v":0},{"$f":"'8'!D17","v":0},{"$f":"'8'!E17","v":0},{"$f":"'8'!F17","v":0}]
[null,2113,{"$f":"'8'!C18","v":0},{"$f":"'8'!D18","v":0},{"$f":"'8'!E18","v":0},{"$f":"'8'!F18","v":0}]
[null,2114,{"$f":"'8'!C19","v":0},{"$f":"'8'!D19","v":0},{"$f":"'8'!E19","v":0},{"$f":"'8'!F19","v":0}]
[null,2115,{"$f":"'8'!C20","v":0},{"$f":"'8'!D20","v":0},{"$f":"'8'!E20","v":0},{"$f":"'8'!F20","v":0}]
[null,2116,{"$f":"'8'!C21","v":0},{"$f":"'8'!D21","v":0},{"$f":"'8'!E21","v":0},{"$f":"'8'!F21","v":0}]
[null,2117,{"$f":"'8'!C22","v":0},{"$f":"'8'!D22","v":0},{"$f":"'8'!E22","v":0},{"$f":"'8'!F22","v":0}]
[null,2118,{"$f":"'8'!C23","v":0},{"$f":"'8'!D23","v":0},{"$f":"'8'!E23","v":0},{"$f":"'8'!F23","v":0}]
[null,2119,{"$f":"'8'!C24","v":0},{"$f":"'8'!D24","v":0},{"$f":"'8'!E24","v":0},{"$f":"'8'!F24","v":0}]
[null,2120,{"$f":"'8'!C25","v":0},{"$f":"'8'!D25","v":0},{"$f":"'8'!E25","v":0},{"$f":"'8'!F25","v":0}]
[null,2121,{"$f":"'8'!C26","v":0},{"$f":"'8'!D26","v":0},{"$f":"'8'!E26","v":0},{"$f":"'8'!F26","v":0}]
[null,2122,{"$f":"'8'!C27","v":0},{"$f":"'8'!D27","v":0},{"$f":"'8'!E27","v":0},{"$f":"'8'!F27","v":0}]
[null,2123,{"$f":"'8'!C28","v":0},{"$f":"'8'!D28","v":0},{"$f":"'8'!E28","v":0},{"$f":"'8'!F28","v":0}]
[null,2124,{"$f":"'8'!C29","v":0},{"$f":"'8'!D29","v":0},{"$f":"'8'!E29","v":0},{"$f":"'8'!F29","v":0}]
[null,2125,{"$f":"'8'!C30","v":0},{"$f":"'8'!D30","v":0},{"$f":"'8'!E30","v":0},{"$f":"'8'!F30","v":0}]
[null,2126,{"$f":"'8'!C31","v":0},{"$f":"'8'!D31","v":0},{"$f":"'8'!E31","v":0},{"$f":"'8'!F31","v":0}]
[null,2127,{"$f":"'8'!C32","v":0},{"$f":"'8'!D32","v":0},{"$f":"'8'!E32","v":0},{"$f":"'8'!F32","v":0}]
[null,2128,{"$f":"'8'!C33","v":0},{"$f":"'8'!D33","v":0},{"$f":"'8'!E33","v":0},{"$f":"'8'!F33","v":0}]
[null,2129,{"$f":"'8'!C34","v":0},{"$f":"'8'!D34","v":0},{"$f":"'8'!E34","v":0},{"$f":"'8'!F34","v":0}]
[null,2130,{"$f":"'8'!C35","v":0},{"$f":"'8'!D35","v":0},{"$f":"'8'!E35","v":0},{"$f":"'8'!F35","v":0}]
[null,2131,{"$f":"'8'!C36","v":0},{"$f":"'8'!D36","v":0},{"$f":"'8'!E36","v":0},{"$f":"'8'!F36","v":0}]
[null,2132,{"$f":"'8'!C37","v":0},{"$f":"'8'!D37","v":0},{"$f":"'8'!E37","v":0},{"$f":"'8'!F37","v":0}]
[null,2133,{"$f":"'8'!C38","v":0},{"$f":"'8'!D38","v":0},{"$f":"'8'!E38","v":0},{"$f":"'8'!F38","v":0}]
[null,2134,{"$f":"'8'!C39","v":0},{"$f":"'8'!D39","v":0},{"$f":"'8'!E39","v":0},{"$f":"'8'!F39","v":0}]
[null,2135,{"$f":"'8'!C40","v":0},{"$f":"'8'!D40","v":0},{"$f":"'8'!E40","v":0},{"$f":"'8'!F40","v":0}]
[null,2136,{"$f":"'8'!C41","v":0},{"$f":"'8'!D41","v":0},{"$f":"'8'!E41","v":0},{"$f":"'8'!F41","v":0}]
[null,2137,{"$f":"'8'!C42","v":0},{"$f":"'8'!D42","v":0},{"$f":"'8'!E42","v":0},{"$f":"'8'!F42","v":0}]
[null,2138,{"$f":"'8'!C43","v":0},{"$f":"'8'!D43","v":0},{"$f":"'8'!E43","v":0},{"$f":"'8'!F43","v":0}]
[null,2139,{"$f":"'8'!C44","v":0},{"$f":"'8'!D44","v":0},{"$f":"'8'!E44","v":0},{"$f":"'8'!F44","v":0}]
[null,2140,{"$f":"'8'!C45","v":0},{"$f":"'8'!D45","v":0},{"$f":"'8'!E45","v":0},{"$f":"'8'!F45","v":0}]
[null,2141,{"$f":"'8'!C46","v":0},{"$f":"'8'!D46","v":0},{"$f":"'8'!E46","v":0},{"$f":"'8'!F46","v":0}]
[null,2142,{"$f":"'8'!C47","v":0},{"$f":"'8'!D47","v":0},{"$f":"'8'!E47","v":0},{"$f":"'8'!F47","v":0}]
[null,2143,{"$f":"'8'!C48","v":0},{"$f":"'8'!D48","v":0},{"$f":"'8'!E48","v":0},{"$f":"'8'!F48","v":0}]
[null,2144,{"$f":"'8'!C49","v":0},{"$f":"'8'!D49","v":0},{"$f":"'8'!E49","v":0},{"$f":"'8'!F49","v":0}]
[null,2145,{"$f":"'8'!C50","v":0},{"$f":"'8'!D50","v":0},{"$f":"'8'!E50","v":0},{"$f":"'8'!F50","v":0}]
[null,2146,{"$f":"'8'!C51","v":0},{"$f":"'8'!D51","v":0},{"$f":"'8'!E51","v":0},{"$f":"'8'!F51","v":0}]
[null,2147,{"$f":"'8'!C52","v":0},{"$f":"'8'!D52","v":0},{"$f":"'8'!E52","v":0},{"$f":"'8'!F52","v":0}]
[null,2148,{"$f":"'8'!C53","v":0},{"$f":"'8'!D53","v":0},{"$f":"'8'!E53","v":0},{"$f":"'8'!F53","v":0}]
[null,2149,{"$f":"'8'!C54","v":0},{"$f":"'8'!D54","v":0},{"$f":"'8'!E54","v":0},{"$f":"'8'!F54","v":0}]
[null,2150,{"$f":"'8'!C55","v":0},{"$f":"'8'!D55","v":0},{"$f":"'8'!E55","v":0},{"$f":"'8'!F55","v":0}]
[null,2151,{"$f":"'8'!C56","v":0},{"$f":"'8'!D56","v":0},{"$f":"'8'!E56","v":0},{"$f":"'8'!F56","v":0}]
[null,2152,{"$f":"'8'!C57","v":0},{"$f":"'8'!D57","v":0},{"$f":"'8'!E57","v":0},{"$f":"'8'!F57","v":0}]
[null,2153,{"$f":"'8'!C58","v":0},{"$f":"'8'!D58","v":0},{"$f":"'8'!E58","v":0},{"$f":"'8'!F58","v":0}]
[null,2154,{"$f":"'8'!C59","v":0},{"$f":"'8'!D59","v":0},{"$f":"'8'!E59","v":0},{"$f":"'8'!F59","v":0}]
[null,2155,{"$f":"'8'!C60","v":0},{"$f":"'8'!D60","v":0},{"$f":"'8'!E60","v":0},{"$f":"'8'!F60","v":0}]
[null,2156,{"$f":"'8'!C61","v":0},{"$f":"'8'!D61","v":0},{"$f":"'8'!E61","v":0},{"$f":"'8'!F61","v":0}]
[null,2157,{"$f":"'8'!C62","v":0},{"$f":"'8'!D62","v":0},{"$f":"'8'!E62","v":0},{"$f":"'8'!F62","v":0}]
[null,2158,{"$f":"'8'!C63","v":0},{"$f":"'8'!D63","v":0},{"$f":"'8'!E63","v":0},{"$f":"'8'!F63","v":0}]
[null,2159,{"$f":"'8'!C64","v":0},{"$f":"'8'!D64","v":0},{"$f":"'8'!E64","v":0},{"$f":"'8'!F64","v":0}]
[null,2160,{"$f":"'8'!C65","v":0},{"$f":"'8'!D65","v":0},{"$f":"'8'!E65","v":0},{"$f":"'8'!F65","v":0}]
[null,2161,{"$f":"'8'!C66","v":0},{"$f":"'8'!D66","v":0},{"$f":"'8'!E66","v":0},{"$f":"'8'!F66","v":0}]
[null,2162,{"$f":"'8'!C67","v":0},{"$f":"'8'!D67","v":0},{"$f":"'8'!E67","v":0},{"$f":"'8'!F67","v":0}]
[null,2163,{"$f":"'8'!C68","v":0},{"$f":"'8'!D68","v":0},{"$f":"'8'!E68","v":0},{"$f":"'8'!F68","v":0}]
[null,2164,{"$f":"'8'!C69","v":0},{"$f":"'8'!D69","v":0},{"$f":"'8'!E69","v":0},{"$f":"'8'!F69","v":0}]
[null,2165,{"$f":"'8'!C70","v":0},{"$f":"'8'!D70","v":0},{"$f":"'8'!E70","v":0},{"$f":"'8'!F70","v":0}]
[null,2166,{"$f":"'8'!C71","v":0},{"$f":"'8'!D71","v":0},{"$f":"'8'!E71","v":0},{"$f":"'8'!F71","v":0}]
[null,2167,{"$f":"'8'!C72","v":0},{"$f":"'8'!D72","v":0},{"$f":"'8'!E72","v":0},{"$f":"'8'!F72","v":0}]
[null,2168,{"$f":"'8'!C73","v":0},{"$f":"'8'!D73","v":0},{"$f":"'8'!E73","v":0},{"$f":"'8'!F73","v":0}]
[null,2169,{"$f":"'8'!C74","v":0},{"$f":"'8'!D74","v":0},{"$f":"'8'!E74","v":0},{"$f":"'8'!F74","v":0}]
[null,2170,{"$f":"'8'!C75","v":0},{"$f":"'8'!D75","v":0},{"$f":"'8'!E75","v":0},{"$f":"'8'!F75","v":0}]
[null,2171,{"$f":"'8'!C76","v":0},{"$f":"'8'!D76","v":0},{"$f":"'8'!E76","v":0},{"$f":"'8'!F76","v":0}]
[null,2172,{"$f":"'8'!C77","v":0},{"$f":"'8'!D77","v":0},{"$f":"'8'!E77","v":0},{"$f":"'8'!F77","v":0}]
[null,2173,{"$f":"'8'!C78","v":0},{"$f":"'8'!D78","v":0},{"$f":"'8'!E78","v":0},{"$f":"'8'!F78","v":0}]
[null,2174,{"$f":"'8'!C79","v":0},{"$f":"'8'!D79","v":0},{"$f":"'8'!E79","v":0},{"$f":"'8'!F79","v":0}]
[null,2175,{"$f":"'8'!C80","v":0},{"$f":"'8'!D80","v":0},{"$f":"'8'!E80","v":0},{"$f":"'8'!F80","v":0}]
[null,2176,{"$f":"'8'!C81","v":0},{"$f":"'8'!D81","v":0},{"$f":"'8'!E81","v":0},{"$f":"'8'!F81","v":0}]
[null,2177,{"$f":"'8'!C82","v":0},{"$f":"'8'!D82","v":0},{"$f":"'8'!E82","v":0},{"$f":"'8'!F82","v":0}]
[null,2178,{"$f":"'8'!C83","v":0},{"$f":"'8'!D83","v":0},{"$f":"'8'!E83","v":0},{"$f":"'8'!F83","v":0}]
[null,2179,{"$f":"'8'!C84","v":0},{"$f":"'8'!D84","v":0},{"$f":"'8'!E84","v":0},{"$f":"'8'!F84","v":0}]
[null,2180,{"$f":"'8'!C85","v":0},{"$f":"'8'!D85","v":0},{"$f":"'8'!E85","v":0},{"$f":"'8'!F85","v":0}]
[null,2181,{"$f":"'8'!C86","v":0},{"$f":"'8'!D86","v":0},{"$f":"'8'!E86","v":0},{"$f":"'8'!F86","v":0}]
[null,2182,{"$f":"'8'!C87","v":0},{"$f":"'8'!D87","v":0},{"$f":"'8'!E87","v":0},{"$f":"'8'!F87","v":0}]
[null,2183,{"$f":"'8'!C88","v":0},{"$f":"'8'!D88","v":0},{"$f":"'8'!E88","v":0},{"$f":"'8'!F88","v":0}]
[null,2184,{"$f":"'8'!C89","v":0},{"$f":"'8'!D89","v":0},{"$f":"'8'!E89","v":0},{"$f":"'8'!F89","v":0}]
[null,2185,{"$f":"'8'!C90","v":0},{"$f":"'8'!D90","v":0},{"$f":"'8'!E90","v":0},{"$f":"'8'!F90","v":0}]
[null,2186,{"$f":"'8'!C91","v":0},{"$f":"'8'!D91","v":0},{"$f":"'8'!E91","v":0},{"$f":"'8'!F91","v":0}]
[null,2187,{"$f":"'8'!C92","v":0},{"$f":"'8'!D92","v":0},{"$f":"'8'!E92","v":0},{"$f":"'8'!F92","v":0}]
[null,2188,{"$f":"'8'!C93","v":0},{"$f":"'8'!D93","v":0},{"$f":"'8'!E93","v":0},{"$f":"'8'!F93","v":0}]
[null,2189,{"$f":"'8'!C94","v":0},{"$f":"'8'!D94","v":0},{"$f":"'8'!E94","v":0},{"$f":"'8'!F94","v":0}]
[null,2190,{"$f":"'8'!C95","v":0},{"$f":"'8'!D95","v":0},{"$f":"'8'!E95","v":0},{"$f":"'8'!F95","v":0}]
[null,2191,{"$f":"'8'!C96","v":0},{"$f":"'8'!D96","v":0},{"$f":"'8'!E96","v":0},{"$f":"'8'!F96","v":0}]
[null,2192,{"$f":"'8'!C97","v":0},{"$f":"'8'!D97","v":0},{"$f":"'8'!E97","v":0},{"$f":"'8'!F97","v":0}]
[null,2193,{"$f":"'8'!C98","v":0},{"$f":"'8'!D98","v":0},{"$f":"'8'!E98","v":0},{"$f":"'8'!F98","v":0}]
[null,2194,{"$f":"'8'!C99","v":0},{"$f":"'8'!D99","v":0},{"$f":"'8'!E99","v":0},{"$f":"'8'!F99","v":0}]
[null,2195,{"$f":"'8'!C100","v":0},{"$f":"'8'!D100","v":0},{"$f":"'8'!E100","v":0},{"$f":"'8'!F100","v":0}]
[null,2196,{"$f":"'8'!C101","v":0},{"$f":"'8'!D101","v":0},{"$f":"'8'!E101","v":0},{"$f":"'8'!F101","v":0}]
[null,2197,{"$f":"'8'!C102","v":0},{"$f":"'8'!D102","v":0},{"$f":"'8'!E102","v":0},{"$f":"'8'!F102","v":0}]
[null,2198,{"$f":"'8'!C103","v":0},{"$f":"'8'!D103","v":0},{"$f":"'8'!E103","v":0},{"$f":"'8'!F103","v":0}]
[null,2199,{"$f":"'8'!C104","v":0},{"$f":"'8'!D104","v":0},{"$f":"'8'!E104","v":0},{"$f":"'8'!F104","v":0}]
[null,2200,{"$f":"'8'!C105","v":0},{"$f":"'8'!D105","v":0},{"$f":"'8'!E105","v":0},{"$f":"'8'!F105","v":0}]
[null,2201,{"$f":"'8'!C106","v":0},{"$f":"'8'!D106","v":0},{"$f":"'8'!E106","v":0},{"$f":"'8'!F106","v":0}]
[null,2202,{"$f":"'8'!C107","v":0},{"$f":"'8'!D107","v":0},{"$f":"'8'!E107","v":0},{"$f":"'8'!F107","v":0}]
[null,2203,{"$f":"'8'!C108","v":0},{"$f":"'8'!D108","v":0},{"$f":"'8'!E108","v":0},{"$f":"'8'!F108","v":0}]
[null,2204,{"$f":"'8'!C109","v":0},{"$f":"'8'!D109","v":0},{"$f":"'8'!E109","v":0},{"$f":"'8'!F109","v":0}]
[null,2205,{"$f":"'8'!C110","v":0},{"$f":"'8'!D110","v":0},{"$f":"'8'!E110","v":0},{"$f":"'8'!F110","v":0}]
[null,2206,{"$f":"'8'!C111","v":0},{"$f":"'8'!D111","v":0},{"$f":"'8'!E111","v":0},{"$f":"'8'!F111","v":0}]
[null,2207,{"$f":"'8'!C112","v":0},{"$f":"'8'!D112","v":0},{"$f":"'8'!E112","v":0},{"$f":"'8'!F112","v":0}]
[null,2208,{"$f":"'8'!C113","v":0},{"$f":"'8'!D113","v":0},{"$f":"'8'!E113","v":0},{"$f":"'8'!F113","v":0}]
[null,2209,{"$f":"'8'!C114","v":0},{"$f":"'8'!D114","v":0},{"$f":"'8'!E114","v":0},{"$f":"'8'!F114","v":0}]
[null,2210,{"$f":"'8'!C115","v":0},{"$f":"'8'!D115","v":0},{"$f":"'8'!E115","v":0},{"$f":"'8'!F115","v":0}]
[null,2211,{"$f":"'8'!C116","v":0},{"$f":"'8'!D116","v":0},{"$f":"'8'!E116","v":0},{"$f":"'8'!F116","v":0}]
[null,2212,{"$f":"'8'!C117","v":0},{"$f":"'8'!D117","v":0},{"$f":"'8'!E117","v":0},{"$f":"'8'!F117","v":0}]
[null,2213,{"$f":"'8'!C118","v":0},{"$f":"'8'!D118","v":0},{"$f":"'8'!E118","v":0},{"$f":"'8'!F118","v":0}]
[null,2214,{"$f":"'8'!C119","v":0},{"$f":"'8'!D119","v":0},{"$f":"'8'!E119","v":0},{"$f":"'8'!F119","v":0}]
[null,2215,{"$f":"'8'!C120","v":0},{"$f":"'8'!D120","v":0},{"$f":"'8'!E120","v":0},{"$f":"'8'!F120","v":0}]
[null,2216,{"$f":"'8'!C121","v":0},{"$f":"'8'!D121","v":0},{"$f":"'8'!E121","v":0},{"$f":"'8'!F121","v":0}]
[null,2217,{"$f":"'8'!C122","v":0},{"$f":"'8'!D122","v":0},{"$f":"'8'!E122","v":0},{"$f":"'8'!F122","v":0}]
[null,2218,{"$f":"'8'!C123","v":0},{"$f":"'8'!D123","v":0},{"$f":"'8'!E123","v":0},{"$f":"'8'!F123","v":0}]
[null,2219,{"$f":"'8'!C124","v":0},{"$f":"'8'!D124","v":0},{"$f":"'8'!E124","v":0},{"$f":"'8'!F124","v":0}]
[null,2220,{"$f":"'8'!C125","v":0},{"$f":"'8'!D125","v":0},{"$f":"'8'!E125","v":0},{"$f":"'8'!F125","v":0}]
[null,2221,{"$f":"'8'!C126","v":0},{"$f":"'8'!D126","v":0},{"$f":"'8'!E126","v":0},{"$f":"'8'!F126","v":0}]
[null,2222,{"$f":"'8'!C127","v":0},{"$f":"'8'!D127","v":0},{"$f":"'8'!E127","v":0},{"$f":"'8'!F127","v":0}]
[null,2223,{"$f":"'8'!C128","v":0},{"$f":"'8'!D128","v":0},{"$f":"'8'!E128","v":0},{"$f":"'8'!F128","v":0}]
[null,2224,{"$f":"'8'!C129","v":0},{"$f":"'8'!D129","v":0},{"$f":"'8'!E129","v":0},{"$f":"'8'!F129","v":0}]
[null,2225,{"$f":"'8'!C130","v":0},{"$f":"'8'!D130","v":0},{"$f":"'8'!E130","v":0},{"$f":"'8'!F130","v":0}]
[null,2226,{"$f":"'8'!C131","v":0},{"$f":"'8'!D131","v":0},{"$f":"'8'!E131","v":0},{"$f":"'8'!F131","v":0}]
[null,2227,{"$f":"'8'!C132","v":0},{"$f":"'8'!D132","v":0},{"$f":"'8'!E132","v":0},{"$f":"'8'!F132","v":0}]
[null,2228,{"$f":"'8'!C133","v":0},{"$f":"'8'!D133","v":0},{"$f":"'8'!E133","v":0},{"$f":"'8'!F133","v":0}]
[null,2229,{"$f":"'8'!C134","v":0},{"$f":"'8'!D134","v":0},{"$f":"'8'!E134","v":0},{"$f":"'8'!F134","v":0}]
[null,2230,{"$f":"'8'!C135","v":0},{"$f":"'8'!D135","v":0},{"$f":"'8'!E135","v":0},{"$f":"'8'!F135","v":0}]
[null,2231,{"$f":"'8'!C136","v":0},{"$f":"'8'!D136","v":0},{"$f":"'8'!E136","v":0},{"$f":"'8'!F136","v":0}]
[null,2232,{"$f":"'8'!C137","v":0},{"$f":"'8'!D137","v":0},{"$f":"'8'!E137","v":0},{"$f":"'8'!F137","v":0}]
[null,2233,{"$f":"'8'!C138","v":0},{"$f":"'8'!D138","v":0},{"$f":"'8'!E138","v":0},{"$f":"'8'!F138","v":0}]
[null,2234,{"$f":"'8'!C139","v":0},{"$f":"'8'!D139","v":0},{"$f":"'8'!E139","v":0},{"$f":"'8'!F139","v":0}]
[null,2235,{"$f":"'8'!C140","v":0},{"$f":"'8'!D140","v":0},{"$f":"'8'!E140","v":0},{"$f":"'8'!F140","v":0}]
[null,2236,{"$f":"'8'!C141","v":0},{"$f":"'8'!D141","v":0},{"$f":"'8'!E141","v":0},{"$f":"'8'!F141","v":0}]
[null,2237,{"$f":"'8'!C142","v":0},{"$f":"'8'!D142","v":0},{"$f":"'8'!E142","v":0},{"$f":"'8'!F142","v":0}]
[null,2238,{"$f":"'8'!C143","v":0},{"$f":"'8'!D143","v":0},{"$f":"'8'!E143","v":0},{"$f":"'8'!F143","v":0}]
[null,2239,{"$f":"'8'!C144","v":0},{"$f":"'8'!D144","v":0},{"$f":"'8'!E144","v":0},{"$f":"'8'!F144","v":0}]
[null,2240,{"$f":"'8'!C145","v":0},{"$f":"'8'!D145","v":0},{"$f":"'8'!E145","v":0},{"$f":"'8'!F145","v":0}]
[null,2241,{"$f":"'8'!C146","v":0},{"$f":"'8'!D146","v":0},{"$f":"'8'!E146","v":0},{"$f":"'8'!F146","v":0}]
[null,2242,{"$f":"'8'!C147","v":0},{"$f":"'8'!D147","v":0},{"$f":"'8'!E147","v":0},{"$f":"'8'!F147","v":0}]
[null,2243,{"$f":"'8'!C148","v":0},{"$f":"'8'!D148","v":0},{"$f":"'8'!E148","v":0},{"$f":"'8'!F148","v":0}]
[null,2244,{"$f":"'8'!C149","v":0},{"$f":"'8'!D149","v":0},{"$f":"'8'!E149","v":0},{"$f":"'8'!F149","v":0}]
[null,2245,{"$f":"'8'!C150","v":0},{"$f":"'8'!D150","v":0},{"$f":"'8'!E150","v":0},{"$f":"'8'!F150","v":0}]
[null,2246,{"$f":"'8'!C151","v":0},{"$f":"'8'!D151","v":0},{"$f":"'8'!E151","v":0},{"$f":"'8'!F151","v":0}]
[null,2247,{"$f":"'8'!C152","v":0},{"$f":"'8'!D152","v":0},{"$f":"'8'!E152","v":0},{"$f":"'8'!F152","v":0}]
[null,2248,{"$f":"'8'!C153","v":0},{"$f":"'8'!D153","v":0},{"$f":"'8'!E153","v":0},{"$f":"'8'!F153","v":0}]
[null,2249,{"$f":"'8'!C154","v":0},{"$f":"'8'!D154","v":0},{"$f":"'8'!E154","v":0},{"$f":"'8'!F154","v":0}]
[null,2250,{"$f":"'8'!C155","v":0},{"$f":"'8'!D155","v":0},{"$f":"'8'!E155","v":0},{"$f":"'8'!F155","v":0}]
[null,2251,{"$f":"'8'!C156","v":0},{"$f":"'8'!D156","v":0},{"$f":"'8'!E156","v":0},{"$f":"'8'!F156","v":0}]
[null,2252,{"$f":"'8'!C157","v":0},{"$f":"'8'!D157","v":0},{"$f":"'8'!E157","v":0},{"$f":"'8'!F157","v":0}]
[null,2253,{"$f":"'8'!C158","v":0},{"$f":"'8'!D158","v":0},{"$f":"'8'!E158","v":0},{"$f":"'8'!F158","v":0}]
[null,2254,{"$f":"'8'!C159","v":0},{"$f":"'8'!D159","v":0},{"$f":"'8'!E159","v":0},{"$f":"'8'!F159","v":0}]
[null,2255,{"$f":"'8'!C160","v":0},{"$f":"'8'!D160","v":0},{"$f":"'8'!E160","v":0},{"$f":"'8'!F160","v":0}]
[null,2256,{"$f":"'8'!C161","v":0},{"$f":"'8'!D161","v":0},{"$f":"'8'!E161","v":0},{"$f":"'8'!F161","v":0}]
[null,2257,{"$f":"'8'!C162","v":0},{"$f":"'8'!D162","v":0},{"$f":"'8'!E162","v":0},{"$f":"'8'!F162","v":0}]
[null,2258,{"$f":"'8'!C163","v":0},{"$f":"'8'!D163","v":0},{"$f":"'8'!E163","v":0},{"$f":"'8'!F163","v":0}]
[null,2259,{"$f":"'8'!C164","v":0},{"$f":"'8'!D164","v":0},{"$f":"'8'!E164","v":0},{"$f":"'8'!F164","v":0}]
[null,2260,{"$f":"'8'!C165","v":0},{"$f":"'8'!D165","v":0},{"$f":"'8'!E165","v":0},{"$f":"'8'!F165","v":0}]
[null,2261,{"$f":"'8'!C166","v":0},{"$f":"'8'!D166","v":0},{"$f":"'8'!E166","v":0},{"$f":"'8'!F166","v":0}]
[null,2262,{"$f":"'8'!C167","v":0},{"$f":"'8'!D167","v":0},{"$f":"'8'!E167","v":0},{"$f":"'8'!F167","v":0}]
[null,2263,{"$f":"'8'!C168","v":0},{"$f":"'8'!D168","v":0},{"$f":"'8'!E168","v":0},{"$f":"'8'!F168","v":0}]
[null,2264,{"$f":"'8'!C169","v":0},{"$f":"'8'!D169","v":0},{"$f":"'8'!E169","v":0},{"$f":"'8'!F169","v":0}]
[null,2265,{"$f":"'8'!C170","v":0},{"$f":"'8'!D170","v":0},{"$f":"'8'!E170","v":0},{"$f":"'8'!F170","v":0}]
[null,2266,{"$f":"'8'!C171","v":0},{"$f":"'8'!D171","v":0},{"$f":"'8'!E171","v":0},{"$f":"'8'!F171","v":0}]
[null,2267,{"$f":"'8'!C172","v":0},{"$f":"'8'!D172","v":0},{"$f":"'8'!E172","v":0},{"$f":"'8'!F172","v":0}]
[null,2268,{"$f":"'8'!C173","v":0},{"$f":"'8'!D173","v":0},{"$f":"'8'!E173","v":0},{"$f":"'8'!F173","v":0}]
[null,2269,{"$f":"'8'!C174","v":0},{"$f":"'8'!D174","v":0},{"$f":"'8'!E174","v":0},{"$f":"'8'!F174","v":0}]
[null,2270,{"$f":"'8'!C175","v":0},{"$f":"'8'!D175","v":0},{"$f":"'8'!E175","v":0},{"$f":"'8'!F175","v":0}]
[null,2271,{"$f":"'8'!C176","v":0},{"$f":"'8'!D176","v":0},{"$f":"'8'!E176","v":0},{"$f":"'8'!F176","v":0}]
[null,2272,{"$f":"'8'!C177","v":0},{"$f":"'8'!D177","v":0},{"$f":"'8'!E177","v":0},{"$f":"'8'!F177","v":0}]
[null,2273,{"$f":"'8'!C178","v":0},{"$f":"'8'!D178","v":0},{"$f":"'8'!E178","v":0},{"$f":"'8'!F178","v":0}]
[null,2274,{"$f":"'8'!C179","v":0},{"$f":"'8'!D179","v":0},{"$f":"'8'!E179","v":0},{"$f":"'8'!F179","v":0}]
[null,2275,{"$f":"'8'!C180","v":0},{"$f":"'8'!D180","v":0},{"$f":"'8'!E180","v":0},{"$f":"'8'!F180","v":0}]
[null,2276,{"$f":"'8'!C181","v":0},{"$f":"'8'!D181","v":0},{"$f":"'8'!E181","v":0},{"$f":"'8'!F181","v":0}]
[null,2277,{"$f":"'8'!C182","v":0},{"$f":"'8'!D182","v":0},{"$f":"'8'!E182","v":0},{"$f":"'8'!F182","v":0}]
[null,2278,{"$f":"'8'!C183","v":0},{"$f":"'8'!D183","v":0},{"$f":"'8'!E183","v":0},{"$f":"'8'!F183","v":0}]
[null,2279,{"$f":"'8'!C184","v":0},{"$f":"'8'!D184","v":0},{"$f":"'8'!E184","v":0},{"$f":"'8'!F184","v":0}]
[null,2280,{"$f":"'8'!C185","v":0},{"$f":"'8'!D185","v":0},{"$f":"'8'!E185","v":0},{"$f":"'8'!F185","v":0}]
[null,2281,{"$f":"'8'!C186","v":0},{"$f":"'8'!D186","v":0},{"$f":"'8'!E186","v":0},{"$f":"'8'!F186","v":0}]
[null,2282,{"$f":"'8'!C187","v":0},{"$f":"'8'!D187","v":0},{"$f":"'8'!E187","v":0},{"$f":"'8'!F187","v":0}]
[null,2283,{"$f":"'8'!C188","v":0},{"$f":"'8'!D188","v":0},{"$f":"'8'!E188","v":0},{"$f":"'8'!F188","v":0}]
[null,2284,{"$f":"'8'!C189","v":0},{"$f":"'8'!D189","v":0},{"$f":"'8'!E189","v":0},{"$f":"'8'!F189","v":0}]
[null,2285,{"$f":"'8'!C190","v":0},{"$f":"'8'!D190","v":0},{"$f":"'8'!E190","v":0},{"$f":"'8'!F190","v":0}]
[null,2286,{"$f":"'8'!C191","v":0},{"$f":"'8'!D191","v":0},{"$f":"'8'!E191","v":0},{"$f":"'8'!F191","v":0}]
[null,2287,{"$f":"'8'!C192","v":0},{"$f":"'8'!D192","v":0},{"$f":"'8'!E192","v":0},{"$f":"'8'!F192","v":0}]
[null,2288,{"$f":"'8'!C193","v":0},{"$f":"'8'!D193","v":0},{"$f":"'8'!E193","v":0},{"$f":"'8'!F193","v":0}]
[null,2289,{"$f":"'8'!C194","v":0},{"$f":"'8'!D194","v":0},{"$f":"'8'!E194","v":0},{"$f":"'8'!F194","v":0}]
[null,2290,{"$f":"'8'!C195","v":0},{"$f":"'8'!D195","v":0},{"$f":"'8'!E195","v":0},{"$f":"'8'!F195","v":0}]
[null,2291,{"$f":"'8'!C196","v":0},{"$f":"'8'!D196","v":0},{"$f":"'8'!E196","v":0},{"$f":"'8'!F196","v":0}]
[null,2292,{"$f":"'8'!C197","v":0},{"$f":"'8'!D197","v":0},{"$f":"'8'!E197","v":0},{"$f":"'8'!F197","v":0}]
[null,2293,{"$f":"'8'!C198","v":0},{"$f":"'8'!D198","v":0},{"$f":"'8'!E198","v":0},{"$f":"'8'!F198","v":0}]
[null,2294,{"$f":"'8'!C199","v":0},{"$f":"'8'!D199","v":0},{"$f":"'8'!E199","v":0},{"$f":"'8'!F199","v":0}]
[null,2295,{"$f":"'8'!C200","v":0},{"$f":"'8'!D200","v":0},{"$f":"'8'!E200","v":0},{"$f":"'8'!F200","v":0}]
[null,2296,{"$f":"'8'!C201","v":0},{"$f":"'8'!D201","v":0},{"$f":"'8'!E201","v":0},{"$f":"'8'!F201","v":0}]
[null,2297,{"$f":"'8'!C202","v":0},{"$f":"'8'!D202","v":0},{"$f":"'8'!E202","v":0},{"$f":"'8'!F202","v":0}]
[null,2298,{"$f":"'8'!C203","v":0},{"$f":"'8'!D203","v":0},{"$f":"'8'!E203","v":0},{"$f":"'8'!F203","v":0}]
[null,2299,{"$f":"'8'!C204","v":0},{"$f":"'8'!D204","v":0},{"$f":"'8'!E204","v":0},{"$f":"'8'!F204","v":0}]
[null,2300,{"$f":"'8'!C205","v":0},{"$f":"'8'!D205","v":0},{"$f":"'8'!E205","v":0},{"$f":"'8'!F205","v":0}]
[null,2301,{"$f":"'8'!C206","v":0},{"$f":"'8'!D206","v":0},{"$f":"'8'!E206","v":0},{"$f":"'8'!F206","v":0}]
[null,2302,{"$f":"'8'!C207","v":0},{"$f":"'8'!D207","v":0},{"$f":"'8'!E207","v":0},{"$f":"'8'!F207","v":0}]
[null,2303,{"$f":"'8'!C208","v":0},{"$f":"'8'!D208","v":0},{"$f":"'8'!E208","v":0},{"$f":"'8'!F208","v":0}]
[null,2304,{"$f":"'8'!C209","v":0},{"$f":"'8'!D209","v":0},{"$f":"'8'!E209","v":0},{"$f":"'8'!F209","v":0}]
[null,2305,{"$f":"'8'!C210","v":0},{"$f":"'8'!D210","v":0},{"$f":"'8'!E210","v":0},{"$f":"'8'!F210","v":0}]
[null,2306,{"$f":"'8'!C211","v":0},{"$f":"'8'!D211","v":0},{"$f":"'8'!E211","v":0},{"$f":"'8'!F211","v":0}]
[null,2307,{"$f":"'8'!C212","v":0},{"$f":"'8'!D212","v":0},{"$f":"'8'!E212","v":0},{"$f":"'8'!F212","v":0}]
[null,2308,{"$f":"'8'!C213","v":0},{"$f":"'8'!D213","v":0},{"$f":"'8'!E213","v":0},{"$f":"'8'!F213","v":0}]
[null,2309,{"$f":"'8'!C214","v":0},{"$f":"'8'!D214","v":0},{"$f":"'8'!E214","v":0},{"$f":"'8'!F214","v":0}]
[null,2310,{"$f":"'8'!C215","v":0},{"$f":"'8'!D215","v":0},{"$f":"'8'!E215","v":0},{"$f":"'8'!F215","v":0}]
[null,2311,{"$f":"'8'!C216","v":0},{"$f":"'8'!D216","v":0},{"$f":"'8'!E216","v":0},{"$f":"'8'!F216","v":0}]
[null,2312,{"$f":"'8'!C217","v":0},{"$f":"'8'!D217","v":0},{"$f":"'8'!E217","v":0},{"$f":"'8'!F217","v":0}]
[null,2313,{"$f":"'8'!C218","v":0},{"$f":"'8'!D218","v":0},{"$f":"'8'!E218","v":0},{"$f":"'8'!F218","v":0}]
[null,2314,{"$f":"'8'!C219","v":0},{"$f":"'8'!D219","v":0},{"$f":"'8'!E219","v":0},{"$f":"'8'!F219","v":0}]
[null,2315,{"$f":"'8'!C220","v":0},{"$f":"'8'!D220","v":0},{"$f":"'8'!E220","v":0},{"$f":"'8'!F220","v":0}]
[null,2316,{"$f":"'8'!C221","v":0},{"$f":"'8'!D221","v":0},{"$f":"'8'!E221","v":0},{"$f":"'8'!F221","v":0}]
[null,2317,{"$f":"'8'!C222","v":0},{"$f":"'8'!D222","v":0},{"$f":"'8'!E222","v":0},{"$f":"'8'!F222","v":0}]
[null,2318,{"$f":"'8'!C223","v":0},{"$f":"'8'!D223","v":0},{"$f":"'8'!E223","v":0},{"$f":"'8'!F223","v":0}]
[null,2319,{"$f":"'8'!C224","v":0},{"$f":"'8'!D224","v":0},{"$f":"'8'!E224","v":0},{"$f":"'8'!F224","v":0}]
[null,2320,{"$f":"'8'!C225","v":0},{"$f":"'8'!D225","v":0},{"$f":"'8'!E225","v":0},{"$f":"'8'!F225","v":0}]
[null,2321,{"$f":"'8'!C226","v":0},{"$f":"'8'!D226","v":0},{"$f":"'8'!E226","v":0},{"$f":"'8'!F226","v":0}]
[null,2322,{"$f":"'8'!C227","v":0},{"$f":"'8'!D227","v":0},{"$f":"'8'!E227","v":0},{"$f":"'8'!F227","v":0}]
[null,2323,{"$f":"'8'!C228","v":0},{"$f":"'8'!D228","v":0},{"$f":"'8'!E228","v":0},{"$f":"'8'!F228","v":0}]
[null,2324,{"$f":"'8'!C229","v":0},{"$f":"'8'!D229","v":0},{"$f":"'8'!E229","v":0},{"$f":"'8'!F229","v":0}]
[null,2325,{"$f":"'8'!C230","v":0},{"$f":"'8'!D230","v":0},{"$f":"'8'!E230","v":0},{"$f":"'8'!F230","v":0}]
[null,2326,{"$f":"'8'!C231","v":0},{"$f":"'8'!D231","v":0},{"$f":"'8'!E231","v":0},{"$f":"'8'!F231","v":0}]
[null,2327,{"$f":"'8'!C232","v":0},{"$f":"'8'!D232","v":0},{"$f":"'8'!E232","v":0},{"$f":"'8'!F232","v":0}]
[null,2328,{"$f":"'8'!C233","v":0},{"$f":"'8'!D233","v":0},{"$f":"'8'!E233","v":0},{"$f":"'8'!F233","v":0}]
[null,2329,{"$f":"'8'!C234","v":0},{"$f":"'8'!D234","v":0},{"$f":"'8'!E234","v":0},{"$f":"'8'!F234","v":0}]
[null,2330,{"$f":"'8'!C235","v":0},{"$f":"'8'!D235","v":0},{"$f":"'8'!E235","v":0},{"$f":"'8'!F235","v":0}]
[null,2331,{"$f":"'8'!C236","v":0},{"$f":"'8'!D236","v":0},{"$f":"'8'!E236","v":0},{"$f":"'8'!F236","v":0}]
[null,2332,{"$f":"'8'!C237","v":0},{"$f":"'8'!D237","v":0},{"$f":"'8'!E237","v":0},{"$f":"'8'!F237","v":0}]
[null,2333,{"$f":"'8'!C238","v":0},{"$f":"'8'!D238","v":0},{"$f":"'8'!E238","v":0},{"$f":"'8'!F238","v":0}]
[null,2334,{"$f":"'8'!C239","v":0},{"$f":"'8'!D239","v":0},{"$f":"'8'!E239","v":0},{"$f":"'8'!F239","v":0}]
[null,2335,{"$f":"'8'!C240","v":0},{"$f":"'8'!D240","v":0},{"$f":"'8'!E240","v":0},{"$f":"'8'!F240","v":0}]
[null,2336,{"$f":"'8'!C241","v":0},{"$f":"'8'!D241","v":0},{"$f":"'8'!E241","v":0},{"$f":"'8'!F241","v":0}]
[null,2337,{"$f":"'8'!C242","v":0},{"$f":"'8'!D242","v":0},{"$f":"'8'!E242","v":0},{"$f":"'8'!F242","v":0}]
[null,2338,{"$f":"'8'!C243","v":0},{"$f":"'8'!D243","v":0},{"$f":"'8'!E243","v":0},{"$f":"'8'!F243","v":0}]
[null,2339,{"$f":"'8'!C244","v":0},{"$f":"'8'!D244","v":0},{"$f":"'8'!E244","v":0},{"$f":"'8'!F244","v":0}]
[null,2340,{"$f":"'8'!C245","v":0},{"$f":"'8'!D245","v":0},{"$f":"'8'!E245","v":0},{"$f":"'8'!F245","v":0}]
[null,2341,{"$f":"'8'!C246","v":0},{"$f":"'8'!D246","v":0},{"$f":"'8'!E246","v":0},{"$f":"'8'!F246","v":0}]
[null,2342,{"$f":"'8'!C247","v":0},{"$f":"'8'!D247","v":0},{"$f":"'8'!E247","v":0},{"$f":"'8'!F247","v":0}]
[null,2343,{"$f":"'8'!C248","v":0},{"$f":"'8'!D248","v":0},{"$f":"'8'!E248","v":0},{"$f":"'8'!F248","v":0}]
[null,2344,{"$f":"'8'!C249","v":0},{"$f":"'8'!D249","v":0},{"$f":"'8'!E249","v":0},{"$f":"'8'!F249","v":0}]
[null,2345,{"$f":"'8'!C250","v":0},{"$f":"'8'!D250","v":0},{"$f":"'8'!E250","v":0},{"$f":"'8'!F250","v":0}]
[null,2346,{"$f":"'8'!C251","v":0},{"$f":"'8'!D251","v":0},{"$f":"'8'!E251","v":0},{"$f":"'8'!F251","v":0}]
[null,2347,{"$f":"'8'!C252","v":0},{"$f":"'8'!D252","v":0},{"$f":"'8'!E252","v":0},{"$f":"'8'!F252","v":0}]
[null,2348,{"$f":"'8'!C253","v":0},{"$f":"'8'!D253","v":0},{"$f":"'8'!E253","v":0},{"$f":"'8'!F253","v":0}]
[null,2349,{"$f":"'8'!C254","v":0},{"$f":"'8'!D254","v":0},{"$f":"'8'!E254","v":0},{"$f":"'8'!F254","v":0}]
[null,2350,{"$f":"'8'!C255","v":0},{"$f":"'8'!D255","v":0},{"$f":"'8'!E255","v":0},{"$f":"'8'!F255","v":0}]
[null,2351,{"$f":"'8'!C256","v":0},{"$f":"'8'!D256","v":0},{"$f":"'8'!E256","v":0},{"$f":"'8'!F256","v":0}]
[null,2352,{"$f":"'8'!C257","v":0},{"$f":"'8'!D257","v":0},{"$f":"'8'!E257","v":0},{"$f":"'8'!F257","v":0}]
[null,2353,{"$f":"'8'!C258","v":0},{"$f":"'8'!D258","v":0},{"$f":"'8'!E258","v":0},{"$f":"'8'!F258","v":0}]
[null,2354,{"$f":"'8'!C259","v":0},{"$f":"'8'!D259","v":0},{"$f":"'8'!E259","v":0},{"$f":"'8'!F259","v":0}]
[null,2355,{"$f":"'8'!C260","v":0},{"$f":"'8'!D260","v":0},{"$f":"'8'!E260","v":0},{"$f":"'8'!F260","v":0}]
[null,2356,{"$f":"'8'!C261","v":0},{"$f":"'8'!D261","v":0},{"$f":"'8'!E261","v":0},{"$f":"'8'!F261","v":0}]
[null,2357,{"$f":"'8'!C262","v":0},{"$f":"'8'!D262","v":0},{"$f":"'8'!E262","v":0},{"$f":"'8'!F262","v":0}]
[null,2358,{"$f":"'8'!C263","v":0},{"$f":"'8'!D263","v":0},{"$f":"'8'!E263","v":0},{"$f":"'8'!F263","v":0}]
[null,2359,{"$f":"'8'!C264","v":0},{"$f":"'8'!D264","v":0},{"$f":"'8'!E264","v":0},{"$f":"'8'!F264","v":0}]
[null,2360,{"$f":"'8'!C265","v":0},{"$f":"'8'!D265","v":0},{"$f":"'8'!E265","v":0},{"$f":"'8'!F265","v":0}]
[null,2361,{"$f":"'8'!C266","v":0},{"$f":"'8'!D266","v":0},{"$f":"'8'!E266","v":0},{"$f":"'8'!F266","v":0}]
[null,2362,{"$f":"'8'!C267","v":0},{"$f":"'8'!D267","v":0},{"$f":"'8'!E267","v":0},{"$f":"'8'!F267","v":0}]
[null,2363,{"$f":"'8'!C268","v":0},{"$f":"'8'!D268","v":0},{"$f":"'8'!E268","v":0},{"$f":"'8'!F268","v":0}]
[null,2364,{"$f":"'8'!C269","v":0},{"$f":"'8'!D269","v":0},{"$f":"'8'!E269","v":0},{"$f":"'8'!F269","v":0}]
[null,2365,{"$f":"'8'!C270","v":0},{"$f":"'8'!D270","v":0},{"$f":"'8'!E270","v":0},{"$f":"'8'!F270","v":0}]
[null,2366,{"$f":"'8'!C271","v":0},{"$f":"'8'!D271","v":0},{"$f":"'8'!E271","v":0},{"$f":"'8'!F271","v":0}]
[null,2367,{"$f":"'8'!C272","v":0},{"$f":"'8'!D272","v":0},{"$f":"'8'!E272","v":0},{"$f":"'8'!F272","v":0}]
[null,2368,{"$f":"'8'!C273","v":0},{"$f":"'8'!D273","v":0},{"$f":"'8'!E273","v":0},{"$f":"'8'!F273","v":0}]
[null,2369,{"$f":"'8'!C274","v":0},{"$f":"'8'!D274","v":0},{"$f":"'8'!E274","v":0},{"$f":"'8'!F274","v":0}]
[null,2370,{"$f":"'8'!C275","v":0},{"$f":"'8'!D275","v":0},{"$f":"'8'!E275","v":0},{"$f":"'8'!F275","v":0}]
[null,2371,{"$f":"'8'!C276","v":0},{"$f":"'8'!D276","v":0},{"$f":"'8'!E276","v":0},{"$f":"'8'!F276","v":0}]
[null,2372,{"$f":"'8'!C277","v":0},{"$f":"'8'!D277","v":0},{"$f":"'8'!E277","v":0},{"$f":"'8'!F277","v":0}]
[null,2373,{"$f":"'8'!C278","v":0},{"$f":"'8'!D278","v":0},{"$f":"'8'!E278","v":0},{"$f":"'8'!F278","v":0}]
[null,2374,{"$f":"'8'!C279","v":0},{"$f":"'8'!D279","v":0},{"$f":"'8'!E279","v":0},{"$f":"'8'!F279","v":0}]
[null,2375,{"$f":"'8'!C280","v":0},{"$f":"'8'!D280","v":0},{"$f":"'8'!E280","v":0},{"$f":"'8'!F280","v":0}]
[null,2376,{"$f":"'8'!C281","v":0},{"$f":"'8'!D281","v":0},{"$f":"'8'!E281","v":0},{"$f":"'8'!F281","v":0}]
[null,2377,{"$f":"'8'!C282","v":0},{"$f":"'8'!D282","v":0},{"$f":"'8'!E282","v":0},{"$f":"'8'!F282","v":0}]
[null,2378,{"$f":"'8'!C283","v":0},{"$f":"'8'!D283","v":0},{"$f":"'8'!E283","v":0},{"$f":"'8'!F283","v":0}]
[null,2379,{"$f":"'8'!C284","v":0},{"$f":"'8'!D284","v":0},{"$f":"'8'!E284","v":0},{"$f":"'8'!F284","v":0}]
[null,2380,{"$f":"'8'!C285","v":0},{"$f":"'8'!D285","v":0},{"$f":"'8'!E285","v":0},{"$f":"'8'!F285","v":0}]
[null,2381,{"$f":"'8'!C286","v":0},{"$f":"'8'!D286","v":0},{"$f":"'8'!E286","v":0},{"$f":"'8'!F286","v":0}]
[null,2382,{"$f":"'8'!C287","v":0},{"$f":"'8'!D287","v":0},{"$f":"'8'!E287","v":0},{"$f":"'8'!F287","v":0}]
[null,2383,{"$f":"'8'!C288","v":0},{"$f":"'8'!D288","v":0},{"$f":"'8'!E288","v":0},{"$f":"'8'!F288","v":0}]
[null,2384,{"$f":"'8'!C289","v":0},{"$f":"'8'!D289","v":0},{"$f":"'8'!E289","v":0},{"$f":"'8'!F289","v":0}]
[null,2385,{"$f":"'8'!C290","v":0},{"$f":"'8'!D290","v":0},{"$f":"'8'!E290","v":0},{"$f":"'8'!F290","v":0}]
[null,2386,{"$f":"'8'!C291","v":0},{"$f":"'8'!D291","v":0},{"$f":"'8'!E291","v":0},{"$f":"'8'!F291","v":0}]
[null,2387,{"$f":"'8'!C292","v":0},{"$f":"'8'!D292","v":0},{"$f":"'8'!E292","v":0},{"$f":"'8'!F292","v":0}]
[null,2388,{"$f":"'8'!C293","v":0},{"$f":"'8'!D293","v":0},{"$f":"'8'!E293","v":0},{"$f":"'8'!F293","v":0}]
[null,2389,{"$f":"'8'!C294","v":0},{"$f":"'8'!D294","v":0},{"$f":"'8'!E294","v":0},{"$f":"'8'!F294","v":0}]
[null,2390,{"$f":"'8'!C295","v":0},{"$f":"'8'!D295","v":0},{"$f":"'8'!E295","v":0},{"$f":"'8'!F295","v":0}]
[null,2391,{"$f":"'8'!C296","v":0},{"$f":"'8'!D296","v":0},{"$f":"'8'!E296","v":0},{"$f":"'8'!F296","v":0}]
[null,2392,{"$f":"'8'!C297","v":0},{"$f":"'8'!D297","v":0},{"$f":"'8'!E297","v":0},{"$f":"'8'!F297","v":0}]
[null,2393,{"$f":"'8'!C298","v":0},{"$f":"'8'!D298","v":0},{"$f":"'8'!E298","v":0},{"$f":"'8'!F298","v":0}]
[null,2394,{"$f":"'8'!C299","v":0},{"$f":"'8'!D299","v":0},{"$f":"'8'!E299","v":0},{"$f":"'8'!F299","v":0}]
[null,2395,{"$f":"'8'!C300","v":0},{"$f":"'8'!D300","v":0},{"$f":"'8'!E300","v":0},{"$f":"'8'!F300","v":0}]
[null,2396,{"$f":"'8'!C301","v":0},{"$f":"'8'!D301","v":0},{"$f":"'8'!E301","v":0},{"$f":"'8'!F301","v":0}]
[null,2397,{"$f":"'8'!C302","v":0},{"$f":"'8'!D302","v":0},{"$f":"'8'!E302","v":0},{"$f":"'8'!F302","v":0}]
[null,2398,{"$f":"'8'!C303","v":0},{"$f":"'8'!D303","v":0},{"$f":"'8'!E303","v":0},{"$f":"'8'!F303","v":0}]
[null,2399,{"$f":"'8'!C304","v":0},{"$f":"'8'!D304","v":0},{"$f":"'8'!E304","v":0},{"$f":"'8'!F304","v":0}]
[null,2400,{"$f":"'8'!C305","v":0},{"$f":"'8'!D305","v":0},{"$f":"'8'!E305","v":0},{"$f":"'8'!F305","v":0}]
[null,2401,{"$f":"'9'!C6","v":0},{"$f":"'9'!D6","v":0},{"$f":"'9'!E6","v":0},{"$f":"'9'!F6","v":0}]
[null,2402,{"$f":"'9'!C7","v":0},{"$f":"'9'!D7","v":0},{"$f":"'9'!E7","v":0},{"$f":"'9'!F7","v":0}]
[null,2403,{"$f":"'9'!C8","v":0},{"$f":"'9'!D8","v":0},{"$f":"'9'!E8","v":0},{"$f":"'9'!F8","v":0}]
[null,2404,{"$f":"'9'!C9","v":0},{"$f":"'9'!D9","v":0},{"$f":"'9'!E9","v":0},{"$f":"'9'!F9","v":0}]
[null,2405,{"$f":"'9'!C10","v":0},{"$f":"'9'!D10","v":0},{"$f":"'9'!E10","v":0},{"$f":"'9'!F10","v":0}]
[null,2406,{"$f":"'9'!C11","v":0},{"$f":"'9'!D11","v":0},{"$f":"'9'!E11","v":0},{"$f":"'9'!F11","v":0}]
[null,2407,{"$f":"'9'!C12","v":0},{"$f":"'9'!D12","v":0},{"$f":"'9'!E12","v":0},{"$f":"'9'!F12","v":0}]
[null,2408,{"$f":"'9'!C13","v":0},{"$f":"'9'!D13","v":0},{"$f":"'9'!E13","v":0},{"$f":"'9'!F13","v":0}]
[null,2409,{"$f":"'9'!C14","v":0},{"$f":"'9'!D14","v":0},{"$f":"'9'!E14","v":0},{"$f":"'9'!F14","v":0}]
[null,2410,{"$f":"'9'!C15","v":0},{"$f":"'9'!D15","v":0},{"$f":"'9'!E15","v":0},{"$f":"'9'!F15","v":0}]
[null,2411,{"$f":"'9'!C16","v":0},{"$f":"'9'!D16","v":0},{"$f":"'9'!E16","v":0},{"$f":"'9'!F16","v":0}]
[null,2412,{"$f":"'9'!C17","v":0},{"$f":"'9'!D17","v":0},{"$f":"'9'!E17","v":0},{"$f":"'9'!F17","v":0}]
[null,2413,{"$f":"'9'!C18","v":0},{"$f":"'9'!D18","v":0},{"$f":"'9'!E18","v":0},{"$f":"'9'!F18","v":0}]
[null,2414,{"$f":"'9'!C19","v":0},{"$f":"'9'!D19","v":0},{"$f":"'9'!E19","v":0},{"$f":"'9'!F19","v":0}]
[null,2415,{"$f":"'9'!C20","v":0},{"$f":"'9'!D20","v":0},{"$f":"'9'!E20","v":0},{"$f":"'9'!F20","v":0}]
[null,2416,{"$f":"'9'!C21","v":0},{"$f":"'9'!D21","v":0},{"$f":"'9'!E21","v":0},{"$f":"'9'!F21","v":0}]
[null,2417,{"$f":"'9'!C22","v":0},{"$f":"'9'!D22","v":0},{"$f":"'9'!E22","v":0},{"$f":"'9'!F22","v":0}]
[null,2418,{"$f":"'9'!C23","v":0},{"$f":"'9'!D23","v":0},{"$f":"'9'!E23","v":0},{"$f":"'9'!F23","v":0}]
[null,2419,{"$f":"'9'!C24","v":0},{"$f":"'9'!D24","v":0},{"$f":"'9'!E24","v":0},{"$f":"'9'!F24","v":0}]
[null,2420,{"$f":"'9'!C25","v":0},{"$f":"'9'!D25","v":0},{"$f":"'9'!E25","v":0},{"$f":"'9'!F25","v":0}]
[null,2421,{"$f":"'9'!C26","v":0},{"$f":"'9'!D26","v":0},{"$f":"'9'!E26","v":0},{"$f":"'9'!F26","v":0}]
[null,2422,{"$f":"'9'!C27","v":0},{"$f":"'9'!D27","v":0},{"$f":"'9'!E27","v":0},{"$f":"'9'!F27","v":0}]
[null,2423,{"$f":"'9'!C28","v":0},{"$f":"'9'!D28","v":0},{"$f":"'9'!E28","v":0},{"$f":"'9'!F28","v":0}]
[null,2424,{"$f":"'9'!C29","v":0},{"$f":"'9'!D29","v":0},{"$f":"'9'!E29","v":0},{"$f":"'9'!F29","v":0}]
[null,2425,{"$f":"'9'!C30","v":0},{"$f":"'9'!D30","v":0},{"$f":"'9'!E30","v":0},{"$f":"'9'!F30","v":0}]
[null,2426,{"$f":"'9'!C31","v":0},{"$f":"'9'!D31","v":0},{"$f":"'9'!E31","v":0},{"$f":"'9'!F31","v":0}]
[null,2427,{"$f":"'9'!C32","v":0},{"$f":"'9'!D32","v":0},{"$f":"'9'!E32","v":0},{"$f":"'9'!F32","v":0}]
[null,2428,{"$f":"'9'!C33","v":0},{"$f":"'9'!D33","v":0},{"$f":"'9'!E33","v":0},{"$f":"'9'!F33","v":0}]
[null,2429,{"$f":"'9'!C34","v":0},{"$f":"'9'!D34","v":0},{"$f":"'9'!E34","v":0},{"$f":"'9'!F34","v":0}]
[null,2430,{"$f":"'9'!C35","v":0},{"$f":"'9'!D35","v":0},{"$f":"'9'!E35","v":0},{"$f":"'9'!F35","v":0}]
[null,2431,{"$f":"'9'!C36","v":0},{"$f":"'9'!D36","v":0},{"$f":"'9'!E36","v":0},{"$f":"'9'!F36","v":0}]
[null,2432,{"$f":"'9'!C37","v":0},{"$f":"'9'!D37","v":0},{"$f":"'9'!E37","v":0},{"$f":"'9'!F37","v":0}]
[null,2433,{"$f":"'9'!C38","v":0},{"$f":"'9'!D38","v":0},{"$f":"'9'!E38","v":0},{"$f":"'9'!F38","v":0}]
[null,2434,{"$f":"'9'!C39","v":0},{"$f":"'9'!D39","v":0},{"$f":"'9'!E39","v":0},{"$f":"'9'!F39","v":0}]
[null,2435,{"$f":"'9'!C40","v":0},{"$f":"'9'!D40","v":0},{"$f":"'9'!E40","v":0},{"$f":"'9'!F40","v":0}]
[null,2436,{"$f":"'9'!C41","v":0},{"$f":"'9'!D41","v":0},{"$f":"'9'!E41","v":0},{"$f":"'9'!F41","v":0}]
[null,2437,{"$f":"'9'!C42","v":0},{"$f":"'9'!D42","v":0},{"$f":"'9'!E42","v":0},{"$f":"'9'!F42","v":0}]
[null,2438,{"$f":"'9'!C43","v":0},{"$f":"'9'!D43","v":0},{"$f":"'9'!E43","v":0},{"$f":"'9'!F43","v":0}]
[null,2439,{"$f":"'9'!C44","v":0},{"$f":"'9'!D44","v":0},{"$f":"'9'!E44","v":0},{"$f":"'9'!F44","v":0}]
[null,2440,{"$f":"'9'!C45","v":0},{"$f":"'9'!D45","v":0},{"$f":"'9'!E45","v":0},{"$f":"'9'!F45","v":0}]
[null,2441,{"$f":"'9'!C46","v":0},{"$f":"'9'!D46","v":0},{"$f":"'9'!E46","v":0},{"$f":"'9'!F46","v":0}]
[null,2442,{"$f":"'9'!C47","v":0},{"$f":"'9'!D47","v":0},{"$f":"'9'!E47","v":0},{"$f":"'9'!F47","v":0}]
[null,2443,{"$f":"'9'!C48","v":0},{"$f":"'9'!D48","v":0},{"$f":"'9'!E48","v":0},{"$f":"'9'!F48","v":0}]
[null,2444,{"$f":"'9'!C49","v":0},{"$f":"'9'!D49","v":0},{"$f":"'9'!E49","v":0},{"$f":"'9'!F49","v":0}]
[null,2445,{"$f":"'9'!C50","v":0},{"$f":"'9'!D50","v":0},{"$f":"'9'!E50","v":0},{"$f":"'9'!F50","v":0}]
[null,2446,{"$f":"'9'!C51","v":0},{"$f":"'9'!D51","v":0},{"$f":"'9'!E51","v":0},{"$f":"'9'!F51","v":0}]
[null,2447,{"$f":"'9'!C52","v":0},{"$f":"'9'!D52","v":0},{"$f":"'9'!E52","v":0},{"$f":"'9'!F52","v":0}]
[null,2448,{"$f":"'9'!C53","v":0},{"$f":"'9'!D53","v":0},{"$f":"'9'!E53","v":0},{"$f":"'9'!F53","v":0}]
[null,2449,{"$f":"'9'!C54","v":0},{"$f":"'9'!D54","v":0},{"$f":"'9'!E54","v":0},{"$f":"'9'!F54","v":0}]
[null,2450,{"$f":"'9'!C55","v":0},{"$f":"'9'!D55","v":0},{"$f":"'9'!E55","v":0},{"$f":"'9'!F55","v":0}]
[null,2451,{"$f":"'9'!C56","v":0},{"$f":"'9'!D56","v":0},{"$f":"'9'!E56","v":0},{"$f":"'9'!F56","v":0}]
[null,2452,{"$f":"'9'!C57","v":0},{"$f":"'9'!D57","v":0},{"$f":"'9'!E57","v":0},{"$f":"'9'!F57","v":0}]
[null,2453,{"$f":"'9'!C58","v":0},{"$f":"'9'!D58","v":0},{"$f":"'9'!E58","v":0},{"$f":"'9'!F58","v":0}]
[null,2454,{"$f":"'9'!C59","v":0},{"$f":"'9'!D59","v":0},{"$f":"'9'!E59","v":0},{"$f":"'9'!F59","v":0}]
[null,2455,{"$f":"'9'!C60","v":0},{"$f":"'9'!D60","v":0},{"$f":"'9'!E60","v":0},{"$f":"'9'!F60","v":0}]
[null,2456,{"$f":"'9'!C61","v":0},{"$f":"'9'!D61","v":0},{"$f":"'9'!E61","v":0},{"$f":"'9'!F61","v":0}]
[null,2457,{"$f":"'9'!C62","v":0},{"$f":"'9'!D62","v":0},{"$f":"'9'!E62","v":0},{"$f":"'9'!F62","v":0}]
[null,2458,{"$f":"'9'!C63","v":0},{"$f":"'9'!D63","v":0},{"$f":"'9'!E63","v":0},{"$f":"'9'!F63","v":0}]
[null,2459,{"$f":"'9'!C64","v":0},{"$f":"'9'!D64","v":0},{"$f":"'9'!E64","v":0},{"$f":"'9'!F64","v":0}]
[null,2460,{"$f":"'9'!C65","v":0},{"$f":"'9'!D65","v":0},{"$f":"'9'!E65","v":0},{"$f":"'9'!F65","v":0}]
[null,2461,{"$f":"'9'!C66","v":0},{"$f":"'9'!D66","v":0},{"$f":"'9'!E66","v":0},{"$f":"'9'!F66","v":0}]
[null,2462,{"$f":"'9'!C67","v":0},{"$f":"'9'!D67","v":0},{"$f":"'9'!E67","v":0},{"$f":"'9'!F67","v":0}]
[null,2463,{"$f":"'9'!C68","v":0},{"$f":"'9'!D68","v":0},{"$f":"'9'!E68","v":0},{"$f":"'9'!F68","v":0}]
[null,2464,{"$f":"'9'!C69","v":0},{"$f":"'9'!D69","v":0},{"$f":"'9'!E69","v":0},{"$f":"'9'!F69","v":0}]
[null,2465,{"$f":"'9'!C70","v":0},{"$f":"'9'!D70","v":0},{"$f":"'9'!E70","v":0},{"$f":"'9'!F70","v":0}]
[null,2466,{"$f":"'9'!C71","v":0},{"$f":"'9'!D71","v":0},{"$f":"'9'!E71","v":0},{"$f":"'9'!F71","v":0}]
[null,2467,{"$f":"'9'!C72","v":0},{"$f":"'9'!D72","v":0},{"$f":"'9'!E72","v":0},{"$f":"'9'!F72","v":0}]
[null,2468,{"$f":"'9'!C73","v":0},{"$f":"'9'!D73","v":0},{"$f":"'9'!E73","v":0},{"$f":"'9'!F73","v":0}]
[null,2469,{"$f":"'9'!C74","v":0},{"$f":"'9'!D74","v":0},{"$f":"'9'!E74","v":0},{"$f":"'9'!F74","v":0}]
[null,2470,{"$f":"'9'!C75","v":0},{"$f":"'9'!D75","v":0},{"$f":"'9'!E75","v":0},{"$f":"'9'!F75","v":0}]
[null,2471,{"$f":"'9'!C76","v":0},{"$f":"'9'!D76","v":0},{"$f":"'9'!E76","v":0},{"$f":"'9'!F76","v":0}]
[null,2472,{"$f":"'9'!C77","v":0},{"$f":"'9'!D77","v":0},{"$f":"'9'!E77","v":0},{"$f":"'9'!F77","v":0}]
[null,2473,{"$f":"'9'!C78","v":0},{"$f":"'9'!D78","v":0},{"$f":"'9'!E78","v":0},{"$f":"'9'!F78","v":0}]
[null,2474,{"$f":"'9'!C79","v":0},{"$f":"'9'!D79","v":0},{"$f":"'9'!E79","v":0},{"$f":"'9'!F79","v":0}]
[null,2475,{"$f":"'9'!C80","v":0},{"$f":"'9'!D80","v":0},{"$f":"'9'!E80","v":0},{"$f":"'9'!F80","v":0}]
[null,2476,{"$f":"'9'!C81","v":0},{"$f":"'9'!D81","v":0},{"$f":"'9'!E81","v":0},{"$f":"'9'!F81","v":0}]
[null,2477,{"$f":"'9'!C82","v":0},{"$f":"'9'!D82","v":0},{"$f":"'9'!E82","v":0},{"$f":"'9'!F82","v":0}]
[null,2478,{"$f":"'9'!C83","v":0},{"$f":"'9'!D83","v":0},{"$f":"'9'!E83","v":0},{"$f":"'9'!F83","v":0}]
[null,2479,{"$f":"'9'!C84","v":0},{"$f":"'9'!D84","v":0},{"$f":"'9'!E84","v":0},{"$f":"'9'!F84","v":0}]
[null,2480,{"$f":"'9'!C85","v":0},{"$f":"'9'!D85","v":0},{"$f":"'9'!E85","v":0},{"$f":"'9'!F85","v":0}]
[null,2481,{"$f":"'9'!C86","v":0},{"$f":"'9'!D86","v":0},{"$f":"'9'!E86","v":0},{"$f":"'9'!F86","v":0}]
[null,2482,{"$f":"'9'!C87","v":0},{"$f":"'9'!D87","v":0},{"$f":"'9'!E87","v":0},{"$f":"'9'!F87","v":0}]
[null,2483,{"$f":"'9'!C88","v":0},{"$f":"'9'!D88","v":0},{"$f":"'9'!E88","v":0},{"$f":"'9'!F88","v":0}]
[null,2484,{"$f":"'9'!C89","v":0},{"$f":"'9'!D89","v":0},{"$f":"'9'!E89","v":0},{"$f":"'9'!F89","v":0}]
[null,2485,{"$f":"'9'!C90","v":0},{"$f":"'9'!D90","v":0},{"$f":"'9'!E90","v":0},{"$f":"'9'!F90","v":0}]
[null,2486,{"$f":"'9'!C91","v":0},{"$f":"'9'!D91","v":0},{"$f":"'9'!E91","v":0},{"$f":"'9'!F91","v":0}]
[null,2487,{"$f":"'9'!C92","v":0},{"$f":"'9'!D92","v":0},{"$f":"'9'!E92","v":0},{"$f":"'9'!F92","v":0}]
[null,2488,{"$f":"'9'!C93","v":0},{"$f":"'9'!D93","v":0},{"$f":"'9'!E93","v":0},{"$f":"'9'!F93","v":0}]
[null,2489,{"$f":"'9'!C94","v":0},{"$f":"'9'!D94","v":0},{"$f":"'9'!E94","v":0},{"$f":"'9'!F94","v":0}]
[null,2490,{"$f":"'9'!C95","v":0},{"$f":"'9'!D95","v":0},{"$f":"'9'!E95","v":0},{"$f":"'9'!F95","v":0}]
[null,2491,{"$f":"'9'!C96","v":0},{"$f":"'9'!D96","v":0},{"$f":"'9'!E96","v":0},{"$f":"'9'!F96","v":0}]
[null,2492,{"$f":"'9'!C97","v":0},{"$f":"'9'!D97","v":0},{"$f":"'9'!E97","v":0},{"$f":"'9'!F97","v":0}]
[null,2493,{"$f":"'9'!C98","v":0},{"$f":"'9'!D98","v":0},{"$f":"'9'!E98","v":0},{"$f":"'9'!F98","v":0}]
[null,2494,{"$f":"'9'!C99","v":0},{"$f":"'9'!D99","v":0},{"$f":"'9'!E99","v":0},{"$f":"'9'!F99","v":0}]
[null,2495,{"$f":"'9'!C100","v":0},{"$f":"'9'!D100","v":0},{"$f":"'9'!E100","v":0},{"$f":"'9'!F100","v":0}]
[null,2496,{"$f":"'9'!C101","v":0},{"$f":"'9'!D101","v":0},{"$f":"'9'!E101","v":0},{"$f":"'9'!F101","v":0}]
[null,2497,{"$f":"'9'!C102","v":0},{"$f":"'9'!D102","v":0},{"$f":"'9'!E102","v":0},{"$f":"'9'!F102","v":0}]
[null,2498,{"$f":"'9'!C103","v":0},{"$f":"'9'!D103","v":0},{"$f":"'9'!E103","v":0},{"$f":"'9'!F103","v":0}]
[null,2499,{"$f":"'9'!C104","v":0},{"$f":"'9'!D104","v":0},{"$f":"'9'!E104","v":0},{"$f":"'9'!F104","v":0}]
[null,2500,{"$f":"'9'!C105","v":0},{"$f":"'9'!D105","v":0},{"$f":"'9'!E105","v":0},{"$f":"'9'!F105","v":0}]
[null,2501,{"$f":"'9'!C106","v":0},{"$f":"'9'!D106","v":0},{"$f":"'9'!E106","v":0},{"$f":"'9'!F106","v":0}]
[null,2502,{"$f":"'9'!C107","v":0},{"$f":"'9'!D107","v":0},{"$f":"'9'!E107","v":0},{"$f":"'9'!F107","v":0}]
[null,2503,{"$f":"'9'!C108","v":0},{"$f":"'9'!D108","v":0},{"$f":"'9'!E108","v":0},{"$f":"'9'!F108","v":0}]
[null,2504,{"$f":"'9'!C109","v":0},{"$f":"'9'!D109","v":0},{"$f":"'9'!E109","v":0},{"$f":"'9'!F109","v":0}]
[null,2505,{"$f":"'9'!C110","v":0},{"$f":"'9'!D110","v":0},{"$f":"'9'!E110","v":0},{"$f":"'9'!F110","v":0}]
[null,2506,{"$f":"'9'!C111","v":0},{"$f":"'9'!D111","v":0},{"$f":"'9'!E111","v":0},{"$f":"'9'!F111","v":0}]
[null,2507,{"$f":"'9'!C112","v":0},{"$f":"'9'!D112","v":0},{"$f":"'9'!E112","v":0},{"$f":"'9'!F112","v":0}]
[null,2508,{"$f":"'9'!C113","v":0},{"$f":"'9'!D113","v":0},{"$f":"'9'!E113","v":0},{"$f":"'9'!F113","v":0}]
[null,2509,{"$f":"'9'!C114","v":0},{"$f":"'9'!D114","v":0},{"$f":"'9'!E114","v":0},{"$f":"'9'!F114","v":0}]
[null,2510,{"$f":"'9'!C115","v":0},{"$f":"'9'!D115","v":0},{"$f":"'9'!E115","v":0},{"$f":"'9'!F115","v":0}]
[null,2511,{"$f":"'9'!C116","v":0},{"$f":"'9'!D116","v":0},{"$f":"'9'!E116","v":0},{"$f":"'9'!F116","v":0}]
[null,2512,{"$f":"'9'!C117","v":0},{"$f":"'9'!D117","v":0},{"$f":"'9'!E117","v":0},{"$f":"'9'!F117","v":0}]
[null,2513,{"$f":"'9'!C118","v":0},{"$f":"'9'!D118","v":0},{"$f":"'9'!E118","v":0},{"$f":"'9'!F118","v":0}]
[null,2514,{"$f":"'9'!C119","v":0},{"$f":"'9'!D119","v":0},{"$f":"'9'!E119","v":0},{"$f":"'9'!F119","v":0}]
[null,2515,{"$f":"'9'!C120","v":0},{"$f":"'9'!D120","v":0},{"$f":"'9'!E120","v":0},{"$f":"'9'!F120","v":0}]
[null,2516,{"$f":"'9'!C121","v":0},{"$f":"'9'!D121","v":0},{"$f":"'9'!E121","v":0},{"$f":"'9'!F121","v":0}]
[null,2517,{"$f":"'9'!C122","v":0},{"$f":"'9'!D122","v":0},{"$f":"'9'!E122","v":0},{"$f":"'9'!F122","v":0}]
[null,2518,{"$f":"'9'!C123","v":0},{"$f":"'9'!D123","v":0},{"$f":"'9'!E123","v":0},{"$f":"'9'!F123","v":0}]
[null,2519,{"$f":"'9'!C124","v":0},{"$f":"'9'!D124","v":0},{"$f":"'9'!E124","v":0},{"$f":"'9'!F124","v":0}]
[null,2520,{"$f":"'9'!C125","v":0},{"$f":"'9'!D125","v":0},{"$f":"'9'!E125","v":0},{"$f":"'9'!F125","v":0}]
[null,2521,{"$f":"'9'!C126","v":0},{"$f":"'9'!D126","v":0},{"$f":"'9'!E126","v":0},{"$f":"'9'!F126","v":0}]
[null,2522,{"$f":"'9'!C127","v":0},{"$f":"'9'!D127","v":0},{"$f":"'9'!E127","v":0},{"$f":"'9'!F127","v":0}]
[null,2523,{"$f":"'9'!C128","v":0},{"$f":"'9'!D128","v":0},{"$f":"'9'!E128","v":0},{"$f":"'9'!F128","v":0}]
[null,2524,{"$f":"'9'!C129","v":0},{"$f":"'9'!D129","v":0},{"$f":"'9'!E129","v":0},{"$f":"'9'!F129","v":0}]
[null,2525,{"$f":"'9'!C130","v":0},{"$f":"'9'!D130","v":0},{"$f":"'9'!E130","v":0},{"$f":"'9'!F130","v":0}]
[null,2526,{"$f":"'9'!C131","v":0},{"$f":"'9'!D131","v":0},{"$f":"'9'!E131","v":0},{"$f":"'9'!F131","v":0}]
[null,2527,{"$f":"'9'!C132","v":0},{"$f":"'9'!D132","v":0},{"$f":"'9'!E132","v":0},{"$f":"'9'!F132","v":0}]
[null,2528,{"$f":"'9'!C133","v":0},{"$f":"'9'!D133","v":0},{"$f":"'9'!E133","v":0},{"$f":"'9'!F133","v":0}]
[null,2529,{"$f":"'9'!C134","v":0},{"$f":"'9'!D134","v":0},{"$f":"'9'!E134","v":0},{"$f":"'9'!F134","v":0}]
[null,2530,{"$f":"'9'!C135","v":0},{"$f":"'9'!D135","v":0},{"$f":"'9'!E135","v":0},{"$f":"'9'!F135","v":0}]
[null,2531,{"$f":"'9'!C136","v":0},{"$f":"'9'!D136","v":0},{"$f":"'9'!E136","v":0},{"$f":"'9'!F136","v":0}]
[null,2532,{"$f":"'9'!C137","v":0},{"$f":"'9'!D137","v":0},{"$f":"'9'!E137","v":0},{"$f":"'9'!F137","v":0}]
[null,2533,{"$f":"'9'!C138","v":0},{"$f":"'9'!D138","v":0},{"$f":"'9'!E138","v":0},{"$f":"'9'!F138","v":0}]
[null,2534,{"$f":"'9'!C139","v":0},{"$f":"'9'!D139","v":0},{"$f":"'9'!E139","v":0},{"$f":"'9'!F139","v":0}]
[null,2535,{"$f":"'9'!C140","v":0},{"$f":"'9'!D140","v":0},{"$f":"'9'!E140","v":0},{"$f":"'9'!F140","v":0}]
[null,2536,{"$f":"'9'!C141","v":0},{"$f":"'9'!D141","v":0},{"$f":"'9'!E141","v":0},{"$f":"'9'!F141","v":0}]
[null,2537,{"$f":"'9'!C142","v":0},{"$f":"'9'!D142","v":0},{"$f":"'9'!E142","v":0},{"$f":"'9'!F142","v":0}]
[null,2538,{"$f":"'9'!C143","v":0},{"$f":"'9'!D143","v":0},{"$f":"'9'!E143","v":0},{"$f":"'9'!F143","v":0}]
[null,2539,{"$f":"'9'!C144","v":0},{"$f":"'9'!D144","v":0},{"$f":"'9'!E144","v":0},{"$f":"'9'!F144","v":0}]
[null,2540,{"$f":"'9'!C145","v":0},{"$f":"'9'!D145","v":0},{"$f":"'9'!E145","v":0},{"$f":"'9'!F145","v":0}]
[null,2541,{"$f":"'9'!C146","v":0},{"$f":"'9'!D146","v":0},{"$f":"'9'!E146","v":0},{"$f":"'9'!F146","v":0}]
[null,2542,{"$f":"'9'!C147","v":0},{"$f":"'9'!D147","v":0},{"$f":"'9'!E147","v":0},{"$f":"'9'!F147","v":0}]
[null,2543,{"$f":"'9'!C148","v":0},{"$f":"'9'!D148","v":0},{"$f":"'9'!E148","v":0},{"$f":"'9'!F148","v":0}]
[null,2544,{"$f":"'9'!C149","v":0},{"$f":"'9'!D149","v":0},{"$f":"'9'!E149","v":0},{"$f":"'9'!F149","v":0}]
[null,2545,{"$f":"'9'!C150","v":0},{"$f":"'9'!D150","v":0},{"$f":"'9'!E150","v":0},{"$f":"'9'!F150","v":0}]
[null,2546,{"$f":"'9'!C151","v":0},{"$f":"'9'!D151","v":0},{"$f":"'9'!E151","v":0},{"$f":"'9'!F151","v":0}]
[null,2547,{"$f":"'9'!C152","v":0},{"$f":"'9'!D152","v":0},{"$f":"'9'!E152","v":0},{"$f":"'9'!F152","v":0}]
[null,2548,{"$f":"'9'!C153","v":0},{"$f":"'9'!D153","v":0},{"$f":"'9'!E153","v":0},{"$f":"'9'!F153","v":0}]
[null,2549,{"$f":"'9'!C154","v":0},{"$f":"'9'!D154","v":0},{"$f":"'9'!E154","v":0},{"$f":"'9'!F154","v":0}]
[null,2550,{"$f":"'9'!C155","v":0},{"$f":"'9'!D155","v":0},{"$f":"'9'!E155","v":0},{"$f":"'9'!F155","v":0}]
[null,2551,{"$f":"'9'!C156","v":0},{"$f":"'9'!D156","v":0},{"$f":"'9'!E156","v":0},{"$f":"'9'!F156","v":0}]
[null,2552,{"$f":"'9'!C157","v":0},{"$f":"'9'!D157","v":0},{"$f":"'9'!E157","v":0},{"$f":"'9'!F157","v":0}]
[null,2553,{"$f":"'9'!C158","v":0},{"$f":"'9'!D158","v":0},{"$f":"'9'!E158","v":0},{"$f":"'9'!F158","v":0}]
[null,2554,{"$f":"'9'!C159","v":0},{"$f":"'9'!D159","v":0},{"$f":"'9'!E159","v":0},{"$f":"'9'!F159","v":0}]
[null,2555,{"$f":"'9'!C160","v":0},{"$f":"'9'!D160","v":0},{"$f":"'9'!E160","v":0},{"$f":"'9'!F160","v":0}]
[null,2556,{"$f":"'9'!C161","v":0},{"$f":"'9'!D161","v":0},{"$f":"'9'!E161","v":0},{"$f":"'9'!F161","v":0}]
[null,2557,{"$f":"'9'!C162","v":0},{"$f":"'9'!D162","v":0},{"$f":"'9'!E162","v":0},{"$f":"'9'!F162","v":0}]
[null,2558,{"$f":"'9'!C163","v":0},{"$f":"'9'!D163","v":0},{"$f":"'9'!E163","v":0},{"$f":"'9'!F163","v":0}]
[null,2559,{"$f":"'9'!C164","v":0},{"$f":"'9'!D164","v":0},{"$f":"'9'!E164","v":0},{"$f":"'9'!F164","v":0}]
[null,2560,{"$f":"'9'!C165","v":0},{"$f":"'9'!D165","v":0},{"$f":"'9'!E165","v":0},{"$f":"'9'!F165","v":0}]
[null,2561,{"$f":"'9'!C166","v":0},{"$f":"'9'!D166","v":0},{"$f":"'9'!E166","v":0},{"$f":"'9'!F166","v":0}]
[null,2562,{"$f":"'9'!C167","v":0},{"$f":"'9'!D167","v":0},{"$f":"'9'!E167","v":0},{"$f":"'9'!F167","v":0}]
[null,2563,{"$f":"'9'!C168","v":0},{"$f":"'9'!D168","v":0},{"$f":"'9'!E168","v":0},{"$f":"'9'!F168","v":0}]
[null,2564,{"$f":"'9'!C169","v":0},{"$f":"'9'!D169","v":0},{"$f":"'9'!E169","v":0},{"$f":"'9'!F169","v":0}]
[null,2565,{"$f":"'9'!C170","v":0},{"$f":"'9'!D170","v":0},{"$f":"'9'!E170","v":0},{"$f":"'9'!F170","v":0}]
[null,2566,{"$f":"'9'!C171","v":0},{"$f":"'9'!D171","v":0},{"$f":"'9'!E171","v":0},{"$f":"'9'!F171","v":0}]
[null,2567,{"$f":"'9'!C172","v":0},{"$f":"'9'!D172","v":0},{"$f":"'9'!E172","v":0},{"$f":"'9'!F172","v":0}]
[null,2568,{"$f":"'9'!C173","v":0},{"$f":"'9'!D173","v":0},{"$f":"'9'!E173","v":0},{"$f":"'9'!F173","v":0}]
[null,2569,{"$f":"'9'!C174","v":0},{"$f":"'9'!D174","v":0},{"$f":"'9'!E174","v":0},{"$f":"'9'!F174","v":0}]
[null,2570,{"$f":"'9'!C175","v":0},{"$f":"'9'!D175","v":0},{"$f":"'9'!E175","v":0},{"$f":"'9'!F175","v":0}]
[null,2571,{"$f":"'9'!C176","v":0},{"$f":"'9'!D176","v":0},{"$f":"'9'!E176","v":0},{"$f":"'9'!F176","v":0}]
[null,2572,{"$f":"'9'!C177","v":0},{"$f":"'9'!D177","v":0},{"$f":"'9'!E177","v":0},{"$f":"'9'!F177","v":0}]
[null,2573,{"$f":"'9'!C178","v":0},{"$f":"'9'!D178","v":0},{"$f":"'9'!E178","v":0},{"$f":"'9'!F178","v":0}]
[null,2574,{"$f":"'9'!C179","v":0},{"$f":"'9'!D179","v":0},{"$f":"'9'!E179","v":0},{"$f":"'9'!F179","v":0}]
[null,2575,{"$f":"'9'!C180","v":0},{"$f":"'9'!D180","v":0},{"$f":"'9'!E180","v":0},{"$f":"'9'!F180","v":0}]
[null,2576,{"$f":"'9'!C181","v":0},{"$f":"'9'!D181","v":0},{"$f":"'9'!E181","v":0},{"$f":"'9'!F181","v":0}]
[null,2577,{"$f":"'9'!C182","v":0},{"$f":"'9'!D182","v":0},{"$f":"'9'!E182","v":0},{"$f":"'9'!F182","v":0}]
[null,2578,{"$f":"'9'!C183","v":0},{"$f":"'9'!D183","v":0},{"$f":"'9'!E183","v":0},{"$f":"'9'!F183","v":0}]
[null,2579,{"$f":"'9'!C184","v":0},{"$f":"'9'!D184","v":0},{"$f":"'9'!E184","v":0},{"$f":"'9'!F184","v":0}]
[null,2580,{"$f":"'9'!C185","v":0},{"$f":"'9'!D185","v":0},{"$f":"'9'!E185","v":0},{"$f":"'9'!F185","v":0}]
[null,2581,{"$f":"'9'!C186","v":0},{"$f":"'9'!D186","v":0},{"$f":"'9'!E186","v":0},{"$f":"'9'!F186","v":0}]
[null,2582,{"$f":"'9'!C187","v":0},{"$f":"'9'!D187","v":0},{"$f":"'9'!E187","v":0},{"$f":"'9'!F187","v":0}]
[null,2583,{"$f":"'9'!C188","v":0},{"$f":"'9'!D188","v":0},{"$f":"'9'!E188","v":0},{"$f":"'9'!F188","v":0}]
[null,2584,{"$f":"'9'!C189","v":0},{"$f":"'9'!D189","v":0},{"$f":"'9'!E189","v":0},{"$f":"'9'!F189","v":0}]
[null,2585,{"$f":"'9'!C190","v":0},{"$f":"'9'!D190","v":0},{"$f":"'9'!E190","v":0},{"$f":"'9'!F190","v":0}]
[null,2586,{"$f":"'9'!C191","v":0},{"$f":"'9'!D191","v":0},{"$f":"'9'!E191","v":0},{"$f":"'9'!F191","v":0}]
[null,2587,{"$f":"'9'!C192","v":0},{"$f":"'9'!D192","v":0},{"$f":"'9'!E192","v":0},{"$f":"'9'!F192","v":0}]
[null,2588,{"$f":"'9'!C193","v":0},{"$f":"'9'!D193","v":0},{"$f":"'9'!E193","v":0},{"$f":"'9'!F193","v":0}]
[null,2589,{"$f":"'9'!C194","v":0},{"$f":"'9'!D194","v":0},{"$f":"'9'!E194","v":0},{"$f":"'9'!F194","v":0}]
[null,2590,{"$f":"'9'!C195","v":0},{"$f":"'9'!D195","v":0},{"$f":"'9'!E195","v":0},{"$f":"'9'!F195","v":0}]
[null,2591,{"$f":"'9'!C196","v":0},{"$f":"'9'!D196","v":0},{"$f":"'9'!E196","v":0},{"$f":"'9'!F196","v":0}]
[null,2592,{"$f":"'9'!C197","v":0},{"$f":"'9'!D197","v":0},{"$f":"'9'!E197","v":0},{"$f":"'9'!F197","v":0}]
[null,2593,{"$f":"'9'!C198","v":0},{"$f":"'9'!D198","v":0},{"$f":"'9'!E198","v":0},{"$f":"'9'!F198","v":0}]
[null,2594,{"$f":"'9'!C199","v":0},{"$f":"'9'!D199","v":0},{"$f":"'9'!E199","v":0},{"$f":"'9'!F199","v":0}]
[null,2595,{"$f":"'9'!C200","v":0},{"$f":"'9'!D200","v":0},{"$f":"'9'!E200","v":0},{"$f":"'9'!F200","v":0}]
[null,2596,{"$f":"'9'!C201","v":0},{"$f":"'9'!D201","v":0},{"$f":"'9'!E201","v":0},{"$f":"'9'!F201","v":0}]
[null,2597,{"$f":"'9'!C202","v":0},{"$f":"'9'!D202","v":0},{"$f":"'9'!E202","v":0},{"$f":"'9'!F202","v":0}]
[null,2598,{"$f":"'9'!C203","v":0},{"$f":"'9'!D203","v":0},{"$f":"'9'!E203","v":0},{"$f":"'9'!F203","v":0}]
[null,2599,{"$f":"'9'!C204","v":0},{"$f":"'9'!D204","v":0},{"$f":"'9'!E204","v":0},{"$f":"'9'!F204","v":0}]
[null,2600,{"$f":"'9'!C205","v":0},{"$f":"'9'!D205","v":0},{"$f":"'9'!E205","v":0},{"$f":"'9'!F205","v":0}]
[null,2601,{"$f":"'9'!C206","v":0},{"$f":"'9'!D206","v":0},{"$f":"'9'!E206","v":0},{"$f":"'9'!F206","v":0}]
[null,2602,{"$f":"'9'!C207","v":0},{"$f":"'9'!D207","v":0},{"$f":"'9'!E207","v":0},{"$f":"'9'!F207","v":0}]
[null,2603,{"$f":"'9'!C208","v":0},{"$f":"'9'!D208","v":0},{"$f":"'9'!E208","v":0},{"$f":"'9'!F208","v":0}]
[null,2604,{"$f":"'9'!C209","v":0},{"$f":"'9'!D209","v":0},{"$f":"'9'!E209","v":0},{"$f":"'9'!F209","v":0}]
[null,2605,{"$f":"'9'!C210","v":0},{"$f":"'9'!D210","v":0},{"$f":"'9'!E210","v":0},{"$f":"'9'!F210","v":0}]
[null,2606,{"$f":"'9'!C211","v":0},{"$f":"'9'!D211","v":0},{"$f":"'9'!E211","v":0},{"$f":"'9'!F211","v":0}]
[null,2607,{"$f":"'9'!C212","v":0},{"$f":"'9'!D212","v":0},{"$f":"'9'!E212","v":0},{"$f":"'9'!F212","v":0}]
[null,2608,{"$f":"'9'!C213","v":0},{"$f":"'9'!D213","v":0},{"$f":"'9'!E213","v":0},{"$f":"'9'!F213","v":0}]
[null,2609,{"$f":"'9'!C214","v":0},{"$f":"'9'!D214","v":0},{"$f":"'9'!E214","v":0},{"$f":"'9'!F214","v":0}]
[null,2610,{"$f":"'9'!C215","v":0},{"$f":"'9'!D215","v":0},{"$f":"'9'!E215","v":0},{"$f":"'9'!F215","v":0}]
[null,2611,{"$f":"'9'!C216","v":0},{"$f":"'9'!D216","v":0},{"$f":"'9'!E216","v":0},{"$f":"'9'!F216","v":0}]
[null,2612,{"$f":"'9'!C217","v":0},{"$f":"'9'!D217","v":0},{"$f":"'9'!E217","v":0},{"$f":"'9'!F217","v":0}]
[null,2613,{"$f":"'9'!C218","v":0},{"$f":"'9'!D218","v":0},{"$f":"'9'!E218","v":0},{"$f":"'9'!F218","v":0}]
[null,2614,{"$f":"'9'!C219","v":0},{"$f":"'9'!D219","v":0},{"$f":"'9'!E219","v":0},{"$f":"'9'!F219","v":0}]
[null,2615,{"$f":"'9'!C220","v":0},{"$f":"'9'!D220","v":0},{"$f":"'9'!E220","v":0},{"$f":"'9'!F220","v":0}]
[null,2616,{"$f":"'9'!C221","v":0},{"$f":"'9'!D221","v":0},{"$f":"'9'!E221","v":0},{"$f":"'9'!F221","v":0}]
[null,2617,{"$f":"'9'!C222","v":0},{"$f":"'9'!D222","v":0},{"$f":"'9'!E222","v":0},{"$f":"'9'!F222","v":0}]
[null,2618,{"$f":"'9'!C223","v":0},{"$f":"'9'!D223","v":0},{"$f":"'9'!E223","v":0},{"$f":"'9'!F223","v":0}]
[null,2619,{"$f":"'9'!C224","v":0},{"$f":"'9'!D224","v":0},{"$f":"'9'!E224","v":0},{"$f":"'9'!F224","v":0}]
[null,2620,{"$f":"'9'!C225","v":0},{"$f":"'9'!D225","v":0},{"$f":"'9'!E225","v":0},{"$f":"'9'!F225","v":0}]
[null,2621,{"$f":"'9'!C226","v":0},{"$f":"'9'!D226","v":0},{"$f":"'9'!E226","v":0},{"$f":"'9'!F226","v":0}]
[null,2622,{"$f":"'9'!C227","v":0},{"$f":"'9'!D227","v":0},{"$f":"'9'!E227","v":0},{"$f":"'9'!F227","v":0}]
[null,2623,{"$f":"'9'!C228","v":0},{"$f":"'9'!D228","v":0},{"$f":"'9'!E228","v":0},{"$f":"'9'!F228","v":0}]
[null,2624,{"$f":"'9'!C229","v":0},{"$f":"'9'!D229","v":0},{"$f":"'9'!E229","v":0},{"$f":"'9'!F229","v":0}]
[null,2625,{"$f":"'9'!C230","v":0},{"$f":"'9'!D230","v":0},{"$f":"'9'!E230","v":0},{"$f":"'9'!F230","v":0}]
[null,2626,{"$f":"'9'!C231","v":0},{"$f":"'9'!D231","v":0},{"$f":"'9'!E231","v":0},{"$f":"'9'!F231","v":0}]
[null,2627,{"$f":"'9'!C232","v":0},{"$f":"'9'!D232","v":0},{"$f":"'9'!E232","v":0},{"$f":"'9'!F232","v":0}]
[null,2628,{"$f":"'9'!C233","v":0},{"$f":"'9'!D233","v":0},{"$f":"'9'!E233","v":0},{"$f":"'9'!F233","v":0}]
[null,2629,{"$f":"'9'!C234","v":0},{"$f":"'9'!D234","v":0},{"$f":"'9'!E234","v":0},{"$f":"'9'!F234","v":0}]
[null,2630,{"$f":"'9'!C235","v":0},{"$f":"'9'!D235","v":0},{"$f":"'9'!E235","v":0},{"$f":"'9'!F235","v":0}]
[null,2631,{"$f":"'9'!C236","v":0},{"$f":"'9'!D236","v":0},{"$f":"'9'!E236","v":0},{"$f":"'9'!F236","v":0}]
[null,2632,{"$f":"'9'!C237","v":0},{"$f":"'9'!D237","v":0},{"$f":"'9'!E237","v":0},{"$f":"'9'!F237","v":0}]
[null,2633,{"$f":"'9'!C238","v":0},{"$f":"'9'!D238","v":0},{"$f":"'9'!E238","v":0},{"$f":"'9'!F238","v":0}]
[null,2634,{"$f":"'9'!C239","v":0},{"$f":"'9'!D239","v":0},{"$f":"'9'!E239","v":0},{"$f":"'9'!F239","v":0}]
[null,2635,{"$f":"'9'!C240","v":0},{"$f":"'9'!D240","v":0},{"$f":"'9'!E240","v":0},{"$f":"'9'!F240","v":0}]
[null,2636,{"$f":"'9'!C241","v":0},{"$f":"'9'!D241","v":0},{"$f":"'9'!E241","v":0},{"$f":"'9'!F241","v":0}]
[null,2637,{"$f":"'9'!C242","v":0},{"$f":"'9'!D242","v":0},{"$f":"'9'!E242","v":0},{"$f":"'9'!F242","v":0}]
[null,2638,{"$f":"'9'!C243","v":0},{"$f":"'9'!D243","v":0},{"$f":"'9'!E243","v":0},{"$f":"'9'!F243","v":0}]
[null,2639,{"$f":"'9'!C244","v":0},{"$f":"'9'!D244","v":0},{"$f":"'9'!E244","v":0},{"$f":"'9'!F244","v":0}]
[null,2640,{"$f":"'9'!C245","v":0},{"$f":"'9'!D245","v":0},{"$f":"'9'!E245","v":0},{"$f":"'9'!F245","v":0}]
[null,2641,{"$f":"'9'!C246","v":0},{"$f":"'9'!D246","v":0},{"$f":"'9'!E246","v":0},{"$f":"'9'!F246","v":0}]
[null,2642,{"$f":"'9'!C247","v":0},{"$f":"'9'!D247","v":0},{"$f":"'9'!E247","v":0},{"$f":"'9'!F247","v":0}]
[null,2643,{"$f":"'9'!C248","v":0},{"$f":"'9'!D248","v":0},{"$f":"'9'!E248","v":0},{"$f":"'9'!F248","v":0}]
[null,2644,{"$f":"'9'!C249","v":0},{"$f":"'9'!D249","v":0},{"$f":"'9'!E249","v":0},{"$f":"'9'!F249","v":0}]
[null,2645,{"$f":"'9'!C250","v":0},{"$f":"'9'!D250","v":0},{"$f":"'9'!E250","v":0},{"$f":"'9'!F250","v":0}]
[null,2646,{"$f":"'9'!C251","v":0},{"$f":"'9'!D251","v":0},{"$f":"'9'!E251","v":0},{"$f":"'9'!F251","v":0}]
[null,2647,{"$f":"'9'!C252","v":0},{"$f":"'9'!D252","v":0},{"$f":"'9'!E252","v":0},{"$f":"'9'!F252","v":0}]
[null,2648,{"$f":"'9'!C253","v":0},{"$f":"'9'!D253","v":0},{"$f":"'9'!E253","v":0},{"$f":"'9'!F253","v":0}]
[null,2649,{"$f":"'9'!C254","v":0},{"$f":"'9'!D254","v":0},{"$f":"'9'!E254","v":0},{"$f":"'9'!F254","v":0}]
[null,2650,{"$f":"'9'!C255","v":0},{"$f":"'9'!D255","v":0},{"$f":"'9'!E255","v":0},{"$f":"'9'!F255","v":0}]
[null,2651,{"$f":"'9'!C256","v":0},{"$f":"'9'!D256","v":0},{"$f":"'9'!E256","v":0},{"$f":"'9'!F256","v":0}]
[null,2652,{"$f":"'9'!C257","v":0},{"$f":"'9'!D257","v":0},{"$f":"'9'!E257","v":0},{"$f":"'9'!F257","v":0}]
[null,2653,{"$f":"'9'!C258","v":0},{"$f":"'9'!D258","v":0},{"$f":"'9'!E258","v":0},{"$f":"'9'!F258","v":0}]
[null,2654,{"$f":"'9'!C259","v":0},{"$f":"'9'!D259","v":0},{"$f":"'9'!E259","v":0},{"$f":"'9'!F259","v":0}]
[null,2655,{"$f":"'9'!C260","v":0},{"$f":"'9'!D260","v":0},{"$f":"'9'!E260","v":0},{"$f":"'9'!F260","v":0}]
[null,2656,{"$f":"'9'!C261","v":0},{"$f":"'9'!D261","v":0},{"$f":"'9'!E261","v":0},{"$f":"'9'!F261","v":0}]
[null,2657,{"$f":"'9'!C262","v":0},{"$f":"'9'!D262","v":0},{"$f":"'9'!E262","v":0},{"$f":"'9'!F262","v":0}]
[null,2658,{"$f":"'9'!C263","v":0},{"$f":"'9'!D263","v":0},{"$f":"'9'!E263","v":0},{"$f":"'9'!F263","v":0}]
[null,2659,{"$f":"'9'!C264","v":0},{"$f":"'9'!D264","v":0},{"$f":"'9'!E264","v":0},{"$f":"'9'!F264","v":0}]
[null,2660,{"$f":"'9'!C265","v":0},{"$f":"'9'!D265","v":0},{"$f":"'9'!E265","v":0},{"$f":"'9'!F265","v":0}]
[null,2661,{"$f":"'9'!C266","v":0},{"$f":"'9'!D266","v":0},{"$f":"'9'!E266","v":0},{"$f":"'9'!F266","v":0}]
[null,2662,{"$f":"'9'!C267","v":0},{"$f":"'9'!D267","v":0},{"$f":"'9'!E267","v":0},{"$f":"'9'!F267","v":0}]
[null,2663,{"$f":"'9'!C268","v":0},{"$f":"'9'!D268","v":0},{"$f":"'9'!E268","v":0},{"$f":"'9'!F268","v":0}]
[null,2664,{"$f":"'9'!C269","v":0},{"$f":"'9'!D269","v":0},{"$f":"'9'!E269","v":0},{"$f":"'9'!F269","v":0}]
[null,2665,{"$f":"'9'!C270","v":0},{"$f":"'9'!D270","v":0},{"$f":"'9'!E270","v":0},{"$f":"'9'!F270","v":0}]
[null,2666,{"$f":"'9'!C271","v":0},{"$f":"'9'!D271","v":0},{"$f":"'9'!E271","v":0},{"$f":"'9'!F271","v":0}]
[null,2667,{"$f":"'9'!C272","v":0},{"$f":"'9'!D272","v":0},{"$f":"'9'!E272","v":0},{"$f":"'9'!F272","v":0}]
[null,2668,{"$f":"'9'!C273","v":0},{"$f":"'9'!D273","v":0},{"$f":"'9'!E273","v":0},{"$f":"'9'!F273","v":0}]
[null,2669,{"$f":"'9'!C274","v":0},{"$f":"'9'!D274","v":0},{"$f":"'9'!E274","v":0},{"$f":"'9'!F274","v":0}]
[null,2670,{"$f":"'9'!C275","v":0},{"$f":"'9'!D275","v":0},{"$f":"'9'!E275","v":0},{"$f":"'9'!F275","v":0}]
[null,2671,{"$f":"'9'!C276","v":0},{"$f":"'9'!D276","v":0},{"$f":"'9'!E276","v":0},{"$f":"'9'!F276","v":0}]
[null,2672,{"$f":"'9'!C277","v":0},{"$f":"'9'!D277","v":0},{"$f":"'9'!E277","v":0},{"$f":"'9'!F277","v":0}]
[null,2673,{"$f":"'9'!C278","v":0},{"$f":"'9'!D278","v":0},{"$f":"'9'!E278","v":0},{"$f":"'9'!F278","v":0}]
[null,2674,{"$f":"'9'!C279","v":0},{"$f":"'9'!D279","v":0},{"$f":"'9'!E279","v":0},{"$f":"'9'!F279","v":0}]
[null,2675,{"$f":"'9'!C280","v":0},{"$f":"'9'!D280","v":0},{"$f":"'9'!E280","v":0},{"$f":"'9'!F280","v":0}]
[null,2676,{"$f":"'9'!C281","v":0},{"$f":"'9'!D281","v":0},{"$f":"'9'!E281","v":0},{"$f":"'9'!F281","v":0}]
[null,2677,{"$f":"'9'!C282","v":0},{"$f":"'9'!D282","v":0},{"$f":"'9'!E282","v":0},{"$f":"'9'!F282","v":0}]
[null,2678,{"$f":"'9'!C283","v":0},{"$f":"'9'!D283","v":0},{"$f":"'9'!E283","v":0},{"$f":"'9'!F283","v":0}]
[null,2679,{"$f":"'9'!C284","v":0},{"$f":"'9'!D284","v":0},{"$f":"'9'!E284","v":0},{"$f":"'9'!F284","v":0}]
[null,2680,{"$f":"'9'!C285","v":0},{"$f":"'9'!D285","v":0},{"$f":"'9'!E285","v":0},{"$f":"'9'!F285","v":0}]
[null,2681,{"$f":"'9'!C286","v":0},{"$f":"'9'!D286","v":0},{"$f":"'9'!E286","v":0},{"$f":"'9'!F286","v":0}]
[null,2682,{"$f":"'9'!C287","v":0},{"$f":"'9'!D287","v":0},{"$f":"'9'!E287","v":0},{"$f":"'9'!F287","v":0}]
[null,2683,{"$f":"'9'!C288","v":0},{"$f":"'9'!D288","v":0},{"$f":"'9'!E288","v":0},{"$f":"'9'!F288","v":0}]
[null,2684,{"$f":"'9'!C289","v":0},{"$f":"'9'!D289","v":0},{"$f":"'9'!E289","v":0},{"$f":"'9'!F289","v":0}]
[null,2685,{"$f":"'9'!C290","v":0},{"$f":"'9'!D290","v":0},{"$f":"'9'!E290","v":0},{"$f":"'9'!F290","v":0}]
[null,2686,{"$f":"'9'!C291","v":0},{"$f":"'9'!D291","v":0},{"$f":"'9'!E291","v":0},{"$f":"'9'!F291","v":0}]
[null,2687,{"$f":"'9'!C292","v":0},{"$f":"'9'!D292","v":0},{"$f":"'9'!E292","v":0},{"$f":"'9'!F292","v":0}]
[null,2688,{"$f":"'9'!C293","v":0},{"$f":"'9'!D293","v":0},{"$f":"'9'!E293","v":0},{"$f":"'9'!F293","v":0}]
[null,2689,{"$f":"'9'!C294","v":0},{"$f":"'9'!D294","v":0},{"$f":"'9'!E294","v":0},{"$f":"'9'!F294","v":0}]
[null,2690,{"$f":"'9'!C295","v":0},{"$f":"'9'!D295","v":0},{"$f":"'9'!E295","v":0},{"$f":"'9'!F295","v":0}]
[null,2691,{"$f":"'9'!C296","v":0},{"$f":"'9'!D296","v":0},{"$f":"'9'!E296","v":0},{"$f":"'9'!F296","v":0}]
[null,2692,{"$f":"'9'!C297","v":0},{"$f":"'9'!D297","v":0},{"$f":"'9'!E297","v":0},{"$f":"'9'!F297","v":0}]
[null,2693,{"$f":"'9'!C298","v":0},{"$f":"'9'!D298","v":0},{"$f":"'9'!E298","v":0},{"$f":"'9'!F298","v":0}]
[null,2694,{"$f":"'9'!C299","v":0},{"$f":"'9'!D299","v":0},{"$f":"'9'!E299","v":0},{"$f":"'9'!F299","v":0}]
[null,2695,{"$f":"'9'!C300","v":0},{"$f":"'9'!D300","v":0},{"$f":"'9'!E300","v":0},{"$f":"'9'!F300","v":0}]
[null,2696,{"$f":"'9'!C301","v":0},{"$f":"'9'!D301","v":0},{"$f":"'9'!E301","v":0},{"$f":"'9'!F301","v":0}]
[null,2697,{"$f":"'9'!C302","v":0},{"$f":"'9'!D302","v":0},{"$f":"'9'!E302","v":0},{"$f":"'9'!F302","v":0}]
[null,2698,{"$f":"'9'!C303","v":0},{"$f":"'9'!D303","v":0},{"$f":"'9'!E303","v":0},{"$f":"'9'!F303","v":0}]
[null,2699,{"$f":"'9'!C304","v":0},{"$f":"'9'!D304","v":0},{"$f":"'9'!E304","v":0},{"$f":"'9'!F304","v":0}]
[null,2700,{"$f":"'9'!C305","v":0},{"$f":"'9'!D305","v":0},{"$f":"'9'!E305","v":0},{"$f":"'9'!F305","v":0}]
[null,2701,{"$f":"'10'!C6","v":0},{"$f":"'10'!D6","v":0},{"$f":"'10'!E6","v":0},{"$f":"'10'!F6","v":0}]
[null,2702,{"$f":"'10'!C7","v":0},{"$f":"'10'!D7","v":0},{"$f":"'10'!E7","v":0},{"$f":"'10'!F7","v":0}]
[null,2703,{"$f":"'10'!C8","v":0},{"$f":"'10'!D8","v":0},{"$f":"'10'!E8","v":0},{"$f":"'10'!F8","v":0}]
[null,2704,{"$f":"'10'!C9","v":0},{"$f":"'10'!D9","v":0},{"$f":"'10'!E9","v":0},{"$f":"'10'!F9","v":0}]
[null,2705,{"$f":"'10'!C10","v":0},{"$f":"'10'!D10","v":0},{"$f":"'10'!E10","v":0},{"$f":"'10'!F10","v":0}]
[null,2706,{"$f":"'10'!C11","v":0},{"$f":"'10'!D11","v":0},{"$f":"'10'!E11","v":0},{"$f":"'10'!F11","v":0}]
[null,2707,{"$f":"'10'!C12","v":0},{"$f":"'10'!D12","v":0},{"$f":"'10'!E12","v":0},{"$f":"'10'!F12","v":0}]
[null,2708,{"$f":"'10'!C13","v":0},{"$f":"'10'!D13","v":0},{"$f":"'10'!E13","v":0},{"$f":"'10'!F13","v":0}]
[null,2709,{"$f":"'10'!C14","v":0},{"$f":"'10'!D14","v":0},{"$f":"'10'!E14","v":0},{"$f":"'10'!F14","v":0}]
[null,2710,{"$f":"'10'!C15","v":0},{"$f":"'10'!D15","v":0},{"$f":"'10'!E15","v":0},{"$f":"'10'!F15","v":0}]
[null,2711,{"$f":"'10'!C16","v":0},{"$f":"'10'!D16","v":0},{"$f":"'10'!E16","v":0},{"$f":"'10'!F16","v":0}]
[null,2712,{"$f":"'10'!C17","v":0},{"$f":"'10'!D17","v":0},{"$f":"'10'!E17","v":0},{"$f":"'10'!F17","v":0}]
[null,2713,{"$f":"'10'!C18","v":0},{"$f":"'10'!D18","v":0},{"$f":"'10'!E18","v":0},{"$f":"'10'!F18","v":0}]
[null,2714,{"$f":"'10'!C19","v":0},{"$f":"'10'!D19","v":0},{"$f":"'10'!E19","v":0},{"$f":"'10'!F19","v":0}]
[null,2715,{"$f":"'10'!C20","v":0},{"$f":"'10'!D20","v":0},{"$f":"'10'!E20","v":0},{"$f":"'10'!F20","v":0}]
[null,2716,{"$f":"'10'!C21","v":0},{"$f":"'10'!D21","v":0},{"$f":"'10'!E21","v":0},{"$f":"'10'!F21","v":0}]
[null,2717,{"$f":"'10'!C22","v":0},{"$f":"'10'!D22","v":0},{"$f":"'10'!E22","v":0},{"$f":"'10'!F22","v":0}]
[null,2718,{"$f":"'10'!C23","v":0},{"$f":"'10'!D23","v":0},{"$f":"'10'!E23","v":0},{"$f":"'10'!F23","v":0}]
[null,2719,{"$f":"'10'!C24","v":0},{"$f":"'10'!D24","v":0},{"$f":"'10'!E24","v":0},{"$f":"'10'!F24","v":0}]
[null,2720,{"$f":"'10'!C25","v":0},{"$f":"'10'!D25","v":0},{"$f":"'10'!E25","v":0},{"$f":"'10'!F25","v":0}]
[null,2721,{"$f":"'10'!C26","v":0},{"$f":"'10'!D26","v":0},{"$f":"'10'!E26","v":0},{"$f":"'10'!F26","v":0}]
[null,2722,{"$f":"'10'!C27","v":0},{"$f":"'10'!D27","v":0},{"$f":"'10'!E27","v":0},{"$f":"'10'!F27","v":0}]
[null,2723,{"$f":"'10'!C28","v":0},{"$f":"'10'!D28","v":0},{"$f":"'10'!E28","v":0},{"$f":"'10'!F28","v":0}]
[null,2724,{"$f":"'10'!C29","v":0},{"$f":"'10'!D29","v":0},{"$f":"'10'!E29","v":0},{"$f":"'10'!F29","v":0}]
[null,2725,{"$f":"'10'!C30","v":0},{"$f":"'10'!D30","v":0},{"$f":"'10'!E30","v":0},{"$f":"'10'!F30","v":0}]
[null,2726,{"$f":"'10'!C31","v":0},{"$f":"'10'!D31","v":0},{"$f":"'10'!E31","v":0},{"$f":"'10'!F31","v":0}]
[null,2727,{"$f":"'10'!C32","v":0},{"$f":"'10'!D32","v":0},{"$f":"'10'!E32","v":0},{"$f":"'10'!F32","v":0}]
[null,2728,{"$f":"'10'!C33","v":0},{"$f":"'10'!D33","v":0},{"$f":"'10'!E33","v":0},{"$f":"'10'!F33","v":0}]
[null,2729,{"$f":"'10'!C34","v":0},{"$f":"'10'!D34","v":0},{"$f":"'10'!E34","v":0},{"$f":"'10'!F34","v":0}]
[null,2730,{"$f":"'10'!C35","v":0},{"$f":"'10'!D35","v":0},{"$f":"'10'!E35","v":0},{"$f":"'10'!F35","v":0}]
[null,2731,{"$f":"'10'!C36","v":0},{"$f":"'10'!D36","v":0},{"$f":"'10'!E36","v":0},{"$f":"'10'!F36","v":0}]
[null,2732,{"$f":"'10'!C37","v":0},{"$f":"'10'!D37","v":0},{"$f":"'10'!E37","v":0},{"$f":"'10'!F37","v":0}]
[null,2733,{"$f":"'10'!C38","v":0},{"$f":"'10'!D38","v":0},{"$f":"'10'!E38","v":0},{"$f":"'10'!F38","v":0}]
[null,2734,{"$f":"'10'!C39","v":0},{"$f":"'10'!D39","v":0},{"$f":"'10'!E39","v":0},{"$f":"'10'!F39","v":0}]
[null,2735,{"$f":"'10'!C40","v":0},{"$f":"'10'!D40","v":0},{"$f":"'10'!E40","v":0},{"$f":"'10'!F40","v":0}]
[null,2736,{"$f":"'10'!C41","v":0},{"$f":"'10'!D41","v":0},{"$f":"'10'!E41","v":0},{"$f":"'10'!F41","v":0}]
[null,2737,{"$f":"'10'!C42","v":0},{"$f":"'10'!D42","v":0},{"$f":"'10'!E42","v":0},{"$f":"'10'!F42","v":0}]
[null,2738,{"$f":"'10'!C43","v":0},{"$f":"'10'!D43","v":0},{"$f":"'10'!E43","v":0},{"$f":"'10'!F43","v":0}]
[null,2739,{"$f":"'10'!C44","v":0},{"$f":"'10'!D44","v":0},{"$f":"'10'!E44","v":0},{"$f":"'10'!F44","v":0}]
[null,2740,{"$f":"'10'!C45","v":0},{"$f":"'10'!D45","v":0},{"$f":"'10'!E45","v":0},{"$f":"'10'!F45","v":0}]
[null,2741,{"$f":"'10'!C46","v":0},{"$f":"'10'!D46","v":0},{"$f":"'10'!E46","v":0},{"$f":"'10'!F46","v":0}]
[null,2742,{"$f":"'10'!C47","v":0},{"$f":"'10'!D47","v":0},{"$f":"'10'!E47","v":0},{"$f":"'10'!F47","v":0}]
[null,2743,{"$f":"'10'!C48","v":0},{"$f":"'10'!D48","v":0},{"$f":"'10'!E48","v":0},{"$f":"'10'!F48","v":0}]
[null,2744,{"$f":"'10'!C49","v":0},{"$f":"'10'!D49","v":0},{"$f":"'10'!E49","v":0},{"$f":"'10'!F49","v":0}]
[null,2745,{"$f":"'10'!C50","v":0},{"$f":"'10'!D50","v":0},{"$f":"'10'!E50","v":0},{"$f":"'10'!F50","v":0}]
[null,2746,{"$f":"'10'!C51","v":0},{"$f":"'10'!D51","v":0},{"$f":"'10'!E51","v":0},{"$f":"'10'!F51","v":0}]
[null,2747,{"$f":"'10'!C52","v":0},{"$f":"'10'!D52","v":0},{"$f":"'10'!E52","v":0},{"$f":"'10'!F52","v":0}]
[null,2748,{"$f":"'10'!C53","v":0},{"$f":"'10'!D53","v":0},{"$f":"'10'!E53","v":0},{"$f":"'10'!F53","v":0}]
[null,2749,{"$f":"'10'!C54","v":0},{"$f":"'10'!D54","v":0},{"$f":"'10'!E54","v":0},{"$f":"'10'!F54","v":0}]
[null,2750,{"$f":"'10'!C55","v":0},{"$f":"'10'!D55","v":0},{"$f":"'10'!E55","v":0},{"$f":"'10'!F55","v":0}]
[null,2751,{"$f":"'10'!C56","v":0},{"$f":"'10'!D56","v":0},{"$f":"'10'!E56","v":0},{"$f":"'10'!F56","v":0}]
[null,2752,{"$f":"'10'!C57","v":0},{"$f":"'10'!D57","v":0},{"$f":"'10'!E57","v":0},{"$f":"'10'!F57","v":0}]
[null,2753,{"$f":"'10'!C58","v":0},{"$f":"'10'!D58","v":0},{"$f":"'10'!E58","v":0},{"$f":"'10'!F58","v":0}]
[null,2754,{"$f":"'10'!C59","v":0},{"$f":"'10'!D59","v":0},{"$f":"'10'!E59","v":0},{"$f":"'10'!F59","v":0}]
[null,2755,{"$f":"'10'!C60","v":0},{"$f":"'10'!D60","v":0},{"$f":"'10'!E60","v":0},{"$f":"'10'!F60","v":0}]
[null,2756,{"$f":"'10'!C61","v":0},{"$f":"'10'!D61","v":0},{"$f":"'10'!E61","v":0},{"$f":"'10'!F61","v":0}]
[null,2757,{"$f":"'10'!C62","v":0},{"$f":"'10'!D62","v":0},{"$f":"'10'!E62","v":0},{"$f":"'10'!F62","v":0}]
[null,2758,{"$f":"'10'!C63","v":0},{"$f":"'10'!D63","v":0},{"$f":"'10'!E63","v":0},{"$f":"'10'!F63","v":0}]
[null,2759,{"$f":"'10'!C64","v":0},{"$f":"'10'!D64","v":0},{"$f":"'10'!E64","v":0},{"$f":"'10'!F64","v":0}]
[null,2760,{"$f":"'10'!C65","v":0},{"$f":"'10'!D65","v":0},{"$f":"'10'!E65","v":0},{"$f":"'10'!F65","v":0}]
[null,2761,{"$f":"'10'!C66","v":0},{"$f":"'10'!D66","v":0},{"$f":"'10'!E66","v":0},{"$f":"'10'!F66","v":0}]
[null,2762,{"$f":"'10'!C67","v":0},{"$f":"'10'!D67","v":0},{"$f":"'10'!E67","v":0},{"$f":"'10'!F67","v":0}]
[null,2763,{"$f":"'10'!C68","v":0},{"$f":"'10'!D68","v":0},{"$f":"'10'!E68","v":0},{"$f":"'10'!F68","v":0}]
[null,2764,{"$f":"'10'!C69","v":0},{"$f":"'10'!D69","v":0},{"$f":"'10'!E69","v":0},{"$f":"'10'!F69","v":0}]
[null,2765,{"$f":"'10'!C70","v":0},{"$f":"'10'!D70","v":0},{"$f":"'10'!E70","v":0},{"$f":"'10'!F70","v":0}]
[null,2766,{"$f":"'10'!C71","v":0},{"$f":"'10'!D71","v":0},{"$f":"'10'!E71","v":0},{"$f":"'10'!F71","v":0}]
[null,2767,{"$f":"'10'!C72","v":0},{"$f":"'10'!D72","v":0},{"$f":"'10'!E72","v":0},{"$f":"'10'!F72","v":0}]
[null,2768,{"$f":"'10'!C73","v":0},{"$f":"'10'!D73","v":0},{"$f":"'10'!E73","v":0},{"$f":"'10'!F73","v":0}]
[null,2769,{"$f":"'10'!C74","v":0},{"$f":"'10'!D74","v":0},{"$f":"'10'!E74","v":0},{"$f":"'10'!F74","v":0}]
[null,2770,{"$f":"'10'!C75","v":0},{"$f":"'10'!D75","v":0},{"$f":"'10'!E75","v":0},{"$f":"'10'!F75","v":0}]
[null,2771,{"$f":"'10'!C76","v":0},{"$f":"'10'!D76","v":0},{"$f":"'10'!E76","v":0},{"$f":"'10'!F76","v":0}]
[null,2772,{"$f":"'10'!C77","v":0},{"$f":"'10'!D77","v":0},{"$f":"'10'!E77","v":0},{"$f":"'10'!F77","v":0}]
[null,2773,{"$f":"'10'!C78","v":0},{"$f":"'10'!D78","v":0},{"$f":"'10'!E78","v":0},{"$f":"'10'!F78","v":0}]
[null,2774,{"$f":"'10'!C79","v":0},{"$f":"'10'!D79","v":0},{"$f":"'10'!E79","v":0},{"$f":"'10'!F79","v":0}]
[null,2775,{"$f":"'10'!C80","v":0},{"$f":"'10'!D80","v":0},{"$f":"'10'!E80","v":0},{"$f":"'10'!F80","v":0}]
[null,2776,{"$f":"'10'!C81","v":0},{"$f":"'10'!D81","v":0},{"$f":"'10'!E81","v":0},{"$f":"'10'!F81","v":0}]
[null,2777,{"$f":"'10'!C82","v":0},{"$f":"'10'!D82","v":0},{"$f":"'10'!E82","v":0},{"$f":"'10'!F82","v":0}]
[null,2778,{"$f":"'10'!C83","v":0},{"$f":"'10'!D83","v":0},{"$f":"'10'!E83","v":0},{"$f":"'10'!F83","v":0}]
[null,2779,{"$f":"'10'!C84","v":0},{"$f":"'10'!D84","v":0},{"$f":"'10'!E84","v":0},{"$f":"'10'!F84","v":0}]
[null,2780,{"$f":"'10'!C85","v":0},{"$f":"'10'!D85","v":0},{"$f":"'10'!E85","v":0},{"$f":"'10'!F85","v":0}]
[null,2781,{"$f":"'10'!C86","v":0},{"$f":"'10'!D86","v":0},{"$f":"'10'!E86","v":0},{"$f":"'10'!F86","v":0}]
[null,2782,{"$f":"'10'!C87","v":0},{"$f":"'10'!D87","v":0},{"$f":"'10'!E87","v":0},{"$f":"'10'!F87","v":0}]
[null,2783,{"$f":"'10'!C88","v":0},{"$f":"'10'!D88","v":0},{"$f":"'10'!E88","v":0},{"$f":"'10'!F88","v":0}]
[null,2784,{"$f":"'10'!C89","v":0},{"$f":"'10'!D89","v":0},{"$f":"'10'!E89","v":0},{"$f":"'10'!F89","v":0}]
[null,2785,{"$f":"'10'!C90","v":0},{"$f":"'10'!D90","v":0},{"$f":"'10'!E90","v":0},{"$f":"'10'!F90","v":0}]
[null,2786,{"$f":"'10'!C91","v":0},{"$f":"'10'!D91","v":0},{"$f":"'10'!E91","v":0},{"$f":"'10'!F91","v":0}]
[null,2787,{"$f":"'10'!C92","v":0},{"$f":"'10'!D92","v":0},{"$f":"'10'!E92","v":0},{"$f":"'10'!F92","v":0}]
[null,2788,{"$f":"'10'!C93","v":0},{"$f":"'10'!D93","v":0},{"$f":"'10'!E93","v":0},{"$f":"'10'!F93","v":0}]
[null,2789,{"$f":"'10'!C94","v":0},{"$f":"'10'!D94","v":0},{"$f":"'10'!E94","v":0},{"$f":"'10'!F94","v":0}]
[null,2790,{"$f":"'10'!C95","v":0},{"$f":"'10'!D95","v":0},{"$f":"'10'!E95","v":0},{"$f":"'10'!F95","v":0}]
[null,2791,{"$f":"'10'!C96","v":0},{"$f":"'10'!D96","v":0},{"$f":"'10'!E96","v":0},{"$f":"'10'!F96","v":0}]
[null,2792,{"$f":"'10'!C97","v":0},{"$f":"'10'!D97","v":0},{"$f":"'10'!E97","v":0},{"$f":"'10'!F97","v":0}]
[null,2793,{"$f":"'10'!C98","v":0},{"$f":"'10'!D98","v":0},{"$f":"'10'!E98","v":0},{"$f":"'10'!F98","v":0}]
[null,2794,{"$f":"'10'!C99","v":0},{"$f":"'10'!D99","v":0},{"$f":"'10'!E99","v":0},{"$f":"'10'!F99","v":0}]
[null,2795,{"$f":"'10'!C100","v":0},{"$f":"'10'!D100","v":0},{"$f":"'10'!E100","v":0},{"$f":"'10'!F100","v":0}]
[null,2796,{"$f":"'10'!C101","v":0},{"$f":"'10'!D101","v":0},{"$f":"'10'!E101","v":0},{"$f":"'10'!F101","v":0}]
[null,2797,{"$f":"'10'!C102","v":0},{"$f":"'10'!D102","v":0},{"$f":"'10'!E102","v":0},{"$f":"'10'!F102","v":0}]
[null,2798,{"$f":"'10'!C103","v":0},{"$f":"'10'!D103","v":0},{"$f":"'10'!E103","v":0},{"$f":"'10'!F103","v":0}]
[null,2799,{"$f":"'10'!C104","v":0},{"$f":"'10'!D104","v":0},{"$f":"'10'!E104","v":0},{"$f":"'10'!F104","v":0}]
[null,2800,{"$f":"'10'!C105","v":0},{"$f":"'10'!D105","v":0},{"$f":"'10'!E105","v":0},{"$f":"'10'!F105","v":0}]
[null,2801,{"$f":"'10'!C106","v":0},{"$f":"'10'!D106","v":0},{"$f":"'10'!E106","v":0},{"$f":"'10'!F106","v":0}]
[null,2802,{"$f":"'10'!C107","v":0},{"$f":"'10'!D107","v":0},{"$f":"'10'!E107","v":0},{"$f":"'10'!F107","v":0}]
[null,2803,{"$f":"'10'!C108","v":0},{"$f":"'10'!D108","v":0},{"$f":"'10'!E108","v":0},{"$f":"'10'!F108","v":0}]
[null,2804,{"$f":"'10'!C109","v":0},{"$f":"'10'!D109","v":0},{"$f":"'10'!E109","v":0},{"$f":"'10'!F109","v":0}]
[null,2805,{"$f":"'10'!C110","v":0},{"$f":"'10'!D110","v":0},{"$f":"'10'!E110","v":0},{"$f":"'10'!F110","v":0}]
[null,2806,{"$f":"'10'!C111","v":0},{"$f":"'10'!D111","v":0},{"$f":"'10'!E111","v":0},{"$f":"'10'!F111","v":0}]
[null,2807,{"$f":"'10'!C112","v":0},{"$f":"'10'!D112","v":0},{"$f":"'10'!E112","v":0},{"$f":"'10'!F112","v":0}]
[null,2808,{"$f":"'10'!C113","v":0},{"$f":"'10'!D113","v":0},{"$f":"'10'!E113","v":0},{"$f":"'10'!F113","v":0}]
[null,2809,{"$f":"'10'!C114","v":0},{"$f":"'10'!D114","v":0},{"$f":"'10'!E114","v":0},{"$f":"'10'!F114","v":0}]
[null,2810,{"$f":"'10'!C115","v":0},{"$f":"'10'!D115","v":0},{"$f":"'10'!E115","v":0},{"$f":"'10'!F115","v":0}]
[null,2811,{"$f":"'10'!C116","v":0},{"$f":"'10'!D116","v":0},{"$f":"'10'!E116","v":0},{"$f":"'10'!F116","v":0}]
[null,2812,{"$f":"'10'!C117","v":0},{"$f":"'10'!D117","v":0},{"$f":"'10'!E117","v":0},{"$f":"'10'!F117","v":0}]
[null,2813,{"$f":"'10'!C118","v":0},{"$f":"'10'!D118","v":0},{"$f":"'10'!E118","v":0},{"$f":"'10'!F118","v":0}]
[null,2814,{"$f":"'10'!C119","v":0},{"$f":"'10'!D119","v":0},{"$f":"'10'!E119","v":0},{"$f":"'10'!F119","v":0}]
[null,2815,{"$f":"'10'!C120","v":0},{"$f":"'10'!D120","v":0},{"$f":"'10'!E120","v":0},{"$f":"'10'!F120","v":0}]
[null,2816,{"$f":"'10'!C121","v":0},{"$f":"'10'!D121","v":0},{"$f":"'10'!E121","v":0},{"$f":"'10'!F121","v":0}]
[null,2817,{"$f":"'10'!C122","v":0},{"$f":"'10'!D122","v":0},{"$f":"'10'!E122","v":0},{"$f":"'10'!F122","v":0}]
[null,2818,{"$f":"'10'!C123","v":0},{"$f":"'10'!D123","v":0},{"$f":"'10'!E123","v":0},{"$f":"'10'!F123","v":0}]
[null,2819,{"$f":"'10'!C124","v":0},{"$f":"'10'!D124","v":0},{"$f":"'10'!E124","v":0},{"$f":"'10'!F124","v":0}]
[null,2820,{"$f":"'10'!C125","v":0},{"$f":"'10'!D125","v":0},{"$f":"'10'!E125","v":0},{"$f":"'10'!F125","v":0}]
[null,2821,{"$f":"'10'!C126","v":0},{"$f":"'10'!D126","v":0},{"$f":"'10'!E126","v":0},{"$f":"'10'!F126","v":0}]
[null,2822,{"$f":"'10'!C127","v":0},{"$f":"'10'!D127","v":0},{"$f":"'10'!E127","v":0},{"$f":"'10'!F127","v":0}]
[null,2823,{"$f":"'10'!C128","v":0},{"$f":"'10'!D128","v":0},{"$f":"'10'!E128","v":0},{"$f":"'10'!F128","v":0}]
[null,2824,{"$f":"'10'!C129","v":0},{"$f":"'10'!D129","v":0},{"$f":"'10'!E129","v":0},{"$f":"'10'!F129","v":0}]
[null,2825,{"$f":"'10'!C130","v":0},{"$f":"'10'!D130","v":0},{"$f":"'10'!E130","v":0},{"$f":"'10'!F130","v":0}]
[null,2826,{"$f":"'10'!C131","v":0},{"$f":"'10'!D131","v":0},{"$f":"'10'!E131","v":0},{"$f":"'10'!F131","v":0}]
[null,2827,{"$f":"'10'!C132","v":0},{"$f":"'10'!D132","v":0},{"$f":"'10'!E132","v":0},{"$f":"'10'!F132","v":0}]
[null,2828,{"$f":"'10'!C133","v":0},{"$f":"'10'!D133","v":0},{"$f":"'10'!E133","v":0},{"$f":"'10'!F133","v":0}]
[null,2829,{"$f":"'10'!C134","v":0},{"$f":"'10'!D134","v":0},{"$f":"'10'!E134","v":0},{"$f":"'10'!F134","v":0}]
[null,2830,{"$f":"'10'!C135","v":0},{"$f":"'10'!D135","v":0},{"$f":"'10'!E135","v":0},{"$f":"'10'!F135","v":0}]
[null,2831,{"$f":"'10'!C136","v":0},{"$f":"'10'!D136","v":0},{"$f":"'10'!E136","v":0},{"$f":"'10'!F136","v":0}]
[null,2832,{"$f":"'10'!C137","v":0},{"$f":"'10'!D137","v":0},{"$f":"'10'!E137","v":0},{"$f":"'10'!F137","v":0}]
[null,2833,{"$f":"'10'!C138","v":0},{"$f":"'10'!D138","v":0},{"$f":"'10'!E138","v":0},{"$f":"'10'!F138","v":0}]
[null,2834,{"$f":"'10'!C139","v":0},{"$f":"'10'!D139","v":0},{"$f":"'10'!E139","v":0},{"$f":"'10'!F139","v":0}]
[null,2835,{"$f":"'10'!C140","v":0},{"$f":"'10'!D140","v":0},{"$f":"'10'!E140","v":0},{"$f":"'10'!F140","v":0}]
[null,2836,{"$f":"'10'!C141","v":0},{"$f":"'10'!D141","v":0},{"$f":"'10'!E141","v":0},{"$f":"'10'!F141","v":0}]
[null,2837,{"$f":"'10'!C142","v":0},{"$f":"'10'!D142","v":0},{"$f":"'10'!E142","v":0},{"$f":"'10'!F142","v":0}]
[null,2838,{"$f":"'10'!C143","v":0},{"$f":"'10'!D143","v":0},{"$f":"'10'!E143","v":0},{"$f":"'10'!F143","v":0}]
[null,2839,{"$f":"'10'!C144","v":0},{"$f":"'10'!D144","v":0},{"$f":"'10'!E144","v":0},{"$f":"'10'!F144","v":0}]
[null,2840,{"$f":"'10'!C145","v":0},{"$f":"'10'!D145","v":0},{"$f":"'10'!E145","v":0},{"$f":"'10'!F145","v":0}]
[null,2841,{"$f":"'10'!C146","v":0},{"$f":"'10'!D146","v":0},{"$f":"'10'!E146","v":0},{"$f":"'10'!F146","v":0}]
[null,2842,{"$f":"'10'!C147","v":0},{"$f":"'10'!D147","v":0},{"$f":"'10'!E147","v":0},{"$f":"'10'!F147","v":0}]
[null,2843,{"$f":"'10'!C148","v":0},{"$f":"'10'!D148","v":0},{"$f":"'10'!E148","v":0},{"$f":"'10'!F148","v":0}]
[null,2844,{"$f":"'10'!C149","v":0},{"$f":"'10'!D149","v":0},{"$f":"'10'!E149","v":0},{"$f":"'10'!F149","v":0}]
[null,2845,{"$f":"'10'!C150","v":0},{"$f":"'10'!D150","v":0},{"$f":"'10'!E150","v":0},{"$f":"'10'!F150","v":0}]
[null,2846,{"$f":"'10'!C151","v":0},{"$f":"'10'!D151","v":0},{"$f":"'10'!E151","v":0},{"$f":"'10'!F151","v":0}]
[null,2847,{"$f":"'10'!C152","v":0},{"$f":"'10'!D152","v":0},{"$f":"'10'!E152","v":0},{"$f":"'10'!F152","v":0}]
[null,2848,{"$f":"'10'!C153","v":0},{"$f":"'10'!D153","v":0},{"$f":"'10'!E153","v":0},{"$f":"'10'!F153","v":0}]
[null,2849,{"$f":"'10'!C154","v":0},{"$f":"'10'!D154","v":0},{"$f":"'10'!E154","v":0},{"$f":"'10'!F154","v":0}]
[null,2850,{"$f":"'10'!C155","v":0},{"$f":"'10'!D155","v":0},{"$f":"'10'!E155","v":0},{"$f":"'10'!F155","v":0}]
[null,2851,{"$f":"'10'!C156","v":0},{"$f":"'10'!D156","v":0},{"$f":"'10'!E156","v":0},{"$f":"'10'!F156","v":0}]
[null,2852,{"$f":"'10'!C157","v":0},{"$f":"'10'!D157","v":0},{"$f":"'10'!E157","v":0},{"$f":"'10'!F157","v":0}]
[null,2853,{"$f":"'10'!C158","v":0},{"$f":"'10'!D158","v":0},{"$f":"'10'!E158","v":0},{"$f":"'10'!F158","v":0}]
[null,2854,{"$f":"'10'!C159","v":0},{"$f":"'10'!D159","v":0},{"$f":"'10'!E159","v":0},{"$f":"'10'!F159","v":0}]
[null,2855,{"$f":"'10'!C160","v":0},{"$f":"'10'!D160","v":0},{"$f":"'10'!E160","v":0},{"$f":"'10'!F160","v":0}]
[null,2856,{"$f":"'10'!C161","v":0},{"$f":"'10'!D161","v":0},{"$f":"'10'!E161","v":0},{"$f":"'10'!F161","v":0}]
[null,2857,{"$f":"'10'!C162","v":0},{"$f":"'10'!D162","v":0},{"$f":"'10'!E162","v":0},{"$f":"'10'!F162","v":0}]
[null,2858,{"$f":"'10'!C163","v":0},{"$f":"'10'!D163","v":0},{"$f":"'10'!E163","v":0},{"$f":"'10'!F163","v":0}]
[null,2859,{"$f":"'10'!C164","v":0},{"$f":"'10'!D164","v":0},{"$f":"'10'!E164","v":0},{"$f":"'10'!F164","v":0}]
[null,2860,{"$f":"'10'!C165","v":0},{"$f":"'10'!D165","v":0},{"$f":"'10'!E165","v":0},{"$f":"'10'!F165","v":0}]
[null,2861,{"$f":"'10'!C166","v":0},{"$f":"'10'!D166","v":0},{"$f":"'10'!E166","v":0},{"$f":"'10'!F166","v":0}]
[null,2862,{"$f":"'10'!C167","v":0},{"$f":"'10'!D167","v":0},{"$f":"'10'!E167","v":0},{"$f":"'10'!F167","v":0}]
[null,2863,{"$f":"'10'!C168","v":0},{"$f":"'10'!D168","v":0},{"$f":"'10'!E168","v":0},{"$f":"'10'!F168","v":0}]
[null,2864,{"$f":"'10'!C169","v":0},{"$f":"'10'!D169","v":0},{"$f":"'10'!E169","v":0},{"$f":"'10'!F169","v":0}]
[null,2865,{"$f":"'10'!C170","v":0},{"$f":"'10'!D170","v":0},{"$f":"'10'!E170","v":0},{"$f":"'10'!F170","v":0}]
[null,2866,{"$f":"'10'!C171","v":0},{"$f":"'10'!D171","v":0},{"$f":"'10'!E171","v":0},{"$f":"'10'!F171","v":0}]
[null,2867,{"$f":"'10'!C172","v":0},{"$f":"'10'!D172","v":0},{"$f":"'10'!E172","v":0},{"$f":"'10'!F172","v":0}]
[null,2868,{"$f":"'10'!C173","v":0},{"$f":"'10'!D173","v":0},{"$f":"'10'!E173","v":0},{"$f":"'10'!F173","v":0}]
[null,2869,{"$f":"'10'!C174","v":0},{"$f":"'10'!D174","v":0},{"$f":"'10'!E174","v":0},{"$f":"'10'!F174","v":0}]
[null,2870,{"$f":"'10'!C175","v":0},{"$f":"'10'!D175","v":0},{"$f":"'10'!E175","v":0},{"$f":"'10'!F175","v":0}]
[null,2871,{"$f":"'10'!C176","v":0},{"$f":"'10'!D176","v":0},{"$f":"'10'!E176","v":0},{"$f":"'10'!F176","v":0}]
[null,2872,{"$f":"'10'!C177","v":0},{"$f":"'10'!D177","v":0},{"$f":"'10'!E177","v":0},{"$f":"'10'!F177","v":0}]
[null,2873,{"$f":"'10'!C178","v":0},{"$f":"'10'!D178","v":0},{"$f":"'10'!E178","v":0},{"$f":"'10'!F178","v":0}]
[null,2874,{"$f":"'10'!C179","v":0},{"$f":"'10'!D179","v":0},{"$f":"'10'!E179","v":0},{"$f":"'10'!F179","v":0}]
[null,2875,{"$f":"'10'!C180","v":0},{"$f":"'10'!D180","v":0},{"$f":"'10'!E180","v":0},{"$f":"'10'!F180","v":0}]
[null,2876,{"$f":"'10'!C181","v":0},{"$f":"'10'!D181","v":0},{"$f":"'10'!E181","v":0},{"$f":"'10'!F181","v":0}]
[null,2877,{"$f":"'10'!C182","v":0},{"$f":"'10'!D182","v":0},{"$f":"'10'!E182","v":0},{"$f":"'10'!F182","v":0}]
[null,2878,{"$f":"'10'!C183","v":0},{"$f":"'10'!D183","v":0},{"$f":"'10'!E183","v":0},{"$f":"'10'!F183","v":0}]
[null,2879,{"$f":"'10'!C184","v":0},{"$f":"'10'!D184","v":0},{"$f":"'10'!E184","v":0},{"$f":"'10'!F184","v":0}]
[null,2880,{"$f":"'10'!C185","v":0},{"$f":"'10'!D185","v":0},{"$f":"'10'!E185","v":0},{"$f":"'10'!F185","v":0}]
[null,2881,{"$f":"'10'!C186","v":0},{"$f":"'10'!D186","v":0},{"$f":"'10'!E186","v":0},{"$f":"'10'!F186","v":0}]
[null,2882,{"$f":"'10'!C187","v":0},{"$f":"'10'!D187","v":0},{"$f":"'10'!E187","v":0},{"$f":"'10'!F187","v":0}]
[null,2883,{"$f":"'10'!C188","v":0},{"$f":"'10'!D188","v":0},{"$f":"'10'!E188","v":0},{"$f":"'10'!F188","v":0}]
[null,2884,{"$f":"'10'!C189","v":0},{"$f":"'10'!D189","v":0},{"$f":"'10'!E189","v":0},{"$f":"'10'!F189","v":0}]
[null,2885,{"$f":"'10'!C190","v":0},{"$f":"'10'!D190","v":0},{"$f":"'10'!E190","v":0},{"$f":"'10'!F190","v":0}]
[null,2886,{"$f":"'10'!C191","v":0},{"$f":"'10'!D191","v":0},{"$f":"'10'!E191","v":0},{"$f":"'10'!F191","v":0}]
[null,2887,{"$f":"'10'!C192","v":0},{"$f":"'10'!D192","v":0},{"$f":"'10'!E192","v":0},{"$f":"'10'!F192","v":0}]
[null,2888,{"$f":"'10'!C193","v":0},{"$f":"'10'!D193","v":0},{"$f":"'10'!E193","v":0},{"$f":"'10'!F193","v":0}]
[null,2889,{"$f":"'10'!C194","v":0},{"$f":"'10'!D194","v":0},{"$f":"'10'!E194","v":0},{"$f":"'10'!F194","v":0}]
[null,2890,{"$f":"'10'!C195","v":0},{"$f":"'10'!D195","v":0},{"$f":"'10'!E195","v":0},{"$f":"'10'!F195","v":0}]
[null,2891,{"$f":"'10'!C196","v":0},{"$f":"'10'!D196","v":0},{"$f":"'10'!E196","v":0},{"$f":"'10'!F196","v":0}]
[null,2892,{"$f":"'10'!C197","v":0},{"$f":"'10'!D197","v":0},{"$f":"'10'!E197","v":0},{"$f":"'10'!F197","v":0}]
[null,2893,{"$f":"'10'!C198","v":0},{"$f":"'10'!D198","v":0},{"$f":"'10'!E198","v":0},{"$f":"'10'!F198","v":0}]
[null,2894,{"$f":"'10'!C199","v":0},{"$f":"'10'!D199","v":0},{"$f":"'10'!E199","v":0},{"$f":"'10'!F199","v":0}]
[null,2895,{"$f":"'10'!C200","v":0},{"$f":"'10'!D200","v":0},{"$f":"'10'!E200","v":0},{"$f":"'10'!F200","v":0}]
[null,2896,{"$f":"'10'!C201","v":0},{"$f":"'10'!D201","v":0},{"$f":"'10'!E201","v":0},{"$f":"'10'!F201","v":0}]
[null,2897,{"$f":"'10'!C202","v":0},{"$f":"'10'!D202","v":0},{"$f":"'10'!E202","v":0},{"$f":"'10'!F202","v":0}]
[null,2898,{"$f":"'10'!C203","v":0},{"$f":"'10'!D203","v":0},{"$f":"'10'!E203","v":0},{"$f":"'10'!F203","v":0}]
[null,2899,{"$f":"'10'!C204","v":0},{"$f":"'10'!D204","v":0},{"$f":"'10'!E204","v":0},{"$f":"'10'!F204","v":0}]
[null,2900,{"$f":"'10'!C205","v":0},{"$f":"'10'!D205","v":0},{"$f":"'10'!E205","v":0},{"$f":"'10'!F205","v":0}]
[null,2901,{"$f":"'10'!C206","v":0},{"$f":"'10'!D206","v":0},{"$f":"'10'!E206","v":0},{"$f":"'10'!F206","v":0}]
[null,2902,{"$f":"'10'!C207","v":0},{"$f":"'10'!D207","v":0},{"$f":"'10'!E207","v":0},{"$f":"'10'!F207","v":0}]
[null,2903,{"$f":"'10'!C208","v":0},{"$f":"'10'!D208","v":0},{"$f":"'10'!E208","v":0},{"$f":"'10'!F208","v":0}]
[null,2904,{"$f":"'10'!C209","v":0},{"$f":"'10'!D209","v":0},{"$f":"'10'!E209","v":0},{"$f":"'10'!F209","v":0}]
[null,2905,{"$f":"'10'!C210","v":0},{"$f":"'10'!D210","v":0},{"$f":"'10'!E210","v":0},{"$f":"'10'!F210","v":0}]
[null,2906,{"$f":"'10'!C211","v":0},{"$f":"'10'!D211","v":0},{"$f":"'10'!E211","v":0},{"$f":"'10'!F211","v":0}]
[null,2907,{"$f":"'10'!C212","v":0},{"$f":"'10'!D212","v":0},{"$f":"'10'!E212","v":0},{"$f":"'10'!F212","v":0}]
[null,2908,{"$f":"'10'!C213","v":0},{"$f":"'10'!D213","v":0},{"$f":"'10'!E213","v":0},{"$f":"'10'!F213","v":0}]
[null,2909,{"$f":"'10'!C214","v":0},{"$f":"'10'!D214","v":0},{"$f":"'10'!E214","v":0},{"$f":"'10'!F214","v":0}]
[null,2910,{"$f":"'10'!C215","v":0},{"$f":"'10'!D215","v":0},{"$f":"'10'!E215","v":0},{"$f":"'10'!F215","v":0}]
[null,2911,{"$f":"'10'!C216","v":0},{"$f":"'10'!D216","v":0},{"$f":"'10'!E216","v":0},{"$f":"'10'!F216","v":0}]
[null,2912,{"$f":"'10'!C217","v":0},{"$f":"'10'!D217","v":0},{"$f":"'10'!E217","v":0},{"$f":"'10'!F217","v":0}]
[null,2913,{"$f":"'10'!C218","v":0},{"$f":"'10'!D218","v":0},{"$f":"'10'!E218","v":0},{"$f":"'10'!F218","v":0}]
[null,2914,{"$f":"'10'!C219","v":0},{"$f":"'10'!D219","v":0},{"$f":"'10'!E219","v":0},{"$f":"'10'!F219","v":0}]
[null,2915,{"$f":"'10'!C220","v":0},{"$f":"'10'!D220","v":0},{"$f":"'10'!E220","v":0},{"$f":"'10'!F220","v":0}]
[null,2916,{"$f":"'10'!C221","v":0},{"$f":"'10'!D221","v":0},{"$f":"'10'!E221","v":0},{"$f":"'10'!F221","v":0}]
[null,2917,{"$f":"'10'!C222","v":0},{"$f":"'10'!D222","v":0},{"$f":"'10'!E222","v":0},{"$f":"'10'!F222","v":0}]
[null,2918,{"$f":"'10'!C223","v":0},{"$f":"'10'!D223","v":0},{"$f":"'10'!E223","v":0},{"$f":"'10'!F223","v":0}]
[null,2919,{"$f":"'10'!C224","v":0},{"$f":"'10'!D224","v":0},{"$f":"'10'!E224","v":0},{"$f":"'10'!F224","v":0}]
[null,2920,{"$f":"'10'!C225","v":0},{"$f":"'10'!D225","v":0},{"$f":"'10'!E225","v":0},{"$f":"'10'!F225","v":0}]
[null,2921,{"$f":"'10'!C226","v":0},{"$f":"'10'!D226","v":0},{"$f":"'10'!E226","v":0},{"$f":"'10'!F226","v":0}]
[null,2922,{"$f":"'10'!C227","v":0},{"$f":"'10'!D227","v":0},{"$f":"'10'!E227","v":0},{"$f":"'10'!F227","v":0}]
[null,2923,{"$f":"'10'!C228","v":0},{"$f":"'10'!D228","v":0},{"$f":"'10'!E228","v":0},{"$f":"'10'!F228","v":0}]
[null,2924,{"$f":"'10'!C229","v":0},{"$f":"'10'!D229","v":0},{"$f":"'10'!E229","v":0},{"$f":"'10'!F229","v":0}]
[null,2925,{"$f":"'10'!C230","v":0},{"$f":"'10'!D230","v":0},{"$f":"'10'!E230","v":0},{"$f":"'10'!F230","v":0}]
[null,2926,{"$f":"'10'!C231","v":0},{"$f":"'10'!D231","v":0},{"$f":"'10'!E231","v":0},{"$f":"'10'!F231","v":0}]
[null,2927,{"$f":"'10'!C232","v":0},{"$f":"'10'!D232","v":0},{"$f":"'10'!E232","v":0},{"$f":"'10'!F232","v":0}]
[null,2928,{"$f":"'10'!C233","v":0},{"$f":"'10'!D233","v":0},{"$f":"'10'!E233","v":0},{"$f":"'10'!F233","v":0}]
[null,2929,{"$f":"'10'!C234","v":0},{"$f":"'10'!D234","v":0},{"$f":"'10'!E234","v":0},{"$f":"'10'!F234","v":0}]
[null,2930,{"$f":"'10'!C235","v":0},{"$f":"'10'!D235","v":0},{"$f":"'10'!E235","v":0},{"$f":"'10'!F235","v":0}]
[null,2931,{"$f":"'10'!C236","v":0},{"$f":"'10'!D236","v":0},{"$f":"'10'!E236","v":0},{"$f":"'10'!F236","v":0}]
[null,2932,{"$f":"'10'!C237","v":0},{"$f":"'10'!D237","v":0},{"$f":"'10'!E237","v":0},{"$f":"'10'!F237","v":0}]
[null,2933,{"$f":"'10'!C238","v":0},{"$f":"'10'!D238","v":0},{"$f":"'10'!E238","v":0},{"$f":"'10'!F238","v":0}]
[null,2934,{"$f":"'10'!C239","v":0},{"$f":"'10'!D239","v":0},{"$f":"'10'!E239","v":0},{"$f":"'10'!F239","v":0}]
[null,2935,{"$f":"'10'!C240","v":0},{"$f":"'10'!D240","v":0},{"$f":"'10'!E240","v":0},{"$f":"'10'!F240","v":0}]
[null,2936,{"$f":"'10'!C241","v":0},{"$f":"'10'!D241","v":0},{"$f":"'10'!E241","v":0},{"$f":"'10'!F241","v":0}]
[null,2937,{"$f":"'10'!C242","v":0},{"$f":"'10'!D242","v":0},{"$f":"'10'!E242","v":0},{"$f":"'10'!F242","v":0}]
[null,2938,{"$f":"'10'!C243","v":0},{"$f":"'10'!D243","v":0},{"$f":"'10'!E243","v":0},{"$f":"'10'!F243","v":0}]
[null,2939,{"$f":"'10'!C244","v":0},{"$f":"'10'!D244","v":0},{"$f":"'10'!E244","v":0},{"$f":"'10'!F244","v":0}]
[null,2940,{"$f":"'10'!C245","v":0},{"$f":"'10'!D245","v":0},{"$f":"'10'!E245","v":0},{"$f":"'10'!F245","v":0}]
[null,2941,{"$f":"'10'!C246","v":0},{"$f":"'10'!D246","v":0},{"$f":"'10'!E246","v":0},{"$f":"'10'!F246","v":0}]
[null,2942,{"$f":"'10'!C247","v":0},{"$f":"'10'!D247","v":0},{"$f":"'10'!E247","v":0},{"$f":"'10'!F247","v":0}]
[null,2943,{"$f":"'10'!C248","v":0},{"$f":"'10'!D248","v":0},{"$f":"'10'!E248","v":0},{"$f":"'10'!F248","v":0}]
[null,2944,{"$f":"'10'!C249","v":0},{"$f":"'10'!D249","v":0},{"$f":"'10'!E249","v":0},{"$f":"'10'!F249","v":0}]
[null,2945,{"$f":"'10'!C250","v":0},{"$f":"'10'!D250","v":0},{"$f":"'10'!E250","v":0},{"$f":"'10'!F250","v":0}]
[null,2946,{"$f":"'10'!C251","v":0},{"$f":"'10'!D251","v":0},{"$f":"'10'!E251","v":0},{"$f":"'10'!F251","v":0}]
[null,2947,{"$f":"'10'!C252","v":0},{"$f":"'10'!D252","v":0},{"$f":"'10'!E252","v":0},{"$f":"'10'!F252","v":0}]
[null,2948,{"$f":"'10'!C253","v":0},{"$f":"'10'!D253","v":0},{"$f":"'10'!E253","v":0},{"$f":"'10'!F253","v":0}]
[null,2949,{"$f":"'10'!C254","v":0},{"$f":"'10'!D254","v":0},{"$f":"'10'!E254","v":0},{"$f":"'10'!F254","v":0}]
[null,2950,{"$f":"'10'!C255","v":0},{"$f":"'10'!D255","v":0},{"$f":"'10'!E255","v":0},{"$f":"'10'!F255","v":0}]
[null,2951,{"$f":"'10'!C256","v":0},{"$f":"'10'!D256","v":0},{"$f":"'10'!E256","v":0},{"$f":"'10'!F256","v":0}]
[null,2952,{"$f":"'10'!C257","v":0},{"$f":"'10'!D257","v":0},{"$f":"'10'!E257","v":0},{"$f":"'10'!F257","v":0}]
[null,2953,{"$f":"'10'!C258","v":0},{"$f":"'10'!D258","v":0},{"$f":"'10'!E258","v":0},{"$f":"'10'!F258","v":0}]
[null,2954,{"$f":"'10'!C259","v":0},{"$f":"'10'!D259","v":0},{"$f":"'10'!E259","v":0},{"$f":"'10'!F259","v":0}]
[null,2955,{"$f":"'10'!C260","v":0},{"$f":"'10'!D260","v":0},{"$f":"'10'!E260","v":0},{"$f":"'10'!F260","v":0}]
[null,2956,{"$f":"'10'!C261","v":0},{"$f":"'10'!D261","v":0},{"$f":"'10'!E261","v":0},{"$f":"'10'!F261","v":0}]
[null,2957,{"$f":"'10'!C262","v":0},{"$f":"'10'!D262","v":0},{"$f":"'10'!E262","v":0},{"$f":"'10'!F262","v":0}]
[null,2958,{"$f":"'10'!C263","v":0},{"$f":"'10'!D263","v":0},{"$f":"'10'!E263","v":0},{"$f":"'10'!F263","v":0}]
[null,2959,{"$f":"'10'!C264","v":0},{"$f":"'10'!D264","v":0},{"$f":"'10'!E264","v":0},{"$f":"'10'!F264","v":0}]
[null,2960,{"$f":"'10'!C265","v":0},{"$f":"'10'!D265","v":0},{"$f":"'10'!E265","v":0},{"$f":"'10'!F265","v":0}]
[null,2961,{"$f":"'10'!C266","v":0},{"$f":"'10'!D266","v":0},{"$f":"'10'!E266","v":0},{"$f":"'10'!F266","v":0}]
[null,2962,{"$f":"'10'!C267","v":0},{"$f":"'10'!D267","v":0},{"$f":"'10'!E267","v":0},{"$f":"'10'!F267","v":0}]
[null,2963,{"$f":"'10'!C268","v":0},{"$f":"'10'!D268","v":0},{"$f":"'10'!E268","v":0},{"$f":"'10'!F268","v":0}]
[null,2964,{"$f":"'10'!C269","v":0},{"$f":"'10'!D269","v":0},{"$f":"'10'!E269","v":0},{"$f":"'10'!F269","v":0}]
[null,2965,{"$f":"'10'!C270","v":0},{"$f":"'10'!D270","v":0},{"$f":"'10'!E270","v":0},{"$f":"'10'!F270","v":0}]
[null,2966,{"$f":"'10'!C271","v":0},{"$f":"'10'!D271","v":0},{"$f":"'10'!E271","v":0},{"$f":"'10'!F271","v":0}]
[null,2967,{"$f":"'10'!C272","v":0},{"$f":"'10'!D272","v":0},{"$f":"'10'!E272","v":0},{"$f":"'10'!F272","v":0}]
[null,2968,{"$f":"'10'!C273","v":0},{"$f":"'10'!D273","v":0},{"$f":"'10'!E273","v":0},{"$f":"'10'!F273","v":0}]
[null,2969,{"$f":"'10'!C274","v":0},{"$f":"'10'!D274","v":0},{"$f":"'10'!E274","v":0},{"$f":"'10'!F274","v":0}]
[null,2970,{"$f":"'10'!C275","v":0},{"$f":"'10'!D275","v":0},{"$f":"'10'!E275","v":0},{"$f":"'10'!F275","v":0}]
[null,2971,{"$f":"'10'!C276","v":0},{"$f":"'10'!D276","v":0},{"$f":"'10'!E276","v":0},{"$f":"'10'!F276","v":0}]
[null,2972,{"$f":"'10'!C277","v":0},{"$f":"'10'!D277","v":0},{"$f":"'10'!E277","v":0},{"$f":"'10'!F277","v":0}]
[null,2973,{"$f":"'10'!C278","v":0},{"$f":"'10'!D278","v":0},{"$f":"'10'!E278","v":0},{"$f":"'10'!F278","v":0}]
[null,2974,{"$f":"'10'!C279","v":0},{"$f":"'10'!D279","v":0},{"$f":"'10'!E279","v":0},{"$f":"'10'!F279","v":0}]
[null,2975,{"$f":"'10'!C280","v":0},{"$f":"'10'!D280","v":0},{"$f":"'10'!E280","v":0},{"$f":"'10'!F280","v":0}]
[null,2976,{"$f":"'10'!C281","v":0},{"$f":"'10'!D281","v":0},{"$f":"'10'!E281","v":0},{"$f":"'10'!F281","v":0}]
[null,2977,{"$f":"'10'!C282","v":0},{"$f":"'10'!D282","v":0},{"$f":"'10'!E282","v":0},{"$f":"'10'!F282","v":0}]
[null,2978,{"$f":"'10'!C283","v":0},{"$f":"'10'!D283","v":0},{"$f":"'10'!E283","v":0},{"$f":"'10'!F283","v":0}]
[null,2979,{"$f":"'10'!C284","v":0},{"$f":"'10'!D284","v":0},{"$f":"'10'!E284","v":0},{"$f":"'10'!F284","v":0}]
[null,2980,{"$f":"'10'!C285","v":0},{"$f":"'10'!D285","v":0},{"$f":"'10'!E285","v":0},{"$f":"'10'!F285","v":0}]
[null,2981,{"$f":"'10'!C286","v":0},{"$f":"'10'!D286","v":0},{"$f":"'10'!E286","v":0},{"$f":"'10'!F286","v":0}]
[null,2982,{"$f":"'10'!C287","v":0},{"$f":"'10'!D287","v":0},{"$f":"'10'!E287","v":0},{"$f":"'10'!F287","v":0}]
[null,2983,{"$f":"'10'!C288","v":0},{"$f":"'10'!D288","v":0},{"$f":"'10'!E288","v":0},{"$f":"'10'!F288","v":0}]
[null,2984,{"$f":"'10'!C289","v":0},{"$f":"'10'!D289","v":0},{"$f":"'10'!E289","v":0},{"$f":"'10'!F289","v":0}]
[null,2985,{"$f":"'10'!C290","v":0},{"$f":"'10'!D290","v":0},{"$f":"'10'!E290","v":0},{"$f":"'10'!F290","v":0}]
[null,2986,{"$f":"'10'!C291","v":0},{"$f":"'10'!D291","v":0},{"$f":"'10'!E291","v":0},{"$f":"'10'!F291","v":0}]
[null,2987,{"$f":"'10'!C292","v":0},{"$f":"'10'!D292","v":0},{"$f":"'10'!E292","v":0},{"$f":"'10'!F292","v":0}]
[null,2988,{"$f":"'10'!C293","v":0},{"$f":"'10'!D293","v":0},{"$f":"'10'!E293","v":0},{"$f":"'10'!F293","v":0}]
[null,2989,{"$f":"'10'!C294","v":0},{"$f":"'10'!D294","v":0},{"$f":"'10'!E294","v":0},{"$f":"'10'!F294","v":0}]
[null,2990,{"$f":"'10'!C295","v":0},{"$f":"'10'!D295","v":0},{"$f":"'10'!E295","v":0},{"$f":"'10'!F295","v":0}]
[null,2991,{"$f":"'10'!C296","v":0},{"$f":"'10'!D296","v":0},{"$f":"'10'!E296","v":0},{"$f":"'10'!F296","v":0}]
[null,2992,{"$f":"'10'!C297","v":0},{"$f":"'10'!D297","v":0},{"$f":"'10'!E297","v":0},{"$f":"'10'!F297","v":0}]
[null,2993,{"$f":"'10'!C298","v":0},{"$f":"'10'!D298","v":0},{"$f":"'10'!E298","v":0},{"$f":"'10'!F298","v":0}]
[null,2994,{"$f":"'10'!C299","v":0},{"$f":"'10'!D299","v":0},{"$f":"'10'!E299","v":0},{"$f":"'10'!F299","v":0}]
[null,2995,{"$f":"'10'!C300","v":0},{"$f":"'10'!D300","v":0},{"$f":"'10'!E300","v":0},{"$f":"'10'!F300","v":0}]
[null,2996,{"$f":"'10'!C301","v":0},{"$f":"'10'!D301","v":0},{"$f":"'10'!E301","v":0},{"$f":"'10'!F301","v":0}]
[null,2997,{"$f":"'10'!C302","v":0},{"$f":"'10'!D302","v":0},{"$f":"'10'!E302","v":0},{"$f":"'10'!F302","v":0}]
[null,2998,{"$f":"'10'!C303","v":0},{"$f":"'10'!D303","v":0},{"$f":"'10'!E303","v":0},{"$f":"'10'!F303","v":0}]
[null,2999,{"$f":"'10'!C304","v":0},{"$f":"'10'!D304","v":0},{"$f":"'10'!E304","v":0},{"$f":"'10'!F304","v":0}]
[null,3000,{"$f":"'10'!C305","v":0},{"$f":"'10'!D305","v":0},{"$f":"'10'!E305","v":0},{"$f":"'10'!F305","v":0}]
[null,3001,{"$f":"'11'!C6","v":0},{"$f":"'11'!D6","v":0},{"$f":"'11'!E6","v":0},{"$f":"'11'!F6","v":0}]
[null,3002,{"$f":"'11'!C7","v":0},{"$f":"'11'!D7","v":0},{"$f":"'11'!E7","v":0},{"$f":"'11'!F7","v":0}]
[null,3003,{"$f":"'11'!C8","v":0},{"$f":"'11'!D8","v":0},{"$f":"'11'!E8","v":0},{"$f":"'11'!F8","v":0}]
[null,3004,{"$f":"'11'!C9","v":0},{"$f":"'11'!D9","v":0},{"$f":"'11'!E9","v":0},{"$f":"'11'!F9","v":0}]
[null,3005,{"$f":"'11'!C10","v":0},{"$f":"'11'!D10","v":0},{"$f":"'11'!E10","v":0},{"$f":"'11'!F10","v":0}]
[null,3006,{"$f":"'11'!C11","v":0},{"$f":"'11'!D11","v":0},{"$f":"'11'!E11","v":0},{"$f":"'11'!F11","v":0}]
[null,3007,{"$f":"'11'!C12","v":0},{"$f":"'11'!D12","v":0},{"$f":"'11'!E12","v":0},{"$f":"'11'!F12","v":0}]
[null,3008,{"$f":"'11'!C13","v":0},{"$f":"'11'!D13","v":0},{"$f":"'11'!E13","v":0},{"$f":"'11'!F13","v":0}]
[null,3009,{"$f":"'11'!C14","v":0},{"$f":"'11'!D14","v":0},{"$f":"'11'!E14","v":0},{"$f":"'11'!F14","v":0}]
[null,3010,{"$f":"'11'!C15","v":0},{"$f":"'11'!D15","v":0},{"$f":"'11'!E15","v":0},{"$f":"'11'!F15","v":0}]
[null,3011,{"$f":"'11'!C16","v":0},{"$f":"'11'!D16","v":0},{"$f":"'11'!E16","v":0},{"$f":"'11'!F16","v":0}]
[null,3012,{"$f":"'11'!C17","v":0},{"$f":"'11'!D17","v":0},{"$f":"'11'!E17","v":0},{"$f":"'11'!F17","v":0}]
[null,3013,{"$f":"'11'!C18","v":0},{"$f":"'11'!D18","v":0},{"$f":"'11'!E18","v":0},{"$f":"'11'!F18","v":0}]
[null,3014,{"$f":"'11'!C19","v":0},{"$f":"'11'!D19","v":0},{"$f":"'11'!E19","v":0},{"$f":"'11'!F19","v":0}]
[null,3015,{"$f":"'11'!C20","v":0},{"$f":"'11'!D20","v":0},{"$f":"'11'!E20","v":0},{"$f":"'11'!F20","v":0}]
[null,3016,{"$f":"'11'!C21","v":0},{"$f":"'11'!D21","v":0},{"$f":"'11'!E21","v":0},{"$f":"'11'!F21","v":0}]
[null,3017,{"$f":"'11'!C22","v":0},{"$f":"'11'!D22","v":0},{"$f":"'11'!E22","v":0},{"$f":"'11'!F22","v":0}]
[null,3018,{"$f":"'11'!C23","v":0},{"$f":"'11'!D23","v":0},{"$f":"'11'!E23","v":0},{"$f":"'11'!F23","v":0}]
[null,3019,{"$f":"'11'!C24","v":0},{"$f":"'11'!D24","v":0},{"$f":"'11'!E24","v":0},{"$f":"'11'!F24","v":0}]
[null,3020,{"$f":"'11'!C25","v":0},{"$f":"'11'!D25","v":0},{"$f":"'11'!E25","v":0},{"$f":"'11'!F25","v":0}]
[null,3021,{"$f":"'11'!C26","v":0},{"$f":"'11'!D26","v":0},{"$f":"'11'!E26","v":0},{"$f":"'11'!F26","v":0}]
[null,3022,{"$f":"'11'!C27","v":0},{"$f":"'11'!D27","v":0},{"$f":"'11'!E27","v":0},{"$f":"'11'!F27","v":0}]
[null,3023,{"$f":"'11'!C28","v":0},{"$f":"'11'!D28","v":0},{"$f":"'11'!E28","v":0},{"$f":"'11'!F28","v":0}]
[null,3024,{"$f":"'11'!C29","v":0},{"$f":"'11'!D29","v":0},{"$f":"'11'!E29","v":0},{"$f":"'11'!F29","v":0}]
[null,3025,{"$f":"'11'!C30","v":0},{"$f":"'11'!D30","v":0},{"$f":"'11'!E30","v":0},{"$f":"'11'!F30","v":0}]
[null,3026,{"$f":"'11'!C31","v":0},{"$f":"'11'!D31","v":0},{"$f":"'11'!E31","v":0},{"$f":"'11'!F31","v":0}]
[null,3027,{"$f":"'11'!C32","v":0},{"$f":"'11'!D32","v":0},{"$f":"'11'!E32","v":0},{"$f":"'11'!F32","v":0}]
[null,3028,{"$f":"'11'!C33","v":0},{"$f":"'11'!D33","v":0},{"$f":"'11'!E33","v":0},{"$f":"'11'!F33","v":0}]
[null,3029,{"$f":"'11'!C34","v":0},{"$f":"'11'!D34","v":0},{"$f":"'11'!E34","v":0},{"$f":"'11'!F34","v":0}]
[null,3030,{"$f":"'11'!C35","v":0},{"$f":"'11'!D35","v":0},{"$f":"'11'!E35","v":0},{"$f":"'11'!F35","v":0}]
[null,3031,{"$f":"'11'!C36","v":0},{"$f":"'11'!D36","v":0},{"$f":"'11'!E36","v":0},{"$f":"'11'!F36","v":0}]
[null,3032,{"$f":"'11'!C37","v":0},{"$f":"'11'!D37","v":0},{"$f":"'11'!E37","v":0},{"$f":"'11'!F37","v":0}]
[null,3033,{"$f":"'11'!C38","v":0},{"$f":"'11'!D38","v":0},{"$f":"'11'!E38","v":0},{"$f":"'11'!F38","v":0}]
[null,3034,{"$f":"'11'!C39","v":0},{"$f":"'11'!D39","v":0},{"$f":"'11'!E39","v":0},{"$f":"'11'!F39","v":0}]
[null,3035,{"$f":"'11'!C40","v":0},{"$f":"'11'!D40","v":0},{"$f":"'11'!E40","v":0},{"$f":"'11'!F40","v":0}]
[null,3036,{"$f":"'11'!C41","v":0},{"$f":"'11'!D41","v":0},{"$f":"'11'!E41","v":0},{"$f":"'11'!F41","v":0}]
[null,3037,{"$f":"'11'!C42","v":0},{"$f":"'11'!D42","v":0},{"$f":"'11'!E42","v":0},{"$f":"'11'!F42","v":0}]
[null,3038,{"$f":"'11'!C43","v":0},{"$f":"'11'!D43","v":0},{"$f":"'11'!E43","v":0},{"$f":"'11'!F43","v":0}]
[null,3039,{"$f":"'11'!C44","v":0},{"$f":"'11'!D44","v":0},{"$f":"'11'!E44","v":0},{"$f":"'11'!F44","v":0}]
[null,3040,{"$f":"'11'!C45","v":0},{"$f":"'11'!D45","v":0},{"$f":"'11'!E45","v":0},{"$f":"'11'!F45","v":0}]
[null,3041,{"$f":"'11'!C46","v":0},{"$f":"'11'!D46","v":0},{"$f":"'11'!E46","v":0},{"$f":"'11'!F46","v":0}]
[null,3042,{"$f":"'11'!C47","v":0},{"$f":"'11'!D47","v":0},{"$f":"'11'!E47","v":0},{"$f":"'11'!F47","v":0}]
[null,3043,{"$f":"'11'!C48","v":0},{"$f":"'11'!D48","v":0},{"$f":"'11'!E48","v":0},{"$f":"'11'!F48","v":0}]
[null,3044,{"$f":"'11'!C49","v":0},{"$f":"'11'!D49","v":0},{"$f":"'11'!E49","v":0},{"$f":"'11'!F49","v":0}]
[null,3045,{"$f":"'11'!C50","v":0},{"$f":"'11'!D50","v":0},{"$f":"'11'!E50","v":0},{"$f":"'11'!F50","v":0}]
[null,3046,{"$f":"'11'!C51","v":0},{"$f":"'11'!D51","v":0},{"$f":"'11'!E51","v":0},{"$f":"'11'!F51","v":0}]
[null,3047,{"$f":"'11'!C52","v":0},{"$f":"'11'!D52","v":0},{"$f":"'11'!E52","v":0},{"$f":"'11'!F52","v":0}]
[null,3048,{"$f":"'11'!C53","v":0},{"$f":"'11'!D53","v":0},{"$f":"'11'!E53","v":0},{"$f":"'11'!F53","v":0}]
[null,3049,{"$f":"'11'!C54","v":0},{"$f":"'11'!D54","v":0},{"$f":"'11'!E54","v":0},{"$f":"'11'!F54","v":0}]
[null,3050,{"$f":"'11'!C55","v":0},{"$f":"'11'!D55","v":0},{"$f":"'11'!E55","v":0},{"$f":"'11'!F55","v":0}]
[null,3051,{"$f":"'11'!C56","v":0},{"$f":"'11'!D56","v":0},{"$f":"'11'!E56","v":0},{"$f":"'11'!F56","v":0}]
[null,3052,{"$f":"'11'!C57","v":0},{"$f":"'11'!D57","v":0},{"$f":"'11'!E57","v":0},{"$f":"'11'!F57","v":0}]
[null,3053,{"$f":"'11'!C58","v":0},{"$f":"'11'!D58","v":0},{"$f":"'11'!E58","v":0},{"$f":"'11'!F58","v":0}]
[null,3054,{"$f":"'11'!C59","v":0},{"$f":"'11'!D59","v":0},{"$f":"'11'!E59","v":0},{"$f":"'11'!F59","v":0}]
[null,3055,{"$f":"'11'!C60","v":0},{"$f":"'11'!D60","v":0},{"$f":"'11'!E60","v":0},{"$f":"'11'!F60","v":0}]
[null,3056,{"$f":"'11'!C61","v":0},{"$f":"'11'!D61","v":0},{"$f":"'11'!E61","v":0},{"$f":"'11'!F61","v":0}]
[null,3057,{"$f":"'11'!C62","v":0},{"$f":"'11'!D62","v":0},{"$f":"'11'!E62","v":0},{"$f":"'11'!F62","v":0}]
[null,3058,{"$f":"'11'!C63","v":0},{"$f":"'11'!D63","v":0},{"$f":"'11'!E63","v":0},{"$f":"'11'!F63","v":0}]
[null,3059,{"$f":"'11'!C64","v":0},{"$f":"'11'!D64","v":0},{"$f":"'11'!E64","v":0},{"$f":"'11'!F64","v":0}]
[null,3060,{"$f":"'11'!C65","v":0},{"$f":"'11'!D65","v":0},{"$f":"'11'!E65","v":0},{"$f":"'11'!F65","v":0}]
[null,3061,{"$f":"'11'!C66","v":0},{"$f":"'11'!D66","v":0},{"$f":"'11'!E66","v":0},{"$f":"'11'!F66","v":0}]
[null,3062,{"$f":"'11'!C67","v":0},{"$f":"'11'!D67","v":0},{"$f":"'11'!E67","v":0},{"$f":"'11'!F67","v":0}]
[null,3063,{"$f":"'11'!C68","v":0},{"$f":"'11'!D68","v":0},{"$f":"'11'!E68","v":0},{"$f":"'11'!F68","v":0}]
[null,3064,{"$f":"'11'!C69","v":0},{"$f":"'11'!D69","v":0},{"$f":"'11'!E69","v":0},{"$f":"'11'!F69","v":0}]
[null,3065,{"$f":"'11'!C70","v":0},{"$f":"'11'!D70","v":0},{"$f":"'11'!E70","v":0},{"$f":"'11'!F70","v":0}]
[null,3066,{"$f":"'11'!C71","v":0},{"$f":"'11'!D71","v":0},{"$f":"'11'!E71","v":0},{"$f":"'11'!F71","v":0}]
[null,3067,{"$f":"'11'!C72","v":0},{"$f":"'11'!D72","v":0},{"$f":"'11'!E72","v":0},{"$f":"'11'!F72","v":0}]
[null,3068,{"$f":"'11'!C73","v":0},{"$f":"'11'!D73","v":0},{"$f":"'11'!E73","v":0},{"$f":"'11'!F73","v":0}]
[null,3069,{"$f":"'11'!C74","v":0},{"$f":"'11'!D74","v":0},{"$f":"'11'!E74","v":0},{"$f":"'11'!F74","v":0}]
[null,3070,{"$f":"'11'!C75","v":0},{"$f":"'11'!D75","v":0},{"$f":"'11'!E75","v":0},{"$f":"'11'!F75","v":0}]
[null,3071,{"$f":"'11'!C76","v":0},{"$f":"'11'!D76","v":0},{"$f":"'11'!E76","v":0},{"$f":"'11'!F76","v":0}]
[null,3072,{"$f":"'11'!C77","v":0},{"$f":"'11'!D77","v":0},{"$f":"'11'!E77","v":0},{"$f":"'11'!F77","v":0}]
[null,3073,{"$f":"'11'!C78","v":0},{"$f":"'11'!D78","v":0},{"$f":"'11'!E78","v":0},{"$f":"'11'!F78","v":0}]
[null,3074,{"$f":"'11'!C79","v":0},{"$f":"'11'!D79","v":0},{"$f":"'11'!E79","v":0},{"$f":"'11'!F79","v":0}]
[null,3075,{"$f":"'11'!C80","v":0},{"$f":"'11'!D80","v":0},{"$f":"'11'!E80","v":0},{"$f":"'11'!F80","v":0}]
[null,3076,{"$f":"'11'!C81","v":0},{"$f":"'11'!D81","v":0},{"$f":"'11'!E81","v":0},{"$f":"'11'!F81","v":0}]
[null,3077,{"$f":"'11'!C82","v":0},{"$f":"'11'!D82","v":0},{"$f":"'11'!E82","v":0},{"$f":"'11'!F82","v":0}]
[null,3078,{"$f":"'11'!C83","v":0},{"$f":"'11'!D83","v":0},{"$f":"'11'!E83","v":0},{"$f":"'11'!F83","v":0}]
[null,3079,{"$f":"'11'!C84","v":0},{"$f":"'11'!D84","v":0},{"$f":"'11'!E84","v":0},{"$f":"'11'!F84","v":0}]
[null,3080,{"$f":"'11'!C85","v":0},{"$f":"'11'!D85","v":0},{"$f":"'11'!E85","v":0},{"$f":"'11'!F85","v":0}]
[null,3081,{"$f":"'11'!C86","v":0},{"$f":"'11'!D86","v":0},{"$f":"'11'!E86","v":0},{"$f":"'11'!F86","v":0}]
[null,3082,{"$f":"'11'!C87","v":0},{"$f":"'11'!D87","v":0},{"$f":"'11'!E87","v":0},{"$f":"'11'!F87","v":0}]
[null,3083,{"$f":"'11'!C88","v":0},{"$f":"'11'!D88","v":0},{"$f":"'11'!E88","v":0},{"$f":"'11'!F88","v":0}]
[null,3084,{"$f":"'11'!C89","v":0},{"$f":"'11'!D89","v":0},{"$f":"'11'!E89","v":0},{"$f":"'11'!F89","v":0}]
[null,3085,{"$f":"'11'!C90","v":0},{"$f":"'11'!D90","v":0},{"$f":"'11'!E90","v":0},{"$f":"'11'!F90","v":0}]
[null,3086,{"$f":"'11'!C91","v":0},{"$f":"'11'!D91","v":0},{"$f":"'11'!E91","v":0},{"$f":"'11'!F91","v":0}]
[null,3087,{"$f":"'11'!C92","v":0},{"$f":"'11'!D92","v":0},{"$f":"'11'!E92","v":0},{"$f":"'11'!F92","v":0}]
[null,3088,{"$f":"'11'!C93","v":0},{"$f":"'11'!D93","v":0},{"$f":"'11'!E93","v":0},{"$f":"'11'!F93","v":0}]
[null,3089,{"$f":"'11'!C94","v":0},{"$f":"'11'!D94","v":0},{"$f":"'11'!E94","v":0},{"$f":"'11'!F94","v":0}]
[null,3090,{"$f":"'11'!C95","v":0},{"$f":"'11'!D95","v":0},{"$f":"'11'!E95","v":0},{"$f":"'11'!F95","v":0}]
[null,3091,{"$f":"'11'!C96","v":0},{"$f":"'11'!D96","v":0},{"$f":"'11'!E96","v":0},{"$f":"'11'!F96","v":0}]
[null,3092,{"$f":"'11'!C97","v":0},{"$f":"'11'!D97","v":0},{"$f":"'11'!E97","v":0},{"$f":"'11'!F97","v":0}]
[null,3093,{"$f":"'11'!C98","v":0},{"$f":"'11'!D98","v":0},{"$f":"'11'!E98","v":0},{"$f":"'11'!F98","v":0}]
[null,3094,{"$f":"'11'!C99","v":0},{"$f":"'11'!D99","v":0},{"$f":"'11'!E99","v":0},{"$f":"'11'!F99","v":0}]
[null,3095,{"$f":"'11'!C100","v":0},{"$f":"'11'!D100","v":0},{"$f":"'11'!E100","v":0},{"$f":"'11'!F100","v":0}]
[null,3096,{"$f":"'11'!C101","v":0},{"$f":"'11'!D101","v":0},{"$f":"'11'!E101","v":0},{"$f":"'11'!F101","v":0}]
[null,3097,{"$f":"'11'!C102","v":0},{"$f":"'11'!D102","v":0},{"$f":"'11'!E102","v":0},{"$f":"'11'!F102","v":0}]
[null,3098,{"$f":"'11'!C103","v":0},{"$f":"'11'!D103","v":0},{"$f":"'11'!E103","v":0},{"$f":"'11'!F103","v":0}]
[null,3099,{"$f":"'11'!C104","v":0},{"$f":"'11'!D104","v":0},{"$f":"'11'!E104","v":0},{"$f":"'11'!F104","v":0}]
[null,3100,{"$f":"'11'!C105","v":0},{"$f":"'11'!D105","v":0},{"$f":"'11'!E105","v":0},{"$f":"'11'!F105","v":0}]
[null,3101,{"$f":"'11'!C106","v":0},{"$f":"'11'!D106","v":0},{"$f":"'11'!E106","v":0},{"$f":"'11'!F106","v":0}]
[null,3102,{"$f":"'11'!C107","v":0},{"$f":"'11'!D107","v":0},{"$f":"'11'!E107","v":0},{"$f":"'11'!F107","v":0}]
[null,3103,{"$f":"'11'!C108","v":0},{"$f":"'11'!D108","v":0},{"$f":"'11'!E108","v":0},{"$f":"'11'!F108","v":0}]
[null,3104,{"$f":"'11'!C109","v":0},{"$f":"'11'!D109","v":0},{"$f":"'11'!E109","v":0},{"$f":"'11'!F109","v":0}]
[null,3105,{"$f":"'11'!C110","v":0},{"$f":"'11'!D110","v":0},{"$f":"'11'!E110","v":0},{"$f":"'11'!F110","v":0}]
[null,3106,{"$f":"'11'!C111","v":0},{"$f":"'11'!D111","v":0},{"$f":"'11'!E111","v":0},{"$f":"'11'!F111","v":0}]
[null,3107,{"$f":"'11'!C112","v":0},{"$f":"'11'!D112","v":0},{"$f":"'11'!E112","v":0},{"$f":"'11'!F112","v":0}]
[null,3108,{"$f":"'11'!C113","v":0},{"$f":"'11'!D113","v":0},{"$f":"'11'!E113","v":0},{"$f":"'11'!F113","v":0}]
[null,3109,{"$f":"'11'!C114","v":0},{"$f":"'11'!D114","v":0},{"$f":"'11'!E114","v":0},{"$f":"'11'!F114","v":0}]
[null,3110,{"$f":"'11'!C115","v":0},{"$f":"'11'!D115","v":0},{"$f":"'11'!E115","v":0},{"$f":"'11'!F115","v":0}]
[null,3111,{"$f":"'11'!C116","v":0},{"$f":"'11'!D116","v":0},{"$f":"'11'!E116","v":0},{"$f":"'11'!F116","v":0}]
[null,3112,{"$f":"'11'!C117","v":0},{"$f":"'11'!D117","v":0},{"$f":"'11'!E117","v":0},{"$f":"'11'!F117","v":0}]
[null,3113,{"$f":"'11'!C118","v":0},{"$f":"'11'!D118","v":0},{"$f":"'11'!E118","v":0},{"$f":"'11'!F118","v":0}]
[null,3114,{"$f":"'11'!C119","v":0},{"$f":"'11'!D119","v":0},{"$f":"'11'!E119","v":0},{"$f":"'11'!F119","v":0}]
[null,3115,{"$f":"'11'!C120","v":0},{"$f":"'11'!D120","v":0},{"$f":"'11'!E120","v":0},{"$f":"'11'!F120","v":0}]
[null,3116,{"$f":"'11'!C121","v":0},{"$f":"'11'!D121","v":0},{"$f":"'11'!E121","v":0},{"$f":"'11'!F121","v":0}]
[null,3117,{"$f":"'11'!C122","v":0},{"$f":"'11'!D122","v":0},{"$f":"'11'!E122","v":0},{"$f":"'11'!F122","v":0}]
[null,3118,{"$f":"'11'!C123","v":0},{"$f":"'11'!D123","v":0},{"$f":"'11'!E123","v":0},{"$f":"'11'!F123","v":0}]
[null,3119,{"$f":"'11'!C124","v":0},{"$f":"'11'!D124","v":0},{"$f":"'11'!E124","v":0},{"$f":"'11'!F124","v":0}]
[null,3120,{"$f":"'11'!C125","v":0},{"$f":"'11'!D125","v":0},{"$f":"'11'!E125","v":0},{"$f":"'11'!F125","v":0}]
[null,3121,{"$f":"'11'!C126","v":0},{"$f":"'11'!D126","v":0},{"$f":"'11'!E126","v":0},{"$f":"'11'!F126","v":0}]
[null,3122,{"$f":"'11'!C127","v":0},{"$f":"'11'!D127","v":0},{"$f":"'11'!E127","v":0},{"$f":"'11'!F127","v":0}]
[null,3123,{"$f":"'11'!C128","v":0},{"$f":"'11'!D128","v":0},{"$f":"'11'!E128","v":0},{"$f":"'11'!F128","v":0}]
[null,3124,{"$f":"'11'!C129","v":0},{"$f":"'11'!D129","v":0},{"$f":"'11'!E129","v":0},{"$f":"'11'!F129","v":0}]
[null,3125,{"$f":"'11'!C130","v":0},{"$f":"'11'!D130","v":0},{"$f":"'11'!E130","v":0},{"$f":"'11'!F130","v":0}]
[null,3126,{"$f":"'11'!C131","v":0},{"$f":"'11'!D131","v":0},{"$f":"'11'!E131","v":0},{"$f":"'11'!F131","v":0}]
[null,3127,{"$f":"'11'!C132","v":0},{"$f":"'11'!D132","v":0},{"$f":"'11'!E132","v":0},{"$f":"'11'!F132","v":0}]
[null,3128,{"$f":"'11'!C133","v":0},{"$f":"'11'!D133","v":0},{"$f":"'11'!E133","v":0},{"$f":"'11'!F133","v":0}]
[null,3129,{"$f":"'11'!C134","v":0},{"$f":"'11'!D134","v":0},{"$f":"'11'!E134","v":0},{"$f":"'11'!F134","v":0}]
[null,3130,{"$f":"'11'!C135","v":0},{"$f":"'11'!D135","v":0},{"$f":"'11'!E135","v":0},{"$f":"'11'!F135","v":0}]
[null,3131,{"$f":"'11'!C136","v":0},{"$f":"'11'!D136","v":0},{"$f":"'11'!E136","v":0},{"$f":"'11'!F136","v":0}]
[null,3132,{"$f":"'11'!C137","v":0},{"$f":"'11'!D137","v":0},{"$f":"'11'!E137","v":0},{"$f":"'11'!F137","v":0}]
[null,3133,{"$f":"'11'!C138","v":0},{"$f":"'11'!D138","v":0},{"$f":"'11'!E138","v":0},{"$f":"'11'!F138","v":0}]
[null,3134,{"$f":"'11'!C139","v":0},{"$f":"'11'!D139","v":0},{"$f":"'11'!E139","v":0},{"$f":"'11'!F139","v":0}]
[null,3135,{"$f":"'11'!C140","v":0},{"$f":"'11'!D140","v":0},{"$f":"'11'!E140","v":0},{"$f":"'11'!F140","v":0}]
[null,3136,{"$f":"'11'!C141","v":0},{"$f":"'11'!D141","v":0},{"$f":"'11'!E141","v":0},{"$f":"'11'!F141","v":0}]
[null,3137,{"$f":"'11'!C142","v":0},{"$f":"'11'!D142","v":0},{"$f":"'11'!E142","v":0},{"$f":"'11'!F142","v":0}]
[null,3138,{"$f":"'11'!C143","v":0},{"$f":"'11'!D143","v":0},{"$f":"'11'!E143","v":0},{"$f":"'11'!F143","v":0}]
[null,3139,{"$f":"'11'!C144","v":0},{"$f":"'11'!D144","v":0},{"$f":"'11'!E144","v":0},{"$f":"'11'!F144","v":0}]
[null,3140,{"$f":"'11'!C145","v":0},{"$f":"'11'!D145","v":0},{"$f":"'11'!E145","v":0},{"$f":"'11'!F145","v":0}]
[null,3141,{"$f":"'11'!C146","v":0},{"$f":"'11'!D146","v":0},{"$f":"'11'!E146","v":0},{"$f":"'11'!F146","v":0}]
[null,3142,{"$f":"'11'!C147","v":0},{"$f":"'11'!D147","v":0},{"$f":"'11'!E147","v":0},{"$f":"'11'!F147","v":0}]
[null,3143,{"$f":"'11'!C148","v":0},{"$f":"'11'!D148","v":0},{"$f":"'11'!E148","v":0},{"$f":"'11'!F148","v":0}]
[null,3144,{"$f":"'11'!C149","v":0},{"$f":"'11'!D149","v":0},{"$f":"'11'!E149","v":0},{"$f":"'11'!F149","v":0}]
[null,3145,{"$f":"'11'!C150","v":0},{"$f":"'11'!D150","v":0},{"$f":"'11'!E150","v":0},{"$f":"'11'!F150","v":0}]
[null,3146,{"$f":"'11'!C151","v":0},{"$f":"'11'!D151","v":0},{"$f":"'11'!E151","v":0},{"$f":"'11'!F151","v":0}]
[null,3147,{"$f":"'11'!C152","v":0},{"$f":"'11'!D152","v":0},{"$f":"'11'!E152","v":0},{"$f":"'11'!F152","v":0}]
[null,3148,{"$f":"'11'!C153","v":0},{"$f":"'11'!D153","v":0},{"$f":"'11'!E153","v":0},{"$f":"'11'!F153","v":0}]
[null,3149,{"$f":"'11'!C154","v":0},{"$f":"'11'!D154","v":0},{"$f":"'11'!E154","v":0},{"$f":"'11'!F154","v":0}]
[null,3150,{"$f":"'11'!C155","v":0},{"$f":"'11'!D155","v":0},{"$f":"'11'!E155","v":0},{"$f":"'11'!F155","v":0}]
[null,3151,{"$f":"'11'!C156","v":0},{"$f":"'11'!D156","v":0},{"$f":"'11'!E156","v":0},{"$f":"'11'!F156","v":0}]
[null,3152,{"$f":"'11'!C157","v":0},{"$f":"'11'!D157","v":0},{"$f":"'11'!E157","v":0},{"$f":"'11'!F157","v":0}]
[null,3153,{"$f":"'11'!C158","v":0},{"$f":"'11'!D158","v":0},{"$f":"'11'!E158","v":0},{"$f":"'11'!F158","v":0}]
[null,3154,{"$f":"'11'!C159","v":0},{"$f":"'11'!D159","v":0},{"$f":"'11'!E159","v":0},{"$f":"'11'!F159","v":0}]
[null,3155,{"$f":"'11'!C160","v":0},{"$f":"'11'!D160","v":0},{"$f":"'11'!E160","v":0},{"$f":"'11'!F160","v":0}]
[null,3156,{"$f":"'11'!C161","v":0},{"$f":"'11'!D161","v":0},{"$f":"'11'!E161","v":0},{"$f":"'11'!F161","v":0}]
[null,3157,{"$f":"'11'!C162","v":0},{"$f":"'11'!D162","v":0},{"$f":"'11'!E162","v":0},{"$f":"'11'!F162","v":0}]
[null,3158,{"$f":"'11'!C163","v":0},{"$f":"'11'!D163","v":0},{"$f":"'11'!E163","v":0},{"$f":"'11'!F163","v":0}]
[null,3159,{"$f":"'11'!C164","v":0},{"$f":"'11'!D164","v":0},{"$f":"'11'!E164","v":0},{"$f":"'11'!F164","v":0}]
[null,3160,{"$f":"'11'!C165","v":0},{"$f":"'11'!D165","v":0},{"$f":"'11'!E165","v":0},{"$f":"'11'!F165","v":0}]
[null,3161,{"$f":"'11'!C166","v":0},{"$f":"'11'!D166","v":0},{"$f":"'11'!E166","v":0},{"$f":"'11'!F166","v":0}]
[null,3162,{"$f":"'11'!C167","v":0},{"$f":"'11'!D167","v":0},{"$f":"'11'!E167","v":0},{"$f":"'11'!F167","v":0}]
[null,3163,{"$f":"'11'!C168","v":0},{"$f":"'11'!D168","v":0},{"$f":"'11'!E168","v":0},{"$f":"'11'!F168","v":0}]
[null,3164,{"$f":"'11'!C169","v":0},{"$f":"'11'!D169","v":0},{"$f":"'11'!E169","v":0},{"$f":"'11'!F169","v":0}]
[null,3165,{"$f":"'11'!C170","v":0},{"$f":"'11'!D170","v":0},{"$f":"'11'!E170","v":0},{"$f":"'11'!F170","v":0}]
[null,3166,{"$f":"'11'!C171","v":0},{"$f":"'11'!D171","v":0},{"$f":"'11'!E171","v":0},{"$f":"'11'!F171","v":0}]
[null,3167,{"$f":"'11'!C172","v":0},{"$f":"'11'!D172","v":0},{"$f":"'11'!E172","v":0},{"$f":"'11'!F172","v":0}]
[null,3168,{"$f":"'11'!C173","v":0},{"$f":"'11'!D173","v":0},{"$f":"'11'!E173","v":0},{"$f":"'11'!F173","v":0}]
[null,3169,{"$f":"'11'!C174","v":0},{"$f":"'11'!D174","v":0},{"$f":"'11'!E174","v":0},{"$f":"'11'!F174","v":0}]
[null,3170,{"$f":"'11'!C175","v":0},{"$f":"'11'!D175","v":0},{"$f":"'11'!E175","v":0},{"$f":"'11'!F175","v":0}]
[null,3171,{"$f":"'11'!C176","v":0},{"$f":"'11'!D176","v":0},{"$f":"'11'!E176","v":0},{"$f":"'11'!F176","v":0}]
[null,3172,{"$f":"'11'!C177","v":0},{"$f":"'11'!D177","v":0},{"$f":"'11'!E177","v":0},{"$f":"'11'!F177","v":0}]
[null,3173,{"$f":"'11'!C178","v":0},{"$f":"'11'!D178","v":0},{"$f":"'11'!E178","v":0},{"$f":"'11'!F178","v":0}]
[null,3174,{"$f":"'11'!C179","v":0},{"$f":"'11'!D179","v":0},{"$f":"'11'!E179","v":0},{"$f":"'11'!F179","v":0}]
[null,3175,{"$f":"'11'!C180","v":0},{"$f":"'11'!D180","v":0},{"$f":"'11'!E180","v":0},{"$f":"'11'!F180","v":0}]
[null,3176,{"$f":"'11'!C181","v":0},{"$f":"'11'!D181","v":0},{"$f":"'11'!E181","v":0},{"$f":"'11'!F181","v":0}]
[null,3177,{"$f":"'11'!C182","v":0},{"$f":"'11'!D182","v":0},{"$f":"'11'!E182","v":0},{"$f":"'11'!F182","v":0}]
[null,3178,{"$f":"'11'!C183","v":0},{"$f":"'11'!D183","v":0},{"$f":"'11'!E183","v":0},{"$f":"'11'!F183","v":0}]
[null,3179,{"$f":"'11'!C184","v":0},{"$f":"'11'!D184","v":0},{"$f":"'11'!E184","v":0},{"$f":"'11'!F184","v":0}]
[null,3180,{"$f":"'11'!C185","v":0},{"$f":"'11'!D185","v":0},{"$f":"'11'!E185","v":0},{"$f":"'11'!F185","v":0}]
[null,3181,{"$f":"'11'!C186","v":0},{"$f":"'11'!D186","v":0},{"$f":"'11'!E186","v":0},{"$f":"'11'!F186","v":0}]
[null,3182,{"$f":"'11'!C187","v":0},{"$f":"'11'!D187","v":0},{"$f":"'11'!E187","v":0},{"$f":"'11'!F187","v":0}]
[null,3183,{"$f":"'11'!C188","v":0},{"$f":"'11'!D188","v":0},{"$f":"'11'!E188","v":0},{"$f":"'11'!F188","v":0}]
[null,3184,{"$f":"'11'!C189","v":0},{"$f":"'11'!D189","v":0},{"$f":"'11'!E189","v":0},{"$f":"'11'!F189","v":0}]
[null,3185,{"$f":"'11'!C190","v":0},{"$f":"'11'!D190","v":0},{"$f":"'11'!E190","v":0},{"$f":"'11'!F190","v":0}]
[null,3186,{"$f":"'11'!C191","v":0},{"$f":"'11'!D191","v":0},{"$f":"'11'!E191","v":0},{"$f":"'11'!F191","v":0}]
[null,3187,{"$f":"'11'!C192","v":0},{"$f":"'11'!D192","v":0},{"$f":"'11'!E192","v":0},{"$f":"'11'!F192","v":0}]
[null,3188,{"$f":"'11'!C193","v":0},{"$f":"'11'!D193","v":0},{"$f":"'11'!E193","v":0},{"$f":"'11'!F193","v":0}]
[null,3189,{"$f":"'11'!C194","v":0},{"$f":"'11'!D194","v":0},{"$f":"'11'!E194","v":0},{"$f":"'11'!F194","v":0}]
[null,3190,{"$f":"'11'!C195","v":0},{"$f":"'11'!D195","v":0},{"$f":"'11'!E195","v":0},{"$f":"'11'!F195","v":0}]
[null,3191,{"$f":"'11'!C196","v":0},{"$f":"'11'!D196","v":0},{"$f":"'11'!E196","v":0},{"$f":"'11'!F196","v":0}]
[null,3192,{"$f":"'11'!C197","v":0},{"$f":"'11'!D197","v":0},{"$f":"'11'!E197","v":0},{"$f":"'11'!F197","v":0}]
[null,3193,{"$f":"'11'!C198","v":0},{"$f":"'11'!D198","v":0},{"$f":"'11'!E198","v":0},{"$f":"'11'!F198","v":0}]
[null,3194,{"$f":"'11'!C199","v":0},{"$f":"'11'!D199","v":0},{"$f":"'11'!E199","v":0},{"$f":"'11'!F199","v":0}]
[null,3195,{"$f":"'11'!C200","v":0},{"$f":"'11'!D200","v":0},{"$f":"'11'!E200","v":0},{"$f":"'11'!F200","v":0}]
[null,3196,{"$f":"'11'!C201","v":0},{"$f":"'11'!D201","v":0},{"$f":"'11'!E201","v":0},{"$f":"'11'!F201","v":0}]
[null,3197,{"$f":"'11'!C202","v":0},{"$f":"'11'!D202","v":0},{"$f":"'11'!E202","v":0},{"$f":"'11'!F202","v":0}]
[null,3198,{"$f":"'11'!C203","v":0},{"$f":"'11'!D203","v":0},{"$f":"'11'!E203","v":0},{"$f":"'11'!F203","v":0}]
[null,3199,{"$f":"'11'!C204","v":0},{"$f":"'11'!D204","v":0},{"$f":"'11'!E204","v":0},{"$f":"'11'!F204","v":0}]
[null,3200,{"$f":"'11'!C205","v":0},{"$f":"'11'!D205","v":0},{"$f":"'11'!E205","v":0},{"$f":"'11'!F205","v":0}]
[null,3201,{"$f":"'11'!C206","v":0},{"$f":"'11'!D206","v":0},{"$f":"'11'!E206","v":0},{"$f":"'11'!F206","v":0}]
[null,3202,{"$f":"'11'!C207","v":0},{"$f":"'11'!D207","v":0},{"$f":"'11'!E207","v":0},{"$f":"'11'!F207","v":0}]
[null,3203,{"$f":"'11'!C208","v":0},{"$f":"'11'!D208","v":0},{"$f":"'11'!E208","v":0},{"$f":"'11'!F208","v":0}]
[null,3204,{"$f":"'11'!C209","v":0},{"$f":"'11'!D209","v":0},{"$f":"'11'!E209","v":0},{"$f":"'11'!F209","v":0}]
[null,3205,{"$f":"'11'!C210","v":0},{"$f":"'11'!D210","v":0},{"$f":"'11'!E210","v":0},{"$f":"'11'!F210","v":0}]
[null,3206,{"$f":"'11'!C211","v":0},{"$f":"'11'!D211","v":0},{"$f":"'11'!E211","v":0},{"$f":"'11'!F211","v":0}]
[null,3207,{"$f":"'11'!C212","v":0},{"$f":"'11'!D212","v":0},{"$f":"'11'!E212","v":0},{"$f":"'11'!F212","v":0}]
[null,3208,{"$f":"'11'!C213","v":0},{"$f":"'11'!D213","v":0},{"$f":"'11'!E213","v":0},{"$f":"'11'!F213","v":0}]
[null,3209,{"$f":"'11'!C214","v":0},{"$f":"'11'!D214","v":0},{"$f":"'11'!E214","v":0},{"$f":"'11'!F214","v":0}]
[null,3210,{"$f":"'11'!C215","v":0},{"$f":"'11'!D215","v":0},{"$f":"'11'!E215","v":0},{"$f":"'11'!F215","v":0}]
[null,3211,{"$f":"'11'!C216","v":0},{"$f":"'11'!D216","v":0},{"$f":"'11'!E216","v":0},{"$f":"'11'!F216","v":0}]
[null,3212,{"$f":"'11'!C217","v":0},{"$f":"'11'!D217","v":0},{"$f":"'11'!E217","v":0},{"$f":"'11'!F217","v":0}]
[null,3213,{"$f":"'11'!C218","v":0},{"$f":"'11'!D218","v":0},{"$f":"'11'!E218","v":0},{"$f":"'11'!F218","v":0}]
[null,3214,{"$f":"'11'!C219","v":0},{"$f":"'11'!D219","v":0},{"$f":"'11'!E219","v":0},{"$f":"'11'!F219","v":0}]
[null,3215,{"$f":"'11'!C220","v":0},{"$f":"'11'!D220","v":0},{"$f":"'11'!E220","v":0},{"$f":"'11'!F220","v":0}]
[null,3216,{"$f":"'11'!C221","v":0},{"$f":"'11'!D221","v":0},{"$f":"'11'!E221","v":0},{"$f":"'11'!F221","v":0}]
[null,3217,{"$f":"'11'!C222","v":0},{"$f":"'11'!D222","v":0},{"$f":"'11'!E222","v":0},{"$f":"'11'!F222","v":0}]
[null,3218,{"$f":"'11'!C223","v":0},{"$f":"'11'!D223","v":0},{"$f":"'11'!E223","v":0},{"$f":"'11'!F223","v":0}]
[null,3219,{"$f":"'11'!C224","v":0},{"$f":"'11'!D224","v":0},{"$f":"'11'!E224","v":0},{"$f":"'11'!F224","v":0}]
[null,3220,{"$f":"'11'!C225","v":0},{"$f":"'11'!D225","v":0},{"$f":"'11'!E225","v":0},{"$f":"'11'!F225","v":0}]
[null,3221,{"$f":"'11'!C226","v":0},{"$f":"'11'!D226","v":0},{"$f":"'11'!E226","v":0},{"$f":"'11'!F226","v":0}]
[null,3222,{"$f":"'11'!C227","v":0},{"$f":"'11'!D227","v":0},{"$f":"'11'!E227","v":0},{"$f":"'11'!F227","v":0}]
[null,3223,{"$f":"'11'!C228","v":0},{"$f":"'11'!D228","v":0},{"$f":"'11'!E228","v":0},{"$f":"'11'!F228","v":0}]
[null,3224,{"$f":"'11'!C229","v":0},{"$f":"'11'!D229","v":0},{"$f":"'11'!E229","v":0},{"$f":"'11'!F229","v":0}]
[null,3225,{"$f":"'11'!C230","v":0},{"$f":"'11'!D230","v":0},{"$f":"'11'!E230","v":0},{"$f":"'11'!F230","v":0}]
[null,3226,{"$f":"'11'!C231","v":0},{"$f":"'11'!D231","v":0},{"$f":"'11'!E231","v":0},{"$f":"'11'!F231","v":0}]
[null,3227,{"$f":"'11'!C232","v":0},{"$f":"'11'!D232","v":0},{"$f":"'11'!E232","v":0},{"$f":"'11'!F232","v":0}]
[null,3228,{"$f":"'11'!C233","v":0},{"$f":"'11'!D233","v":0},{"$f":"'11'!E233","v":0},{"$f":"'11'!F233","v":0}]
[null,3229,{"$f":"'11'!C234","v":0},{"$f":"'11'!D234","v":0},{"$f":"'11'!E234","v":0},{"$f":"'11'!F234","v":0}]
[null,3230,{"$f":"'11'!C235","v":0},{"$f":"'11'!D235","v":0},{"$f":"'11'!E235","v":0},{"$f":"'11'!F235","v":0}]
[null,3231,{"$f":"'11'!C236","v":0},{"$f":"'11'!D236","v":0},{"$f":"'11'!E236","v":0},{"$f":"'11'!F236","v":0}]
[null,3232,{"$f":"'11'!C237","v":0},{"$f":"'11'!D237","v":0},{"$f":"'11'!E237","v":0},{"$f":"'11'!F237","v":0}]
[null,3233,{"$f":"'11'!C238","v":0},{"$f":"'11'!D238","v":0},{"$f":"'11'!E238","v":0},{"$f":"'11'!F238","v":0}]
[null,3234,{"$f":"'11'!C239","v":0},{"$f":"'11'!D239","v":0},{"$f":"'11'!E239","v":0},{"$f":"'11'!F239","v":0}]
[null,3235,{"$f":"'11'!C240","v":0},{"$f":"'11'!D240","v":0},{"$f":"'11'!E240","v":0},{"$f":"'11'!F240","v":0}]
[null,3236,{"$f":"'11'!C241","v":0},{"$f":"'11'!D241","v":0},{"$f":"'11'!E241","v":0},{"$f":"'11'!F241","v":0}]
[null,3237,{"$f":"'11'!C242","v":0},{"$f":"'11'!D242","v":0},{"$f":"'11'!E242","v":0},{"$f":"'11'!F242","v":0}]
[null,3238,{"$f":"'11'!C243","v":0},{"$f":"'11'!D243","v":0},{"$f":"'11'!E243","v":0},{"$f":"'11'!F243","v":0}]
[null,3239,{"$f":"'11'!C244","v":0},{"$f":"'11'!D244","v":0},{"$f":"'11'!E244","v":0},{"$f":"'11'!F244","v":0}]
[null,3240,{"$f":"'11'!C245","v":0},{"$f":"'11'!D245","v":0},{"$f":"'11'!E245","v":0},{"$f":"'11'!F245","v":0}]
[null,3241,{"$f":"'11'!C246","v":0},{"$f":"'11'!D246","v":0},{"$f":"'11'!E246","v":0},{"$f":"'11'!F246","v":0}]
[null,3242,{"$f":"'11'!C247","v":0},{"$f":"'11'!D247","v":0},{"$f":"'11'!E247","v":0},{"$f":"'11'!F247","v":0}]
[null,3243,{"$f":"'11'!C248","v":0},{"$f":"'11'!D248","v":0},{"$f":"'11'!E248","v":0},{"$f":"'11'!F248","v":0}]
[null,3244,{"$f":"'11'!C249","v":0},{"$f":"'11'!D249","v":0},{"$f":"'11'!E249","v":0},{"$f":"'11'!F249","v":0}]
[null,3245,{"$f":"'11'!C250","v":0},{"$f":"'11'!D250","v":0},{"$f":"'11'!E250","v":0},{"$f":"'11'!F250","v":0}]
[null,3246,{"$f":"'11'!C251","v":0},{"$f":"'11'!D251","v":0},{"$f":"'11'!E251","v":0},{"$f":"'11'!F251","v":0}]
[null,3247,{"$f":"'11'!C252","v":0},{"$f":"'11'!D252","v":0},{"$f":"'11'!E252","v":0},{"$f":"'11'!F252","v":0}]
[null,3248,{"$f":"'11'!C253","v":0},{"$f":"'11'!D253","v":0},{"$f":"'11'!E253","v":0},{"$f":"'11'!F253","v":0}]
[null,3249,{"$f":"'11'!C254","v":0},{"$f":"'11'!D254","v":0},{"$f":"'11'!E254","v":0},{"$f":"'11'!F254","v":0}]
[null,3250,{"$f":"'11'!C255","v":0},{"$f":"'11'!D255","v":0},{"$f":"'11'!E255","v":0},{"$f":"'11'!F255","v":0}]
[null,3251,{"$f":"'11'!C256","v":0},{"$f":"'11'!D256","v":0},{"$f":"'11'!E256","v":0},{"$f":"'11'!F256","v":0}]
[null,3252,{"$f":"'11'!C257","v":0},{"$f":"'11'!D257","v":0},{"$f":"'11'!E257","v":0},{"$f":"'11'!F257","v":0}]
[null,3253,{"$f":"'11'!C258","v":0},{"$f":"'11'!D258","v":0},{"$f":"'11'!E258","v":0},{"$f":"'11'!F258","v":0}]
[null,3254,{"$f":"'11'!C259","v":0},{"$f":"'11'!D259","v":0},{"$f":"'11'!E259","v":0},{"$f":"'11'!F259","v":0}]
[null,3255,{"$f":"'11'!C260","v":0},{"$f":"'11'!D260","v":0},{"$f":"'11'!E260","v":0},{"$f":"'11'!F260","v":0}]
[null,3256,{"$f":"'11'!C261","v":0},{"$f":"'11'!D261","v":0},{"$f":"'11'!E261","v":0},{"$f":"'11'!F261","v":0}]
[null,3257,{"$f":"'11'!C262","v":0},{"$f":"'11'!D262","v":0},{"$f":"'11'!E262","v":0},{"$f":"'11'!F262","v":0}]
[null,3258,{"$f":"'11'!C263","v":0},{"$f":"'11'!D263","v":0},{"$f":"'11'!E263","v":0},{"$f":"'11'!F263","v":0}]
[null,3259,{"$f":"'11'!C264","v":0},{"$f":"'11'!D264","v":0},{"$f":"'11'!E264","v":0},{"$f":"'11'!F264","v":0}]
[null,3260,{"$f":"'11'!C265","v":0},{"$f":"'11'!D265","v":0},{"$f":"'11'!E265","v":0},{"$f":"'11'!F265","v":0}]
[null,3261,{"$f":"'11'!C266","v":0},{"$f":"'11'!D266","v":0},{"$f":"'11'!E266","v":0},{"$f":"'11'!F266","v":0}]
[null,3262,{"$f":"'11'!C267","v":0},{"$f":"'11'!D267","v":0},{"$f":"'11'!E267","v":0},{"$f":"'11'!F267","v":0}]
[null,3263,{"$f":"'11'!C268","v":0},{"$f":"'11'!D268","v":0},{"$f":"'11'!E268","v":0},{"$f":"'11'!F268","v":0}]
[null,3264,{"$f":"'11'!C269","v":0},{"$f":"'11'!D269","v":0},{"$f":"'11'!E269","v":0},{"$f":"'11'!F269","v":0}]
[null,3265,{"$f":"'11'!C270","v":0},{"$f":"'11'!D270","v":0},{"$f":"'11'!E270","v":0},{"$f":"'11'!F270","v":0}]
[null,3266,{"$f":"'11'!C271","v":0},{"$f":"'11'!D271","v":0},{"$f":"'11'!E271","v":0},{"$f":"'11'!F271","v":0}]
[null,3267,{"$f":"'11'!C272","v":0},{"$f":"'11'!D272","v":0},{"$f":"'11'!E272","v":0},{"$f":"'11'!F272","v":0}]
[null,3268,{"$f":"'11'!C273","v":0},{"$f":"'11'!D273","v":0},{"$f":"'11'!E273","v":0},{"$f":"'11'!F273","v":0}]
[null,3269,{"$f":"'11'!C274","v":0},{"$f":"'11'!D274","v":0},{"$f":"'11'!E274","v":0},{"$f":"'11'!F274","v":0}]
[null,3270,{"$f":"'11'!C275","v":0},{"$f":"'11'!D275","v":0},{"$f":"'11'!E275","v":0},{"$f":"'11'!F275","v":0}]
[null,3271,{"$f":"'11'!C276","v":0},{"$f":"'11'!D276","v":0},{"$f":"'11'!E276","v":0},{"$f":"'11'!F276","v":0}]
[null,3272,{"$f":"'11'!C277","v":0},{"$f":"'11'!D277","v":0},{"$f":"'11'!E277","v":0},{"$f":"'11'!F277","v":0}]
[null,3273,{"$f":"'11'!C278","v":0},{"$f":"'11'!D278","v":0},{"$f":"'11'!E278","v":0},{"$f":"'11'!F278","v":0}]
[null,3274,{"$f":"'11'!C279","v":0},{"$f":"'11'!D279","v":0},{"$f":"'11'!E279","v":0},{"$f":"'11'!F279","v":0}]
[null,3275,{"$f":"'11'!C280","v":0},{"$f":"'11'!D280","v":0},{"$f":"'11'!E280","v":0},{"$f":"'11'!F280","v":0}]
[null,3276,{"$f":"'11'!C281","v":0},{"$f":"'11'!D281","v":0},{"$f":"'11'!E281","v":0},{"$f":"'11'!F281","v":0}]
[null,3277,{"$f":"'11'!C282","v":0},{"$f":"'11'!D282","v":0},{"$f":"'11'!E282","v":0},{"$f":"'11'!F282","v":0}]
[null,3278,{"$f":"'11'!C283","v":0},{"$f":"'11'!D283","v":0},{"$f":"'11'!E283","v":0},{"$f":"'11'!F283","v":0}]
[null,3279,{"$f":"'11'!C284","v":0},{"$f":"'11'!D284","v":0},{"$f":"'11'!E284","v":0},{"$f":"'11'!F284","v":0}]
[null,3280,{"$f":"'11'!C285","v":0},{"$f":"'11'!D285","v":0},{"$f":"'11'!E285","v":0},{"$f":"'11'!F285","v":0}]
[null,3281,{"$f":"'11'!C286","v":0},{"$f":"'11'!D286","v":0},{"$f":"'11'!E286","v":0},{"$f":"'11'!F286","v":0}]
[null,3282,{"$f":"'11'!C287","v":0},{"$f":"'11'!D287","v":0},{"$f":"'11'!E287","v":0},{"$f":"'11'!F287","v":0}]
[null,3283,{"$f":"'11'!C288","v":0},{"$f":"'11'!D288","v":0},{"$f":"'11'!E288","v":0},{"$f":"'11'!F288","v":0}]
[null,3284,{"$f":"'11'!C289","v":0},{"$f":"'11'!D289","v":0},{"$f":"'11'!E289","v":0},{"$f":"'11'!F289","v":0}]
[null,3285,{"$f":"'11'!C290","v":0},{"$f":"'11'!D290","v":0},{"$f":"'11'!E290","v":0},{"$f":"'11'!F290","v":0}]
[null,3286,{"$f":"'11'!C291","v":0},{"$f":"'11'!D291","v":0},{"$f":"'11'!E291","v":0},{"$f":"'11'!F291","v":0}]
[null,3287,{"$f":"'11'!C292","v":0},{"$f":"'11'!D292","v":0},{"$f":"'11'!E292","v":0},{"$f":"'11'!F292","v":0}]
[null,3288,{"$f":"'11'!C293","v":0},{"$f":"'11'!D293","v":0},{"$f":"'11'!E293","v":0},{"$f":"'11'!F293","v":0}]
[null,3289,{"$f":"'11'!C294","v":0},{"$f":"'11'!D294","v":0},{"$f":"'11'!E294","v":0},{"$f":"'11'!F294","v":0}]
[null,3290,{"$f":"'11'!C295","v":0},{"$f":"'11'!D295","v":0},{"$f":"'11'!E295","v":0},{"$f":"'11'!F295","v":0}]
[null,3291,{"$f":"'11'!C296","v":0},{"$f":"'11'!D296","v":0},{"$f":"'11'!E296","v":0},{"$f":"'11'!F296","v":0}]
[null,3292,{"$f":"'11'!C297","v":0},{"$f":"'11'!D297","v":0},{"$f":"'11'!E297","v":0},{"$f":"'11'!F297","v":0}]
[null,3293,{"$f":"'11'!C298","v":0},{"$f":"'11'!D298","v":0},{"$f":"'11'!E298","v":0},{"$f":"'11'!F298","v":0}]
[null,3294,{"$f":"'11'!C299","v":0},{"$f":"'11'!D299","v":0},{"$f":"'11'!E299","v":0},{"$f":"'11'!F299","v":0}]
[null,3295,{"$f":"'11'!C300","v":0},{"$f":"'11'!D300","v":0},{"$f":"'11'!E300","v":0},{"$f":"'11'!F300","v":0}]
[null,3296,{"$f":"'11'!C301","v":0},{"$f":"'11'!D301","v":0},{"$f":"'11'!E301","v":0},{"$f":"'11'!F301","v":0}]
[null,3297,{"$f":"'11'!C302","v":0},{"$f":"'11'!D302","v":0},{"$f":"'11'!E302","v":0},{"$f":"'11'!F302","v":0}]
[null,3298,{"$f":"'11'!C303","v":0},{"$f":"'11'!D303","v":0},{"$f":"'11'!E303","v":0},{"$f":"'11'!F303","v":0}]
[null,3299,{"$f":"'11'!C304","v":0},{"$f":"'11'!D304","v":0},{"$f":"'11'!E304","v":0},{"$f":"'11'!F304","v":0}]
[null,3300,{"$f":"'11'!C305","v":0},{"$f":"'11'!D305","v":0},{"$f":"'11'!E305","v":0},{"$f":"'11'!F305","v":0}]
[null,3301,{"$f":"'12'!C6","v":0},{"$f":"'12'!D6","v":0},{"$f":"'12'!E6","v":0},{"$f":"'12'!F6","v":0}]
[null,3302,{"$f":"'12'!C7","v":0},{"$f":"'12'!D7","v":0},{"$f":"'12'!E7","v":0},{"$f":"'12'!F7","v":0}]
[null,3303,{"$f":"'12'!C8","v":0},{"$f":"'12'!D8","v":0},{"$f":"'12'!E8","v":0},{"$f":"'12'!F8","v":0}]
[null,3304,{"$f":"'12'!C9","v":0},{"$f":"'12'!D9","v":0},{"$f":"'12'!E9","v":0},{"$f":"'12'!F9","v":0}]
[null,3305,{"$f":"'12'!C10","v":0},{"$f":"'12'!D10","v":0},{"$f":"'12'!E10","v":0},{"$f":"'12'!F10","v":0}]
[null,3306,{"$f":"'12'!C11","v":0},{"$f":"'12'!D11","v":0},{"$f":"'12'!E11","v":0},{"$f":"'12'!F11","v":0}]
[null,3307,{"$f":"'12'!C12","v":0},{"$f":"'12'!D12","v":0},{"$f":"'12'!E12","v":0},{"$f":"'12'!F12","v":0}]
[null,3308,{"$f":"'12'!C13","v":0},{"$f":"'12'!D13","v":0},{"$f":"'12'!E13","v":0},{"$f":"'12'!F13","v":0}]
[null,3309,{"$f":"'12'!C14","v":0},{"$f":"'12'!D14","v":0},{"$f":"'12'!E14","v":0},{"$f":"'12'!F14","v":0}]
[null,3310,{"$f":"'12'!C15","v":0},{"$f":"'12'!D15","v":0},{"$f":"'12'!E15","v":0},{"$f":"'12'!F15","v":0}]
[null,3311,{"$f":"'12'!C16","v":0},{"$f":"'12'!D16","v":0},{"$f":"'12'!E16","v":0},{"$f":"'12'!F16","v":0}]
[null,3312,{"$f":"'12'!C17","v":0},{"$f":"'12'!D17","v":0},{"$f":"'12'!E17","v":0},{"$f":"'12'!F17","v":0}]
[null,3313,{"$f":"'12'!C18","v":0},{"$f":"'12'!D18","v":0},{"$f":"'12'!E18","v":0},{"$f":"'12'!F18","v":0}]
[null,3314,{"$f":"'12'!C19","v":0},{"$f":"'12'!D19","v":0},{"$f":"'12'!E19","v":0},{"$f":"'12'!F19","v":0}]
[null,3315,{"$f":"'12'!C20","v":0},{"$f":"'12'!D20","v":0},{"$f":"'12'!E20","v":0},{"$f":"'12'!F20","v":0}]
[null,3316,{"$f":"'12'!C21","v":0},{"$f":"'12'!D21","v":0},{"$f":"'12'!E21","v":0},{"$f":"'12'!F21","v":0}]
[null,3317,{"$f":"'12'!C22","v":0},{"$f":"'12'!D22","v":0},{"$f":"'12'!E22","v":0},{"$f":"'12'!F22","v":0}]
[null,3318,{"$f":"'12'!C23","v":0},{"$f":"'12'!D23","v":0},{"$f":"'12'!E23","v":0},{"$f":"'12'!F23","v":0}]
[null,3319,{"$f":"'12'!C24","v":0},{"$f":"'12'!D24","v":0},{"$f":"'12'!E24","v":0},{"$f":"'12'!F24","v":0}]
[null,3320,{"$f":"'12'!C25","v":0},{"$f":"'12'!D25","v":0},{"$f":"'12'!E25","v":0},{"$f":"'12'!F25","v":0}]
[null,3321,{"$f":"'12'!C26","v":0},{"$f":"'12'!D26","v":0},{"$f":"'12'!E26","v":0},{"$f":"'12'!F26","v":0}]
[null,3322,{"$f":"'12'!C27","v":0},{"$f":"'12'!D27","v":0},{"$f":"'12'!E27","v":0},{"$f":"'12'!F27","v":0}]
[null,3323,{"$f":"'12'!C28","v":0},{"$f":"'12'!D28","v":0},{"$f":"'12'!E28","v":0},{"$f":"'12'!F28","v":0}]
[null,3324,{"$f":"'12'!C29","v":0},{"$f":"'12'!D29","v":0},{"$f":"'12'!E29","v":0},{"$f":"'12'!F29","v":0}]
[null,3325,{"$f":"'12'!C30","v":0},{"$f":"'12'!D30","v":0},{"$f":"'12'!E30","v":0},{"$f":"'12'!F30","v":0}]
[null,3326,{"$f":"'12'!C31","v":0},{"$f":"'12'!D31","v":0},{"$f":"'12'!E31","v":0},{"$f":"'12'!F31","v":0}]
[null,3327,{"$f":"'12'!C32","v":0},{"$f":"'12'!D32","v":0},{"$f":"'12'!E32","v":0},{"$f":"'12'!F32","v":0}]
[null,3328,{"$f":"'12'!C33","v":0},{"$f":"'12'!D33","v":0},{"$f":"'12'!E33","v":0},{"$f":"'12'!F33","v":0}]
[null,3329,{"$f":"'12'!C34","v":0},{"$f":"'12'!D34","v":0},{"$f":"'12'!E34","v":0},{"$f":"'12'!F34","v":0}]
[null,3330,{"$f":"'12'!C35","v":0},{"$f":"'12'!D35","v":0},{"$f":"'12'!E35","v":0},{"$f":"'12'!F35","v":0}]
[null,3331,{"$f":"'12'!C36","v":0},{"$f":"'12'!D36","v":0},{"$f":"'12'!E36","v":0},{"$f":"'12'!F36","v":0}]
[null,3332,{"$f":"'12'!C37","v":0},{"$f":"'12'!D37","v":0},{"$f":"'12'!E37","v":0},{"$f":"'12'!F37","v":0}]
[null,3333,{"$f":"'12'!C38","v":0},{"$f":"'12'!D38","v":0},{"$f":"'12'!E38","v":0},{"$f":"'12'!F38","v":0}]
[null,3334,{"$f":"'12'!C39","v":0},{"$f":"'12'!D39","v":0},{"$f":"'12'!E39","v":0},{"$f":"'12'!F39","v":0}]
[null,3335,{"$f":"'12'!C40","v":0},{"$f":"'12'!D40","v":0},{"$f":"'12'!E40","v":0},{"$f":"'12'!F40","v":0}]
[null,3336,{"$f":"'12'!C41","v":0},{"$f":"'12'!D41","v":0},{"$f":"'12'!E41","v":0},{"$f":"'12'!F41","v":0}]
[null,3337,{"$f":"'12'!C42","v":0},{"$f":"'12'!D42","v":0},{"$f":"'12'!E42","v":0},{"$f":"'12'!F42","v":0}]
[null,3338,{"$f":"'12'!C43","v":0},{"$f":"'12'!D43","v":0},{"$f":"'12'!E43","v":0},{"$f":"'12'!F43","v":0}]
[null,3339,{"$f":"'12'!C44","v":0},{"$f":"'12'!D44","v":0},{"$f":"'12'!E44","v":0},{"$f":"'12'!F44","v":0}]
[null,3340,{"$f":"'12'!C45","v":0},{"$f":"'12'!D45","v":0},{"$f":"'12'!E45","v":0},{"$f":"'12'!F45","v":0}]
[null,3341,{"$f":"'12'!C46","v":0},{"$f":"'12'!D46","v":0},{"$f":"'12'!E46","v":0},{"$f":"'12'!F46","v":0}]
[null,3342,{"$f":"'12'!C47","v":0},{"$f":"'12'!D47","v":0},{"$f":"'12'!E47","v":0},{"$f":"'12'!F47","v":0}]
[null,3343,{"$f":"'12'!C48","v":0},{"$f":"'12'!D48","v":0},{"$f":"'12'!E48","v":0},{"$f":"'12'!F48","v":0}]
[null,3344,{"$f":"'12'!C49","v":0},{"$f":"'12'!D49","v":0},{"$f":"'12'!E49","v":0},{"$f":"'12'!F49","v":0}]
[null,3345,{"$f":"'12'!C50","v":0},{"$f":"'12'!D50","v":0},{"$f":"'12'!E50","v":0},{"$f":"'12'!F50","v":0}]
[null,3346,{"$f":"'12'!C51","v":0},{"$f":"'12'!D51","v":0},{"$f":"'12'!E51","v":0},{"$f":"'12'!F51","v":0}]
[null,3347,{"$f":"'12'!C52","v":0},{"$f":"'12'!D52","v":0},{"$f":"'12'!E52","v":0},{"$f":"'12'!F52","v":0}]
[null,3348,{"$f":"'12'!C53","v":0},{"$f":"'12'!D53","v":0},{"$f":"'12'!E53","v":0},{"$f":"'12'!F53","v":0}]
[null,3349,{"$f":"'12'!C54","v":0},{"$f":"'12'!D54","v":0},{"$f":"'12'!E54","v":0},{"$f":"'12'!F54","v":0}]
[null,3350,{"$f":"'12'!C55","v":0},{"$f":"'12'!D55","v":0},{"$f":"'12'!E55","v":0},{"$f":"'12'!F55","v":0}]
[null,3351,{"$f":"'12'!C56","v":0},{"$f":"'12'!D56","v":0},{"$f":"'12'!E56","v":0},{"$f":"'12'!F56","v":0}]
[null,3352,{"$f":"'12'!C57","v":0},{"$f":"'12'!D57","v":0},{"$f":"'12'!E57","v":0},{"$f":"'12'!F57","v":0}]
[null,3353,{"$f":"'12'!C58","v":0},{"$f":"'12'!D58","v":0},{"$f":"'12'!E58","v":0},{"$f":"'12'!F58","v":0}]
[null,3354,{"$f":"'12'!C59","v":0},{"$f":"'12'!D59","v":0},{"$f":"'12'!E59","v":0},{"$f":"'12'!F59","v":0}]
[null,3355,{"$f":"'12'!C60","v":0},{"$f":"'12'!D60","v":0},{"$f":"'12'!E60","v":0},{"$f":"'12'!F60","v":0}]
[null,3356,{"$f":"'12'!C61","v":0},{"$f":"'12'!D61","v":0},{"$f":"'12'!E61","v":0},{"$f":"'12'!F61","v":0}]
[null,3357,{"$f":"'12'!C62","v":0},{"$f":"'12'!D62","v":0},{"$f":"'12'!E62","v":0},{"$f":"'12'!F62","v":0}]
[null,3358,{"$f":"'12'!C63","v":0},{"$f":"'12'!D63","v":0},{"$f":"'12'!E63","v":0},{"$f":"'12'!F63","v":0}]
[null,3359,{"$f":"'12'!C64","v":0},{"$f":"'12'!D64","v":0},{"$f":"'12'!E64","v":0},{"$f":"'12'!F64","v":0}]
[null,3360,{"$f":"'12'!C65","v":0},{"$f":"'12'!D65","v":0},{"$f":"'12'!E65","v":0},{"$f":"'12'!F65","v":0}]
[null,3361,{"$f":"'12'!C66","v":0},{"$f":"'12'!D66","v":0},{"$f":"'12'!E66","v":0},{"$f":"'12'!F66","v":0}]
[null,3362,{"$f":"'12'!C67","v":0},{"$f":"'12'!D67","v":0},{"$f":"'12'!E67","v":0},{"$f":"'12'!F67","v":0}]
[null,3363,{"$f":"'12'!C68","v":0},{"$f":"'12'!D68","v":0},{"$f":"'12'!E68","v":0},{"$f":"'12'!F68","v":0}]
[null,3364,{"$f":"'12'!C69","v":0},{"$f":"'12'!D69","v":0},{"$f":"'12'!E69","v":0},{"$f":"'12'!F69","v":0}]
[null,3365,{"$f":"'12'!C70","v":0},{"$f":"'12'!D70","v":0},{"$f":"'12'!E70","v":0},{"$f":"'12'!F70","v":0}]
[null,3366,{"$f":"'12'!C71","v":0},{"$f":"'12'!D71","v":0},{"$f":"'12'!E71","v":0},{"$f":"'12'!F71","v":0}]
[null,3367,{"$f":"'12'!C72","v":0},{"$f":"'12'!D72","v":0},{"$f":"'12'!E72","v":0},{"$f":"'12'!F72","v":0}]
[null,3368,{"$f":"'12'!C73","v":0},{"$f":"'12'!D73","v":0},{"$f":"'12'!E73","v":0},{"$f":"'12'!F73","v":0}]
[null,3369,{"$f":"'12'!C74","v":0},{"$f":"'12'!D74","v":0},{"$f":"'12'!E74","v":0},{"$f":"'12'!F74","v":0}]
[null,3370,{"$f":"'12'!C75","v":0},{"$f":"'12'!D75","v":0},{"$f":"'12'!E75","v":0},{"$f":"'12'!F75","v":0}]
[null,3371,{"$f":"'12'!C76","v":0},{"$f":"'12'!D76","v":0},{"$f":"'12'!E76","v":0},{"$f":"'12'!F76","v":0}]
[null,3372,{"$f":"'12'!C77","v":0},{"$f":"'12'!D77","v":0},{"$f":"'12'!E77","v":0},{"$f":"'12'!F77","v":0}]
[null,3373,{"$f":"'12'!C78","v":0},{"$f":"'12'!D78","v":0},{"$f":"'12'!E78","v":0},{"$f":"'12'!F78","v":0}]
[null,3374,{"$f":"'12'!C79","v":0},{"$f":"'12'!D79","v":0},{"$f":"'12'!E79","v":0},{"$f":"'12'!F79","v":0}]
[null,3375,{"$f":"'12'!C80","v":0},{"$f":"'12'!D80","v":0},{"$f":"'12'!E80","v":0},{"$f":"'12'!F80","v":0}]
[null,3376,{"$f":"'12'!C81","v":0},{"$f":"'12'!D81","v":0},{"$f":"'12'!E81","v":0},{"$f":"'12'!F81","v":0}]
[null,3377,{"$f":"'12'!C82","v":0},{"$f":"'12'!D82","v":0},{"$f":"'12'!E82","v":0},{"$f":"'12'!F82","v":0}]
[null,3378,{"$f":"'12'!C83","v":0},{"$f":"'12'!D83","v":0},{"$f":"'12'!E83","v":0},{"$f":"'12'!F83","v":0}]
[null,3379,{"$f":"'12'!C84","v":0},{"$f":"'12'!D84","v":0},{"$f":"'12'!E84","v":0},{"$f":"'12'!F84","v":0}]
[null,3380,{"$f":"'12'!C85","v":0},{"$f":"'12'!D85","v":0},{"$f":"'12'!E85","v":0},{"$f":"'12'!F85","v":0}]
[null,3381,{"$f":"'12'!C86","v":0},{"$f":"'12'!D86","v":0},{"$f":"'12'!E86","v":0},{"$f":"'12'!F86","v":0}]
[null,3382,{"$f":"'12'!C87","v":0},{"$f":"'12'!D87","v":0},{"$f":"'12'!E87","v":0},{"$f":"'12'!F87","v":0}]
[null,3383,{"$f":"'12'!C88","v":0},{"$f":"'12'!D88","v":0},{"$f":"'12'!E88","v":0},{"$f":"'12'!F88","v":0}]
[null,3384,{"$f":"'12'!C89","v":0},{"$f":"'12'!D89","v":0},{"$f":"'12'!E89","v":0},{"$f":"'12'!F89","v":0}]
[null,3385,{"$f":"'12'!C90","v":0},{"$f":"'12'!D90","v":0},{"$f":"'12'!E90","v":0},{"$f":"'12'!F90","v":0}]
[null,3386,{"$f":"'12'!C91","v":0},{"$f":"'12'!D91","v":0},{"$f":"'12'!E91","v":0},{"$f":"'12'!F91","v":0}]
[null,3387,{"$f":"'12'!C92","v":0},{"$f":"'12'!D92","v":0},{"$f":"'12'!E92","v":0},{"$f":"'12'!F92","v":0}]
[null,3388,{"$f":"'12'!C93","v":0},{"$f":"'12'!D93","v":0},{"$f":"'12'!E93","v":0},{"$f":"'12'!F93","v":0}]
[null,3389,{"$f":"'12'!C94","v":0},{"$f":"'12'!D94","v":0},{"$f":"'12'!E94","v":0},{"$f":"'12'!F94","v":0}]
[null,3390,{"$f":"'12'!C95","v":0},{"$f":"'12'!D95","v":0},{"$f":"'12'!E95","v":0},{"$f":"'12'!F95","v":0}]
[null,3391,{"$f":"'12'!C96","v":0},{"$f":"'12'!D96","v":0},{"$f":"'12'!E96","v":0},{"$f":"'12'!F96","v":0}]
[null,3392,{"$f":"'12'!C97","v":0},{"$f":"'12'!D97","v":0},{"$f":"'12'!E97","v":0},{"$f":"'12'!F97","v":0}]
[null,3393,{"$f":"'12'!C98","v":0},{"$f":"'12'!D98","v":0},{"$f":"'12'!E98","v":0},{"$f":"'12'!F98","v":0}]
[null,3394,{"$f":"'12'!C99","v":0},{"$f":"'12'!D99","v":0},{"$f":"'12'!E99","v":0},{"$f":"'12'!F99","v":0}]
[null,3395,{"$f":"'12'!C100","v":0},{"$f":"'12'!D100","v":0},{"$f":"'12'!E100","v":0},{"$f":"'12'!F100","v":0}]
[null,3396,{"$f":"'12'!C101","v":0},{"$f":"'12'!D101","v":0},{"$f":"'12'!E101","v":0},{"$f":"'12'!F101","v":0}]
[null,3397,{"$f":"'12'!C102","v":0},{"$f":"'12'!D102","v":0},{"$f":"'12'!E102","v":0},{"$f":"'12'!F102","v":0}]
[null,3398,{"$f":"'12'!C103","v":0},{"$f":"'12'!D103","v":0},{"$f":"'12'!E103","v":0},{"$f":"'12'!F103","v":0}]
[null,3399,{"$f":"'12'!C104","v":0},{"$f":"'12'!D104","v":0},{"$f":"'12'!E104","v":0},{"$f":"'12'!F104","v":0}]
[null,3400,{"$f":"'12'!C105","v":0},{"$f":"'12'!D105","v":0},{"$f":"'12'!E105","v":0},{"$f":"'12'!F105","v":0}]
[null,3401,{"$f":"'12'!C106","v":0},{"$f":"'12'!D106","v":0},{"$f":"'12'!E106","v":0},{"$f":"'12'!F106","v":0}]
[null,3402,{"$f":"'12'!C107","v":0},{"$f":"'12'!D107","v":0},{"$f":"'12'!E107","v":0},{"$f":"'12'!F107","v":0}]
[null,3403,{"$f":"'12'!C108","v":0},{"$f":"'12'!D108","v":0},{"$f":"'12'!E108","v":0},{"$f":"'12'!F108","v":0}]
[null,3404,{"$f":"'12'!C109","v":0},{"$f":"'12'!D109","v":0},{"$f":"'12'!E109","v":0},{"$f":"'12'!F109","v":0}]
[null,3405,{"$f":"'12'!C110","v":0},{"$f":"'12'!D110","v":0},{"$f":"'12'!E110","v":0},{"$f":"'12'!F110","v":0}]
[null,3406,{"$f":"'12'!C111","v":0},{"$f":"'12'!D111","v":0},{"$f":"'12'!E111","v":0},{"$f":"'12'!F111","v":0}]
[null,3407,{"$f":"'12'!C112","v":0},{"$f":"'12'!D112","v":0},{"$f":"'12'!E112","v":0},{"$f":"'12'!F112","v":0}]
[null,3408,{"$f":"'12'!C113","v":0},{"$f":"'12'!D113","v":0},{"$f":"'12'!E113","v":0},{"$f":"'12'!F113","v":0}]
[null,3409,{"$f":"'12'!C114","v":0},{"$f":"'12'!D114","v":0},{"$f":"'12'!E114","v":0},{"$f":"'12'!F114","v":0}]
[null,3410,{"$f":"'12'!C115","v":0},{"$f":"'12'!D115","v":0},{"$f":"'12'!E115","v":0},{"$f":"'12'!F115","v":0}]
[null,3411,{"$f":"'12'!C116","v":0},{"$f":"'12'!D116","v":0},{"$f":"'12'!E116","v":0},{"$f":"'12'!F116","v":0}]
[null,3412,{"$f":"'12'!C117","v":0},{"$f":"'12'!D117","v":0},{"$f":"'12'!E117","v":0},{"$f":"'12'!F117","v":0}]
[null,3413,{"$f":"'12'!C118","v":0},{"$f":"'12'!D118","v":0},{"$f":"'12'!E118","v":0},{"$f":"'12'!F118","v":0}]
[null,3414,{"$f":"'12'!C119","v":0},{"$f":"'12'!D119","v":0},{"$f":"'12'!E119","v":0},{"$f":"'12'!F119","v":0}]
[null,3415,{"$f":"'12'!C120","v":0},{"$f":"'12'!D120","v":0},{"$f":"'12'!E120","v":0},{"$f":"'12'!F120","v":0}]
[null,3416,{"$f":"'12'!C121","v":0},{"$f":"'12'!D121","v":0},{"$f":"'12'!E121","v":0},{"$f":"'12'!F121","v":0}]
[null,3417,{"$f":"'12'!C122","v":0},{"$f":"'12'!D122","v":0},{"$f":"'12'!E122","v":0},{"$f":"'12'!F122","v":0}]
[null,3418,{"$f":"'12'!C123","v":0},{"$f":"'12'!D123","v":0},{"$f":"'12'!E123","v":0},{"$f":"'12'!F123","v":0}]
[null,3419,{"$f":"'12'!C124","v":0},{"$f":"'12'!D124","v":0},{"$f":"'12'!E124","v":0},{"$f":"'12'!F124","v":0}]
[null,3420,{"$f":"'12'!C125","v":0},{"$f":"'12'!D125","v":0},{"$f":"'12'!E125","v":0},{"$f":"'12'!F125","v":0}]
[null,3421,{"$f":"'12'!C126","v":0},{"$f":"'12'!D126","v":0},{"$f":"'12'!E126","v":0},{"$f":"'12'!F126","v":0}]
[null,3422,{"$f":"'12'!C127","v":0},{"$f":"'12'!D127","v":0},{"$f":"'12'!E127","v":0},{"$f":"'12'!F127","v":0}]
[null,3423,{"$f":"'12'!C128","v":0},{"$f":"'12'!D128","v":0},{"$f":"'12'!E128","v":0},{"$f":"'12'!F128","v":0}]
[null,3424,{"$f":"'12'!C129","v":0},{"$f":"'12'!D129","v":0},{"$f":"'12'!E129","v":0},{"$f":"'12'!F129","v":0}]
[null,3425,{"$f":"'12'!C130","v":0},{"$f":"'12'!D130","v":0},{"$f":"'12'!E130","v":0},{"$f":"'12'!F130","v":0}]
[null,3426,{"$f":"'12'!C131","v":0},{"$f":"'12'!D131","v":0},{"$f":"'12'!E131","v":0},{"$f":"'12'!F131","v":0}]
[null,3427,{"$f":"'12'!C132","v":0},{"$f":"'12'!D132","v":0},{"$f":"'12'!E132","v":0},{"$f":"'12'!F132","v":0}]
[null,3428,{"$f":"'12'!C133","v":0},{"$f":"'12'!D133","v":0},{"$f":"'12'!E133","v":0},{"$f":"'12'!F133","v":0}]
[null,3429,{"$f":"'12'!C134","v":0},{"$f":"'12'!D134","v":0},{"$f":"'12'!E134","v":0},{"$f":"'12'!F134","v":0}]
[null,3430,{"$f":"'12'!C135","v":0},{"$f":"'12'!D135","v":0},{"$f":"'12'!E135","v":0},{"$f":"'12'!F135","v":0}]
[null,3431,{"$f":"'12'!C136","v":0},{"$f":"'12'!D136","v":0},{"$f":"'12'!E136","v":0},{"$f":"'12'!F136","v":0}]
[null,3432,{"$f":"'12'!C137","v":0},{"$f":"'12'!D137","v":0},{"$f":"'12'!E137","v":0},{"$f":"'12'!F137","v":0}]
[null,3433,{"$f":"'12'!C138","v":0},{"$f":"'12'!D138","v":0},{"$f":"'12'!E138","v":0},{"$f":"'12'!F138","v":0}]
[null,3434,{"$f":"'12'!C139","v":0},{"$f":"'12'!D139","v":0},{"$f":"'12'!E139","v":0},{"$f":"'12'!F139","v":0}]
[null,3435,{"$f":"'12'!C140","v":0},{"$f":"'12'!D140","v":0},{"$f":"'12'!E140","v":0},{"$f":"'12'!F140","v":0}]
[null,3436,{"$f":"'12'!C141","v":0},{"$f":"'12'!D141","v":0},{"$f":"'12'!E141","v":0},{"$f":"'12'!F141","v":0}]
[null,3437,{"$f":"'12'!C142","v":0},{"$f":"'12'!D142","v":0},{"$f":"'12'!E142","v":0},{"$f":"'12'!F142","v":0}]
[null,3438,{"$f":"'12'!C143","v":0},{"$f":"'12'!D143","v":0},{"$f":"'12'!E143","v":0},{"$f":"'12'!F143","v":0}]
[null,3439,{"$f":"'12'!C144","v":0},{"$f":"'12'!D144","v":0},{"$f":"'12'!E144","v":0},{"$f":"'12'!F144","v":0}]
[null,3440,{"$f":"'12'!C145","v":0},{"$f":"'12'!D145","v":0},{"$f":"'12'!E145","v":0},{"$f":"'12'!F145","v":0}]
[null,3441,{"$f":"'12'!C146","v":0},{"$f":"'12'!D146","v":0},{"$f":"'12'!E146","v":0},{"$f":"'12'!F146","v":0}]
[null,3442,{"$f":"'12'!C147","v":0},{"$f":"'12'!D147","v":0},{"$f":"'12'!E147","v":0},{"$f":"'12'!F147","v":0}]
[null,3443,{"$f":"'12'!C148","v":0},{"$f":"'12'!D148","v":0},{"$f":"'12'!E148","v":0},{"$f":"'12'!F148","v":0}]
[null,3444,{"$f":"'12'!C149","v":0},{"$f":"'12'!D149","v":0},{"$f":"'12'!E149","v":0},{"$f":"'12'!F149","v":0}]
[null,3445,{"$f":"'12'!C150","v":0},{"$f":"'12'!D150","v":0},{"$f":"'12'!E150","v":0},{"$f":"'12'!F150","v":0}]
[null,3446,{"$f":"'12'!C151","v":0},{"$f":"'12'!D151","v":0},{"$f":"'12'!E151","v":0},{"$f":"'12'!F151","v":0}]
[null,3447,{"$f":"'12'!C152","v":0},{"$f":"'12'!D152","v":0},{"$f":"'12'!E152","v":0},{"$f":"'12'!F152","v":0}]
[null,3448,{"$f":"'12'!C153","v":0},{"$f":"'12'!D153","v":0},{"$f":"'12'!E153","v":0},{"$f":"'12'!F153","v":0}]
[null,3449,{"$f":"'12'!C154","v":0},{"$f":"'12'!D154","v":0},{"$f":"'12'!E154","v":0},{"$f":"'12'!F154","v":0}]
[null,3450,{"$f":"'12'!C155","v":0},{"$f":"'12'!D155","v":0},{"$f":"'12'!E155","v":0},{"$f":"'12'!F155","v":0}]
[null,3451,{"$f":"'12'!C156","v":0},{"$f":"'12'!D156","v":0},{"$f":"'12'!E156","v":0},{"$f":"'12'!F156","v":0}]
[null,3452,{"$f":"'12'!C157","v":0},{"$f":"'12'!D157","v":0},{"$f":"'12'!E157","v":0},{"$f":"'12'!F157","v":0}]
[null,3453,{"$f":"'12'!C158","v":0},{"$f":"'12'!D158","v":0},{"$f":"'12'!E158","v":0},{"$f":"'12'!F158","v":0}]
[null,3454,{"$f":"'12'!C159","v":0},{"$f":"'12'!D159","v":0},{"$f":"'12'!E159","v":0},{"$f":"'12'!F159","v":0}]
[null,3455,{"$f":"'12'!C160","v":0},{"$f":"'12'!D160","v":0},{"$f":"'12'!E160","v":0},{"$f":"'12'!F160","v":0}]
[null,3456,{"$f":"'12'!C161","v":0},{"$f":"'12'!D161","v":0},{"$f":"'12'!E161","v":0},{"$f":"'12'!F161","v":0}]
[null,3457,{"$f":"'12'!C162","v":0},{"$f":"'12'!D162","v":0},{"$f":"'12'!E162","v":0},{"$f":"'12'!F162","v":0}]
[null,3458,{"$f":"'12'!C163","v":0},{"$f":"'12'!D163","v":0},{"$f":"'12'!E163","v":0},{"$f":"'12'!F163","v":0}]
[null,3459,{"$f":"'12'!C164","v":0},{"$f":"'12'!D164","v":0},{"$f":"'12'!E164","v":0},{"$f":"'12'!F164","v":0}]
[null,3460,{"$f":"'12'!C165","v":0},{"$f":"'12'!D165","v":0},{"$f":"'12'!E165","v":0},{"$f":"'12'!F165","v":0}]
[null,3461,{"$f":"'12'!C166","v":0},{"$f":"'12'!D166","v":0},{"$f":"'12'!E166","v":0},{"$f":"'12'!F166","v":0}]
[null,3462,{"$f":"'12'!C167","v":0},{"$f":"'12'!D167","v":0},{"$f":"'12'!E167","v":0},{"$f":"'12'!F167","v":0}]
[null,3463,{"$f":"'12'!C168","v":0},{"$f":"'12'!D168","v":0},{"$f":"'12'!E168","v":0},{"$f":"'12'!F168","v":0}]
[null,3464,{"$f":"'12'!C169","v":0},{"$f":"'12'!D169","v":0},{"$f":"'12'!E169","v":0},{"$f":"'12'!F169","v":0}]
[null,3465,{"$f":"'12'!C170","v":0},{"$f":"'12'!D170","v":0},{"$f":"'12'!E170","v":0},{"$f":"'12'!F170","v":0}]
[null,3466,{"$f":"'12'!C171","v":0},{"$f":"'12'!D171","v":0},{"$f":"'12'!E171","v":0},{"$f":"'12'!F171","v":0}]
[null,3467,{"$f":"'12'!C172","v":0},{"$f":"'12'!D172","v":0},{"$f":"'12'!E172","v":0},{"$f":"'12'!F172","v":0}]
[null,3468,{"$f":"'12'!C173","v":0},{"$f":"'12'!D173","v":0},{"$f":"'12'!E173","v":0},{"$f":"'12'!F173","v":0}]
[null,3469,{"$f":"'12'!C174","v":0},{"$f":"'12'!D174","v":0},{"$f":"'12'!E174","v":0},{"$f":"'12'!F174","v":0}]
[null,3470,{"$f":"'12'!C175","v":0},{"$f":"'12'!D175","v":0},{"$f":"'12'!E175","v":0},{"$f":"'12'!F175","v":0}]
[null,3471,{"$f":"'12'!C176","v":0},{"$f":"'12'!D176","v":0},{"$f":"'12'!E176","v":0},{"$f":"'12'!F176","v":0}]
[null,3472,{"$f":"'12'!C177","v":0},{"$f":"'12'!D177","v":0},{"$f":"'12'!E177","v":0},{"$f":"'12'!F177","v":0}]
[null,3473,{"$f":"'12'!C178","v":0},{"$f":"'12'!D178","v":0},{"$f":"'12'!E178","v":0},{"$f":"'12'!F178","v":0}]
[null,3474,{"$f":"'12'!C179","v":0},{"$f":"'12'!D179","v":0},{"$f":"'12'!E179","v":0},{"$f":"'12'!F179","v":0}]
[null,3475,{"$f":"'12'!C180","v":0},{"$f":"'12'!D180","v":0},{"$f":"'12'!E180","v":0},{"$f":"'12'!F180","v":0}]
[null,3476,{"$f":"'12'!C181","v":0},{"$f":"'12'!D181","v":0},{"$f":"'12'!E181","v":0},{"$f":"'12'!F181","v":0}]
[null,3477,{"$f":"'12'!C182","v":0},{"$f":"'12'!D182","v":0},{"$f":"'12'!E182","v":0},{"$f":"'12'!F182","v":0}]
[null,3478,{"$f":"'12'!C183","v":0},{"$f":"'12'!D183","v":0},{"$f":"'12'!E183","v":0},{"$f":"'12'!F183","v":0}]
[null,3479,{"$f":"'12'!C184","v":0},{"$f":"'12'!D184","v":0},{"$f":"'12'!E184","v":0},{"$f":"'12'!F184","v":0}]
[null,3480,{"$f":"'12'!C185","v":0},{"$f":"'12'!D185","v":0},{"$f":"'12'!E185","v":0},{"$f":"'12'!F185","v":0}]
[null,3481,{"$f":"'12'!C186","v":0},{"$f":"'12'!D186","v":0},{"$f":"'12'!E186","v":0},{"$f":"'12'!F186","v":0}]
[null,3482,{"$f":"'12'!C187","v":0},{"$f":"'12'!D187","v":0},{"$f":"'12'!E187","v":0},{"$f":"'12'!F187","v":0}]
[null,3483,{"$f":"'12'!C188","v":0},{"$f":"'12'!D188","v":0},{"$f":"'12'!E188","v":0},{"$f":"'12'!F188","v":0}]
[null,3484,{"$f":"'12'!C189","v":0},{"$f":"'12'!D189","v":0},{"$f":"'12'!E189","v":0},{"$f":"'12'!F189","v":0}]
[null,3485,{"$f":"'12'!C190","v":0},{"$f":"'12'!D190","v":0},{"$f":"'12'!E190","v":0},{"$f":"'12'!F190","v":0}]
[null,3486,{"$f":"'12'!C191","v":0},{"$f":"'12'!D191","v":0},{"$f":"'12'!E191","v":0},{"$f":"'12'!F191","v":0}]
[null,3487,{"$f":"'12'!C192","v":0},{"$f":"'12'!D192","v":0},{"$f":"'12'!E192","v":0},{"$f":"'12'!F192","v":0}]
[null,3488,{"$f":"'12'!C193","v":0},{"$f":"'12'!D193","v":0},{"$f":"'12'!E193","v":0},{"$f":"'12'!F193","v":0}]
[null,3489,{"$f":"'12'!C194","v":0},{"$f":"'12'!D194","v":0},{"$f":"'12'!E194","v":0},{"$f":"'12'!F194","v":0}]
[null,3490,{"$f":"'12'!C195","v":0},{"$f":"'12'!D195","v":0},{"$f":"'12'!E195","v":0},{"$f":"'12'!F195","v":0}]
[null,3491,{"$f":"'12'!C196","v":0},{"$f":"'12'!D196","v":0},{"$f":"'12'!E196","v":0},{"$f":"'12'!F196","v":0}]
[null,3492,{"$f":"'12'!C197","v":0},{"$f":"'12'!D197","v":0},{"$f":"'12'!E197","v":0},{"$f":"'12'!F197","v":0}]
[null,3493,{"$f":"'12'!C198","v":0},{"$f":"'12'!D198","v":0},{"$f":"'12'!E198","v":0},{"$f":"'12'!F198","v":0}]
[null,3494,{"$f":"'12'!C199","v":0},{"$f":"'12'!D199","v":0},{"$f":"'12'!E199","v":0},{"$f":"'12'!F199","v":0}]
[null,3495,{"$f":"'12'!C200","v":0},{"$f":"'12'!D200","v":0},{"$f":"'12'!E200","v":0},{"$f":"'12'!F200","v":0}]
[null,3496,{"$f":"'12'!C201","v":0},{"$f":"'12'!D201","v":0},{"$f":"'12'!E201","v":0},{"$f":"'12'!F201","v":0}]
[null,3497,{"$f":"'12'!C202","v":0},{"$f":"'12'!D202","v":0},{"$f":"'12'!E202","v":0},{"$f":"'12'!F202","v":0}]
[null,3498,{"$f":"'12'!C203","v":0},{"$f":"'12'!D203","v":0},{"$f":"'12'!E203","v":0},{"$f":"'12'!F203","v":0}]
[null,3499,{"$f":"'12'!C204","v":0},{"$f":"'12'!D204","v":0},{"$f":"'12'!E204","v":0},{"$f":"'12'!F204","v":0}]
[null,3500,{"$f":"'12'!C205","v":0},{"$f":"'12'!D205","v":0},{"$f":"'12'!E205","v":0},{"$f":"'12'!F205","v":0}]
[null,3501,{"$f":"'12'!C206","v":0},{"$f":"'12'!D206","v":0},{"$f":"'12'!E206","v":0},{"$f":"'12'!F206","v":0}]
[null,3502,{"$f":"'12'!C207","v":0},{"$f":"'12'!D207","v":0},{"$f":"'12'!E207","v":0},{"$f":"'12'!F207","v":0}]
[null,3503,{"$f":"'12'!C208","v":0},{"$f":"'12'!D208","v":0},{"$f":"'12'!E208","v":0},{"$f":"'12'!F208","v":0}]
[null,3504,{"$f":"'12'!C209","v":0},{"$f":"'12'!D209","v":0},{"$f":"'12'!E209","v":0},{"$f":"'12'!F209","v":0}]
[null,3505,{"$f":"'12'!C210","v":0},{"$f":"'12'!D210","v":0},{"$f":"'12'!E210","v":0},{"$f":"'12'!F210","v":0}]
[null,3506,{"$f":"'12'!C211","v":0},{"$f":"'12'!D211","v":0},{"$f":"'12'!E211","v":0},{"$f":"'12'!F211","v":0}]
[null,3507,{"$f":"'12'!C212","v":0},{"$f":"'12'!D212","v":0},{"$f":"'12'!E212","v":0},{"$f":"'12'!F212","v":0}]
[null,3508,{"$f":"'12'!C213","v":0},{"$f":"'12'!D213","v":0},{"$f":"'12'!E213","v":0},{"$f":"'12'!F213","v":0}]
[null,3509,{"$f":"'12'!C214","v":0},{"$f":"'12'!D214","v":0},{"$f":"'12'!E214","v":0},{"$f":"'12'!F214","v":0}]
[null,3510,{"$f":"'12'!C215","v":0},{"$f":"'12'!D215","v":0},{"$f":"'12'!E215","v":0},{"$f":"'12'!F215","v":0}]
[null,3511,{"$f":"'12'!C216","v":0},{"$f":"'12'!D216","v":0},{"$f":"'12'!E216","v":0},{"$f":"'12'!F216","v":0}]
[null,3512,{"$f":"'12'!C217","v":0},{"$f":"'12'!D217","v":0},{"$f":"'12'!E217","v":0},{"$f":"'12'!F217","v":0}]
[null,3513,{"$f":"'12'!C218","v":0},{"$f":"'12'!D218","v":0},{"$f":"'12'!E218","v":0},{"$f":"'12'!F218","v":0}]
[null,3514,{"$f":"'12'!C219","v":0},{"$f":"'12'!D219","v":0},{"$f":"'12'!E219","v":0},{"$f":"'12'!F219","v":0}]
[null,3515,{"$f":"'12'!C220","v":0},{"$f":"'12'!D220","v":0},{"$f":"'12'!E220","v":0},{"$f":"'12'!F220","v":0}]
[null,3516,{"$f":"'12'!C221","v":0},{"$f":"'12'!D221","v":0},{"$f":"'12'!E221","v":0},{"$f":"'12'!F221","v":0}]
[null,3517,{"$f":"'12'!C222","v":0},{"$f":"'12'!D222","v":0},{"$f":"'12'!E222","v":0},{"$f":"'12'!F222","v":0}]
[null,3518,{"$f":"'12'!C223","v":0},{"$f":"'12'!D223","v":0},{"$f":"'12'!E223","v":0},{"$f":"'12'!F223","v":0}]
[null,3519,{"$f":"'12'!C224","v":0},{"$f":"'12'!D224","v":0},{"$f":"'12'!E224","v":0},{"$f":"'12'!F224","v":0}]
[null,3520,{"$f":"'12'!C225","v":0},{"$f":"'12'!D225","v":0},{"$f":"'12'!E225","v":0},{"$f":"'12'!F225","v":0}]
[null,3521,{"$f":"'12'!C226","v":0},{"$f":"'12'!D226","v":0},{"$f":"'12'!E226","v":0},{"$f":"'12'!F226","v":0}]
[null,3522,{"$f":"'12'!C227","v":0},{"$f":"'12'!D227","v":0},{"$f":"'12'!E227","v":0},{"$f":"'12'!F227","v":0}]
[null,3523,{"$f":"'12'!C228","v":0},{"$f":"'12'!D228","v":0},{"$f":"'12'!E228","v":0},{"$f":"'12'!F228","v":0}]
[null,3524,{"$f":"'12'!C229","v":0},{"$f":"'12'!D229","v":0},{"$f":"'12'!E229","v":0},{"$f":"'12'!F229","v":0}]
[null,3525,{"$f":"'12'!C230","v":0},{"$f":"'12'!D230","v":0},{"$f":"'12'!E230","v":0},{"$f":"'12'!F230","v":0}]
[null,3526,{"$f":"'12'!C231","v":0},{"$f":"'12'!D231","v":0},{"$f":"'12'!E231","v":0},{"$f":"'12'!F231","v":0}]
[null,3527,{"$f":"'12'!C232","v":0},{"$f":"'12'!D232","v":0},{"$f":"'12'!E232","v":0},{"$f":"'12'!F232","v":0}]
[null,3528,{"$f":"'12'!C233","v":0},{"$f":"'12'!D233","v":0},{"$f":"'12'!E233","v":0},{"$f":"'12'!F233","v":0}]
[null,3529,{"$f":"'12'!C234","v":0},{"$f":"'12'!D234","v":0},{"$f":"'12'!E234","v":0},{"$f":"'12'!F234","v":0}]
[null,3530,{"$f":"'12'!C235","v":0},{"$f":"'12'!D235","v":0},{"$f":"'12'!E235","v":0},{"$f":"'12'!F235","v":0}]
[null,3531,{"$f":"'12'!C236","v":0},{"$f":"'12'!D236","v":0},{"$f":"'12'!E236","v":0},{"$f":"'12'!F236","v":0}]
[null,3532,{"$f":"'12'!C237","v":0},{"$f":"'12'!D237","v":0},{"$f":"'12'!E237","v":0},{"$f":"'12'!F237","v":0}]
[null,3533,{"$f":"'12'!C238","v":0},{"$f":"'12'!D238","v":0},{"$f":"'12'!E238","v":0},{"$f":"'12'!F238","v":0}]
[null,3534,{"$f":"'12'!C239","v":0},{"$f":"'12'!D239","v":0},{"$f":"'12'!E239","v":0},{"$f":"'12'!F239","v":0}]
[null,3535,{"$f":"'12'!C240","v":0},{"$f":"'12'!D240","v":0},{"$f":"'12'!E240","v":0},{"$f":"'12'!F240","v":0}]
[null,3536,{"$f":"'12'!C241","v":0},{"$f":"'12'!D241","v":0},{"$f":"'12'!E241","v":0},{"$f":"'12'!F241","v":0}]
[null,3537,{"$f":"'12'!C242","v":0},{"$f":"'12'!D242","v":0},{"$f":"'12'!E242","v":0},{"$f":"'12'!F242","v":0}]
[null,3538,{"$f":"'12'!C243","v":0},{"$f":"'12'!D243","v":0},{"$f":"'12'!E243","v":0},{"$f":"'12'!F243","v":0}]
[null,3539,{"$f":"'12'!C244","v":0},{"$f":"'12'!D244","v":0},{"$f":"'12'!E244","v":0},{"$f":"'12'!F244","v":0}]
[null,3540,{"$f":"'12'!C245","v":0},{"$f":"'12'!D245","v":0},{"$f":"'12'!E245","v":0},{"$f":"'12'!F245","v":0}]
[null,3541,{"$f":"'12'!C246","v":0},{"$f":"'12'!D246","v":0},{"$f":"'12'!E246","v":0},{"$f":"'12'!F246","v":0}]
[null,3542,{"$f":"'12'!C247","v":0},{"$f":"'12'!D247","v":0},{"$f":"'12'!E247","v":0},{"$f":"'12'!F247","v":0}]
[null,3543,{"$f":"'12'!C248","v":0},{"$f":"'12'!D248","v":0},{"$f":"'12'!E248","v":0},{"$f":"'12'!F248","v":0}]
[null,3544,{"$f":"'12'!C249","v":0},{"$f":"'12'!D249","v":0},{"$f":"'12'!E249","v":0},{"$f":"'12'!F249","v":0}]
[null,3545,{"$f":"'12'!C250","v":0},{"$f":"'12'!D250","v":0},{"$f":"'12'!E250","v":0},{"$f":"'12'!F250","v":0}]
[null,3546,{"$f":"'12'!C251","v":0},{"$f":"'12'!D251","v":0},{"$f":"'12'!E251","v":0},{"$f":"'12'!F251","v":0}]
[null,3547,{"$f":"'12'!C252","v":0},{"$f":"'12'!D252","v":0},{"$f":"'12'!E252","v":0},{"$f":"'12'!F252","v":0}]
[null,3548,{"$f":"'12'!C253","v":0},{"$f":"'12'!D253","v":0},{"$f":"'12'!E253","v":0},{"$f":"'12'!F253","v":0}]
[null,3549,{"$f":"'12'!C254","v":0},{"$f":"'12'!D254","v":0},{"$f":"'12'!E254","v":0},{"$f":"'12'!F254","v":0}]
[null,3550,{"$f":"'12'!C255","v":0},{"$f":"'12'!D255","v":0},{"$f":"'12'!E255","v":0},{"$f":"'12'!F255","v":0}]
[null,3551,{"$f":"'12'!C256","v":0},{"$f":"'12'!D256","v":0},{"$f":"'12'!E256","v":0},{"$f":"'12'!F256","v":0}]
[null,3552,{"$f":"'12'!C257","v":0},{"$f":"'12'!D257","v":0},{"$f":"'12'!E257","v":0},{"$f":"'12'!F257","v":0}]
[null,3553,{"$f":"'12'!C258","v":0},{"$f":"'12'!D258","v":0},{"$f":"'12'!E258","v":0},{"$f":"'12'!F258","v":0}]
[null,3554,{"$f":"'12'!C259","v":0},{"$f":"'12'!D259","v":0},{"$f":"'12'!E259","v":0},{"$f":"'12'!F259","v":0}]
[null,3555,{"$f":"'12'!C260","v":0},{"$f":"'12'!D260","v":0},{"$f":"'12'!E260","v":0},{"$f":"'12'!F260","v":0}]
[null,3556,{"$f":"'12'!C261","v":0},{"$f":"'12'!D261","v":0},{"$f":"'12'!E261","v":0},{"$f":"'12'!F261","v":0}]
[null,3557,{"$f":"'12'!C262","v":0},{"$f":"'12'!D262","v":0},{"$f":"'12'!E262","v":0},{"$f":"'12'!F262","v":0}]
[null,3558,{"$f":"'12'!C263","v":0},{"$f":"'12'!D263","v":0},{"$f":"'12'!E263","v":0},{"$f":"'12'!F263","v":0}]
[null,3559,{"$f":"'12'!C264","v":0},{"$f":"'12'!D264","v":0},{"$f":"'12'!E264","v":0},{"$f":"'12'!F264","v":0}]
[null,3560,{"$f":"'12'!C265","v":0},{"$f":"'12'!D265","v":0},{"$f":"'12'!E265","v":0},{"$f":"'12'!F265","v":0}]
[null,3561,{"$f":"'12'!C266","v":0},{"$f":"'12'!D266","v":0},{"$f":"'12'!E266","v":0},{"$f":"'12'!F266","v":0}]
[null,3562,{"$f":"'12'!C267","v":0},{"$f":"'12'!D267","v":0},{"$f":"'12'!E267","v":0},{"$f":"'12'!F267","v":0}]
[null,3563,{"$f":"'12'!C268","v":0},{"$f":"'12'!D268","v":0},{"$f":"'12'!E268","v":0},{"$f":"'12'!F268","v":0}]
[null,3564,{"$f":"'12'!C269","v":0},{"$f":"'12'!D269","v":0},{"$f":"'12'!E269","v":0},{"$f":"'12'!F269","v":0}]
[null,3565,{"$f":"'12'!C270","v":0},{"$f":"'12'!D270","v":0},{"$f":"'12'!E270","v":0},{"$f":"'12'!F270","v":0}]
[null,3566,{"$f":"'12'!C271","v":0},{"$f":"'12'!D271","v":0},{"$f":"'12'!E271","v":0},{"$f":"'12'!F271","v":0}]
[null,3567,{"$f":"'12'!C272","v":0},{"$f":"'12'!D272","v":0},{"$f":"'12'!E272","v":0},{"$f":"'12'!F272","v":0}]
[null,3568,{"$f":"'12'!C273","v":0},{"$f":"'12'!D273","v":0},{"$f":"'12'!E273","v":0},{"$f":"'12'!F273","v":0}]
[null,3569,{"$f":"'12'!C274","v":0},{"$f":"'12'!D274","v":0},{"$f":"'12'!E274","v":0},{"$f":"'12'!F274","v":0}]
[null,3570,{"$f":"'12'!C275","v":0},{"$f":"'12'!D275","v":0},{"$f":"'12'!E275","v":0},{"$f":"'12'!F275","v":0}]
[null,3571,{"$f":"'12'!C276","v":0},{"$f":"'12'!D276","v":0},{"$f":"'12'!E276","v":0},{"$f":"'12'!F276","v":0}]
[null,3572,{"$f":"'12'!C277","v":0},{"$f":"'12'!D277","v":0},{"$f":"'12'!E277","v":0},{"$f":"'12'!F277","v":0}]
[null,3573,{"$f":"'12'!C278","v":0},{"$f":"'12'!D278","v":0},{"$f":"'12'!E278","v":0},{"$f":"'12'!F278","v":0}]
[null,3574,{"$f":"'12'!C279","v":0},{"$f":"'12'!D279","v":0},{"$f":"'12'!E279","v":0},{"$f":"'12'!F279","v":0}]
[null,3575,{"$f":"'12'!C280","v":0},{"$f":"'12'!D280","v":0},{"$f":"'12'!E280","v":0},{"$f":"'12'!F280","v":0}]
[null,3576,{"$f":"'12'!C281","v":0},{"$f":"'12'!D281","v":0},{"$f":"'12'!E281","v":0},{"$f":"'12'!F281","v":0}]
[null,3577,{"$f":"'12'!C282","v":0},{"$f":"'12'!D282","v":0},{"$f":"'12'!E282","v":0},{"$f":"'12'!F282","v":0}]
[null,3578,{"$f":"'12'!C283","v":0},{"$f":"'12'!D283","v":0},{"$f":"'12'!E283","v":0},{"$f":"'12'!F283","v":0}]
[null,3579,{"$f":"'12'!C284","v":0},{"$f":"'12'!D284","v":0},{"$f":"'12'!E284","v":0},{"$f":"'12'!F284","v":0}]
[null,3580,{"$f":"'12'!C285","v":0},{"$f":"'12'!D285","v":0},{"$f":"'12'!E285","v":0},{"$f":"'12'!F285","v":0}]
[null,3581,{"$f":"'12'!C286","v":0},{"$f":"'12'!D286","v":0},{"$f":"'12'!E286","v":0},{"$f":"'12'!F286","v":0}]
[null,3582,{"$f":"'12'!C287","v":0},{"$f":"'12'!D287","v":0},{"$f":"'12'!E287","v":0},{"$f":"'12'!F287","v":0}]
[null,3583,{"$f":"'12'!C288","v":0},{"$f":"'12'!D288","v":0},{"$f":"'12'!E288","v":0},{"$f":"'12'!F288","v":0}]
[null,3584,{"$f":"'12'!C289","v":0},{"$f":"'12'!D289","v":0},{"$f":"'12'!E289","v":0},{"$f":"'12'!F289","v":0}]
[null,3585,{"$f":"'12'!C290","v":0},{"$f":"'12'!D290","v":0},{"$f":"'12'!E290","v":0},{"$f":"'12'!F290","v":0}]
[null,3586,{"$f":"'12'!C291","v":0},{"$f":"'12'!D291","v":0},{"$f":"'12'!E291","v":0},{"$f":"'12'!F291","v":0}]
[null,3587,{"$f":"'12'!C292","v":0},{"$f":"'12'!D292","v":0},{"$f":"'12'!E292","v":0},{"$f":"'12'!F292","v":0}]
[null,3588,{"$f":"'12'!C293","v":0},{"$f":"'12'!D293","v":0},{"$f":"'12'!E293","v":0},{"$f":"'12'!F293","v":0}]
[null,3589,{"$f":"'12'!C294","v":0},{"$f":"'12'!D294","v":0},{"$f":"'12'!E294","v":0},{"$f":"'12'!F294","v":0}]
[null,3590,{"$f":"'12'!C295","v":0},{"$f":"'12'!D295","v":0},{"$f":"'12'!E295","v":0},{"$f":"'12'!F295","v":0}]
[null,3591,{"$f":"'12'!C296","v":0},{"$f":"'12'!D296","v":0},{"$f":"'12'!E296","v":0},{"$f":"'12'!F296","v":0}]
[null,3592,{"$f":"'12'!C297","v":0},{"$f":"'12'!D297","v":0},{"$f":"'12'!E297","v":0},{"$f":"'12'!F297","v":0}]
[null,3593,{"$f":"'12'!C298","v":0},{"$f":"'12'!D298","v":0},{"$f":"'12'!E298","v":0},{"$f":"'12'!F298","v":0}]
[null,3594,{"$f":"'12'!C299","v":0},{"$f":"'12'!D299","v":0},{"$f":"'12'!E299","v":0},{"$f":"'12'!F299","v":0}]
[null,3595,{"$f":"'12'!C300","v":0},{"$f":"'12'!D300","v":0},{"$f":"'12'!E300","v":0},{"$f":"'12'!F300","v":0}]
[null,3596,{"$f":"'12'!C301","v":0},{"$f":"'12'!D301","v":0},{"$f":"'12'!E301","v":0},{"$f":"'12'!F301","v":0}]
[null,3597,{"$f":"'12'!C302","v":0},{"$f":"'12'!D302","v":0},{"$f":"'12'!E302","v":0},{"$f":"'12'!F302","v":0}]
[null,3598,{"$f":"'12'!C303","v":0},{"$f":"'12'!D303","v":0},{"$f":"'12'!E303","v":0},{"$f":"'12'!F303","v":0}]
[null,3599,{"$f":"'12'!C304","v":0},{"$f":"'12'!D304","v":0},{"$f":"'12'!E304","v":0},{"$f":"'12'!F304","v":0}]
[null,3600,{"$f":"'12'!C305","v":0},{"$f":"'12'!D305","v":0},{"$f":"'12'!E305","v":0},{"$f":"'12'!F305","v":0}]
[null,3601,{"$f":"'13'!C6","v":0},{"$f":"'13'!D6","v":0},{"$f":"'13'!E6","v":0},{"$f":"'13'!F6","v":0}]
[null,3602,{"$f":"'13'!C7","v":0},{"$f":"'13'!D7","v":0},{"$f":"'13'!E7","v":0},{"$f":"'13'!F7","v":0}]
[null,3603,{"$f":"'13'!C8","v":0},{"$f":"'13'!D8","v":0},{"$f":"'13'!E8","v":0},{"$f":"'13'!F8","v":0}]
[null,3604,{"$f":"'13'!C9","v":0},{"$f":"'13'!D9","v":0},{"$f":"'13'!E9","v":0},{"$f":"'13'!F9","v":0}]
[null,3605,{"$f":"'13'!C10","v":0},{"$f":"'13'!D10","v":0},{"$f":"'13'!E10","v":0},{"$f":"'13'!F10","v":0}]
[null,3606,{"$f":"'13'!C11","v":0},{"$f":"'13'!D11","v":0},{"$f":"'13'!E11","v":0},{"$f":"'13'!F11","v":0}]
[null,3607,{"$f":"'13'!C12","v":0},{"$f":"'13'!D12","v":0},{"$f":"'13'!E12","v":0},{"$f":"'13'!F12","v":0}]
[null,3608,{"$f":"'13'!C13","v":0},{"$f":"'13'!D13","v":0},{"$f":"'13'!E13","v":0},{"$f":"'13'!F13","v":0}]
[null,3609,{"$f":"'13'!C14","v":0},{"$f":"'13'!D14","v":0},{"$f":"'13'!E14","v":0},{"$f":"'13'!F14","v":0}]
[null,3610,{"$f":"'13'!C15","v":0},{"$f":"'13'!D15","v":0},{"$f":"'13'!E15","v":0},{"$f":"'13'!F15","v":0}]
[null,3611,{"$f":"'13'!C16","v":0},{"$f":"'13'!D16","v":0},{"$f":"'13'!E16","v":0},{"$f":"'13'!F16","v":0}]
[null,3612,{"$f":"'13'!C17","v":0},{"$f":"'13'!D17","v":0},{"$f":"'13'!E17","v":0},{"$f":"'13'!F17","v":0}]
[null,3613,{"$f":"'13'!C18","v":0},{"$f":"'13'!D18","v":0},{"$f":"'13'!E18","v":0},{"$f":"'13'!F18","v":0}]
[null,3614,{"$f":"'13'!C19","v":0},{"$f":"'13'!D19","v":0},{"$f":"'13'!E19","v":0},{"$f":"'13'!F19","v":0}]
[null,3615,{"$f":"'13'!C20","v":0},{"$f":"'13'!D20","v":0},{"$f":"'13'!E20","v":0},{"$f":"'13'!F20","v":0}]
[null,3616,{"$f":"'13'!C21","v":0},{"$f":"'13'!D21","v":0},{"$f":"'13'!E21","v":0},{"$f":"'13'!F21","v":0}]
[null,3617,{"$f":"'13'!C22","v":0},{"$f":"'13'!D22","v":0},{"$f":"'13'!E22","v":0},{"$f":"'13'!F22","v":0}]
[null,3618,{"$f":"'13'!C23","v":0},{"$f":"'13'!D23","v":0},{"$f":"'13'!E23","v":0},{"$f":"'13'!F23","v":0}]
[null,3619,{"$f":"'13'!C24","v":0},{"$f":"'13'!D24","v":0},{"$f":"'13'!E24","v":0},{"$f":"'13'!F24","v":0}]
[null,3620,{"$f":"'13'!C25","v":0},{"$f":"'13'!D25","v":0},{"$f":"'13'!E25","v":0},{"$f":"'13'!F25","v":0}]
[null,3621,{"$f":"'13'!C26","v":0},{"$f":"'13'!D26","v":0},{"$f":"'13'!E26","v":0},{"$f":"'13'!F26","v":0}]
[null,3622,{"$f":"'13'!C27","v":0},{"$f":"'13'!D27","v":0},{"$f":"'13'!E27","v":0},{"$f":"'13'!F27","v":0}]
[null,3623,{"$f":"'13'!C28","v":0},{"$f":"'13'!D28","v":0},{"$f":"'13'!E28","v":0},{"$f":"'13'!F28","v":0}]
[null,3624,{"$f":"'13'!C29","v":0},{"$f":"'13'!D29","v":0},{"$f":"'13'!E29","v":0},{"$f":"'13'!F29","v":0}]
[null,3625,{"$f":"'13'!C30","v":0},{"$f":"'13'!D30","v":0},{"$f":"'13'!E30","v":0},{"$f":"'13'!F30","v":0}]
[null,3626,{"$f":"'13'!C31","v":0},{"$f":"'13'!D31","v":0},{"$f":"'13'!E31","v":0},{"$f":"'13'!F31","v":0}]
[null,3627,{"$f":"'13'!C32","v":0},{"$f":"'13'!D32","v":0},{"$f":"'13'!E32","v":0},{"$f":"'13'!F32","v":0}]
[null,3628,{"$f":"'13'!C33","v":0},{"$f":"'13'!D33","v":0},{"$f":"'13'!E33","v":0},{"$f":"'13'!F33","v":0}]
[null,3629,{"$f":"'13'!C34","v":0},{"$f":"'13'!D34","v":0},{"$f":"'13'!E34","v":0},{"$f":"'13'!F34","v":0}]
[null,3630,{"$f":"'13'!C35","v":0},{"$f":"'13'!D35","v":0},{"$f":"'13'!E35","v":0},{"$f":"'13'!F35","v":0}]
[null,3631,{"$f":"'13'!C36","v":0},{"$f":"'13'!D36","v":0},{"$f":"'13'!E36","v":0},{"$f":"'13'!F36","v":0}]
[null,3632,{"$f":"'13'!C37","v":0},{"$f":"'13'!D37","v":0},{"$f":"'13'!E37","v":0},{"$f":"'13'!F37","v":0}]
[null,3633,{"$f":"'13'!C38","v":0},{"$f":"'13'!D38","v":0},{"$f":"'13'!E38","v":0},{"$f":"'13'!F38","v":0}]
[null,3634,{"$f":"'13'!C39","v":0},{"$f":"'13'!D39","v":0},{"$f":"'13'!E39","v":0},{"$f":"'13'!F39","v":0}]
[null,3635,{"$f":"'13'!C40","v":0},{"$f":"'13'!D40","v":0},{"$f":"'13'!E40","v":0},{"$f":"'13'!F40","v":0}]
[null,3636,{"$f":"'13'!C41","v":0},{"$f":"'13'!D41","v":0},{"$f":"'13'!E41","v":0},{"$f":"'13'!F41","v":0}]
[null,3637,{"$f":"'13'!C42","v":0},{"$f":"'13'!D42","v":0},{"$f":"'13'!E42","v":0},{"$f":"'13'!F42","v":0}]
[null,3638,{"$f":"'13'!C43","v":0},{"$f":"'13'!D43","v":0},{"$f":"'13'!E43","v":0},{"$f":"'13'!F43","v":0}]
[null,3639,{"$f":"'13'!C44","v":0},{"$f":"'13'!D44","v":0},{"$f":"'13'!E44","v":0},{"$f":"'13'!F44","v":0}]
[null,3640,{"$f":"'13'!C45","v":0},{"$f":"'13'!D45","v":0},{"$f":"'13'!E45","v":0},{"$f":"'13'!F45","v":0}]
[null,3641,{"$f":"'13'!C46","v":0},{"$f":"'13'!D46","v":0},{"$f":"'13'!E46","v":0},{"$f":"'13'!F46","v":0}]
[null,3642,{"$f":"'13'!C47","v":0},{"$f":"'13'!D47","v":0},{"$f":"'13'!E47","v":0},{"$f":"'13'!F47","v":0}]
[null,3643,{"$f":"'13'!C48","v":0},{"$f":"'13'!D48","v":0},{"$f":"'13'!E48","v":0},{"$f":"'13'!F48","v":0}]
[null,3644,{"$f":"'13'!C49","v":0},{"$f":"'13'!D49","v":0},{"$f":"'13'!E49","v":0},{"$f":"'13'!F49","v":0}]
[null,3645,{"$f":"'13'!C50","v":0},{"$f":"'13'!D50","v":0},{"$f":"'13'!E50","v":0},{"$f":"'13'!F50","v":0}]
[null,3646,{"$f":"'13'!C51","v":0},{"$f":"'13'!D51","v":0},{"$f":"'13'!E51","v":0},{"$f":"'13'!F51","v":0}]
[null,3647,{"$f":"'13'!C52","v":0},{"$f":"'13'!D52","v":0},{"$f":"'13'!E52","v":0},{"$f":"'13'!F52","v":0}]
[null,3648,{"$f":"'13'!C53","v":0},{"$f":"'13'!D53","v":0},{"$f":"'13'!E53","v":0},{"$f":"'13'!F53","v":0}]
[null,3649,{"$f":"'13'!C54","v":0},{"$f":"'13'!D54","v":0},{"$f":"'13'!E54","v":0},{"$f":"'13'!F54","v":0}]
[null,3650,{"$f":"'13'!C55","v":0},{"$f":"'13'!D55","v":0},{"$f":"'13'!E55","v":0},{"$f":"'13'!F55","v":0}]
[null,3651,{"$f":"'13'!C56","v":0},{"$f":"'13'!D56","v":0},{"$f":"'13'!E56","v":0},{"$f":"'13'!F56","v":0}]
[null,3652,{"$f":"'13'!C57","v":0},{"$f":"'13'!D57","v":0},{"$f":"'13'!E57","v":0},{"$f":"'13'!F57","v":0}]
[null,3653,{"$f":"'13'!C58","v":0},{"$f":"'13'!D58","v":0},{"$f":"'13'!E58","v":0},{"$f":"'13'!F58","v":0}]
[null,3654,{"$f":"'13'!C59","v":0},{"$f":"'13'!D59","v":0},{"$f":"'13'!E59","v":0},{"$f":"'13'!F59","v":0}]
[null,3655,{"$f":"'13'!C60","v":0},{"$f":"'13'!D60","v":0},{"$f":"'13'!E60","v":0},{"$f":"'13'!F60","v":0}]
[null,3656,{"$f":"'13'!C61","v":0},{"$f":"'13'!D61","v":0},{"$f":"'13'!E61","v":0},{"$f":"'13'!F61","v":0}]
[null,3657,{"$f":"'13'!C62","v":0},{"$f":"'13'!D62","v":0},{"$f":"'13'!E62","v":0},{"$f":"'13'!F62","v":0}]
[null,3658,{"$f":"'13'!C63","v":0},{"$f":"'13'!D63","v":0},{"$f":"'13'!E63","v":0},{"$f":"'13'!F63","v":0}]
[null,3659,{"$f":"'13'!C64","v":0},{"$f":"'13'!D64","v":0},{"$f":"'13'!E64","v":0},{"$f":"'13'!F64","v":0}]
[null,3660,{"$f":"'13'!C65","v":0},{"$f":"'13'!D65","v":0},{"$f":"'13'!E65","v":0},{"$f":"'13'!F65","v":0}]
[null,3661,{"$f":"'13'!C66","v":0},{"$f":"'13'!D66","v":0},{"$f":"'13'!E66","v":0},{"$f":"'13'!F66","v":0}]
[null,3662,{"$f":"'13'!C67","v":0},{"$f":"'13'!D67","v":0},{"$f":"'13'!E67","v":0},{"$f":"'13'!F67","v":0}]
[null,3663,{"$f":"'13'!C68","v":0},{"$f":"'13'!D68","v":0},{"$f":"'13'!E68","v":0},{"$f":"'13'!F68","v":0}]
[null,3664,{"$f":"'13'!C69","v":0},{"$f":"'13'!D69","v":0},{"$f":"'13'!E69","v":0},{"$f":"'13'!F69","v":0}]
[null,3665,{"$f":"'13'!C70","v":0},{"$f":"'13'!D70","v":0},{"$f":"'13'!E70","v":0},{"$f":"'13'!F70","v":0}]
[null,3666,{"$f":"'13'!C71","v":0},{"$f":"'13'!D71","v":0},{"$f":"'13'!E71","v":0},{"$f":"'13'!F71","v":0}]
[null,3667,{"$f":"'13'!C72","v":0},{"$f":"'13'!D72","v":0},{"$f":"'13'!E72","v":0},{"$f":"'13'!F72","v":0}]
[null,3668,{"$f":"'13'!C73","v":0},{"$f":"'13'!D73","v":0},{"$f":"'13'!E73","v":0},{"$f":"'13'!F73","v":0}]
[null,3669,{"$f":"'13'!C74","v":0},{"$f":"'13'!D74","v":0},{"$f":"'13'!E74","v":0},{"$f":"'13'!F74","v":0}]
[null,3670,{"$f":"'13'!C75","v":0},{"$f":"'13'!D75","v":0},{"$f":"'13'!E75","v":0},{"$f":"'13'!F75","v":0}]
[null,3671,{"$f":"'13'!C76","v":0},{"$f":"'13'!D76","v":0},{"$f":"'13'!E76","v":0},{"$f":"'13'!F76","v":0}]
[null,3672,{"$f":"'13'!C77","v":0},{"$f":"'13'!D77","v":0},{"$f":"'13'!E77","v":0},{"$f":"'13'!F77","v":0}]
[null,3673,{"$f":"'13'!C78","v":0},{"$f":"'13'!D78","v":0},{"$f":"'13'!E78","v":0},{"$f":"'13'!F78","v":0}]
[null,3674,{"$f":"'13'!C79","v":0},{"$f":"'13'!D79","v":0},{"$f":"'13'!E79","v":0},{"$f":"'13'!F79","v":0}]
[null,3675,{"$f":"'13'!C80","v":0},{"$f":"'13'!D80","v":0},{"$f":"'13'!E80","v":0},{"$f":"'13'!F80","v":0}]
[null,3676,{"$f":"'13'!C81","v":0},{"$f":"'13'!D81","v":0},{"$f":"'13'!E81","v":0},{"$f":"'13'!F81","v":0}]
[null,3677,{"$f":"'13'!C82","v":0},{"$f":"'13'!D82","v":0},{"$f":"'13'!E82","v":0},{"$f":"'13'!F82","v":0}]
[null,3678,{"$f":"'13'!C83","v":0},{"$f":"'13'!D83","v":0},{"$f":"'13'!E83","v":0},{"$f":"'13'!F83","v":0}]
[null,3679,{"$f":"'13'!C84","v":0},{"$f":"'13'!D84","v":0},{"$f":"'13'!E84","v":0},{"$f":"'13'!F84","v":0}]
[null,3680,{"$f":"'13'!C85","v":0},{"$f":"'13'!D85","v":0},{"$f":"'13'!E85","v":0},{"$f":"'13'!F85","v":0}]
[null,3681,{"$f":"'13'!C86","v":0},{"$f":"'13'!D86","v":0},{"$f":"'13'!E86","v":0},{"$f":"'13'!F86","v":0}]
[null,3682,{"$f":"'13'!C87","v":0},{"$f":"'13'!D87","v":0},{"$f":"'13'!E87","v":0},{"$f":"'13'!F87","v":0}]
[null,3683,{"$f":"'13'!C88","v":0},{"$f":"'13'!D88","v":0},{"$f":"'13'!E88","v":0},{"$f":"'13'!F88","v":0}]
[null,3684,{"$f":"'13'!C89","v":0},{"$f":"'13'!D89","v":0},{"$f":"'13'!E89","v":0},{"$f":"'13'!F89","v":0}]
[null,3685,{"$f":"'13'!C90","v":0},{"$f":"'13'!D90","v":0},{"$f":"'13'!E90","v":0},{"$f":"'13'!F90","v":0}]
[null,3686,{"$f":"'13'!C91","v":0},{"$f":"'13'!D91","v":0},{"$f":"'13'!E91","v":0},{"$f":"'13'!F91","v":0}]
[null,3687,{"$f":"'13'!C92","v":0},{"$f":"'13'!D92","v":0},{"$f":"'13'!E92","v":0},{"$f":"'13'!F92","v":0}]
[null,3688,{"$f":"'13'!C93","v":0},{"$f":"'13'!D93","v":0},{"$f":"'13'!E93","v":0},{"$f":"'13'!F93","v":0}]
[null,3689,{"$f":"'13'!C94","v":0},{"$f":"'13'!D94","v":0},{"$f":"'13'!E94","v":0},{"$f":"'13'!F94","v":0}]
[null,3690,{"$f":"'13'!C95","v":0},{"$f":"'13'!D95","v":0},{"$f":"'13'!E95","v":0},{"$f":"'13'!F95","v":0}]
[null,3691,{"$f":"'13'!C96","v":0},{"$f":"'13'!D96","v":0},{"$f":"'13'!E96","v":0},{"$f":"'13'!F96","v":0}]
[null,3692,{"$f":"'13'!C97","v":0},{"$f":"'13'!D97","v":0},{"$f":"'13'!E97","v":0},{"$f":"'13'!F97","v":0}]
[null,3693,{"$f":"'13'!C98","v":0},{"$f":"'13'!D98","v":0},{"$f":"'13'!E98","v":0},{"$f":"'13'!F98","v":0}]
[null,3694,{"$f":"'13'!C99","v":0},{"$f":"'13'!D99","v":0},{"$f":"'13'!E99","v":0},{"$f":"'13'!F99","v":0}]
[null,3695,{"$f":"'13'!C100","v":0},{"$f":"'13'!D100","v":0},{"$f":"'13'!E100","v":0},{"$f":"'13'!F100","v":0}]
[null,3696,{"$f":"'13'!C101","v":0},{"$f":"'13'!D101","v":0},{"$f":"'13'!E101","v":0},{"$f":"'13'!F101","v":0}]
[null,3697,{"$f":"'13'!C102","v":0},{"$f":"'13'!D102","v":0},{"$f":"'13'!E102","v":0},{"$f":"'13'!F102","v":0}]
[null,3698,{"$f":"'13'!C103","v":0},{"$f":"'13'!D103","v":0},{"$f":"'13'!E103","v":0},{"$f":"'13'!F103","v":0}]
[null,3699,{"$f":"'13'!C104","v":0},{"$f":"'13'!D104","v":0},{"$f":"'13'!E104","v":0},{"$f":"'13'!F104","v":0}]
[null,3700,{"$f":"'13'!C105","v":0},{"$f":"'13'!D105","v":0},{"$f":"'13'!E105","v":0},{"$f":"'13'!F105","v":0}]
[null,3701,{"$f":"'13'!C106","v":0},{"$f":"'13'!D106","v":0},{"$f":"'13'!E106","v":0},{"$f":"'13'!F106","v":0}]
[null,3702,{"$f":"'13'!C107","v":0},{"$f":"'13'!D107","v":0},{"$f":"'13'!E107","v":0},{"$f":"'13'!F107","v":0}]
[null,3703,{"$f":"'13'!C108","v":0},{"$f":"'13'!D108","v":0},{"$f":"'13'!E108","v":0},{"$f":"'13'!F108","v":0}]
[null,3704,{"$f":"'13'!C109","v":0},{"$f":"'13'!D109","v":0},{"$f":"'13'!E109","v":0},{"$f":"'13'!F109","v":0}]
[null,3705,{"$f":"'13'!C110","v":0},{"$f":"'13'!D110","v":0},{"$f":"'13'!E110","v":0},{"$f":"'13'!F110","v":0}]
[null,3706,{"$f":"'13'!C111","v":0},{"$f":"'13'!D111","v":0},{"$f":"'13'!E111","v":0},{"$f":"'13'!F111","v":0}]
[null,3707,{"$f":"'13'!C112","v":0},{"$f":"'13'!D112","v":0},{"$f":"'13'!E112","v":0},{"$f":"'13'!F112","v":0}]
[null,3708,{"$f":"'13'!C113","v":0},{"$f":"'13'!D113","v":0},{"$f":"'13'!E113","v":0},{"$f":"'13'!F113","v":0}]
[null,3709,{"$f":"'13'!C114","v":0},{"$f":"'13'!D114","v":0},{"$f":"'13'!E114","v":0},{"$f":"'13'!F114","v":0}]
[null,3710,{"$f":"'13'!C115","v":0},{"$f":"'13'!D115","v":0},{"$f":"'13'!E115","v":0},{"$f":"'13'!F115","v":0}]
[null,3711,{"$f":"'13'!C116","v":0},{"$f":"'13'!D116","v":0},{"$f":"'13'!E116","v":0},{"$f":"'13'!F116","v":0}]
[null,3712,{"$f":"'13'!C117","v":0},{"$f":"'13'!D117","v":0},{"$f":"'13'!E117","v":0},{"$f":"'13'!F117","v":0}]
[null,3713,{"$f":"'13'!C118","v":0},{"$f":"'13'!D118","v":0},{"$f":"'13'!E118","v":0},{"$f":"'13'!F118","v":0}]
[null,3714,{"$f":"'13'!C119","v":0},{"$f":"'13'!D119","v":0},{"$f":"'13'!E119","v":0},{"$f":"'13'!F119","v":0}]
[null,3715,{"$f":"'13'!C120","v":0},{"$f":"'13'!D120","v":0},{"$f":"'13'!E120","v":0},{"$f":"'13'!F120","v":0}]
[null,3716,{"$f":"'13'!C121","v":0},{"$f":"'13'!D121","v":0},{"$f":"'13'!E121","v":0},{"$f":"'13'!F121","v":0}]
[null,3717,{"$f":"'13'!C122","v":0},{"$f":"'13'!D122","v":0},{"$f":"'13'!E122","v":0},{"$f":"'13'!F122","v":0}]
[null,3718,{"$f":"'13'!C123","v":0},{"$f":"'13'!D123","v":0},{"$f":"'13'!E123","v":0},{"$f":"'13'!F123","v":0}]
[null,3719,{"$f":"'13'!C124","v":0},{"$f":"'13'!D124","v":0},{"$f":"'13'!E124","v":0},{"$f":"'13'!F124","v":0}]
[null,3720,{"$f":"'13'!C125","v":0},{"$f":"'13'!D125","v":0},{"$f":"'13'!E125","v":0},{"$f":"'13'!F125","v":0}]
[null,3721,{"$f":"'13'!C126","v":0},{"$f":"'13'!D126","v":0},{"$f":"'13'!E126","v":0},{"$f":"'13'!F126","v":0}]
[null,3722,{"$f":"'13'!C127","v":0},{"$f":"'13'!D127","v":0},{"$f":"'13'!E127","v":0},{"$f":"'13'!F127","v":0}]
[null,3723,{"$f":"'13'!C128","v":0},{"$f":"'13'!D128","v":0},{"$f":"'13'!E128","v":0},{"$f":"'13'!F128","v":0}]
[null,3724,{"$f":"'13'!C129","v":0},{"$f":"'13'!D129","v":0},{"$f":"'13'!E129","v":0},{"$f":"'13'!F129","v":0}]
[null,3725,{"$f":"'13'!C130","v":0},{"$f":"'13'!D130","v":0},{"$f":"'13'!E130","v":0},{"$f":"'13'!F130","v":0}]
[null,3726,{"$f":"'13'!C131","v":0},{"$f":"'13'!D131","v":0},{"$f":"'13'!E131","v":0},{"$f":"'13'!F131","v":0}]
[null,3727,{"$f":"'13'!C132","v":0},{"$f":"'13'!D132","v":0},{"$f":"'13'!E132","v":0},{"$f":"'13'!F132","v":0}]
[null,3728,{"$f":"'13'!C133","v":0},{"$f":"'13'!D133","v":0},{"$f":"'13'!E133","v":0},{"$f":"'13'!F133","v":0}]
[null,3729,{"$f":"'13'!C134","v":0},{"$f":"'13'!D134","v":0},{"$f":"'13'!E134","v":0},{"$f":"'13'!F134","v":0}]
[null,3730,{"$f":"'13'!C135","v":0},{"$f":"'13'!D135","v":0},{"$f":"'13'!E135","v":0},{"$f":"'13'!F135","v":0}]
[null,3731,{"$f":"'13'!C136","v":0},{"$f":"'13'!D136","v":0},{"$f":"'13'!E136","v":0},{"$f":"'13'!F136","v":0}]
[null,3732,{"$f":"'13'!C137","v":0},{"$f":"'13'!D137","v":0},{"$f":"'13'!E137","v":0},{"$f":"'13'!F137","v":0}]
[null,3733,{"$f":"'13'!C138","v":0},{"$f":"'13'!D138","v":0},{"$f":"'13'!E138","v":0},{"$f":"'13'!F138","v":0}]
[null,3734,{"$f":"'13'!C139","v":0},{"$f":"'13'!D139","v":0},{"$f":"'13'!E139","v":0},{"$f":"'13'!F139","v":0}]
[null,3735,{"$f":"'13'!C140","v":0},{"$f":"'13'!D140","v":0},{"$f":"'13'!E140","v":0},{"$f":"'13'!F140","v":0}]
[null,3736,{"$f":"'13'!C141","v":0},{"$f":"'13'!D141","v":0},{"$f":"'13'!E141","v":0},{"$f":"'13'!F141","v":0}]
[null,3737,{"$f":"'13'!C142","v":0},{"$f":"'13'!D142","v":0},{"$f":"'13'!E142","v":0},{"$f":"'13'!F142","v":0}]
[null,3738,{"$f":"'13'!C143","v":0},{"$f":"'13'!D143","v":0},{"$f":"'13'!E143","v":0},{"$f":"'13'!F143","v":0}]
[null,3739,{"$f":"'13'!C144","v":0},{"$f":"'13'!D144","v":0},{"$f":"'13'!E144","v":0},{"$f":"'13'!F144","v":0}]
[null,3740,{"$f":"'13'!C145","v":0},{"$f":"'13'!D145","v":0},{"$f":"'13'!E145","v":0},{"$f":"'13'!F145","v":0}]
[null,3741,{"$f":"'13'!C146","v":0},{"$f":"'13'!D146","v":0},{"$f":"'13'!E146","v":0},{"$f":"'13'!F146","v":0}]
[null,3742,{"$f":"'13'!C147","v":0},{"$f":"'13'!D147","v":0},{"$f":"'13'!E147","v":0},{"$f":"'13'!F147","v":0}]
[null,3743,{"$f":"'13'!C148","v":0},{"$f":"'13'!D148","v":0},{"$f":"'13'!E148","v":0},{"$f":"'13'!F148","v":0}]
[null,3744,{"$f":"'13'!C149","v":0},{"$f":"'13'!D149","v":0},{"$f":"'13'!E149","v":0},{"$f":"'13'!F149","v":0}]
[null,3745,{"$f":"'13'!C150","v":0},{"$f":"'13'!D150","v":0},{"$f":"'13'!E150","v":0},{"$f":"'13'!F150","v":0}]
[null,3746,{"$f":"'13'!C151","v":0},{"$f":"'13'!D151","v":0},{"$f":"'13'!E151","v":0},{"$f":"'13'!F151","v":0}]
[null,3747,{"$f":"'13'!C152","v":0},{"$f":"'13'!D152","v":0},{"$f":"'13'!E152","v":0},{"$f":"'13'!F152","v":0}]
[null,3748,{"$f":"'13'!C153","v":0},{"$f":"'13'!D153","v":0},{"$f":"'13'!E153","v":0},{"$f":"'13'!F153","v":0}]
[null,3749,{"$f":"'13'!C154","v":0},{"$f":"'13'!D154","v":0},{"$f":"'13'!E154","v":0},{"$f":"'13'!F154","v":0}]
[null,3750,{"$f":"'13'!C155","v":0},{"$f":"'13'!D155","v":0},{"$f":"'13'!E155","v":0},{"$f":"'13'!F155","v":0}]
[null,3751,{"$f":"'13'!C156","v":0},{"$f":"'13'!D156","v":0},{"$f":"'13'!E156","v":0},{"$f":"'13'!F156","v":0}]
[null,3752,{"$f":"'13'!C157","v":0},{"$f":"'13'!D157","v":0},{"$f":"'13'!E157","v":0},{"$f":"'13'!F157","v":0}]
[null,3753,{"$f":"'13'!C158","v":0},{"$f":"'13'!D158","v":0},{"$f":"'13'!E158","v":0},{"$f":"'13'!F158","v":0}]
[null,3754,{"$f":"'13'!C159","v":0},{"$f":"'13'!D159","v":0},{"$f":"'13'!E159","v":0},{"$f":"'13'!F159","v":0}]
[null,3755,{"$f":"'13'!C160","v":0},{"$f":"'13'!D160","v":0},{"$f":"'13'!E160","v":0},{"$f":"'13'!F160","v":0}]
[null,3756,{"$f":"'13'!C161","v":0},{"$f":"'13'!D161","v":0},{"$f":"'13'!E161","v":0},{"$f":"'13'!F161","v":0}]
[null,3757,{"$f":"'13'!C162","v":0},{"$f":"'13'!D162","v":0},{"$f":"'13'!E162","v":0},{"$f":"'13'!F162","v":0}]
[null,3758,{"$f":"'13'!C163","v":0},{"$f":"'13'!D163","v":0},{"$f":"'13'!E163","v":0},{"$f":"'13'!F163","v":0}]
[null,3759,{"$f":"'13'!C164","v":0},{"$f":"'13'!D164","v":0},{"$f":"'13'!E164","v":0},{"$f":"'13'!F164","v":0}]
[null,3760,{"$f":"'13'!C165","v":0},{"$f":"'13'!D165","v":0},{"$f":"'13'!E165","v":0},{"$f":"'13'!F165","v":0}]
[null,3761,{"$f":"'13'!C166","v":0},{"$f":"'13'!D166","v":0},{"$f":"'13'!E166","v":0},{"$f":"'13'!F166","v":0}]
[null,3762,{"$f":"'13'!C167","v":0},{"$f":"'13'!D167","v":0},{"$f":"'13'!E167","v":0},{"$f":"'13'!F167","v":0}]
[null,3763,{"$f":"'13'!C168","v":0},{"$f":"'13'!D168","v":0},{"$f":"'13'!E168","v":0},{"$f":"'13'!F168","v":0}]
[null,3764,{"$f":"'13'!C169","v":0},{"$f":"'13'!D169","v":0},{"$f":"'13'!E169","v":0},{"$f":"'13'!F169","v":0}]
[null,3765,{"$f":"'13'!C170","v":0},{"$f":"'13'!D170","v":0},{"$f":"'13'!E170","v":0},{"$f":"'13'!F170","v":0}]
[null,3766,{"$f":"'13'!C171","v":0},{"$f":"'13'!D171","v":0},{"$f":"'13'!E171","v":0},{"$f":"'13'!F171","v":0}]
[null,3767,{"$f":"'13'!C172","v":0},{"$f":"'13'!D172","v":0},{"$f":"'13'!E172","v":0},{"$f":"'13'!F172","v":0}]
[null,3768,{"$f":"'13'!C173","v":0},{"$f":"'13'!D173","v":0},{"$f":"'13'!E173","v":0},{"$f":"'13'!F173","v":0}]
[null,3769,{"$f":"'13'!C174","v":0},{"$f":"'13'!D174","v":0},{"$f":"'13'!E174","v":0},{"$f":"'13'!F174","v":0}]
[null,3770,{"$f":"'13'!C175","v":0},{"$f":"'13'!D175","v":0},{"$f":"'13'!E175","v":0},{"$f":"'13'!F175","v":0}]
[null,3771,{"$f":"'13'!C176","v":0},{"$f":"'13'!D176","v":0},{"$f":"'13'!E176","v":0},{"$f":"'13'!F176","v":0}]
[null,3772,{"$f":"'13'!C177","v":0},{"$f":"'13'!D177","v":0},{"$f":"'13'!E177","v":0},{"$f":"'13'!F177","v":0}]
[null,3773,{"$f":"'13'!C178","v":0},{"$f":"'13'!D178","v":0},{"$f":"'13'!E178","v":0},{"$f":"'13'!F178","v":0}]
[null,3774,{"$f":"'13'!C179","v":0},{"$f":"'13'!D179","v":0},{"$f":"'13'!E179","v":0},{"$f":"'13'!F179","v":0}]
[null,3775,{"$f":"'13'!C180","v":0},{"$f":"'13'!D180","v":0},{"$f":"'13'!E180","v":0},{"$f":"'13'!F180","v":0}]
[null,3776,{"$f":"'13'!C181","v":0},{"$f":"'13'!D181","v":0},{"$f":"'13'!E181","v":0},{"$f":"'13'!F181","v":0}]
[null,3777,{"$f":"'13'!C182","v":0},{"$f":"'13'!D182","v":0},{"$f":"'13'!E182","v":0},{"$f":"'13'!F182","v":0}]
[null,3778,{"$f":"'13'!C183","v":0},{"$f":"'13'!D183","v":0},{"$f":"'13'!E183","v":0},{"$f":"'13'!F183","v":0}]
[null,3779,{"$f":"'13'!C184","v":0},{"$f":"'13'!D184","v":0},{"$f":"'13'!E184","v":0},{"$f":"'13'!F184","v":0}]
[null,3780,{"$f":"'13'!C185","v":0},{"$f":"'13'!D185","v":0},{"$f":"'13'!E185","v":0},{"$f":"'13'!F185","v":0}]
[null,3781,{"$f":"'13'!C186","v":0},{"$f":"'13'!D186","v":0},{"$f":"'13'!E186","v":0},{"$f":"'13'!F186","v":0}]
[null,3782,{"$f":"'13'!C187","v":0},{"$f":"'13'!D187","v":0},{"$f":"'13'!E187","v":0},{"$f":"'13'!F187","v":0}]
[null,3783,{"$f":"'13'!C188","v":0},{"$f":"'13'!D188","v":0},{"$f":"'13'!E188","v":0},{"$f":"'13'!F188","v":0}]
[null,3784,{"$f":"'13'!C189","v":0},{"$f":"'13'!D189","v":0},{"$f":"'13'!E189","v":0},{"$f":"'13'!F189","v":0}]
[null,3785,{"$f":"'13'!C190","v":0},{"$f":"'13'!D190","v":0},{"$f":"'13'!E190","v":0},{"$f":"'13'!F190","v":0}]
[null,3786,{"$f":"'13'!C191","v":0},{"$f":"'13'!D191","v":0},{"$f":"'13'!E191","v":0},{"$f":"'13'!F191","v":0}]
[null,3787,{"$f":"'13'!C192","v":0},{"$f":"'13'!D192","v":0},{"$f":"'13'!E192","v":0},{"$f":"'13'!F192","v":0}]
[null,3788,{"$f":"'13'!C193","v":0},{"$f":"'13'!D193","v":0},{"$f":"'13'!E193","v":0},{"$f":"'13'!F193","v":0}]
[null,3789,{"$f":"'13'!C194","v":0},{"$f":"'13'!D194","v":0},{"$f":"'13'!E194","v":0},{"$f":"'13'!F194","v":0}]
[null,3790,{"$f":"'13'!C195","v":0},{"$f":"'13'!D195","v":0},{"$f":"'13'!E195","v":0},{"$f":"'13'!F195","v":0}]
[null,3791,{"$f":"'13'!C196","v":0},{"$f":"'13'!D196","v":0},{"$f":"'13'!E196","v":0},{"$f":"'13'!F196","v":0}]
[null,3792,{"$f":"'13'!C197","v":0},{"$f":"'13'!D197","v":0},{"$f":"'13'!E197","v":0},{"$f":"'13'!F197","v":0}]
[null,3793,{"$f":"'13'!C198","v":0},{"$f":"'13'!D198","v":0},{"$f":"'13'!E198","v":0},{"$f":"'13'!F198","v":0}]
[null,3794,{"$f":"'13'!C199","v":0},{"$f":"'13'!D199","v":0},{"$f":"'13'!E199","v":0},{"$f":"'13'!F199","v":0}]
[null,3795,{"$f":"'13'!C200","v":0},{"$f":"'13'!D200","v":0},{"$f":"'13'!E200","v":0},{"$f":"'13'!F200","v":0}]
[null,3796,{"$f":"'13'!C201","v":0},{"$f":"'13'!D201","v":0},{"$f":"'13'!E201","v":0},{"$f":"'13'!F201","v":0}]
[null,3797,{"$f":"'13'!C202","v":0},{"$f":"'13'!D202","v":0},{"$f":"'13'!E202","v":0},{"$f":"'13'!F202","v":0}]
[null,3798,{"$f":"'13'!C203","v":0},{"$f":"'13'!D203","v":0},{"$f":"'13'!E203","v":0},{"$f":"'13'!F203","v":0}]
[null,3799,{"$f":"'13'!C204","v":0},{"$f":"'13'!D204","v":0},{"$f":"'13'!E204","v":0},{"$f":"'13'!F204","v":0}]
[null,3800,{"$f":"'13'!C205","v":0},{"$f":"'13'!D205","v":0},{"$f":"'13'!E205","v":0},{"$f":"'13'!F205","v":0}]
[null,3801,{"$f":"'13'!C206","v":0},{"$f":"'13'!D206","v":0},{"$f":"'13'!E206","v":0},{"$f":"'13'!F206","v":0}]
[null,3802,{"$f":"'13'!C207","v":0},{"$f":"'13'!D207","v":0},{"$f":"'13'!E207","v":0},{"$f":"'13'!F207","v":0}]
[null,3803,{"$f":"'13'!C208","v":0},{"$f":"'13'!D208","v":0},{"$f":"'13'!E208","v":0},{"$f":"'13'!F208","v":0}]
[null,3804,{"$f":"'13'!C209","v":0},{"$f":"'13'!D209","v":0},{"$f":"'13'!E209","v":0},{"$f":"'13'!F209","v":0}]
[null,3805,{"$f":"'13'!C210","v":0},{"$f":"'13'!D210","v":0},{"$f":"'13'!E210","v":0},{"$f":"'13'!F210","v":0}]
[null,3806,{"$f":"'13'!C211","v":0},{"$f":"'13'!D211","v":0},{"$f":"'13'!E211","v":0},{"$f":"'13'!F211","v":0}]
[null,3807,{"$f":"'13'!C212","v":0},{"$f":"'13'!D212","v":0},{"$f":"'13'!E212","v":0},{"$f":"'13'!F212","v":0}]
[null,3808,{"$f":"'13'!C213","v":0},{"$f":"'13'!D213","v":0},{"$f":"'13'!E213","v":0},{"$f":"'13'!F213","v":0}]
[null,3809,{"$f":"'13'!C214","v":0},{"$f":"'13'!D214","v":0},{"$f":"'13'!E214","v":0},{"$f":"'13'!F214","v":0}]
[null,3810,{"$f":"'13'!C215","v":0},{"$f":"'13'!D215","v":0},{"$f":"'13'!E215","v":0},{"$f":"'13'!F215","v":0}]
[null,3811,{"$f":"'13'!C216","v":0},{"$f":"'13'!D216","v":0},{"$f":"'13'!E216","v":0},{"$f":"'13'!F216","v":0}]
[null,3812,{"$f":"'13'!C217","v":0},{"$f":"'13'!D217","v":0},{"$f":"'13'!E217","v":0},{"$f":"'13'!F217","v":0}]
[null,3813,{"$f":"'13'!C218","v":0},{"$f":"'13'!D218","v":0},{"$f":"'13'!E218","v":0},{"$f":"'13'!F218","v":0}]
[null,3814,{"$f":"'13'!C219","v":0},{"$f":"'13'!D219","v":0},{"$f":"'13'!E219","v":0},{"$f":"'13'!F219","v":0}]
[null,3815,{"$f":"'13'!C220","v":0},{"$f":"'13'!D220","v":0},{"$f":"'13'!E220","v":0},{"$f":"'13'!F220","v":0}]
[null,3816,{"$f":"'13'!C221","v":0},{"$f":"'13'!D221","v":0},{"$f":"'13'!E221","v":0},{"$f":"'13'!F221","v":0}]
[null,3817,{"$f":"'13'!C222","v":0},{"$f":"'13'!D222","v":0},{"$f":"'13'!E222","v":0},{"$f":"'13'!F222","v":0}]
[null,3818,{"$f":"'13'!C223","v":0},{"$f":"'13'!D223","v":0},{"$f":"'13'!E223","v":0},{"$f":"'13'!F223","v":0}]
[null,3819,{"$f":"'13'!C224","v":0},{"$f":"'13'!D224","v":0},{"$f":"'13'!E224","v":0},{"$f":"'13'!F224","v":0}]
[null,3820,{"$f":"'13'!C225","v":0},{"$f":"'13'!D225","v":0},{"$f":"'13'!E225","v":0},{"$f":"'13'!F225","v":0}]
[null,3821,{"$f":"'13'!C226","v":0},{"$f":"'13'!D226","v":0},{"$f":"'13'!E226","v":0},{"$f":"'13'!F226","v":0}]
[null,3822,{"$f":"'13'!C227","v":0},{"$f":"'13'!D227","v":0},{"$f":"'13'!E227","v":0},{"$f":"'13'!F227","v":0}]
[null,3823,{"$f":"'13'!C228","v":0},{"$f":"'13'!D228","v":0},{"$f":"'13'!E228","v":0},{"$f":"'13'!F228","v":0}]
[null,3824,{"$f":"'13'!C229","v":0},{"$f":"'13'!D229","v":0},{"$f":"'13'!E229","v":0},{"$f":"'13'!F229","v":0}]
[null,3825,{"$f":"'13'!C230","v":0},{"$f":"'13'!D230","v":0},{"$f":"'13'!E230","v":0},{"$f":"'13'!F230","v":0}]
[null,3826,{"$f":"'13'!C231","v":0},{"$f":"'13'!D231","v":0},{"$f":"'13'!E231","v":0},{"$f":"'13'!F231","v":0}]
[null,3827,{"$f":"'13'!C232","v":0},{"$f":"'13'!D232","v":0},{"$f":"'13'!E232","v":0},{"$f":"'13'!F232","v":0}]
[null,3828,{"$f":"'13'!C233","v":0},{"$f":"'13'!D233","v":0},{"$f":"'13'!E233","v":0},{"$f":"'13'!F233","v":0}]
[null,3829,{"$f":"'13'!C234","v":0},{"$f":"'13'!D234","v":0},{"$f":"'13'!E234","v":0},{"$f":"'13'!F234","v":0}]
[null,3830,{"$f":"'13'!C235","v":0},{"$f":"'13'!D235","v":0},{"$f":"'13'!E235","v":0},{"$f":"'13'!F235","v":0}]
[null,3831,{"$f":"'13'!C236","v":0},{"$f":"'13'!D236","v":0},{"$f":"'13'!E236","v":0},{"$f":"'13'!F236","v":0}]
[null,3832,{"$f":"'13'!C237","v":0},{"$f":"'13'!D237","v":0},{"$f":"'13'!E237","v":0},{"$f":"'13'!F237","v":0}]
[null,3833,{"$f":"'13'!C238","v":0},{"$f":"'13'!D238","v":0},{"$f":"'13'!E238","v":0},{"$f":"'13'!F238","v":0}]
[null,3834,{"$f":"'13'!C239","v":0},{"$f":"'13'!D239","v":0},{"$f":"'13'!E239","v":0},{"$f":"'13'!F239","v":0}]
[null,3835,{"$f":"'13'!C240","v":0},{"$f":"'13'!D240","v":0},{"$f":"'13'!E240","v":0},{"$f":"'13'!F240","v":0}]
[null,3836,{"$f":"'13'!C241","v":0},{"$f":"'13'!D241","v":0},{"$f":"'13'!E241","v":0},{"$f":"'13'!F241","v":0}]
[null,3837,{"$f":"'13'!C242","v":0},{"$f":"'13'!D242","v":0},{"$f":"'13'!E242","v":0},{"$f":"'13'!F242","v":0}]
[null,3838,{"$f":"'13'!C243","v":0},{"$f":"'13'!D243","v":0},{"$f":"'13'!E243","v":0},{"$f":"'13'!F243","v":0}]
[null,3839,{"$f":"'13'!C244","v":0},{"$f":"'13'!D244","v":0},{"$f":"'13'!E244","v":0},{"$f":"'13'!F244","v":0}]
[null,3840,{"$f":"'13'!C245","v":0},{"$f":"'13'!D245","v":0},{"$f":"'13'!E245","v":0},{"$f":"'13'!F245","v":0}]
[null,3841,{"$f":"'13'!C246","v":0},{"$f":"'13'!D246","v":0},{"$f":"'13'!E246","v":0},{"$f":"'13'!F246","v":0}]
[null,3842,{"$f":"'13'!C247","v":0},{"$f":"'13'!D247","v":0},{"$f":"'13'!E247","v":0},{"$f":"'13'!F247","v":0}]
[null,3843,{"$f":"'13'!C248","v":0},{"$f":"'13'!D248","v":0},{"$f":"'13'!E248","v":0},{"$f":"'13'!F248","v":0}]
[null,3844,{"$f":"'13'!C249","v":0},{"$f":"'13'!D249","v":0},{"$f":"'13'!E249","v":0},{"$f":"'13'!F249","v":0}]
[null,3845,{"$f":"'13'!C250","v":0},{"$f":"'13'!D250","v":0},{"$f":"'13'!E250","v":0},{"$f":"'13'!F250","v":0}]
[null,3846,{"$f":"'13'!C251","v":0},{"$f":"'13'!D251","v":0},{"$f":"'13'!E251","v":0},{"$f":"'13'!F251","v":0}]
[null,3847,{"$f":"'13'!C252","v":0},{"$f":"'13'!D252","v":0},{"$f":"'13'!E252","v":0},{"$f":"'13'!F252","v":0}]
[null,3848,{"$f":"'13'!C253","v":0},{"$f":"'13'!D253","v":0},{"$f":"'13'!E253","v":0},{"$f":"'13'!F253","v":0}]
[null,3849,{"$f":"'13'!C254","v":0},{"$f":"'13'!D254","v":0},{"$f":"'13'!E254","v":0},{"$f":"'13'!F254","v":0}]
[null,3850,{"$f":"'13'!C255","v":0},{"$f":"'13'!D255","v":0},{"$f":"'13'!E255","v":0},{"$f":"'13'!F255","v":0}]
[null,3851,{"$f":"'13'!C256","v":0},{"$f":"'13'!D256","v":0},{"$f":"'13'!E256","v":0},{"$f":"'13'!F256","v":0}]
[null,3852,{"$f":"'13'!C257","v":0},{"$f":"'13'!D257","v":0},{"$f":"'13'!E257","v":0},{"$f":"'13'!F257","v":0}]
[null,3853,{"$f":"'13'!C258","v":0},{"$f":"'13'!D258","v":0},{"$f":"'13'!E258","v":0},{"$f":"'13'!F258","v":0}]
[null,3854,{"$f":"'13'!C259","v":0},{"$f":"'13'!D259","v":0},{"$f":"'13'!E259","v":0},{"$f":"'13'!F259","v":0}]
[null,3855,{"$f":"'13'!C260","v":0},{"$f":"'13'!D260","v":0},{"$f":"'13'!E260","v":0},{"$f":"'13'!F260","v":0}]
[null,3856,{"$f":"'13'!C261","v":0},{"$f":"'13'!D261","v":0},{"$f":"'13'!E261","v":0},{"$f":"'13'!F261","v":0}]
[null,3857,{"$f":"'13'!C262","v":0},{"$f":"'13'!D262","v":0},{"$f":"'13'!E262","v":0},{"$f":"'13'!F262","v":0}]
[null,3858,{"$f":"'13'!C263","v":0},{"$f":"'13'!D263","v":0},{"$f":"'13'!E263","v":0},{"$f":"'13'!F263","v":0}]
[null,3859,{"$f":"'13'!C264","v":0},{"$f":"'13'!D264","v":0},{"$f":"'13'!E264","v":0},{"$f":"'13'!F264","v":0}]
[null,3860,{"$f":"'13'!C265","v":0},{"$f":"'13'!D265","v":0},{"$f":"'13'!E265","v":0},{"$f":"'13'!F265","v":0}]
[null,3861,{"$f":"'13'!C266","v":0},{"$f":"'13'!D266","v":0},{"$f":"'13'!E266","v":0},{"$f":"'13'!F266","v":0}]
[null,3862,{"$f":"'13'!C267","v":0},{"$f":"'13'!D267","v":0},{"$f":"'13'!E267","v":0},{"$f":"'13'!F267","v":0}]
[null,3863,{"$f":"'13'!C268","v":0},{"$f":"'13'!D268","v":0},{"$f":"'13'!E268","v":0},{"$f":"'13'!F268","v":0}]
[null,3864,{"$f":"'13'!C269","v":0},{"$f":"'13'!D269","v":0},{"$f":"'13'!E269","v":0},{"$f":"'13'!F269","v":0}]
[null,3865,{"$f":"'13'!C270","v":0},{"$f":"'13'!D270","v":0},{"$f":"'13'!E270","v":0},{"$f":"'13'!F270","v":0}]
[null,3866,{"$f":"'13'!C271","v":0},{"$f":"'13'!D271","v":0},{"$f":"'13'!E271","v":0},{"$f":"'13'!F271","v":0}]
[null,3867,{"$f":"'13'!C272","v":0},{"$f":"'13'!D272","v":0},{"$f":"'13'!E272","v":0},{"$f":"'13'!F272","v":0}]
[null,3868,{"$f":"'13'!C273","v":0},{"$f":"'13'!D273","v":0},{"$f":"'13'!E273","v":0},{"$f":"'13'!F273","v":0}]
[null,3869,{"$f":"'13'!C274","v":0},{"$f":"'13'!D274","v":0},{"$f":"'13'!E274","v":0},{"$f":"'13'!F274","v":0}]
[null,3870,{"$f":"'13'!C275","v":0},{"$f":"'13'!D275","v":0},{"$f":"'13'!E275","v":0},{"$f":"'13'!F275","v":0}]
[null,3871,{"$f":"'13'!C276","v":0},{"$f":"'13'!D276","v":0},{"$f":"'13'!E276","v":0},{"$f":"'13'!F276","v":0}]
[null,3872,{"$f":"'13'!C277","v":0},{"$f":"'13'!D277","v":0},{"$f":"'13'!E277","v":0},{"$f":"'13'!F277","v":0}]
[null,3873,{"$f":"'13'!C278","v":0},{"$f":"'13'!D278","v":0},{"$f":"'13'!E278","v":0},{"$f":"'13'!F278","v":0}]
[null,3874,{"$f":"'13'!C279","v":0},{"$f":"'13'!D279","v":0},{"$f":"'13'!E279","v":0},{"$f":"'13'!F279","v":0}]
[null,3875,{"$f":"'13'!C280","v":0},{"$f":"'13'!D280","v":0},{"$f":"'13'!E280","v":0},{"$f":"'13'!F280","v":0}]
[null,3876,{"$f":"'13'!C281","v":0},{"$f":"'13'!D281","v":0},{"$f":"'13'!E281","v":0},{"$f":"'13'!F281","v":0}]
[null,3877,{"$f":"'13'!C282","v":0},{"$f":"'13'!D282","v":0},{"$f":"'13'!E282","v":0},{"$f":"'13'!F282","v":0}]
[null,3878,{"$f":"'13'!C283","v":0},{"$f":"'13'!D283","v":0},{"$f":"'13'!E283","v":0},{"$f":"'13'!F283","v":0}]
[null,3879,{"$f":"'13'!C284","v":0},{"$f":"'13'!D284","v":0},{"$f":"'13'!E284","v":0},{"$f":"'13'!F284","v":0}]
[null,3880,{"$f":"'13'!C285","v":0},{"$f":"'13'!D285","v":0},{"$f":"'13'!E285","v":0},{"$f":"'13'!F285","v":0}]
[null,3881,{"$f":"'13'!C286","v":0},{"$f":"'13'!D286","v":0},{"$f":"'13'!E286","v":0},{"$f":"'13'!F286","v":0}]
[null,3882,{"$f":"'13'!C287","v":0},{"$f":"'13'!D287","v":0},{"$f":"'13'!E287","v":0},{"$f":"'13'!F287","v":0}]
[null,3883,{"$f":"'13'!C288","v":0},{"$f":"'13'!D288","v":0},{"$f":"'13'!E288","v":0},{"$f":"'13'!F288","v":0}]
[null,3884,{"$f":"'13'!C289","v":0},{"$f":"'13'!D289","v":0},{"$f":"'13'!E289","v":0},{"$f":"'13'!F289","v":0}]
[null,3885,{"$f":"'13'!C290","v":0},{"$f":"'13'!D290","v":0},{"$f":"'13'!E290","v":0},{"$f":"'13'!F290","v":0}]
[null,3886,{"$f":"'13'!C291","v":0},{"$f":"'13'!D291","v":0},{"$f":"'13'!E291","v":0},{"$f":"'13'!F291","v":0}]
[null,3887,{"$f":"'13'!C292","v":0},{"$f":"'13'!D292","v":0},{"$f":"'13'!E292","v":0},{"$f":"'13'!F292","v":0}]
[null,3888,{"$f":"'13'!C293","v":0},{"$f":"'13'!D293","v":0},{"$f":"'13'!E293","v":0},{"$f":"'13'!F293","v":0}]
[null,3889,{"$f":"'13'!C294","v":0},{"$f":"'13'!D294","v":0},{"$f":"'13'!E294","v":0},{"$f":"'13'!F294","v":0}]
[null,3890,{"$f":"'13'!C295","v":0},{"$f":"'13'!D295","v":0},{"$f":"'13'!E295","v":0},{"$f":"'13'!F295","v":0}]
[null,3891,{"$f":"'13'!C296","v":0},{"$f":"'13'!D296","v":0},{"$f":"'13'!E296","v":0},{"$f":"'13'!F296","v":0}]
[null,3892,{"$f":"'13'!C297","v":0},{"$f":"'13'!D297","v":0},{"$f":"'13'!E297","v":0},{"$f":"'13'!F297","v":0}]
[null,3893,{"$f":"'13'!C298","v":0},{"$f":"'13'!D298","v":0},{"$f":"'13'!E298","v":0},{"$f":"'13'!F298","v":0}]
[null,3894,{"$f":"'13'!C299","v":0},{"$f":"'13'!D299","v":0},{"$f":"'13'!E299","v":0},{"$f":"'13'!F299","v":0}]
[null,3895,{"$f":"'13'!C300","v":0},{"$f":"'13'!D300","v":0},{"$f":"'13'!E300","v":0},{"$f":"'13'!F300","v":0}]
[null,3896,{"$f":"'13'!C301","v":0},{"$f":"'13'!D301","v":0},{"$f":"'13'!E301","v":0},{"$f":"'13'!F301","v":0}]
[null,3897,{"$f":"'13'!C302","v":0},{"$f":"'13'!D302","v":0},{"$f":"'13'!E302","v":0},{"$f":"'13'!F302","v":0}]
[null,3898,{"$f":"'13'!C303","v":0},{"$f":"'13'!D303","v":0},{"$f":"'13'!E303","v":0},{"$f":"'13'!F303","v":0}]
[null,3899,{"$f":"'13'!C304","v":0},{"$f":"'13'!D304","v":0},{"$f":"'13'!E304","v":0},{"$f":"'13'!F304","v":0}]
[null,3900,{"$f":"'13'!C305","v":0},{"$f":"'13'!D305","v":0},{"$f":"'13'!E305","v":0},{"$f":"'13'!F305","v":0}]
[null,3901,{"$f":"'14'!C6","v":0},{"$f":"'14'!D6","v":0},{"$f":"'14'!E6","v":0},{"$f":"'14'!F6","v":0}]
[null,3902,{"$f":"'14'!C7","v":0},{"$f":"'14'!D7","v":0},{"$f":"'14'!E7","v":0},{"$f":"'14'!F7","v":0}]
[null,3903,{"$f":"'14'!C8","v":0},{"$f":"'14'!D8","v":0},{"$f":"'14'!E8","v":0},{"$f":"'14'!F8","v":0}]
[null,3904,{"$f":"'14'!C9","v":0},{"$f":"'14'!D9","v":0},{"$f":"'14'!E9","v":0},{"$f":"'14'!F9","v":0}]
[null,3905,{"$f":"'14'!C10","v":0},{"$f":"'14'!D10","v":0},{"$f":"'14'!E10","v":0},{"$f":"'14'!F10","v":0}]
[null,3906,{"$f":"'14'!C11","v":0},{"$f":"'14'!D11","v":0},{"$f":"'14'!E11","v":0},{"$f":"'14'!F11","v":0}]
[null,3907,{"$f":"'14'!C12","v":0},{"$f":"'14'!D12","v":0},{"$f":"'14'!E12","v":0},{"$f":"'14'!F12","v":0}]
[null,3908,{"$f":"'14'!C13","v":0},{"$f":"'14'!D13","v":0},{"$f":"'14'!E13","v":0},{"$f":"'14'!F13","v":0}]
[null,3909,{"$f":"'14'!C14","v":0},{"$f":"'14'!D14","v":0},{"$f":"'14'!E14","v":0},{"$f":"'14'!F14","v":0}]
[null,3910,{"$f":"'14'!C15","v":0},{"$f":"'14'!D15","v":0},{"$f":"'14'!E15","v":0},{"$f":"'14'!F15","v":0}]
[null,3911,{"$f":"'14'!C16","v":0},{"$f":"'14'!D16","v":0},{"$f":"'14'!E16","v":0},{"$f":"'14'!F16","v":0}]
[null,3912,{"$f":"'14'!C17","v":0},{"$f":"'14'!D17","v":0},{"$f":"'14'!E17","v":0},{"$f":"'14'!F17","v":0}]
[null,3913,{"$f":"'14'!C18","v":0},{"$f":"'14'!D18","v":0},{"$f":"'14'!E18","v":0},{"$f":"'14'!F18","v":0}]
[null,3914,{"$f":"'14'!C19","v":0},{"$f":"'14'!D19","v":0},{"$f":"'14'!E19","v":0},{"$f":"'14'!F19","v":0}]
[null,3915,{"$f":"'14'!C20","v":0},{"$f":"'14'!D20","v":0},{"$f":"'14'!E20","v":0},{"$f":"'14'!F20","v":0}]
[null,3916,{"$f":"'14'!C21","v":0},{"$f":"'14'!D21","v":0},{"$f":"'14'!E21","v":0},{"$f":"'14'!F21","v":0}]
[null,3917,{"$f":"'14'!C22","v":0},{"$f":"'14'!D22","v":0},{"$f":"'14'!E22","v":0},{"$f":"'14'!F22","v":0}]
[null,3918,{"$f":"'14'!C23","v":0},{"$f":"'14'!D23","v":0},{"$f":"'14'!E23","v":0},{"$f":"'14'!F23","v":0}]
[null,3919,{"$f":"'14'!C24","v":0},{"$f":"'14'!D24","v":0},{"$f":"'14'!E24","v":0},{"$f":"'14'!F24","v":0}]
[null,3920,{"$f":"'14'!C25","v":0},{"$f":"'14'!D25","v":0},{"$f":"'14'!E25","v":0},{"$f":"'14'!F25","v":0}]
[null,3921,{"$f":"'14'!C26","v":0},{"$f":"'14'!D26","v":0},{"$f":"'14'!E26","v":0},{"$f":"'14'!F26","v":0}]
[null,3922,{"$f":"'14'!C27","v":0},{"$f":"'14'!D27","v":0},{"$f":"'14'!E27","v":0},{"$f":"'14'!F27","v":0}]
[null,3923,{"$f":"'14'!C28","v":0},{"$f":"'14'!D28","v":0},{"$f":"'14'!E28","v":0},{"$f":"'14'!F28","v":0}]
[null,3924,{"$f":"'14'!C29","v":0},{"$f":"'14'!D29","v":0},{"$f":"'14'!E29","v":0},{"$f":"'14'!F29","v":0}]
[null,3925,{"$f":"'14'!C30","v":0},{"$f":"'14'!D30","v":0},{"$f":"'14'!E30","v":0},{"$f":"'14'!F30","v":0}]
[null,3926,{"$f":"'14'!C31","v":0},{"$f":"'14'!D31","v":0},{"$f":"'14'!E31","v":0},{"$f":"'14'!F31","v":0}]
[null,3927,{"$f":"'14'!C32","v":0},{"$f":"'14'!D32","v":0},{"$f":"'14'!E32","v":0},{"$f":"'14'!F32","v":0}]
[null,3928,{"$f":"'14'!C33","v":0},{"$f":"'14'!D33","v":0},{"$f":"'14'!E33","v":0},{"$f":"'14'!F33","v":0}]
[null,3929,{"$f":"'14'!C34","v":0},{"$f":"'14'!D34","v":0},{"$f":"'14'!E34","v":0},{"$f":"'14'!F34","v":0}]
[null,3930,{"$f":"'14'!C35","v":0},{"$f":"'14'!D35","v":0},{"$f":"'14'!E35","v":0},{"$f":"'14'!F35","v":0}]
[null,3931,{"$f":"'14'!C36","v":0},{"$f":"'14'!D36","v":0},{"$f":"'14'!E36","v":0},{"$f":"'14'!F36","v":0}]
[null,3932,{"$f":"'14'!C37","v":0},{"$f":"'14'!D37","v":0},{"$f":"'14'!E37","v":0},{"$f":"'14'!F37","v":0}]
[null,3933,{"$f":"'14'!C38","v":0},{"$f":"'14'!D38","v":0},{"$f":"'14'!E38","v":0},{"$f":"'14'!F38","v":0}]
[null,3934,{"$f":"'14'!C39","v":0},{"$f":"'14'!D39","v":0},{"$f":"'14'!E39","v":0},{"$f":"'14'!F39","v":0}]
[null,3935,{"$f":"'14'!C40","v":0},{"$f":"'14'!D40","v":0},{"$f":"'14'!E40","v":0},{"$f":"'14'!F40","v":0}]
[null,3936,{"$f":"'14'!C41","v":0},{"$f":"'14'!D41","v":0},{"$f":"'14'!E41","v":0},{"$f":"'14'!F41","v":0}]
[null,3937,{"$f":"'14'!C42","v":0},{"$f":"'14'!D42","v":0},{"$f":"'14'!E42","v":0},{"$f":"'14'!F42","v":0}]
[null,3938,{"$f":"'14'!C43","v":0},{"$f":"'14'!D43","v":0},{"$f":"'14'!E43","v":0},{"$f":"'14'!F43","v":0}]
[null,3939,{"$f":"'14'!C44","v":0},{"$f":"'14'!D44","v":0},{"$f":"'14'!E44","v":0},{"$f":"'14'!F44","v":0}]
[null,3940,{"$f":"'14'!C45","v":0},{"$f":"'14'!D45","v":0},{"$f":"'14'!E45","v":0},{"$f":"'14'!F45","v":0}]
[null,3941,{"$f":"'14'!C46","v":0},{"$f":"'14'!D46","v":0},{"$f":"'14'!E46","v":0},{"$f":"'14'!F46","v":0}]
[null,3942,{"$f":"'14'!C47","v":0},{"$f":"'14'!D47","v":0},{"$f":"'14'!E47","v":0},{"$f":"'14'!F47","v":0}]
[null,3943,{"$f":"'14'!C48","v":0},{"$f":"'14'!D48","v":0},{"$f":"'14'!E48","v":0},{"$f":"'14'!F48","v":0}]
[null,3944,{"$f":"'14'!C49","v":0},{"$f":"'14'!D49","v":0},{"$f":"'14'!E49","v":0},{"$f":"'14'!F49","v":0}]
[null,3945,{"$f":"'14'!C50","v":0},{"$f":"'14'!D50","v":0},{"$f":"'14'!E50","v":0},{"$f":"'14'!F50","v":0}]
[null,3946,{"$f":"'14'!C51","v":0},{"$f":"'14'!D51","v":0},{"$f":"'14'!E51","v":0},{"$f":"'14'!F51","v":0}]
[null,3947,{"$f":"'14'!C52","v":0},{"$f":"'14'!D52","v":0},{"$f":"'14'!E52","v":0},{"$f":"'14'!F52","v":0}]
[null,3948,{"$f":"'14'!C53","v":0},{"$f":"'14'!D53","v":0},{"$f":"'14'!E53","v":0},{"$f":"'14'!F53","v":0}]
[null,3949,{"$f":"'14'!C54","v":0},{"$f":"'14'!D54","v":0},{"$f":"'14'!E54","v":0},{"$f":"'14'!F54","v":0}]
[null,3950,{"$f":"'14'!C55","v":0},{"$f":"'14'!D55","v":0},{"$f":"'14'!E55","v":0},{"$f":"'14'!F55","v":0}]
[null,3951,{"$f":"'14'!C56","v":0},{"$f":"'14'!D56","v":0},{"$f":"'14'!E56","v":0},{"$f":"'14'!F56","v":0}]
[null,3952,{"$f":"'14'!C57","v":0},{"$f":"'14'!D57","v":0},{"$f":"'14'!E57","v":0},{"$f":"'14'!F57","v":0}]
[null,3953,{"$f":"'14'!C58","v":0},{"$f":"'14'!D58","v":0},{"$f":"'14'!E58","v":0},{"$f":"'14'!F58","v":0}]
[null,3954,{"$f":"'14'!C59","v":0},{"$f":"'14'!D59","v":0},{"$f":"'14'!E59","v":0},{"$f":"'14'!F59","v":0}]
[null,3955,{"$f":"'14'!C60","v":0},{"$f":"'14'!D60","v":0},{"$f":"'14'!E60","v":0},{"$f":"'14'!F60","v":0}]
[null,3956,{"$f":"'14'!C61","v":0},{"$f":"'14'!D61","v":0},{"$f":"'14'!E61","v":0},{"$f":"'14'!F61","v":0}]
[null,3957,{"$f":"'14'!C62","v":0},{"$f":"'14'!D62","v":0},{"$f":"'14'!E62","v":0},{"$f":"'14'!F62","v":0}]
[null,3958,{"$f":"'14'!C63","v":0},{"$f":"'14'!D63","v":0},{"$f":"'14'!E63","v":0},{"$f":"'14'!F63","v":0}]
[null,3959,{"$f":"'14'!C64","v":0},{"$f":"'14'!D64","v":0},{"$f":"'14'!E64","v":0},{"$f":"'14'!F64","v":0}]
[null,3960,{"$f":"'14'!C65","v":0},{"$f":"'14'!D65","v":0},{"$f":"'14'!E65","v":0},{"$f":"'14'!F65","v":0}]
[null,3961,{"$f":"'14'!C66","v":0},{"$f":"'14'!D66","v":0},{"$f":"'14'!E66","v":0},{"$f":"'14'!F66","v":0}]
[null,3962,{"$f":"'14'!C67","v":0},{"$f":"'14'!D67","v":0},{"$f":"'14'!E67","v":0},{"$f":"'14'!F67","v":0}]
[null,3963,{"$f":"'14'!C68","v":0},{"$f":"'14'!D68","v":0},{"$f":"'14'!E68","v":0},{"$f":"'14'!F68","v":0}]
[null,3964,{"$f":"'14'!C69","v":0},{"$f":"'14'!D69","v":0},{"$f":"'14'!E69","v":0},{"$f":"'14'!F69","v":0}]
[null,3965,{"$f":"'14'!C70","v":0},{"$f":"'14'!D70","v":0},{"$f":"'14'!E70","v":0},{"$f":"'14'!F70","v":0}]
[null,3966,{"$f":"'14'!C71","v":0},{"$f":"'14'!D71","v":0},{"$f":"'14'!E71","v":0},{"$f":"'14'!F71","v":0}]
[null,3967,{"$f":"'14'!C72","v":0},{"$f":"'14'!D72","v":0},{"$f":"'14'!E72","v":0},{"$f":"'14'!F72","v":0}]
[null,3968,{"$f":"'14'!C73","v":0},{"$f":"'14'!D73","v":0},{"$f":"'14'!E73","v":0},{"$f":"'14'!F73","v":0}]
[null,3969,{"$f":"'14'!C74","v":0},{"$f":"'14'!D74","v":0},{"$f":"'14'!E74","v":0},{"$f":"'14'!F74","v":0}]
[null,3970,{"$f":"'14'!C75","v":0},{"$f":"'14'!D75","v":0},{"$f":"'14'!E75","v":0},{"$f":"'14'!F75","v":0}]
[null,3971,{"$f":"'14'!C76","v":0},{"$f":"'14'!D76","v":0},{"$f":"'14'!E76","v":0},{"$f":"'14'!F76","v":0}]
[null,3972,{"$f":"'14'!C77","v":0},{"$f":"'14'!D77","v":0},{"$f":"'14'!E77","v":0},{"$f":"'14'!F77","v":0}]
[null,3973,{"$f":"'14'!C78","v":0},{"$f":"'14'!D78","v":0},{"$f":"'14'!E78","v":0},{"$f":"'14'!F78","v":0}]
[null,3974,{"$f":"'14'!C79","v":0},{"$f":"'14'!D79","v":0},{"$f":"'14'!E79","v":0},{"$f":"'14'!F79","v":0}]
[null,3975,{"$f":"'14'!C80","v":0},{"$f":"'14'!D80","v":0},{"$f":"'14'!E80","v":0},{"$f":"'14'!F80","v":0}]
[null,3976,{"$f":"'14'!C81","v":0},{"$f":"'14'!D81","v":0},{"$f":"'14'!E81","v":0},{"$f":"'14'!F81","v":0}]
[null,3977,{"$f":"'14'!C82","v":0},{"$f":"'14'!D82","v":0},{"$f":"'14'!E82","v":0},{"$f":"'14'!F82","v":0}]
[null,3978,{"$f":"'14'!C83","v":0},{"$f":"'14'!D83","v":0},{"$f":"'14'!E83","v":0},{"$f":"'14'!F83","v":0}]
[null,3979,{"$f":"'14'!C84","v":0},{"$f":"'14'!D84","v":0},{"$f":"'14'!E84","v":0},{"$f":"'14'!F84","v":0}]
[null,3980,{"$f":"'14'!C85","v":0},{"$f":"'14'!D85","v":0},{"$f":"'14'!E85","v":0},{"$f":"'14'!F85","v":0}]
[null,3981,{"$f":"'14'!C86","v":0},{"$f":"'14'!D86","v":0},{"$f":"'14'!E86","v":0},{"$f":"'14'!F86","v":0}]
[null,3982,{"$f":"'14'!C87","v":0},{"$f":"'14'!D87","v":0},{"$f":"'14'!E87","v":0},{"$f":"'14'!F87","v":0}]
[null,3983,{"$f":"'14'!C88","v":0},{"$f":"'14'!D88","v":0},{"$f":"'14'!E88","v":0},{"$f":"'14'!F88","v":0}]
[null,3984,{"$f":"'14'!C89","v":0},{"$f":"'14'!D89","v":0},{"$f":"'14'!E89","v":0},{"$f":"'14'!F89","v":0}]
[null,3985,{"$f":"'14'!C90","v":0},{"$f":"'14'!D90","v":0},{"$f":"'14'!E90","v":0},{"$f":"'14'!F90","v":0}]
[null,3986,{"$f":"'14'!C91","v":0},{"$f":"'14'!D91","v":0},{"$f":"'14'!E91","v":0},{"$f":"'14'!F91","v":0}]
[null,3987,{"$f":"'14'!C92","v":0},{"$f":"'14'!D92","v":0},{"$f":"'14'!E92","v":0},{"$f":"'14'!F92","v":0}]
[null,3988,{"$f":"'14'!C93","v":0},{"$f":"'14'!D93","v":0},{"$f":"'14'!E93","v":0},{"$f":"'14'!F93","v":0}]
[null,3989,{"$f":"'14'!C94","v":0},{"$f":"'14'!D94","v":0},{"$f":"'14'!E94","v":0},{"$f":"'14'!F94","v":0}]
[null,3990,{"$f":"'14'!C95","v":0},{"$f":"'14'!D95","v":0},{"$f":"'14'!E95","v":0},{"$f":"'14'!F95","v":0}]
[null,3991,{"$f":"'14'!C96","v":0},{"$f":"'14'!D96","v":0},{"$f":"'14'!E96","v":0},{"$f":"'14'!F96","v":0}]
[null,3992,{"$f":"'14'!C97","v":0},{"$f":"'14'!D97","v":0},{"$f":"'14'!E97","v":0},{"$f":"'14'!F97","v":0}]
[null,3993,{"$f":"'14'!C98","v":0},{"$f":"'14'!D98","v":0},{"$f":"'14'!E98","v":0},{"$f":"'14'!F98","v":0}]
[null,3994,{"$f":"'14'!C99","v":0},{"$f":"'14'!D99","v":0},{"$f":"'14'!E99","v":0},{"$f":"'14'!F99","v":0}]
[null,3995,{"$f":"'14'!C100","v":0},{"$f":"'14'!D100","v":0},{"$f":"'14'!E100","v":0},{"$f":"'14'!F100","v":0}]
[null,3996,{"$f":"'14'!C101","v":0},{"$f":"'14'!D101","v":0},{"$f":"'14'!E101","v":0},{"$f":"'14'!F101","v":0}]
[null,3997,{"$f":"'14'!C102","v":0},{"$f":"'14'!D102","v":0},{"$f":"'14'!E102","v":0},{"$f":"'14'!F102","v":0}]
[null,3998,{"$f":"'14'!C103","v":0},{"$f":"'14'!D103","v":0},{"$f":"'14'!E103","v":0},{"$f":"'14'!F103","v":0}]
[null,3999,{"$f":"'14'!C104","v":0},{"$f":"'14'!D104","v":0},{"$f":"'14'!E104","v":0},{"$f":"'14'!F104","v":0}]
[null,4000,{"$f":"'14'!C105","v":0},{"$f":"'14'!D105","v":0},{"$f":"'14'!E105","v":0},{"$f":"'14'!F105","v":0}]
[null,4001,{"$f":"'14'!C106","v":0},{"$f":"'14'!D106","v":0},{"$f":"'14'!E106","v":0},{"$f":"'14'!F106","v":0}]
[null,4002,{"$f":"'14'!C107","v":0},{"$f":"'14'!D107","v":0},{"$f":"'14'!E107","v":0},{"$f":"'14'!F107","v":0}]
[null,4003,{"$f":"'14'!C108","v":0},{"$f":"'14'!D108","v":0},{"$f":"'14'!E108","v":0},{"$f":"'14'!F108","v":0}]
[null,4004,{"$f":"'14'!C109","v":0},{"$f":"'14'!D109","v":0},{"$f":"'14'!E109","v":0},{"$f":"'14'!F109","v":0}]
[null,4005,{"$f":"'14'!C110","v":0},{"$f":"'14'!D110","v":0},{"$f":"'14'!E110","v":0},{"$f":"'14'!F110","v":0}]
[null,4006,{"$f":"'14'!C111","v":0},{"$f":"'14'!D111","v":0},{"$f":"'14'!E111","v":0},{"$f":"'14'!F111","v":0}]
[null,4007,{"$f":"'14'!C112","v":0},{"$f":"'14'!D112","v":0},{"$f":"'14'!E112","v":0},{"$f":"'14'!F112","v":0}]
[null,4008,{"$f":"'14'!C113","v":0},{"$f":"'14'!D113","v":0},{"$f":"'14'!E113","v":0},{"$f":"'14'!F113","v":0}]
[null,4009,{"$f":"'14'!C114","v":0},{"$f":"'14'!D114","v":0},{"$f":"'14'!E114","v":0},{"$f":"'14'!F114","v":0}]
[null,4010,{"$f":"'14'!C115","v":0},{"$f":"'14'!D115","v":0},{"$f":"'14'!E115","v":0},{"$f":"'14'!F115","v":0}]
[null,4011,{"$f":"'14'!C116","v":0},{"$f":"'14'!D116","v":0},{"$f":"'14'!E116","v":0},{"$f":"'14'!F116","v":0}]
[null,4012,{"$f":"'14'!C117","v":0},{"$f":"'14'!D117","v":0},{"$f":"'14'!E117","v":0},{"$f":"'14'!F117","v":0}]
[null,4013,{"$f":"'14'!C118","v":0},{"$f":"'14'!D118","v":0},{"$f":"'14'!E118","v":0},{"$f":"'14'!F118","v":0}]
[null,4014,{"$f":"'14'!C119","v":0},{"$f":"'14'!D119","v":0},{"$f":"'14'!E119","v":0},{"$f":"'14'!F119","v":0}]
[null,4015,{"$f":"'14'!C120","v":0},{"$f":"'14'!D120","v":0},{"$f":"'14'!E120","v":0},{"$f":"'14'!F120","v":0}]
[null,4016,{"$f":"'14'!C121","v":0},{"$f":"'14'!D121","v":0},{"$f":"'14'!E121","v":0},{"$f":"'14'!F121","v":0}]
[null,4017,{"$f":"'14'!C122","v":0},{"$f":"'14'!D122","v":0},{"$f":"'14'!E122","v":0},{"$f":"'14'!F122","v":0}]
[null,4018,{"$f":"'14'!C123","v":0},{"$f":"'14'!D123","v":0},{"$f":"'14'!E123","v":0},{"$f":"'14'!F123","v":0}]
[null,4019,{"$f":"'14'!C124","v":0},{"$f":"'14'!D124","v":0},{"$f":"'14'!E124","v":0},{"$f":"'14'!F124","v":0}]
[null,4020,{"$f":"'14'!C125","v":0},{"$f":"'14'!D125","v":0},{"$f":"'14'!E125","v":0},{"$f":"'14'!F125","v":0}]
[null,4021,{"$f":"'14'!C126","v":0},{"$f":"'14'!D126","v":0},{"$f":"'14'!E126","v":0},{"$f":"'14'!F126","v":0}]
[null,4022,{"$f":"'14'!C127","v":0},{"$f":"'14'!D127","v":0},{"$f":"'14'!E127","v":0},{"$f":"'14'!F127","v":0}]
[null,4023,{"$f":"'14'!C128","v":0},{"$f":"'14'!D128","v":0},{"$f":"'14'!E128","v":0},{"$f":"'14'!F128","v":0}]
[null,4024,{"$f":"'14'!C129","v":0},{"$f":"'14'!D129","v":0},{"$f":"'14'!E129","v":0},{"$f":"'14'!F129","v":0}]
[null,4025,{"$f":"'14'!C130","v":0},{"$f":"'14'!D130","v":0},{"$f":"'14'!E130","v":0},{"$f":"'14'!F130","v":0}]
[null,4026,{"$f":"'14'!C131","v":0},{"$f":"'14'!D131","v":0},{"$f":"'14'!E131","v":0},{"$f":"'14'!F131","v":0}]
[null,4027,{"$f":"'14'!C132","v":0},{"$f":"'14'!D132","v":0},{"$f":"'14'!E132","v":0},{"$f":"'14'!F132","v":0}]
[null,4028,{"$f":"'14'!C133","v":0},{"$f":"'14'!D133","v":0},{"$f":"'14'!E133","v":0},{"$f":"'14'!F133","v":0}]
[null,4029,{"$f":"'14'!C134","v":0},{"$f":"'14'!D134","v":0},{"$f":"'14'!E134","v":0},{"$f":"'14'!F134","v":0}]
[null,4030,{"$f":"'14'!C135","v":0},{"$f":"'14'!D135","v":0},{"$f":"'14'!E135","v":0},{"$f":"'14'!F135","v":0}]
[null,4031,{"$f":"'14'!C136","v":0},{"$f":"'14'!D136","v":0},{"$f":"'14'!E136","v":0},{"$f":"'14'!F136","v":0}]
[null,4032,{"$f":"'14'!C137","v":0},{"$f":"'14'!D137","v":0},{"$f":"'14'!E137","v":0},{"$f":"'14'!F137","v":0}]
[null,4033,{"$f":"'14'!C138","v":0},{"$f":"'14'!D138","v":0},{"$f":"'14'!E138","v":0},{"$f":"'14'!F138","v":0}]
[null,4034,{"$f":"'14'!C139","v":0},{"$f":"'14'!D139","v":0},{"$f":"'14'!E139","v":0},{"$f":"'14'!F139","v":0}]
[null,4035,{"$f":"'14'!C140","v":0},{"$f":"'14'!D140","v":0},{"$f":"'14'!E140","v":0},{"$f":"'14'!F140","v":0}]
[null,4036,{"$f":"'14'!C141","v":0},{"$f":"'14'!D141","v":0},{"$f":"'14'!E141","v":0},{"$f":"'14'!F141","v":0}]
[null,4037,{"$f":"'14'!C142","v":0},{"$f":"'14'!D142","v":0},{"$f":"'14'!E142","v":0},{"$f":"'14'!F142","v":0}]
[null,4038,{"$f":"'14'!C143","v":0},{"$f":"'14'!D143","v":0},{"$f":"'14'!E143","v":0},{"$f":"'14'!F143","v":0}]
[null,4039,{"$f":"'14'!C144","v":0},{"$f":"'14'!D144","v":0},{"$f":"'14'!E144","v":0},{"$f":"'14'!F144","v":0}]
[null,4040,{"$f":"'14'!C145","v":0},{"$f":"'14'!D145","v":0},{"$f":"'14'!E145","v":0},{"$f":"'14'!F145","v":0}]
[null,4041,{"$f":"'14'!C146","v":0},{"$f":"'14'!D146","v":0},{"$f":"'14'!E146","v":0},{"$f":"'14'!F146","v":0}]
[null,4042,{"$f":"'14'!C147","v":0},{"$f":"'14'!D147","v":0},{"$f":"'14'!E147","v":0},{"$f":"'14'!F147","v":0}]
[null,4043,{"$f":"'14'!C148","v":0},{"$f":"'14'!D148","v":0},{"$f":"'14'!E148","v":0},{"$f":"'14'!F148","v":0}]
[null,4044,{"$f":"'14'!C149","v":0},{"$f":"'14'!D149","v":0},{"$f":"'14'!E149","v":0},{"$f":"'14'!F149","v":0}]
[null,4045,{"$f":"'14'!C150","v":0},{"$f":"'14'!D150","v":0},{"$f":"'14'!E150","v":0},{"$f":"'14'!F150","v":0}]
[null,4046,{"$f":"'14'!C151","v":0},{"$f":"'14'!D151","v":0},{"$f":"'14'!E151","v":0},{"$f":"'14'!F151","v":0}]
[null,4047,{"$f":"'14'!C152","v":0},{"$f":"'14'!D152","v":0},{"$f":"'14'!E152","v":0},{"$f":"'14'!F152","v":0}]
[null,4048,{"$f":"'14'!C153","v":0},{"$f":"'14'!D153","v":0},{"$f":"'14'!E153","v":0},{"$f":"'14'!F153","v":0}]
[null,4049,{"$f":"'14'!C154","v":0},{"$f":"'14'!D154","v":0},{"$f":"'14'!E154","v":0},{"$f":"'14'!F154","v":0}]
[null,4050,{"$f":"'14'!C155","v":0},{"$f":"'14'!D155","v":0},{"$f":"'14'!E155","v":0},{"$f":"'14'!F155","v":0}]
[null,4051,{"$f":"'14'!C156","v":0},{"$f":"'14'!D156","v":0},{"$f":"'14'!E156","v":0},{"$f":"'14'!F156","v":0}]
[null,4052,{"$f":"'14'!C157","v":0},{"$f":"'14'!D157","v":0},{"$f":"'14'!E157","v":0},{"$f":"'14'!F157","v":0}]
[null,4053,{"$f":"'14'!C158","v":0},{"$f":"'14'!D158","v":0},{"$f":"'14'!E158","v":0},{"$f":"'14'!F158","v":0}]
[null,4054,{"$f":"'14'!C159","v":0},{"$f":"'14'!D159","v":0},{"$f":"'14'!E159","v":0},{"$f":"'14'!F159","v":0}]
[null,4055,{"$f":"'14'!C160","v":0},{"$f":"'14'!D160","v":0},{"$f":"'14'!E160","v":0},{"$f":"'14'!F160","v":0}]
[null,4056,{"$f":"'14'!C161","v":0},{"$f":"'14'!D161","v":0},{"$f":"'14'!E161","v":0},{"$f":"'14'!F161","v":0}]
[null,4057,{"$f":"'14'!C162","v":0},{"$f":"'14'!D162","v":0},{"$f":"'14'!E162","v":0},{"$f":"'14'!F162","v":0}]
[null,4058,{"$f":"'14'!C163","v":0},{"$f":"'14'!D163","v":0},{"$f":"'14'!E163","v":0},{"$f":"'14'!F163","v":0}]
[null,4059,{"$f":"'14'!C164","v":0},{"$f":"'14'!D164","v":0},{"$f":"'14'!E164","v":0},{"$f":"'14'!F164","v":0}]
[null,4060,{"$f":"'14'!C165","v":0},{"$f":"'14'!D165","v":0},{"$f":"'14'!E165","v":0},{"$f":"'14'!F165","v":0}]
[null,4061,{"$f":"'14'!C166","v":0},{"$f":"'14'!D166","v":0},{"$f":"'14'!E166","v":0},{"$f":"'14'!F166","v":0}]
[null,4062,{"$f":"'14'!C167","v":0},{"$f":"'14'!D167","v":0},{"$f":"'14'!E167","v":0},{"$f":"'14'!F167","v":0}]
[null,4063,{"$f":"'14'!C168","v":0},{"$f":"'14'!D168","v":0},{"$f":"'14'!E168","v":0},{"$f":"'14'!F168","v":0}]
[null,4064,{"$f":"'14'!C169","v":0},{"$f":"'14'!D169","v":0},{"$f":"'14'!E169","v":0},{"$f":"'14'!F169","v":0}]
[null,4065,{"$f":"'14'!C170","v":0},{"$f":"'14'!D170","v":0},{"$f":"'14'!E170","v":0},{"$f":"'14'!F170","v":0}]
[null,4066,{"$f":"'14'!C171","v":0},{"$f":"'14'!D171","v":0},{"$f":"'14'!E171","v":0},{"$f":"'14'!F171","v":0}]
[null,4067,{"$f":"'14'!C172","v":0},{"$f":"'14'!D172","v":0},{"$f":"'14'!E172","v":0},{"$f":"'14'!F172","v":0}]
[null,4068,{"$f":"'14'!C173","v":0},{"$f":"'14'!D173","v":0},{"$f":"'14'!E173","v":0},{"$f":"'14'!F173","v":0}]
[null,4069,{"$f":"'14'!C174","v":0},{"$f":"'14'!D174","v":0},{"$f":"'14'!E174","v":0},{"$f":"'14'!F174","v":0}]
[null,4070,{"$f":"'14'!C175","v":0},{"$f":"'14'!D175","v":0},{"$f":"'14'!E175","v":0},{"$f":"'14'!F175","v":0}]
[null,4071,{"$f":"'14'!C176","v":0},{"$f":"'14'!D176","v":0},{"$f":"'14'!E176","v":0},{"$f":"'14'!F176","v":0}]
[null,4072,{"$f":"'14'!C177","v":0},{"$f":"'14'!D177","v":0},{"$f":"'14'!E177","v":0},{"$f":"'14'!F177","v":0}]
[null,4073,{"$f":"'14'!C178","v":0},{"$f":"'14'!D178","v":0},{"$f":"'14'!E178","v":0},{"$f":"'14'!F178","v":0}]
[null,4074,{"$f":"'14'!C179","v":0},{"$f":"'14'!D179","v":0},{"$f":"'14'!E179","v":0},{"$f":"'14'!F179","v":0}]
[null,4075,{"$f":"'14'!C180","v":0},{"$f":"'14'!D180","v":0},{"$f":"'14'!E180","v":0},{"$f":"'14'!F180","v":0}]
[null,4076,{"$f":"'14'!C181","v":0},{"$f":"'14'!D181","v":0},{"$f":"'14'!E181","v":0},{"$f":"'14'!F181","v":0}]
[null,4077,{"$f":"'14'!C182","v":0},{"$f":"'14'!D182","v":0},{"$f":"'14'!E182","v":0},{"$f":"'14'!F182","v":0}]
[null,4078,{"$f":"'14'!C183","v":0},{"$f":"'14'!D183","v":0},{"$f":"'14'!E183","v":0},{"$f":"'14'!F183","v":0}]
[null,4079,{"$f":"'14'!C184","v":0},{"$f":"'14'!D184","v":0},{"$f":"'14'!E184","v":0},{"$f":"'14'!F184","v":0}]
[null,4080,{"$f":"'14'!C185","v":0},{"$f":"'14'!D185","v":0},{"$f":"'14'!E185","v":0},{"$f":"'14'!F185","v":0}]
[null,4081,{"$f":"'14'!C186","v":0},{"$f":"'14'!D186","v":0},{"$f":"'14'!E186","v":0},{"$f":"'14'!F186","v":0}]
[null,4082,{"$f":"'14'!C187","v":0},{"$f":"'14'!D187","v":0},{"$f":"'14'!E187","v":0},{"$f":"'14'!F187","v":0}]
[null,4083,{"$f":"'14'!C188","v":0},{"$f":"'14'!D188","v":0},{"$f":"'14'!E188","v":0},{"$f":"'14'!F188","v":0}]
[null,4084,{"$f":"'14'!C189","v":0},{"$f":"'14'!D189","v":0},{"$f":"'14'!E189","v":0},{"$f":"'14'!F189","v":0}]
[null,4085,{"$f":"'14'!C190","v":0},{"$f":"'14'!D190","v":0},{"$f":"'14'!E190","v":0},{"$f":"'14'!F190","v":0}]
[null,4086,{"$f":"'14'!C191","v":0},{"$f":"'14'!D191","v":0},{"$f":"'14'!E191","v":0},{"$f":"'14'!F191","v":0}]
[null,4087,{"$f":"'14'!C192","v":0},{"$f":"'14'!D192","v":0},{"$f":"'14'!E192","v":0},{"$f":"'14'!F192","v":0}]
[null,4088,{"$f":"'14'!C193","v":0},{"$f":"'14'!D193","v":0},{"$f":"'14'!E193","v":0},{"$f":"'14'!F193","v":0}]
[null,4089,{"$f":"'14'!C194","v":0},{"$f":"'14'!D194","v":0},{"$f":"'14'!E194","v":0},{"$f":"'14'!F194","v":0}]
[null,4090,{"$f":"'14'!C195","v":0},{"$f":"'14'!D195","v":0},{"$f":"'14'!E195","v":0},{"$f":"'14'!F195","v":0}]
[null,4091,{"$f":"'14'!C196","v":0},{"$f":"'14'!D196","v":0},{"$f":"'14'!E196","v":0},{"$f":"'14'!F196","v":0}]
[null,4092,{"$f":"'14'!C197","v":0},{"$f":"'14'!D197","v":0},{"$f":"'14'!E197","v":0},{"$f":"'14'!F197","v":0}]
[null,4093,{"$f":"'14'!C198","v":0},{"$f":"'14'!D198","v":0},{"$f":"'14'!E198","v":0},{"$f":"'14'!F198","v":0}]
[null,4094,{"$f":"'14'!C199","v":0},{"$f":"'14'!D199","v":0},{"$f":"'14'!E199","v":0},{"$f":"'14'!F199","v":0}]
[null,4095,{"$f":"'14'!C200","v":0},{"$f":"'14'!D200","v":0},{"$f":"'14'!E200","v":0},{"$f":"'14'!F200","v":0}]
[null,4096,{"$f":"'14'!C201","v":0},{"$f":"'14'!D201","v":0},{"$f":"'14'!E201","v":0},{"$f":"'14'!F201","v":0}]
[null,4097,{"$f":"'14'!C202","v":0},{"$f":"'14'!D202","v":0},{"$f":"'14'!E202","v":0},{"$f":"'14'!F202","v":0}]
[null,4098,{"$f":"'14'!C203","v":0},{"$f":"'14'!D203","v":0},{"$f":"'14'!E203","v":0},{"$f":"'14'!F203","v":0}]
[null,4099,{"$f":"'14'!C204","v":0},{"$f":"'14'!D204","v":0},{"$f":"'14'!E204","v":0},{"$f":"'14'!F204","v":0}]
[null,4100,{"$f":"'14'!C205","v":0},{"$f":"'14'!D205","v":0},{"$f":"'14'!E205","v":0},{"$f":"'14'!F205","v":0}]
[null,4101,{"$f":"'14'!C206","v":0},{"$f":"'14'!D206","v":0},{"$f":"'14'!E206","v":0},{"$f":"'14'!F206","v":0}]
[null,4102,{"$f":"'14'!C207","v":0},{"$f":"'14'!D207","v":0},{"$f":"'14'!E207","v":0},{"$f":"'14'!F207","v":0}]
[null,4103,{"$f":"'14'!C208","v":0},{"$f":"'14'!D208","v":0},{"$f":"'14'!E208","v":0},{"$f":"'14'!F208","v":0}]
[null,4104,{"$f":"'14'!C209","v":0},{"$f":"'14'!D209","v":0},{"$f":"'14'!E209","v":0},{"$f":"'14'!F209","v":0}]
[null,4105,{"$f":"'14'!C210","v":0},{"$f":"'14'!D210","v":0},{"$f":"'14'!E210","v":0},{"$f":"'14'!F210","v":0}]
[null,4106,{"$f":"'14'!C211","v":0},{"$f":"'14'!D211","v":0},{"$f":"'14'!E211","v":0},{"$f":"'14'!F211","v":0}]
[null,4107,{"$f":"'14'!C212","v":0},{"$f":"'14'!D212","v":0},{"$f":"'14'!E212","v":0},{"$f":"'14'!F212","v":0}]
[null,4108,{"$f":"'14'!C213","v":0},{"$f":"'14'!D213","v":0},{"$f":"'14'!E213","v":0},{"$f":"'14'!F213","v":0}]
[null,4109,{"$f":"'14'!C214","v":0},{"$f":"'14'!D214","v":0},{"$f":"'14'!E214","v":0},{"$f":"'14'!F214","v":0}]
[null,4110,{"$f":"'14'!C215","v":0},{"$f":"'14'!D215","v":0},{"$f":"'14'!E215","v":0},{"$f":"'14'!F215","v":0}]
[null,4111,{"$f":"'14'!C216","v":0},{"$f":"'14'!D216","v":0},{"$f":"'14'!E216","v":0},{"$f":"'14'!F216","v":0}]
[null,4112,{"$f":"'14'!C217","v":0},{"$f":"'14'!D217","v":0},{"$f":"'14'!E217","v":0},{"$f":"'14'!F217","v":0}]
[null,4113,{"$f":"'14'!C218","v":0},{"$f":"'14'!D218","v":0},{"$f":"'14'!E218","v":0},{"$f":"'14'!F218","v":0}]
[null,4114,{"$f":"'14'!C219","v":0},{"$f":"'14'!D219","v":0},{"$f":"'14'!E219","v":0},{"$f":"'14'!F219","v":0}]
[null,4115,{"$f":"'14'!C220","v":0},{"$f":"'14'!D220","v":0},{"$f":"'14'!E220","v":0},{"$f":"'14'!F220","v":0}]
[null,4116,{"$f":"'14'!C221","v":0},{"$f":"'14'!D221","v":0},{"$f":"'14'!E221","v":0},{"$f":"'14'!F221","v":0}]
[null,4117,{"$f":"'14'!C222","v":0},{"$f":"'14'!D222","v":0},{"$f":"'14'!E222","v":0},{"$f":"'14'!F222","v":0}]
[null,4118,{"$f":"'14'!C223","v":0},{"$f":"'14'!D223","v":0},{"$f":"'14'!E223","v":0},{"$f":"'14'!F223","v":0}]
[null,4119,{"$f":"'14'!C224","v":0},{"$f":"'14'!D224","v":0},{"$f":"'14'!E224","v":0},{"$f":"'14'!F224","v":0}]
[null,4120,{"$f":"'14'!C225","v":0},{"$f":"'14'!D225","v":0},{"$f":"'14'!E225","v":0},{"$f":"'14'!F225","v":0}]
[null,4121,{"$f":"'14'!C226","v":0},{"$f":"'14'!D226","v":0},{"$f":"'14'!E226","v":0},{"$f":"'14'!F226","v":0}]
[null,4122,{"$f":"'14'!C227","v":0},{"$f":"'14'!D227","v":0},{"$f":"'14'!E227","v":0},{"$f":"'14'!F227","v":0}]
[null,4123,{"$f":"'14'!C228","v":0},{"$f":"'14'!D228","v":0},{"$f":"'14'!E228","v":0},{"$f":"'14'!F228","v":0}]
[null,4124,{"$f":"'14'!C229","v":0},{"$f":"'14'!D229","v":0},{"$f":"'14'!E229","v":0},{"$f":"'14'!F229","v":0}]
[null,4125,{"$f":"'14'!C230","v":0},{"$f":"'14'!D230","v":0},{"$f":"'14'!E230","v":0},{"$f":"'14'!F230","v":0}]
[null,4126,{"$f":"'14'!C231","v":0},{"$f":"'14'!D231","v":0},{"$f":"'14'!E231","v":0},{"$f":"'14'!F231","v":0}]
[null,4127,{"$f":"'14'!C232","v":0},{"$f":"'14'!D232","v":0},{"$f":"'14'!E232","v":0},{"$f":"'14'!F232","v":0}]
[null,4128,{"$f":"'14'!C233","v":0},{"$f":"'14'!D233","v":0},{"$f":"'14'!E233","v":0},{"$f":"'14'!F233","v":0}]
[null,4129,{"$f":"'14'!C234","v":0},{"$f":"'14'!D234","v":0},{"$f":"'14'!E234","v":0},{"$f":"'14'!F234","v":0}]
[null,4130,{"$f":"'14'!C235","v":0},{"$f":"'14'!D235","v":0},{"$f":"'14'!E235","v":0},{"$f":"'14'!F235","v":0}]
[null,4131,{"$f":"'14'!C236","v":0},{"$f":"'14'!D236","v":0},{"$f":"'14'!E236","v":0},{"$f":"'14'!F236","v":0}]
[null,4132,{"$f":"'14'!C237","v":0},{"$f":"'14'!D237","v":0},{"$f":"'14'!E237","v":0},{"$f":"'14'!F237","v":0}]
[null,4133,{"$f":"'14'!C238","v":0},{"$f":"'14'!D238","v":0},{"$f":"'14'!E238","v":0},{"$f":"'14'!F238","v":0}]
[null,4134,{"$f":"'14'!C239","v":0},{"$f":"'14'!D239","v":0},{"$f":"'14'!E239","v":0},{"$f":"'14'!F239","v":0}]
[null,4135,{"$f":"'14'!C240","v":0},{"$f":"'14'!D240","v":0},{"$f":"'14'!E240","v":0},{"$f":"'14'!F240","v":0}]
[null,4136,{"$f":"'14'!C241","v":0},{"$f":"'14'!D241","v":0},{"$f":"'14'!E241","v":0},{"$f":"'14'!F241","v":0}]
[null,4137,{"$f":"'14'!C242","v":0},{"$f":"'14'!D242","v":0},{"$f":"'14'!E242","v":0},{"$f":"'14'!F242","v":0}]
[null,4138,{"$f":"'14'!C243","v":0},{"$f":"'14'!D243","v":0},{"$f":"'14'!E243","v":0},{"$f":"'14'!F243","v":0}]
[null,4139,{"$f":"'14'!C244","v":0},{"$f":"'14'!D244","v":0},{"$f":"'14'!E244","v":0},{"$f":"'14'!F244","v":0}]
[null,4140,{"$f":"'14'!C245","v":0},{"$f":"'14'!D245","v":0},{"$f":"'14'!E245","v":0},{"$f":"'14'!F245","v":0}]
[null,4141,{"$f":"'14'!C246","v":0},{"$f":"'14'!D246","v":0},{"$f":"'14'!E246","v":0},{"$f":"'14'!F246","v":0}]
[null,4142,{"$f":"'14'!C247","v":0},{"$f":"'14'!D247","v":0},{"$f":"'14'!E247","v":0},{"$f":"'14'!F247","v":0}]
[null,4143,{"$f":"'14'!C248","v":0},{"$f":"'14'!D248","v":0},{"$f":"'14'!E248","v":0},{"$f":"'14'!F248","v":0}]
[null,4144,{"$f":"'14'!C249","v":0},{"$f":"'14'!D249","v":0},{"$f":"'14'!E249","v":0},{"$f":"'14'!F249","v":0}]
[null,4145,{"$f":"'14'!C250","v":0},{"$f":"'14'!D250","v":0},{"$f":"'14'!E250","v":0},{"$f":"'14'!F250","v":0}]
[null,4146,{"$f":"'14'!C251","v":0},{"$f":"'14'!D251","v":0},{"$f":"'14'!E251","v":0},{"$f":"'14'!F251","v":0}]
[null,4147,{"$f":"'14'!C252","v":0},{"$f":"'14'!D252","v":0},{"$f":"'14'!E252","v":0},{"$f":"'14'!F252","v":0}]
[null,4148,{"$f":"'14'!C253","v":0},{"$f":"'14'!D253","v":0},{"$f":"'14'!E253","v":0},{"$f":"'14'!F253","v":0}]
[null,4149,{"$f":"'14'!C254","v":0},{"$f":"'14'!D254","v":0},{"$f":"'14'!E254","v":0},{"$f":"'14'!F254","v":0}]
[null,4150,{"$f":"'14'!C255","v":0},{"$f":"'14'!D255","v":0},{"$f":"'14'!E255","v":0},{"$f":"'14'!F255","v":0}]
[null,4151,{"$f":"'14'!C256","v":0},{"$f":"'14'!D256","v":0},{"$f":"'14'!E256","v":0},{"$f":"'14'!F256","v":0}]
[null,4152,{"$f":"'14'!C257","v":0},{"$f":"'14'!D257","v":0},{"$f":"'14'!E257","v":0},{"$f":"'14'!F257","v":0}]
[null,4153,{"$f":"'14'!C258","v":0},{"$f":"'14'!D258","v":0},{"$f":"'14'!E258","v":0},{"$f":"'14'!F258","v":0}]
[null,4154,{"$f":"'14'!C259","v":0},{"$f":"'14'!D259","v":0},{"$f":"'14'!E259","v":0},{"$f":"'14'!F259","v":0}]
[null,4155,{"$f":"'14'!C260","v":0},{"$f":"'14'!D260","v":0},{"$f":"'14'!E260","v":0},{"$f":"'14'!F260","v":0}]
[null,4156,{"$f":"'14'!C261","v":0},{"$f":"'14'!D261","v":0},{"$f":"'14'!E261","v":0},{"$f":"'14'!F261","v":0}]
[null,4157,{"$f":"'14'!C262","v":0},{"$f":"'14'!D262","v":0},{"$f":"'14'!E262","v":0},{"$f":"'14'!F262","v":0}]
[null,4158,{"$f":"'14'!C263","v":0},{"$f":"'14'!D263","v":0},{"$f":"'14'!E263","v":0},{"$f":"'14'!F263","v":0}]
[null,4159,{"$f":"'14'!C264","v":0},{"$f":"'14'!D264","v":0},{"$f":"'14'!E264","v":0},{"$f":"'14'!F264","v":0}]
[null,4160,{"$f":"'14'!C265","v":0},{"$f":"'14'!D265","v":0},{"$f":"'14'!E265","v":0},{"$f":"'14'!F265","v":0}]
[null,4161,{"$f":"'14'!C266","v":0},{"$f":"'14'!D266","v":0},{"$f":"'14'!E266","v":0},{"$f":"'14'!F266","v":0}]
[null,4162,{"$f":"'14'!C267","v":0},{"$f":"'14'!D267","v":0},{"$f":"'14'!E267","v":0},{"$f":"'14'!F267","v":0}]
[null,4163,{"$f":"'14'!C268","v":0},{"$f":"'14'!D268","v":0},{"$f":"'14'!E268","v":0},{"$f":"'14'!F268","v":0}]
[null,4164,{"$f":"'14'!C269","v":0},{"$f":"'14'!D269","v":0},{"$f":"'14'!E269","v":0},{"$f":"'14'!F269","v":0}]
[null,4165,{"$f":"'14'!C270","v":0},{"$f":"'14'!D270","v":0},{"$f":"'14'!E270","v":0},{"$f":"'14'!F270","v":0}]
[null,4166,{"$f":"'14'!C271","v":0},{"$f":"'14'!D271","v":0},{"$f":"'14'!E271","v":0},{"$f":"'14'!F271","v":0}]
[null,4167,{"$f":"'14'!C272","v":0},{"$f":"'14'!D272","v":0},{"$f":"'14'!E272","v":0},{"$f":"'14'!F272","v":0}]
[null,4168,{"$f":"'14'!C273","v":0},{"$f":"'14'!D273","v":0},{"$f":"'14'!E273","v":0},{"$f":"'14'!F273","v":0}]
[null,4169,{"$f":"'14'!C274","v":0},{"$f":"'14'!D274","v":0},{"$f":"'14'!E274","v":0},{"$f":"'14'!F274","v":0}]
[null,4170,{"$f":"'14'!C275","v":0},{"$f":"'14'!D275","v":0},{"$f":"'14'!E275","v":0},{"$f":"'14'!F275","v":0}]
[null,4171,{"$f":"'14'!C276","v":0},{"$f":"'14'!D276","v":0},{"$f":"'14'!E276","v":0},{"$f":"'14'!F276","v":0}]
[null,4172,{"$f":"'14'!C277","v":0},{"$f":"'14'!D277","v":0},{"$f":"'14'!E277","v":0},{"$f":"'14'!F277","v":0}]
[null,4173,{"$f":"'14'!C278","v":0},{"$f":"'14'!D278","v":0},{"$f":"'14'!E278","v":0},{"$f":"'14'!F278","v":0}]
[null,4174,{"$f":"'14'!C279","v":0},{"$f":"'14'!D279","v":0},{"$f":"'14'!E279","v":0},{"$f":"'14'!F279","v":0}]
[null,4175,{"$f":"'14'!C280","v":0},{"$f":"'14'!D280","v":0},{"$f":"'14'!E280","v":0},{"$f":"'14'!F280","v":0}]
[null,4176,{"$f":"'14'!C281","v":0},{"$f":"'14'!D281","v":0},{"$f":"'14'!E281","v":0},{"$f":"'14'!F281","v":0}]
[null,4177,{"$f":"'14'!C282","v":0},{"$f":"'14'!D282","v":0},{"$f":"'14'!E282","v":0},{"$f":"'14'!F282","v":0}]
[null,4178,{"$f":"'14'!C283","v":0},{"$f":"'14'!D283","v":0},{"$f":"'14'!E283","v":0},{"$f":"'14'!F283","v":0}]
[null,4179,{"$f":"'14'!C284","v":0},{"$f":"'14'!D284","v":0},{"$f":"'14'!E284","v":0},{"$f":"'14'!F284","v":0}]
[null,4180,{"$f":"'14'!C285","v":0},{"$f":"'14'!D285","v":0},{"$f":"'14'!E285","v":0},{"$f":"'14'!F285","v":0}]
[null,4181,{"$f":"'14'!C286","v":0},{"$f":"'14'!D286","v":0},{"$f":"'14'!E286","v":0},{"$f":"'14'!F286","v":0}]
[null,4182,{"$f":"'14'!C287","v":0},{"$f":"'14'!D287","v":0},{"$f":"'14'!E287","v":0},{"$f":"'14'!F287","v":0}]
[null,4183,{"$f":"'14'!C288","v":0},{"$f":"'14'!D288","v":0},{"$f":"'14'!E288","v":0},{"$f":"'14'!F288","v":0}]
[null,4184,{"$f":"'14'!C289","v":0},{"$f":"'14'!D289","v":0},{"$f":"'14'!E289","v":0},{"$f":"'14'!F289","v":0}]
[null,4185,{"$f":"'14'!C290","v":0},{"$f":"'14'!D290","v":0},{"$f":"'14'!E290","v":0},{"$f":"'14'!F290","v":0}]
[null,4186,{"$f":"'14'!C291","v":0},{"$f":"'14'!D291","v":0},{"$f":"'14'!E291","v":0},{"$f":"'14'!F291","v":0}]
[null,4187,{"$f":"'14'!C292","v":0},{"$f":"'14'!D292","v":0},{"$f":"'14'!E292","v":0},{"$f":"'14'!F292","v":0}]
[null,4188,{"$f":"'14'!C293","v":0},{"$f":"'14'!D293","v":0},{"$f":"'14'!E293","v":0},{"$f":"'14'!F293","v":0}]
[null,4189,{"$f":"'14'!C294","v":0},{"$f":"'14'!D294","v":0},{"$f":"'14'!E294","v":0},{"$f":"'14'!F294","v":0}]
[null,4190,{"$f":"'14'!C295","v":0},{"$f":"'14'!D295","v":0},{"$f":"'14'!E295","v":0},{"$f":"'14'!F295","v":0}]
[null,4191,{"$f":"'14'!C296","v":0},{"$f":"'14'!D296","v":0},{"$f":"'14'!E296","v":0},{"$f":"'14'!F296","v":0}]
[null,4192,{"$f":"'14'!C297","v":0},{"$f":"'14'!D297","v":0},{"$f":"'14'!E297","v":0},{"$f":"'14'!F297","v":0}]
[null,4193,{"$f":"'14'!C298","v":0},{"$f":"'14'!D298","v":0},{"$f":"'14'!E298","v":0},{"$f":"'14'!F298","v":0}]
[null,4194,{"$f":"'14'!C299","v":0},{"$f":"'14'!D299","v":0},{"$f":"'14'!E299","v":0},{"$f":"'14'!F299","v":0}]
[null,4195,{"$f":"'14'!C300","v":0},{"$f":"'14'!D300","v":0},{"$f":"'14'!E300","v":0},{"$f":"'14'!F300","v":0}]
[null,4196,{"$f":"'14'!C301","v":0},{"$f":"'14'!D301","v":0},{"$f":"'14'!E301","v":0},{"$f":"'14'!F301","v":0}]
[null,4197,{"$f":"'14'!C302","v":0},{"$f":"'14'!D302","v":0},{"$f":"'14'!E302","v":0},{"$f":"'14'!F302","v":0}]
[null,4198,{"$f":"'14'!C303","v":0},{"$f":"'14'!D303","v":0},{"$f":"'14'!E303","v":0},{"$f":"'14'!F303","v":0}]
[null,4199,{"$f":"'14'!C304","v":0},{"$f":"'14'!D304","v":0},{"$f":"'14'!E304","v":0},{"$f":"'14'!F304","v":0}]
[null,4200,{"$f":"'14'!C305","v":0},{"$f":"'14'!D305","v":0},{"$f":"'14'!E305","v":0},{"$f":"'14'!F305","v":0}]
[null,4201,{"$f":"'15'!C6","v":0},{"$f":"'15'!D6","v":0},{"$f":"'15'!E6","v":0},{"$f":"'15'!F6","v":0}]
[null,4202,{"$f":"'15'!C7","v":0},{"$f":"'15'!D7","v":0},{"$f":"'15'!E7","v":0},{"$f":"'15'!F7","v":0}]
[null,4203,{"$f":"'15'!C8","v":0},{"$f":"'15'!D8","v":0},{"$f":"'15'!E8","v":0},{"$f":"'15'!F8","v":0}]
[null,4204,{"$f":"'15'!C9","v":0},{"$f":"'15'!D9","v":0},{"$f":"'15'!E9","v":0},{"$f":"'15'!F9","v":0}]
[null,4205,{"$f":"'15'!C10","v":0},{"$f":"'15'!D10","v":0},{"$f":"'15'!E10","v":0},{"$f":"'15'!F10","v":0}]
[null,4206,{"$f":"'15'!C11","v":0},{"$f":"'15'!D11","v":0},{"$f":"'15'!E11","v":0},{"$f":"'15'!F11","v":0}]
[null,4207,{"$f":"'15'!C12","v":0},{"$f":"'15'!D12","v":0},{"$f":"'15'!E12","v":0},{"$f":"'15'!F12","v":0}]
[null,4208,{"$f":"'15'!C13","v":0},{"$f":"'15'!D13","v":0},{"$f":"'15'!E13","v":0},{"$f":"'15'!F13","v":0}]
[null,4209,{"$f":"'15'!C14","v":0},{"$f":"'15'!D14","v":0},{"$f":"'15'!E14","v":0},{"$f":"'15'!F14","v":0}]
[null,4210,{"$f":"'15'!C15","v":0},{"$f":"'15'!D15","v":0},{"$f":"'15'!E15","v":0},{"$f":"'15'!F15","v":0}]
[null,4211,{"$f":"'15'!C16","v":0},{"$f":"'15'!D16","v":0},{"$f":"'15'!E16","v":0},{"$f":"'15'!F16","v":0}]
[null,4212,{"$f":"'15'!C17","v":0},{"$f":"'15'!D17","v":0},{"$f":"'15'!E17","v":0},{"$f":"'15'!F17","v":0}]
[null,4213,{"$f":"'15'!C18","v":0},{"$f":"'15'!D18","v":0},{"$f":"'15'!E18","v":0},{"$f":"'15'!F18","v":0}]
[null,4214,{"$f":"'15'!C19","v":0},{"$f":"'15'!D19","v":0},{"$f":"'15'!E19","v":0},{"$f":"'15'!F19","v":0}]
[null,4215,{"$f":"'15'!C20","v":0},{"$f":"'15'!D20","v":0},{"$f":"'15'!E20","v":0},{"$f":"'15'!F20","v":0}]
[null,4216,{"$f":"'15'!C21","v":0},{"$f":"'15'!D21","v":0},{"$f":"'15'!E21","v":0},{"$f":"'15'!F21","v":0}]
[null,4217,{"$f":"'15'!C22","v":0},{"$f":"'15'!D22","v":0},{"$f":"'15'!E22","v":0},{"$f":"'15'!F22","v":0}]
[null,4218,{"$f":"'15'!C23","v":0},{"$f":"'15'!D23","v":0},{"$f":"'15'!E23","v":0},{"$f":"'15'!F23","v":0}]
[null,4219,{"$f":"'15'!C24","v":0},{"$f":"'15'!D24","v":0},{"$f":"'15'!E24","v":0},{"$f":"'15'!F24","v":0}]
[null,4220,{"$f":"'15'!C25","v":0},{"$f":"'15'!D25","v":0},{"$f":"'15'!E25","v":0},{"$f":"'15'!F25","v":0}]
[null,4221,{"$f":"'15'!C26","v":0},{"$f":"'15'!D26","v":0},{"$f":"'15'!E26","v":0},{"$f":"'15'!F26","v":0}]
[null,4222,{"$f":"'15'!C27","v":0},{"$f":"'15'!D27","v":0},{"$f":"'15'!E27","v":0},{"$f":"'15'!F27","v":0}]
[null,4223,{"$f":"'15'!C28","v":0},{"$f":"'15'!D28","v":0},{"$f":"'15'!E28","v":0},{"$f":"'15'!F28","v":0}]
[null,4224,{"$f":"'15'!C29","v":0},{"$f":"'15'!D29","v":0},{"$f":"'15'!E29","v":0},{"$f":"'15'!F29","v":0}]
[null,4225,{"$f":"'15'!C30","v":0},{"$f":"'15'!D30","v":0},{"$f":"'15'!E30","v":0},{"$f":"'15'!F30","v":0}]
[null,4226,{"$f":"'15'!C31","v":0},{"$f":"'15'!D31","v":0},{"$f":"'15'!E31","v":0},{"$f":"'15'!F31","v":0}]
[null,4227,{"$f":"'15'!C32","v":0},{"$f":"'15'!D32","v":0},{"$f":"'15'!E32","v":0},{"$f":"'15'!F32","v":0}]
[null,4228,{"$f":"'15'!C33","v":0},{"$f":"'15'!D33","v":0},{"$f":"'15'!E33","v":0},{"$f":"'15'!F33","v":0}]
[null,4229,{"$f":"'15'!C34","v":0},{"$f":"'15'!D34","v":0},{"$f":"'15'!E34","v":0},{"$f":"'15'!F34","v":0}]
[null,4230,{"$f":"'15'!C35","v":0},{"$f":"'15'!D35","v":0},{"$f":"'15'!E35","v":0},{"$f":"'15'!F35","v":0}]
[null,4231,{"$f":"'15'!C36","v":0},{"$f":"'15'!D36","v":0},{"$f":"'15'!E36","v":0},{"$f":"'15'!F36","v":0}]
[null,4232,{"$f":"'15'!C37","v":0},{"$f":"'15'!D37","v":0},{"$f":"'15'!E37","v":0},{"$f":"'15'!F37","v":0}]
[null,4233,{"$f":"'15'!C38","v":0},{"$f":"'15'!D38","v":0},{"$f":"'15'!E38","v":0},{"$f":"'15'!F38","v":0}]
[null,4234,{"$f":"'15'!C39","v":0},{"$f":"'15'!D39","v":0},{"$f":"'15'!E39","v":0},{"$f":"'15'!F39","v":0}]
[null,4235,{"$f":"'15'!C40","v":0},{"$f":"'15'!D40","v":0},{"$f":"'15'!E40","v":0},{"$f":"'15'!F40","v":0}]
[null,4236,{"$f":"'15'!C41","v":0},{"$f":"'15'!D41","v":0},{"$f":"'15'!E41","v":0},{"$f":"'15'!F41","v":0}]
[null,4237,{"$f":"'15'!C42","v":0},{"$f":"'15'!D42","v":0},{"$f":"'15'!E42","v":0},{"$f":"'15'!F42","v":0}]
[null,4238,{"$f":"'15'!C43","v":0},{"$f":"'15'!D43","v":0},{"$f":"'15'!E43","v":0},{"$f":"'15'!F43","v":0}]
[null,4239,{"$f":"'15'!C44","v":0},{"$f":"'15'!D44","v":0},{"$f":"'15'!E44","v":0},{"$f":"'15'!F44","v":0}]
[null,4240,{"$f":"'15'!C45","v":0},{"$f":"'15'!D45","v":0},{"$f":"'15'!E45","v":0},{"$f":"'15'!F45","v":0}]
[null,4241,{"$f":"'15'!C46","v":0},{"$f":"'15'!D46","v":0},{"$f":"'15'!E46","v":0},{"$f":"'15'!F46","v":0}]
[null,4242,{"$f":"'15'!C47","v":0},{"$f":"'15'!D47","v":0},{"$f":"'15'!E47","v":0},{"$f":"'15'!F47","v":0}]
[null,4243,{"$f":"'15'!C48","v":0},{"$f":"'15'!D48","v":0},{"$f":"'15'!E48","v":0},{"$f":"'15'!F48","v":0}]
[null,4244,{"$f":"'15'!C49","v":0},{"$f":"'15'!D49","v":0},{"$f":"'15'!E49","v":0},{"$f":"'15'!F49","v":0}]
[null,4245,{"$f":"'15'!C50","v":0},{"$f":"'15'!D50","v":0},{"$f":"'15'!E50","v":0},{"$f":"'15'!F50","v":0}]
[null,4246,{"$f":"'15'!C51","v":0},{"$f":"'15'!D51","v":0},{"$f":"'15'!E51","v":0},{"$f":"'15'!F51","v":0}]
[null,4247,{"$f":"'15'!C52","v":0},{"$f":"'15'!D52","v":0},{"$f":"'15'!E52","v":0},{"$f":"'15'!F52","v":0}]
[null,4248,{"$f":"'15'!C53","v":0},{"$f":"'15'!D53","v":0},{"$f":"'15'!E53","v":0},{"$f":"'15'!F53","v":0}]
[null,4249,{"$f":"'15'!C54","v":0},{"$f":"'15'!D54","v":0},{"$f":"'15'!E54","v":0},{"$f":"'15'!F54","v":0}]
[null,4250,{"$f":"'15'!C55","v":0},{"$f":"'15'!D55","v":0},{"$f":"'15'!E55","v":0},{"$f":"'15'!F55","v":0}]
[null,4251,{"$f":"'15'!C56","v":0},{"$f":"'15'!D56","v":0},{"$f":"'15'!E56","v":0},{"$f":"'15'!F56","v":0}]
[null,4252,{"$f":"'15'!C57","v":0},{"$f":"'15'!D57","v":0},{"$f":"'15'!E57","v":0},{"$f":"'15'!F57","v":0}]
[null,4253,{"$f":"'15'!C58","v":0},{"$f":"'15'!D58","v":0},{"$f":"'15'!E58","v":0},{"$f":"'15'!F58","v":0}]
[null,4254,{"$f":"'15'!C59","v":0},{"$f":"'15'!D59","v":0},{"$f":"'15'!E59","v":0},{"$f":"'15'!F59","v":0}]
[null,4255,{"$f":"'15'!C60","v":0},{"$f":"'15'!D60","v":0},{"$f":"'15'!E60","v":0},{"$f":"'15'!F60","v":0}]
[null,4256,{"$f":"'15'!C61","v":0},{"$f":"'15'!D61","v":0},{"$f":"'15'!E61","v":0},{"$f":"'15'!F61","v":0}]
[null,4257,{"$f":"'15'!C62","v":0},{"$f":"'15'!D62","v":0},{"$f":"'15'!E62","v":0},{"$f":"'15'!F62","v":0}]
[null,4258,{"$f":"'15'!C63","v":0},{"$f":"'15'!D63","v":0},{"$f":"'15'!E63","v":0},{"$f":"'15'!F63","v":0}]
[null,4259,{"$f":"'15'!C64","v":0},{"$f":"'15'!D64","v":0},{"$f":"'15'!E64","v":0},{"$f":"'15'!F64","v":0}]
[null,4260,{"$f":"'15'!C65","v":0},{"$f":"'15'!D65","v":0},{"$f":"'15'!E65","v":0},{"$f":"'15'!F65","v":0}]
[null,4261,{"$f":"'15'!C66","v":0},{"$f":"'15'!D66","v":0},{"$f":"'15'!E66","v":0},{"$f":"'15'!F66","v":0}]
[null,4262,{"$f":"'15'!C67","v":0},{"$f":"'15'!D67","v":0},{"$f":"'15'!E67","v":0},{"$f":"'15'!F67","v":0}]
[null,4263,{"$f":"'15'!C68","v":0},{"$f":"'15'!D68","v":0},{"$f":"'15'!E68","v":0},{"$f":"'15'!F68","v":0}]
[null,4264,{"$f":"'15'!C69","v":0},{"$f":"'15'!D69","v":0},{"$f":"'15'!E69","v":0},{"$f":"'15'!F69","v":0}]
[null,4265,{"$f":"'15'!C70","v":0},{"$f":"'15'!D70","v":0},{"$f":"'15'!E70","v":0},{"$f":"'15'!F70","v":0}]
[null,4266,{"$f":"'15'!C71","v":0},{"$f":"'15'!D71","v":0},{"$f":"'15'!E71","v":0},{"$f":"'15'!F71","v":0}]
[null,4267,{"$f":"'15'!C72","v":0},{"$f":"'15'!D72","v":0},{"$f":"'15'!E72","v":0},{"$f":"'15'!F72","v":0}]
[null,4268,{"$f":"'15'!C73","v":0},{"$f":"'15'!D73","v":0},{"$f":"'15'!E73","v":0},{"$f":"'15'!F73","v":0}]
[null,4269,{"$f":"'15'!C74","v":0},{"$f":"'15'!D74","v":0},{"$f":"'15'!E74","v":0},{"$f":"'15'!F74","v":0}]
[null,4270,{"$f":"'15'!C75","v":0},{"$f":"'15'!D75","v":0},{"$f":"'15'!E75","v":0},{"$f":"'15'!F75","v":0}]
[null,4271,{"$f":"'15'!C76","v":0},{"$f":"'15'!D76","v":0},{"$f":"'15'!E76","v":0},{"$f":"'15'!F76","v":0}]
[null,4272,{"$f":"'15'!C77","v":0},{"$f":"'15'!D77","v":0},{"$f":"'15'!E77","v":0},{"$f":"'15'!F77","v":0}]
[null,4273,{"$f":"'15'!C78","v":0},{"$f":"'15'!D78","v":0},{"$f":"'15'!E78","v":0},{"$f":"'15'!F78","v":0}]
[null,4274,{"$f":"'15'!C79","v":0},{"$f":"'15'!D79","v":0},{"$f":"'15'!E79","v":0},{"$f":"'15'!F79","v":0}]
[null,4275,{"$f":"'15'!C80","v":0},{"$f":"'15'!D80","v":0},{"$f":"'15'!E80","v":0},{"$f":"'15'!F80","v":0}]
[null,4276,{"$f":"'15'!C81","v":0},{"$f":"'15'!D81","v":0},{"$f":"'15'!E81","v":0},{"$f":"'15'!F81","v":0}]
[null,4277,{"$f":"'15'!C82","v":0},{"$f":"'15'!D82","v":0},{"$f":"'15'!E82","v":0},{"$f":"'15'!F82","v":0}]
[null,4278,{"$f":"'15'!C83","v":0},{"$f":"'15'!D83","v":0},{"$f":"'15'!E83","v":0},{"$f":"'15'!F83","v":0}]
[null,4279,{"$f":"'15'!C84","v":0},{"$f":"'15'!D84","v":0},{"$f":"'15'!E84","v":0},{"$f":"'15'!F84","v":0}]
[null,4280,{"$f":"'15'!C85","v":0},{"$f":"'15'!D85","v":0},{"$f":"'15'!E85","v":0},{"$f":"'15'!F85","v":0}]
[null,4281,{"$f":"'15'!C86","v":0},{"$f":"'15'!D86","v":0},{"$f":"'15'!E86","v":0},{"$f":"'15'!F86","v":0}]
[null,4282,{"$f":"'15'!C87","v":0},{"$f":"'15'!D87","v":0},{"$f":"'15'!E87","v":0},{"$f":"'15'!F87","v":0}]
[null,4283,{"$f":"'15'!C88","v":0},{"$f":"'15'!D88","v":0},{"$f":"'15'!E88","v":0},{"$f":"'15'!F88","v":0}]
[null,4284,{"$f":"'15'!C89","v":0},{"$f":"'15'!D89","v":0},{"$f":"'15'!E89","v":0},{"$f":"'15'!F89","v":0}]
[null,4285,{"$f":"'15'!C90","v":0},{"$f":"'15'!D90","v":0},{"$f":"'15'!E90","v":0},{"$f":"'15'!F90","v":0}]
[null,4286,{"$f":"'15'!C91","v":0},{"$f":"'15'!D91","v":0},{"$f":"'15'!E91","v":0},{"$f":"'15'!F91","v":0}]
[null,4287,{"$f":"'15'!C92","v":0},{"$f":"'15'!D92","v":0},{"$f":"'15'!E92","v":0},{"$f":"'15'!F92","v":0}]
[null,4288,{"$f":"'15'!C93","v":0},{"$f":"'15'!D93","v":0},{"$f":"'15'!E93","v":0},{"$f":"'15'!F93","v":0}]
[null,4289,{"$f":"'15'!C94","v":0},{"$f":"'15'!D94","v":0},{"$f":"'15'!E94","v":0},{"$f":"'15'!F94","v":0}]
[null,4290,{"$f":"'15'!C95","v":0},{"$f":"'15'!D95","v":0},{"$f":"'15'!E95","v":0},{"$f":"'15'!F95","v":0}]
[null,4291,{"$f":"'15'!C96","v":0},{"$f":"'15'!D96","v":0},{"$f":"'15'!E96","v":0},{"$f":"'15'!F96","v":0}]
[null,4292,{"$f":"'15'!C97","v":0},{"$f":"'15'!D97","v":0},{"$f":"'15'!E97","v":0},{"$f":"'15'!F97","v":0}]
[null,4293,{"$f":"'15'!C98","v":0},{"$f":"'15'!D98","v":0},{"$f":"'15'!E98","v":0},{"$f":"'15'!F98","v":0}]
[null,4294,{"$f":"'15'!C99","v":0},{"$f":"'15'!D99","v":0},{"$f":"'15'!E99","v":0},{"$f":"'15'!F99","v":0}]
[null,4295,{"$f":"'15'!C100","v":0},{"$f":"'15'!D100","v":0},{"$f":"'15'!E100","v":0},{"$f":"'15'!F100","v":0}]
[null,4296,{"$f":"'15'!C101","v":0},{"$f":"'15'!D101","v":0},{"$f":"'15'!E101","v":0},{"$f":"'15'!F101","v":0}]
[null,4297,{"$f":"'15'!C102","v":0},{"$f":"'15'!D102","v":0},{"$f":"'15'!E102","v":0},{"$f":"'15'!F102","v":0}]
[null,4298,{"$f":"'15'!C103","v":0},{"$f":"'15'!D103","v":0},{"$f":"'15'!E103","v":0},{"$f":"'15'!F103","v":0}]
[null,4299,{"$f":"'15'!C104","v":0},{"$f":"'15'!D104","v":0},{"$f":"'15'!E104","v":0},{"$f":"'15'!F104","v":0}]
[null,4300,{"$f":"'15'!C105","v":0},{"$f":"'15'!D105","v":0},{"$f":"'15'!E105","v":0},{"$f":"'15'!F105","v":0}]
[null,4301,{"$f":"'15'!C106","v":0},{"$f":"'15'!D106","v":0},{"$f":"'15'!E106","v":0},{"$f":"'15'!F106","v":0}]
[null,4302,{"$f":"'15'!C107","v":0},{"$f":"'15'!D107","v":0},{"$f":"'15'!E107","v":0},{"$f":"'15'!F107","v":0}]
[null,4303,{"$f":"'15'!C108","v":0},{"$f":"'15'!D108","v":0},{"$f":"'15'!E108","v":0},{"$f":"'15'!F108","v":0}]
[null,4304,{"$f":"'15'!C109","v":0},{"$f":"'15'!D109","v":0},{"$f":"'15'!E109","v":0},{"$f":"'15'!F109","v":0}]
[null,4305,{"$f":"'15'!C110","v":0},{"$f":"'15'!D110","v":0},{"$f":"'15'!E110","v":0},{"$f":"'15'!F110","v":0}]
[null,4306,{"$f":"'15'!C111","v":0},{"$f":"'15'!D111","v":0},{"$f":"'15'!E111","v":0},{"$f":"'15'!F111","v":0}]
[null,4307,{"$f":"'15'!C112","v":0},{"$f":"'15'!D112","v":0},{"$f":"'15'!E112","v":0},{"$f":"'15'!F112","v":0}]
[null,4308,{"$f":"'15'!C113","v":0},{"$f":"'15'!D113","v":0},{"$f":"'15'!E113","v":0},{"$f":"'15'!F113","v":0}]
[null,4309,{"$f":"'15'!C114","v":0},{"$f":"'15'!D114","v":0},{"$f":"'15'!E114","v":0},{"$f":"'15'!F114","v":0}]
[null,4310,{"$f":"'15'!C115","v":0},{"$f":"'15'!D115","v":0},{"$f":"'15'!E115","v":0},{"$f":"'15'!F115","v":0}]
[null,4311,{"$f":"'15'!C116","v":0},{"$f":"'15'!D116","v":0},{"$f":"'15'!E116","v":0},{"$f":"'15'!F116","v":0}]
[null,4312,{"$f":"'15'!C117","v":0},{"$f":"'15'!D117","v":0},{"$f":"'15'!E117","v":0},{"$f":"'15'!F117","v":0}]
[null,4313,{"$f":"'15'!C118","v":0},{"$f":"'15'!D118","v":0},{"$f":"'15'!E118","v":0},{"$f":"'15'!F118","v":0}]
[null,4314,{"$f":"'15'!C119","v":0},{"$f":"'15'!D119","v":0},{"$f":"'15'!E119","v":0},{"$f":"'15'!F119","v":0}]
[null,4315,{"$f":"'15'!C120","v":0},{"$f":"'15'!D120","v":0},{"$f":"'15'!E120","v":0},{"$f":"'15'!F120","v":0}]
[null,4316,{"$f":"'15'!C121","v":0},{"$f":"'15'!D121","v":0},{"$f":"'15'!E121","v":0},{"$f":"'15'!F121","v":0}]
[null,4317,{"$f":"'15'!C122","v":0},{"$f":"'15'!D122","v":0},{"$f":"'15'!E122","v":0},{"$f":"'15'!F122","v":0}]
[null,4318,{"$f":"'15'!C123","v":0},{"$f":"'15'!D123","v":0},{"$f":"'15'!E123","v":0},{"$f":"'15'!F123","v":0}]
[null,4319,{"$f":"'15'!C124","v":0},{"$f":"'15'!D124","v":0},{"$f":"'15'!E124","v":0},{"$f":"'15'!F124","v":0}]
[null,4320,{"$f":"'15'!C125","v":0},{"$f":"'15'!D125","v":0},{"$f":"'15'!E125","v":0},{"$f":"'15'!F125","v":0}]
[null,4321,{"$f":"'15'!C126","v":0},{"$f":"'15'!D126","v":0},{"$f":"'15'!E126","v":0},{"$f":"'15'!F126","v":0}]
[null,4322,{"$f":"'15'!C127","v":0},{"$f":"'15'!D127","v":0},{"$f":"'15'!E127","v":0},{"$f":"'15'!F127","v":0}]
[null,4323,{"$f":"'15'!C128","v":0},{"$f":"'15'!D128","v":0},{"$f":"'15'!E128","v":0},{"$f":"'15'!F128","v":0}]
[null,4324,{"$f":"'15'!C129","v":0},{"$f":"'15'!D129","v":0},{"$f":"'15'!E129","v":0},{"$f":"'15'!F129","v":0}]
[null,4325,{"$f":"'15'!C130","v":0},{"$f":"'15'!D130","v":0},{"$f":"'15'!E130","v":0},{"$f":"'15'!F130","v":0}]
[null,4326,{"$f":"'15'!C131","v":0},{"$f":"'15'!D131","v":0},{"$f":"'15'!E131","v":0},{"$f":"'15'!F131","v":0}]
[null,4327,{"$f":"'15'!C132","v":0},{"$f":"'15'!D132","v":0},{"$f":"'15'!E132","v":0},{"$f":"'15'!F132","v":0}]
[null,4328,{"$f":"'15'!C133","v":0},{"$f":"'15'!D133","v":0},{"$f":"'15'!E133","v":0},{"$f":"'15'!F133","v":0}]
[null,4329,{"$f":"'15'!C134","v":0},{"$f":"'15'!D134","v":0},{"$f":"'15'!E134","v":0},{"$f":"'15'!F134","v":0}]
[null,4330,{"$f":"'15'!C135","v":0},{"$f":"'15'!D135","v":0},{"$f":"'15'!E135","v":0},{"$f":"'15'!F135","v":0}]
[null,4331,{"$f":"'15'!C136","v":0},{"$f":"'15'!D136","v":0},{"$f":"'15'!E136","v":0},{"$f":"'15'!F136","v":0}]
[null,4332,{"$f":"'15'!C137","v":0},{"$f":"'15'!D137","v":0},{"$f":"'15'!E137","v":0},{"$f":"'15'!F137","v":0}]
[null,4333,{"$f":"'15'!C138","v":0},{"$f":"'15'!D138","v":0},{"$f":"'15'!E138","v":0},{"$f":"'15'!F138","v":0}]
[null,4334,{"$f":"'15'!C139","v":0},{"$f":"'15'!D139","v":0},{"$f":"'15'!E139","v":0},{"$f":"'15'!F139","v":0}]
[null,4335,{"$f":"'15'!C140","v":0},{"$f":"'15'!D140","v":0},{"$f":"'15'!E140","v":0},{"$f":"'15'!F140","v":0}]
[null,4336,{"$f":"'15'!C141","v":0},{"$f":"'15'!D141","v":0},{"$f":"'15'!E141","v":0},{"$f":"'15'!F141","v":0}]
[null,4337,{"$f":"'15'!C142","v":0},{"$f":"'15'!D142","v":0},{"$f":"'15'!E142","v":0},{"$f":"'15'!F142","v":0}]
[null,4338,{"$f":"'15'!C143","v":0},{"$f":"'15'!D143","v":0},{"$f":"'15'!E143","v":0},{"$f":"'15'!F143","v":0}]
[null,4339,{"$f":"'15'!C144","v":0},{"$f":"'15'!D144","v":0},{"$f":"'15'!E144","v":0},{"$f":"'15'!F144","v":0}]
[null,4340,{"$f":"'15'!C145","v":0},{"$f":"'15'!D145","v":0},{"$f":"'15'!E145","v":0},{"$f":"'15'!F145","v":0}]
[null,4341,{"$f":"'15'!C146","v":0},{"$f":"'15'!D146","v":0},{"$f":"'15'!E146","v":0},{"$f":"'15'!F146","v":0}]
[null,4342,{"$f":"'15'!C147","v":0},{"$f":"'15'!D147","v":0},{"$f":"'15'!E147","v":0},{"$f":"'15'!F147","v":0}]
[null,4343,{"$f":"'15'!C148","v":0},{"$f":"'15'!D148","v":0},{"$f":"'15'!E148","v":0},{"$f":"'15'!F148","v":0}]
[null,4344,{"$f":"'15'!C149","v":0},{"$f":"'15'!D149","v":0},{"$f":"'15'!E149","v":0},{"$f":"'15'!F149","v":0}]
[null,4345,{"$f":"'15'!C150","v":0},{"$f":"'15'!D150","v":0},{"$f":"'15'!E150","v":0},{"$f":"'15'!F150","v":0}]
[null,4346,{"$f":"'15'!C151","v":0},{"$f":"'15'!D151","v":0},{"$f":"'15'!E151","v":0},{"$f":"'15'!F151","v":0}]
[null,4347,{"$f":"'15'!C152","v":0},{"$f":"'15'!D152","v":0},{"$f":"'15'!E152","v":0},{"$f":"'15'!F152","v":0}]
[null,4348,{"$f":"'15'!C153","v":0},{"$f":"'15'!D153","v":0},{"$f":"'15'!E153","v":0},{"$f":"'15'!F153","v":0}]
[null,4349,{"$f":"'15'!C154","v":0},{"$f":"'15'!D154","v":0},{"$f":"'15'!E154","v":0},{"$f":"'15'!F154","v":0}]
[null,4350,{"$f":"'15'!C155","v":0},{"$f":"'15'!D155","v":0},{"$f":"'15'!E155","v":0},{"$f":"'15'!F155","v":0}]
[null,4351,{"$f":"'15'!C156","v":0},{"$f":"'15'!D156","v":0},{"$f":"'15'!E156","v":0},{"$f":"'15'!F156","v":0}]
[null,4352,{"$f":"'15'!C157","v":0},{"$f":"'15'!D157","v":0},{"$f":"'15'!E157","v":0},{"$f":"'15'!F157","v":0}]
[null,4353,{"$f":"'15'!C158","v":0},{"$f":"'15'!D158","v":0},{"$f":"'15'!E158","v":0},{"$f":"'15'!F158","v":0}]
[null,4354,{"$f":"'15'!C159","v":0},{"$f":"'15'!D159","v":0},{"$f":"'15'!E159","v":0},{"$f":"'15'!F159","v":0}]
[null,4355,{"$f":"'15'!C160","v":0},{"$f":"'15'!D160","v":0},{"$f":"'15'!E160","v":0},{"$f":"'15'!F160","v":0}]
[null,4356,{"$f":"'15'!C161","v":0},{"$f":"'15'!D161","v":0},{"$f":"'15'!E161","v":0},{"$f":"'15'!F161","v":0}]
[null,4357,{"$f":"'15'!C162","v":0},{"$f":"'15'!D162","v":0},{"$f":"'15'!E162","v":0},{"$f":"'15'!F162","v":0}]
[null,4358,{"$f":"'15'!C163","v":0},{"$f":"'15'!D163","v":0},{"$f":"'15'!E163","v":0},{"$f":"'15'!F163","v":0}]
[null,4359,{"$f":"'15'!C164","v":0},{"$f":"'15'!D164","v":0},{"$f":"'15'!E164","v":0},{"$f":"'15'!F164","v":0}]
[null,4360,{"$f":"'15'!C165","v":0},{"$f":"'15'!D165","v":0},{"$f":"'15'!E165","v":0},{"$f":"'15'!F165","v":0}]
[null,4361,{"$f":"'15'!C166","v":0},{"$f":"'15'!D166","v":0},{"$f":"'15'!E166","v":0},{"$f":"'15'!F166","v":0}]
[null,4362,{"$f":"'15'!C167","v":0},{"$f":"'15'!D167","v":0},{"$f":"'15'!E167","v":0},{"$f":"'15'!F167","v":0}]
[null,4363,{"$f":"'15'!C168","v":0},{"$f":"'15'!D168","v":0},{"$f":"'15'!E168","v":0},{"$f":"'15'!F168","v":0}]
[null,4364,{"$f":"'15'!C169","v":0},{"$f":"'15'!D169","v":0},{"$f":"'15'!E169","v":0},{"$f":"'15'!F169","v":0}]
[null,4365,{"$f":"'15'!C170","v":0},{"$f":"'15'!D170","v":0},{"$f":"'15'!E170","v":0},{"$f":"'15'!F170","v":0}]
[null,4366,{"$f":"'15'!C171","v":0},{"$f":"'15'!D171","v":0},{"$f":"'15'!E171","v":0},{"$f":"'15'!F171","v":0}]
[null,4367,{"$f":"'15'!C172","v":0},{"$f":"'15'!D172","v":0},{"$f":"'15'!E172","v":0},{"$f":"'15'!F172","v":0}]
[null,4368,{"$f":"'15'!C173","v":0},{"$f":"'15'!D173","v":0},{"$f":"'15'!E173","v":0},{"$f":"'15'!F173","v":0}]
[null,4369,{"$f":"'15'!C174","v":0},{"$f":"'15'!D174","v":0},{"$f":"'15'!E174","v":0},{"$f":"'15'!F174","v":0}]
[null,4370,{"$f":"'15'!C175","v":0},{"$f":"'15'!D175","v":0},{"$f":"'15'!E175","v":0},{"$f":"'15'!F175","v":0}]
[null,4371,{"$f":"'15'!C176","v":0},{"$f":"'15'!D176","v":0},{"$f":"'15'!E176","v":0},{"$f":"'15'!F176","v":0}]
[null,4372,{"$f":"'15'!C177","v":0},{"$f":"'15'!D177","v":0},{"$f":"'15'!E177","v":0},{"$f":"'15'!F177","v":0}]
[null,4373,{"$f":"'15'!C178","v":0},{"$f":"'15'!D178","v":0},{"$f":"'15'!E178","v":0},{"$f":"'15'!F178","v":0}]
[null,4374,{"$f":"'15'!C179","v":0},{"$f":"'15'!D179","v":0},{"$f":"'15'!E179","v":0},{"$f":"'15'!F179","v":0}]
[null,4375,{"$f":"'15'!C180","v":0},{"$f":"'15'!D180","v":0},{"$f":"'15'!E180","v":0},{"$f":"'15'!F180","v":0}]
[null,4376,{"$f":"'15'!C181","v":0},{"$f":"'15'!D181","v":0},{"$f":"'15'!E181","v":0},{"$f":"'15'!F181","v":0}]
[null,4377,{"$f":"'15'!C182","v":0},{"$f":"'15'!D182","v":0},{"$f":"'15'!E182","v":0},{"$f":"'15'!F182","v":0}]
[null,4378,{"$f":"'15'!C183","v":0},{"$f":"'15'!D183","v":0},{"$f":"'15'!E183","v":0},{"$f":"'15'!F183","v":0}]
[null,4379,{"$f":"'15'!C184","v":0},{"$f":"'15'!D184","v":0},{"$f":"'15'!E184","v":0},{"$f":"'15'!F184","v":0}]
[null,4380,{"$f":"'15'!C185","v":0},{"$f":"'15'!D185","v":0},{"$f":"'15'!E185","v":0},{"$f":"'15'!F185","v":0}]
[null,4381,{"$f":"'15'!C186","v":0},{"$f":"'15'!D186","v":0},{"$f":"'15'!E186","v":0},{"$f":"'15'!F186","v":0}]
[null,4382,{"$f":"'15'!C187","v":0},{"$f":"'15'!D187","v":0},{"$f":"'15'!E187","v":0},{"$f":"'15'!F187","v":0}]
[null,4383,{"$f":"'15'!C188","v":0},{"$f":"'15'!D188","v":0},{"$f":"'15'!E188","v":0},{"$f":"'15'!F188","v":0}]
[null,4384,{"$f":"'15'!C189","v":0},{"$f":"'15'!D189","v":0},{"$f":"'15'!E189","v":0},{"$f":"'15'!F189","v":0}]
[null,4385,{"$f":"'15'!C190","v":0},{"$f":"'15'!D190","v":0},{"$f":"'15'!E190","v":0},{"$f":"'15'!F190","v":0}]
[null,4386,{"$f":"'15'!C191","v":0},{"$f":"'15'!D191","v":0},{"$f":"'15'!E191","v":0},{"$f":"'15'!F191","v":0}]
[null,4387,{"$f":"'15'!C192","v":0},{"$f":"'15'!D192","v":0},{"$f":"'15'!E192","v":0},{"$f":"'15'!F192","v":0}]
[null,4388,{"$f":"'15'!C193","v":0},{"$f":"'15'!D193","v":0},{"$f":"'15'!E193","v":0},{"$f":"'15'!F193","v":0}]
[null,4389,{"$f":"'15'!C194","v":0},{"$f":"'15'!D194","v":0},{"$f":"'15'!E194","v":0},{"$f":"'15'!F194","v":0}]
[null,4390,{"$f":"'15'!C195","v":0},{"$f":"'15'!D195","v":0},{"$f":"'15'!E195","v":0},{"$f":"'15'!F195","v":0}]
[null,4391,{"$f":"'15'!C196","v":0},{"$f":"'15'!D196","v":0},{"$f":"'15'!E196","v":0},{"$f":"'15'!F196","v":0}]
[null,4392,{"$f":"'15'!C197","v":0},{"$f":"'15'!D197","v":0},{"$f":"'15'!E197","v":0},{"$f":"'15'!F197","v":0}]
[null,4393,{"$f":"'15'!C198","v":0},{"$f":"'15'!D198","v":0},{"$f":"'15'!E198","v":0},{"$f":"'15'!F198","v":0}]
[null,4394,{"$f":"'15'!C199","v":0},{"$f":"'15'!D199","v":0},{"$f":"'15'!E199","v":0},{"$f":"'15'!F199","v":0}]
[null,4395,{"$f":"'15'!C200","v":0},{"$f":"'15'!D200","v":0},{"$f":"'15'!E200","v":0},{"$f":"'15'!F200","v":0}]
[null,4396,{"$f":"'15'!C201","v":0},{"$f":"'15'!D201","v":0},{"$f":"'15'!E201","v":0},{"$f":"'15'!F201","v":0}]
[null,4397,{"$f":"'15'!C202","v":0},{"$f":"'15'!D202","v":0},{"$f":"'15'!E202","v":0},{"$f":"'15'!F202","v":0}]
[null,4398,{"$f":"'15'!C203","v":0},{"$f":"'15'!D203","v":0},{"$f":"'15'!E203","v":0},{"$f":"'15'!F203","v":0}]
[null,4399,{"$f":"'15'!C204","v":0},{"$f":"'15'!D204","v":0},{"$f":"'15'!E204","v":0},{"$f":"'15'!F204","v":0}]
[null,4400,{"$f":"'15'!C205","v":0},{"$f":"'15'!D205","v":0},{"$f":"'15'!E205","v":0},{"$f":"'15'!F205","v":0}]
[null,4401,{"$f":"'15'!C206","v":0},{"$f":"'15'!D206","v":0},{"$f":"'15'!E206","v":0},{"$f":"'15'!F206","v":0}]
[null,4402,{"$f":"'15'!C207","v":0},{"$f":"'15'!D207","v":0},{"$f":"'15'!E207","v":0},{"$f":"'15'!F207","v":0}]
[null,4403,{"$f":"'15'!C208","v":0},{"$f":"'15'!D208","v":0},{"$f":"'15'!E208","v":0},{"$f":"'15'!F208","v":0}]
[null,4404,{"$f":"'15'!C209","v":0},{"$f":"'15'!D209","v":0},{"$f":"'15'!E209","v":0},{"$f":"'15'!F209","v":0}]
[null,4405,{"$f":"'15'!C210","v":0},{"$f":"'15'!D210","v":0},{"$f":"'15'!E210","v":0},{"$f":"'15'!F210","v":0}]
[null,4406,{"$f":"'15'!C211","v":0},{"$f":"'15'!D211","v":0},{"$f":"'15'!E211","v":0},{"$f":"'15'!F211","v":0}]
[null,4407,{"$f":"'15'!C212","v":0},{"$f":"'15'!D212","v":0},{"$f":"'15'!E212","v":0},{"$f":"'15'!F212","v":0}]
[null,4408,{"$f":"'15'!C213","v":0},{"$f":"'15'!D213","v":0},{"$f":"'15'!E213","v":0},{"$f":"'15'!F213","v":0}]
[null,4409,{"$f":"'15'!C214","v":0},{"$f":"'15'!D214","v":0},{"$f":"'15'!E214","v":0},{"$f":"'15'!F214","v":0}]
[null,4410,{"$f":"'15'!C215","v":0},{"$f":"'15'!D215","v":0},{"$f":"'15'!E215","v":0},{"$f":"'15'!F215","v":0}]
[null,4411,{"$f":"'15'!C216","v":0},{"$f":"'15'!D216","v":0},{"$f":"'15'!E216","v":0},{"$f":"'15'!F216","v":0}]
[null,4412,{"$f":"'15'!C217","v":0},{"$f":"'15'!D217","v":0},{"$f":"'15'!E217","v":0},{"$f":"'15'!F217","v":0}]
[null,4413,{"$f":"'15'!C218","v":0},{"$f":"'15'!D218","v":0},{"$f":"'15'!E218","v":0},{"$f":"'15'!F218","v":0}]
[null,4414,{"$f":"'15'!C219","v":0},{"$f":"'15'!D219","v":0},{"$f":"'15'!E219","v":0},{"$f":"'15'!F219","v":0}]
[null,4415,{"$f":"'15'!C220","v":0},{"$f":"'15'!D220","v":0},{"$f":"'15'!E220","v":0},{"$f":"'15'!F220","v":0}]
[null,4416,{"$f":"'15'!C221","v":0},{"$f":"'15'!D221","v":0},{"$f":"'15'!E221","v":0},{"$f":"'15'!F221","v":0}]
[null,4417,{"$f":"'15'!C222","v":0},{"$f":"'15'!D222","v":0},{"$f":"'15'!E222","v":0},{"$f":"'15'!F222","v":0}]
[null,4418,{"$f":"'15'!C223","v":0},{"$f":"'15'!D223","v":0},{"$f":"'15'!E223","v":0},{"$f":"'15'!F223","v":0}]
[null,4419,{"$f":"'15'!C224","v":0},{"$f":"'15'!D224","v":0},{"$f":"'15'!E224","v":0},{"$f":"'15'!F224","v":0}]
[null,4420,{"$f":"'15'!C225","v":0},{"$f":"'15'!D225","v":0},{"$f":"'15'!E225","v":0},{"$f":"'15'!F225","v":0}]
[null,4421,{"$f":"'15'!C226","v":0},{"$f":"'15'!D226","v":0},{"$f":"'15'!E226","v":0},{"$f":"'15'!F226","v":0}]
[null,4422,{"$f":"'15'!C227","v":0},{"$f":"'15'!D227","v":0},{"$f":"'15'!E227","v":0},{"$f":"'15'!F227","v":0}]
[null,4423,{"$f":"'15'!C228","v":0},{"$f":"'15'!D228","v":0},{"$f":"'15'!E228","v":0},{"$f":"'15'!F228","v":0}]
[null,4424,{"$f":"'15'!C229","v":0},{"$f":"'15'!D229","v":0},{"$f":"'15'!E229","v":0},{"$f":"'15'!F229","v":0}]
[null,4425,{"$f":"'15'!C230","v":0},{"$f":"'15'!D230","v":0},{"$f":"'15'!E230","v":0},{"$f":"'15'!F230","v":0}]
[null,4426,{"$f":"'15'!C231","v":0},{"$f":"'15'!D231","v":0},{"$f":"'15'!E231","v":0},{"$f":"'15'!F231","v":0}]
[null,4427,{"$f":"'15'!C232","v":0},{"$f":"'15'!D232","v":0},{"$f":"'15'!E232","v":0},{"$f":"'15'!F232","v":0}]
[null,4428,{"$f":"'15'!C233","v":0},{"$f":"'15'!D233","v":0},{"$f":"'15'!E233","v":0},{"$f":"'15'!F233","v":0}]
[null,4429,{"$f":"'15'!C234","v":0},{"$f":"'15'!D234","v":0},{"$f":"'15'!E234","v":0},{"$f":"'15'!F234","v":0}]
[null,4430,{"$f":"'15'!C235","v":0},{"$f":"'15'!D235","v":0},{"$f":"'15'!E235","v":0},{"$f":"'15'!F235","v":0}]
[null,4431,{"$f":"'15'!C236","v":0},{"$f":"'15'!D236","v":0},{"$f":"'15'!E236","v":0},{"$f":"'15'!F236","v":0}]
[null,4432,{"$f":"'15'!C237","v":0},{"$f":"'15'!D237","v":0},{"$f":"'15'!E237","v":0},{"$f":"'15'!F237","v":0}]
[null,4433,{"$f":"'15'!C238","v":0},{"$f":"'15'!D238","v":0},{"$f":"'15'!E238","v":0},{"$f":"'15'!F238","v":0}]
[null,4434,{"$f":"'15'!C239","v":0},{"$f":"'15'!D239","v":0},{"$f":"'15'!E239","v":0},{"$f":"'15'!F239","v":0}]
[null,4435,{"$f":"'15'!C240","v":0},{"$f":"'15'!D240","v":0},{"$f":"'15'!E240","v":0},{"$f":"'15'!F240","v":0}]
[null,4436,{"$f":"'15'!C241","v":0},{"$f":"'15'!D241","v":0},{"$f":"'15'!E241","v":0},{"$f":"'15'!F241","v":0}]
[null,4437,{"$f":"'15'!C242","v":0},{"$f":"'15'!D242","v":0},{"$f":"'15'!E242","v":0},{"$f":"'15'!F242","v":0}]
[null,4438,{"$f":"'15'!C243","v":0},{"$f":"'15'!D243","v":0},{"$f":"'15'!E243","v":0},{"$f":"'15'!F243","v":0}]
[null,4439,{"$f":"'15'!C244","v":0},{"$f":"'15'!D244","v":0},{"$f":"'15'!E244","v":0},{"$f":"'15'!F244","v":0}]
[null,4440,{"$f":"'15'!C245","v":0},{"$f":"'15'!D245","v":0},{"$f":"'15'!E245","v":0},{"$f":"'15'!F245","v":0}]
[null,4441,{"$f":"'15'!C246","v":0},{"$f":"'15'!D246","v":0},{"$f":"'15'!E246","v":0},{"$f":"'15'!F246","v":0}]
[null,4442,{"$f":"'15'!C247","v":0},{"$f":"'15'!D247","v":0},{"$f":"'15'!E247","v":0},{"$f":"'15'!F247","v":0}]
[null,4443,{"$f":"'15'!C248","v":0},{"$f":"'15'!D248","v":0},{"$f":"'15'!E248","v":0},{"$f":"'15'!F248","v":0}]
[null,4444,{"$f":"'15'!C249","v":0},{"$f":"'15'!D249","v":0},{"$f":"'15'!E249","v":0},{"$f":"'15'!F249","v":0}]
[null,4445,{"$f":"'15'!C250","v":0},{"$f":"'15'!D250","v":0},{"$f":"'15'!E250","v":0},{"$f":"'15'!F250","v":0}]
[null,4446,{"$f":"'15'!C251","v":0},{"$f":"'15'!D251","v":0},{"$f":"'15'!E251","v":0},{"$f":"'15'!F251","v":0}]
[null,4447,{"$f":"'15'!C252","v":0},{"$f":"'15'!D252","v":0},{"$f":"'15'!E252","v":0},{"$f":"'15'!F252","v":0}]
[null,4448,{"$f":"'15'!C253","v":0},{"$f":"'15'!D253","v":0},{"$f":"'15'!E253","v":0},{"$f":"'15'!F253","v":0}]
[null,4449,{"$f":"'15'!C254","v":0},{"$f":"'15'!D254","v":0},{"$f":"'15'!E254","v":0},{"$f":"'15'!F254","v":0}]
[null,4450,{"$f":"'15'!C255","v":0},{"$f":"'15'!D255","v":0},{"$f":"'15'!E255","v":0},{"$f":"'15'!F255","v":0}]
[null,4451,{"$f":"'15'!C256","v":0},{"$f":"'15'!D256","v":0},{"$f":"'15'!E256","v":0},{"$f":"'15'!F256","v":0}]
[null,4452,{"$f":"'15'!C257","v":0},{"$f":"'15'!D257","v":0},{"$f":"'15'!E257","v":0},{"$f":"'15'!F257","v":0}]
[null,4453,{"$f":"'15'!C258","v":0},{"$f":"'15'!D258","v":0},{"$f":"'15'!E258","v":0},{"$f":"'15'!F258","v":0}]
[null,4454,{"$f":"'15'!C259","v":0},{"$f":"'15'!D259","v":0},{"$f":"'15'!E259","v":0},{"$f":"'15'!F259","v":0}]
[null,4455,{"$f":"'15'!C260","v":0},{"$f":"'15'!D260","v":0},{"$f":"'15'!E260","v":0},{"$f":"'15'!F260","v":0}]
[null,4456,{"$f":"'15'!C261","v":0},{"$f":"'15'!D261","v":0},{"$f":"'15'!E261","v":0},{"$f":"'15'!F261","v":0}]
[null,4457,{"$f":"'15'!C262","v":0},{"$f":"'15'!D262","v":0},{"$f":"'15'!E262","v":0},{"$f":"'15'!F262","v":0}]
[null,4458,{"$f":"'15'!C263","v":0},{"$f":"'15'!D263","v":0},{"$f":"'15'!E263","v":0},{"$f":"'15'!F263","v":0}]
[null,4459,{"$f":"'15'!C264","v":0},{"$f":"'15'!D264","v":0},{"$f":"'15'!E264","v":0},{"$f":"'15'!F264","v":0}]
[null,4460,{"$f":"'15'!C265","v":0},{"$f":"'15'!D265","v":0},{"$f":"'15'!E265","v":0},{"$f":"'15'!F265","v":0}]
[null,4461,{"$f":"'15'!C266","v":0},{"$f":"'15'!D266","v":0},{"$f":"'15'!E266","v":0},{"$f":"'15'!F266","v":0}]
[null,4462,{"$f":"'15'!C267","v":0},{"$f":"'15'!D267","v":0},{"$f":"'15'!E267","v":0},{"$f":"'15'!F267","v":0}]
[null,4463,{"$f":"'15'!C268","v":0},{"$f":"'15'!D268","v":0},{"$f":"'15'!E268","v":0},{"$f":"'15'!F268","v":0}]
[null,4464,{"$f":"'15'!C269","v":0},{"$f":"'15'!D269","v":0},{"$f":"'15'!E269","v":0},{"$f":"'15'!F269","v":0}]
[null,4465,{"$f":"'15'!C270","v":0},{"$f":"'15'!D270","v":0},{"$f":"'15'!E270","v":0},{"$f":"'15'!F270","v":0}]
[null,4466,{"$f":"'15'!C271","v":0},{"$f":"'15'!D271","v":0},{"$f":"'15'!E271","v":0},{"$f":"'15'!F271","v":0}]
[null,4467,{"$f":"'15'!C272","v":0},{"$f":"'15'!D272","v":0},{"$f":"'15'!E272","v":0},{"$f":"'15'!F272","v":0}]
[null,4468,{"$f":"'15'!C273","v":0},{"$f":"'15'!D273","v":0},{"$f":"'15'!E273","v":0},{"$f":"'15'!F273","v":0}]
[null,4469,{"$f":"'15'!C274","v":0},{"$f":"'15'!D274","v":0},{"$f":"'15'!E274","v":0},{"$f":"'15'!F274","v":0}]
[null,4470,{"$f":"'15'!C275","v":0},{"$f":"'15'!D275","v":0},{"$f":"'15'!E275","v":0},{"$f":"'15'!F275","v":0}]
[null,4471,{"$f":"'15'!C276","v":0},{"$f":"'15'!D276","v":0},{"$f":"'15'!E276","v":0},{"$f":"'15'!F276","v":0}]
[null,4472,{"$f":"'15'!C277","v":0},{"$f":"'15'!D277","v":0},{"$f":"'15'!E277","v":0},{"$f":"'15'!F277","v":0}]
[null,4473,{"$f":"'15'!C278","v":0},{"$f":"'15'!D278","v":0},{"$f":"'15'!E278","v":0},{"$f":"'15'!F278","v":0}]
[null,4474,{"$f":"'15'!C279","v":0},{"$f":"'15'!D279","v":0},{"$f":"'15'!E279","v":0},{"$f":"'15'!F279","v":0}]
[null,4475,{"$f":"'15'!C280","v":0},{"$f":"'15'!D280","v":0},{"$f":"'15'!E280","v":0},{"$f":"'15'!F280","v":0}]
[null,4476,{"$f":"'15'!C281","v":0},{"$f":"'15'!D281","v":0},{"$f":"'15'!E281","v":0},{"$f":"'15'!F281","v":0}]
[null,4477,{"$f":"'15'!C282","v":0},{"$f":"'15'!D282","v":0},{"$f":"'15'!E282","v":0},{"$f":"'15'!F282","v":0}]
[null,4478,{"$f":"'15'!C283","v":0},{"$f":"'15'!D283","v":0},{"$f":"'15'!E283","v":0},{"$f":"'15'!F283","v":0}]
[null,4479,{"$f":"'15'!C284","v":0},{"$f":"'15'!D284","v":0},{"$f":"'15'!E284","v":0},{"$f":"'15'!F284","v":0}]
[null,4480,{"$f":"'15'!C285","v":0},{"$f":"'15'!D285","v":0},{"$f":"'15'!E285","v":0},{"$f":"'15'!F285","v":0}]
[null,4481,{"$f":"'15'!C286","v":0},{"$f":"'15'!D286","v":0},{"$f":"'15'!E286","v":0},{"$f":"'15'!F286","v":0}]
[null,4482,{"$f":"'15'!C287","v":0},{"$f":"'15'!D287","v":0},{"$f":"'15'!E287","v":0},{"$f":"'15'!F287","v":0}]
[null,4483,{"$f":"'15'!C288","v":0},{"$f":"'15'!D288","v":0},{"$f":"'15'!E288","v":0},{"$f":"'15'!F288","v":0}]
[null,4484,{"$f":"'15'!C289","v":0},{"$f":"'15'!D289","v":0},{"$f":"'15'!E289","v":0},{"$f":"'15'!F289","v":0}]
[null,4485,{"$f":"'15'!C290","v":0},{"$f":"'15'!D290","v":0},{"$f":"'15'!E290","v":0},{"$f":"'15'!F290","v":0}]
[null,4486,{"$f":"'15'!C291","v":0},{"$f":"'15'!D291","v":0},{"$f":"'15'!E291","v":0},{"$f":"'15'!F291","v":0}]
[null,4487,{"$f":"'15'!C292","v":0},{"$f":"'15'!D292","v":0},{"$f":"'15'!E292","v":0},{"$f":"'15'!F292","v":0}]
[null,4488,{"$f":"'15'!C293","v":0},{"$f":"'15'!D293","v":0},{"$f":"'15'!E293","v":0},{"$f":"'15'!F293","v":0}]
[null,4489,{"$f":"'15'!C294","v":0},{"$f":"'15'!D294","v":0},{"$f":"'15'!E294","v":0},{"$f":"'15'!F294","v":0}]
[null,4490,{"$f":"'15'!C295","v":0},{"$f":"'15'!D295","v":0},{"$f":"'15'!E295","v":0},{"$f":"'15'!F295","v":0}]
[null,4491,{"$f":"'15'!C296","v":0},{"$f":"'15'!D296","v":0},{"$f":"'15'!E296","v":0},{"$f":"'15'!F296","v":0}]
[null,4492,{"$f":"'15'!C297","v":0},{"$f":"'15'!D297","v":0},{"$f":"'15'!E297","v":0},{"$f":"'15'!F297","v":0}]
[null,4493,{"$f":"'15'!C298","v":0},{"$f":"'15'!D298","v":0},{"$f":"'15'!E298","v":0},{"$f":"'15'!F298","v":0}]
[null,4494,{"$f":"'15'!C299","v":0},{"$f":"'15'!D299","v":0},{"$f":"'15'!E299","v":0},{"$f":"'15'!F299","v":0}]
[null,4495,{"$f":"'15'!C300","v":0},{"$f":"'15'!D300","v":0},{"$f":"'15'!E300","v":0},{"$f":"'15'!F300","v":0}]
[null,4496,{"$f":"'15'!C301","v":0},{"$f":"'15'!D301","v":0},{"$f":"'15'!E301","v":0},{"$f":"'15'!F301","v":0}]
[null,4497,{"$f":"'15'!C302","v":0},{"$f":"'15'!D302","v":0},{"$f":"'15'!E302","v":0},{"$f":"'15'!F302","v":0}]
[null,4498,{"$f":"'15'!C303","v":0},{"$f":"'15'!D303","v":0},{"$f":"'15'!E303","v":0},{"$f":"'15'!F303","v":0}]
[null,4499,{"$f":"'15'!C304","v":0},{"$f":"'15'!D304","v":0},{"$f":"'15'!E304","v":0},{"$f":"'15'!F304","v":0}]
[null,4500,{"$f":"'15'!C305","v":0},{"$f":"'15'!D305","v":0},{"$f":"'15'!E305","v":0},{"$f":"'15'!F305","v":0}]
[null,4501,{"$f":"'16'!C6","v":0},{"$f":"'16'!D6","v":0},{"$f":"'16'!E6","v":0},{"$f":"'16'!F6","v":0}]
[null,4502,{"$f":"'16'!C7","v":0},{"$f":"'16'!D7","v":0},{"$f":"'16'!E7","v":0},{"$f":"'16'!F7","v":0}]
[null,4503,{"$f":"'16'!C8","v":0},{"$f":"'16'!D8","v":0},{"$f":"'16'!E8","v":0},{"$f":"'16'!F8","v":0}]
[null,4504,{"$f":"'16'!C9","v":0},{"$f":"'16'!D9","v":0},{"$f":"'16'!E9","v":0},{"$f":"'16'!F9","v":0}]
[null,4505,{"$f":"'16'!C10","v":0},{"$f":"'16'!D10","v":0},{"$f":"'16'!E10","v":0},{"$f":"'16'!F10","v":0}]
[null,4506,{"$f":"'16'!C11","v":0},{"$f":"'16'!D11","v":0},{"$f":"'16'!E11","v":0},{"$f":"'16'!F11","v":0}]
[null,4507,{"$f":"'16'!C12","v":0},{"$f":"'16'!D12","v":0},{"$f":"'16'!E12","v":0},{"$f":"'16'!F12","v":0}]
[null,4508,{"$f":"'16'!C13","v":0},{"$f":"'16'!D13","v":0},{"$f":"'16'!E13","v":0},{"$f":"'16'!F13","v":0}]
[null,4509,{"$f":"'16'!C14","v":0},{"$f":"'16'!D14","v":0},{"$f":"'16'!E14","v":0},{"$f":"'16'!F14","v":0}]
[null,4510,{"$f":"'16'!C15","v":0},{"$f":"'16'!D15","v":0},{"$f":"'16'!E15","v":0},{"$f":"'16'!F15","v":0}]
[null,4511,{"$f":"'16'!C16","v":0},{"$f":"'16'!D16","v":0},{"$f":"'16'!E16","v":0},{"$f":"'16'!F16","v":0}]
[null,4512,{"$f":"'16'!C17","v":0},{"$f":"'16'!D17","v":0},{"$f":"'16'!E17","v":0},{"$f":"'16'!F17","v":0}]
[null,4513,{"$f":"'16'!C18","v":0},{"$f":"'16'!D18","v":0},{"$f":"'16'!E18","v":0},{"$f":"'16'!F18","v":0}]
[null,4514,{"$f":"'16'!C19","v":0},{"$f":"'16'!D19","v":0},{"$f":"'16'!E19","v":0},{"$f":"'16'!F19","v":0}]
[null,4515,{"$f":"'16'!C20","v":0},{"$f":"'16'!D20","v":0},{"$f":"'16'!E20","v":0},{"$f":"'16'!F20","v":0}]
[null,4516,{"$f":"'16'!C21","v":0},{"$f":"'16'!D21","v":0},{"$f":"'16'!E21","v":0},{"$f":"'16'!F21","v":0}]
[null,4517,{"$f":"'16'!C22","v":0},{"$f":"'16'!D22","v":0},{"$f":"'16'!E22","v":0},{"$f":"'16'!F22","v":0}]
[null,4518,{"$f":"'16'!C23","v":0},{"$f":"'16'!D23","v":0},{"$f":"'16'!E23","v":0},{"$f":"'16'!F23","v":0}]
[null,4519,{"$f":"'16'!C24","v":0},{"$f":"'16'!D24","v":0},{"$f":"'16'!E24","v":0},{"$f":"'16'!F24","v":0}]
[null,4520,{"$f":"'16'!C25","v":0},{"$f":"'16'!D25","v":0},{"$f":"'16'!E25","v":0},{"$f":"'16'!F25","v":0}]
[null,4521,{"$f":"'16'!C26","v":0},{"$f":"'16'!D26","v":0},{"$f":"'16'!E26","v":0},{"$f":"'16'!F26","v":0}]
[null,4522,{"$f":"'16'!C27","v":0},{"$f":"'16'!D27","v":0},{"$f":"'16'!E27","v":0},{"$f":"'16'!F27","v":0}]
[null,4523,{"$f":"'16'!C28","v":0},{"$f":"'16'!D28","v":0},{"$f":"'16'!E28","v":0},{"$f":"'16'!F28","v":0}]
[null,4524,{"$f":"'16'!C29","v":0},{"$f":"'16'!D29","v":0},{"$f":"'16'!E29","v":0},{"$f":"'16'!F29","v":0}]
[null,4525,{"$f":"'16'!C30","v":0},{"$f":"'16'!D30","v":0},{"$f":"'16'!E30","v":0},{"$f":"'16'!F30","v":0}]
[null,4526,{"$f":"'16'!C31","v":0},{"$f":"'16'!D31","v":0},{"$f":"'16'!E31","v":0},{"$f":"'16'!F31","v":0}]
[null,4527,{"$f":"'16'!C32","v":0},{"$f":"'16'!D32","v":0},{"$f":"'16'!E32","v":0},{"$f":"'16'!F32","v":0}]
[null,4528,{"$f":"'16'!C33","v":0},{"$f":"'16'!D33","v":0},{"$f":"'16'!E33","v":0},{"$f":"'16'!F33","v":0}]
[null,4529,{"$f":"'16'!C34","v":0},{"$f":"'16'!D34","v":0},{"$f":"'16'!E34","v":0},{"$f":"'16'!F34","v":0}]
[null,4530,{"$f":"'16'!C35","v":0},{"$f":"'16'!D35","v":0},{"$f":"'16'!E35","v":0},{"$f":"'16'!F35","v":0}]
[null,4531,{"$f":"'16'!C36","v":0},{"$f":"'16'!D36","v":0},{"$f":"'16'!E36","v":0},{"$f":"'16'!F36","v":0}]
[null,4532,{"$f":"'16'!C37","v":0},{"$f":"'16'!D37","v":0},{"$f":"'16'!E37","v":0},{"$f":"'16'!F37","v":0}]
[null,4533,{"$f":"'16'!C38","v":0},{"$f":"'16'!D38","v":0},{"$f":"'16'!E38","v":0},{"$f":"'16'!F38","v":0}]
[null,4534,{"$f":"'16'!C39","v":0},{"$f":"'16'!D39","v":0},{"$f":"'16'!E39","v":0},{"$f":"'16'!F39","v":0}]
[null,4535,{"$f":"'16'!C40","v":0},{"$f":"'16'!D40","v":0},{"$f":"'16'!E40","v":0},{"$f":"'16'!F40","v":0}]
[null,4536,{"$f":"'16'!C41","v":0},{"$f":"'16'!D41","v":0},{"$f":"'16'!E41","v":0},{"$f":"'16'!F41","v":0}]
[null,4537,{"$f":"'16'!C42","v":0},{"$f":"'16'!D42","v":0},{"$f":"'16'!E42","v":0},{"$f":"'16'!F42","v":0}]
[null,4538,{"$f":"'16'!C43","v":0},{"$f":"'16'!D43","v":0},{"$f":"'16'!E43","v":0},{"$f":"'16'!F43","v":0}]
[null,4539,{"$f":"'16'!C44","v":0},{"$f":"'16'!D44","v":0},{"$f":"'16'!E44","v":0},{"$f":"'16'!F44","v":0}]
[null,4540,{"$f":"'16'!C45","v":0},{"$f":"'16'!D45","v":0},{"$f":"'16'!E45","v":0},{"$f":"'16'!F45","v":0}]
[null,4541,{"$f":"'16'!C46","v":0},{"$f":"'16'!D46","v":0},{"$f":"'16'!E46","v":0},{"$f":"'16'!F46","v":0}]
[null,4542,{"$f":"'16'!C47","v":0},{"$f":"'16'!D47","v":0},{"$f":"'16'!E47","v":0},{"$f":"'16'!F47","v":0}]
[null,4543,{"$f":"'16'!C48","v":0},{"$f":"'16'!D48","v":0},{"$f":"'16'!E48","v":0},{"$f":"'16'!F48","v":0}]
[null,4544,{"$f":"'16'!C49","v":0},{"$f":"'16'!D49","v":0},{"$f":"'16'!E49","v":0},{"$f":"'16'!F49","v":0}]
[null,4545,{"$f":"'16'!C50","v":0},{"$f":"'16'!D50","v":0},{"$f":"'16'!E50","v":0},{"$f":"'16'!F50","v":0}]
[null,4546,{"$f":"'16'!C51","v":0},{"$f":"'16'!D51","v":0},{"$f":"'16'!E51","v":0},{"$f":"'16'!F51","v":0}]
[null,4547,{"$f":"'16'!C52","v":0},{"$f":"'16'!D52","v":0},{"$f":"'16'!E52","v":0},{"$f":"'16'!F52","v":0}]
[null,4548,{"$f":"'16'!C53","v":0},{"$f":"'16'!D53","v":0},{"$f":"'16'!E53","v":0},{"$f":"'16'!F53","v":0}]
[null,4549,{"$f":"'16'!C54","v":0},{"$f":"'16'!D54","v":0},{"$f":"'16'!E54","v":0},{"$f":"'16'!F54","v":0}]
[null,4550,{"$f":"'16'!C55","v":0},{"$f":"'16'!D55","v":0},{"$f":"'16'!E55","v":0},{"$f":"'16'!F55","v":0}]
[null,4551,{"$f":"'16'!C56","v":0},{"$f":"'16'!D56","v":0},{"$f":"'16'!E56","v":0},{"$f":"'16'!F56","v":0}]
[null,4552,{"$f":"'16'!C57","v":0},{"$f":"'16'!D57","v":0},{"$f":"'16'!E57","v":0},{"$f":"'16'!F57","v":0}]
[null,4553,{"$f":"'16'!C58","v":0},{"$f":"'16'!D58","v":0},{"$f":"'16'!E58","v":0},{"$f":"'16'!F58","v":0}]
[null,4554,{"$f":"'16'!C59","v":0},{"$f":"'16'!D59","v":0},{"$f":"'16'!E59","v":0},{"$f":"'16'!F59","v":0}]
[null,4555,{"$f":"'16'!C60","v":0},{"$f":"'16'!D60","v":0},{"$f":"'16'!E60","v":0},{"$f":"'16'!F60","v":0}]
[null,4556,{"$f":"'16'!C61","v":0},{"$f":"'16'!D61","v":0},{"$f":"'16'!E61","v":0},{"$f":"'16'!F61","v":0}]
[null,4557,{"$f":"'16'!C62","v":0},{"$f":"'16'!D62","v":0},{"$f":"'16'!E62","v":0},{"$f":"'16'!F62","v":0}]
[null,4558,{"$f":"'16'!C63","v":0},{"$f":"'16'!D63","v":0},{"$f":"'16'!E63","v":0},{"$f":"'16'!F63","v":0}]
[null,4559,{"$f":"'16'!C64","v":0},{"$f":"'16'!D64","v":0},{"$f":"'16'!E64","v":0},{"$f":"'16'!F64","v":0}]
[null,4560,{"$f":"'16'!C65","v":0},{"$f":"'16'!D65","v":0},{"$f":"'16'!E65","v":0},{"$f":"'16'!F65","v":0}]
[null,4561,{"$f":"'16'!C66","v":0},{"$f":"'16'!D66","v":0},{"$f":"'16'!E66","v":0},{"$f":"'16'!F66","v":0}]
[null,4562,{"$f":"'16'!C67","v":0},{"$f":"'16'!D67","v":0},{"$f":"'16'!E67","v":0},{"$f":"'16'!F67","v":0}]
[null,4563,{"$f":"'16'!C68","v":0},{"$f":"'16'!D68","v":0},{"$f":"'16'!E68","v":0},{"$f":"'16'!F68","v":0}]
[null,4564,{"$f":"'16'!C69","v":0},{"$f":"'16'!D69","v":0},{"$f":"'16'!E69","v":0},{"$f":"'16'!F69","v":0}]
[null,4565,{"$f":"'16'!C70","v":0},{"$f":"'16'!D70","v":0},{"$f":"'16'!E70","v":0},{"$f":"'16'!F70","v":0}]
[null,4566,{"$f":"'16'!C71","v":0},{"$f":"'16'!D71","v":0},{"$f":"'16'!E71","v":0},{"$f":"'16'!F71","v":0}]
[null,4567,{"$f":"'16'!C72","v":0},{"$f":"'16'!D72","v":0},{"$f":"'16'!E72","v":0},{"$f":"'16'!F72","v":0}]
[null,4568,{"$f":"'16'!C73","v":0},{"$f":"'16'!D73","v":0},{"$f":"'16'!E73","v":0},{"$f":"'16'!F73","v":0}]
[null,4569,{"$f":"'16'!C74","v":0},{"$f":"'16'!D74","v":0},{"$f":"'16'!E74","v":0},{"$f":"'16'!F74","v":0}]
[null,4570,{"$f":"'16'!C75","v":0},{"$f":"'16'!D75","v":0},{"$f":"'16'!E75","v":0},{"$f":"'16'!F75","v":0}]
[null,4571,{"$f":"'16'!C76","v":0},{"$f":"'16'!D76","v":0},{"$f":"'16'!E76","v":0},{"$f":"'16'!F76","v":0}]
[null,4572,{"$f":"'16'!C77","v":0},{"$f":"'16'!D77","v":0},{"$f":"'16'!E77","v":0},{"$f":"'16'!F77","v":0}]
[null,4573,{"$f":"'16'!C78","v":0},{"$f":"'16'!D78","v":0},{"$f":"'16'!E78","v":0},{"$f":"'16'!F78","v":0}]
[null,4574,{"$f":"'16'!C79","v":0},{"$f":"'16'!D79","v":0},{"$f":"'16'!E79","v":0},{"$f":"'16'!F79","v":0}]
[null,4575,{"$f":"'16'!C80","v":0},{"$f":"'16'!D80","v":0},{"$f":"'16'!E80","v":0},{"$f":"'16'!F80","v":0}]
[null,4576,{"$f":"'16'!C81","v":0},{"$f":"'16'!D81","v":0},{"$f":"'16'!E81","v":0},{"$f":"'16'!F81","v":0}]
[null,4577,{"$f":"'16'!C82","v":0},{"$f":"'16'!D82","v":0},{"$f":"'16'!E82","v":0},{"$f":"'16'!F82","v":0}]
[null,4578,{"$f":"'16'!C83","v":0},{"$f":"'16'!D83","v":0},{"$f":"'16'!E83","v":0},{"$f":"'16'!F83","v":0}]
[null,4579,{"$f":"'16'!C84","v":0},{"$f":"'16'!D84","v":0},{"$f":"'16'!E84","v":0},{"$f":"'16'!F84","v":0}]
[null,4580,{"$f":"'16'!C85","v":0},{"$f":"'16'!D85","v":0},{"$f":"'16'!E85","v":0},{"$f":"'16'!F85","v":0}]
[null,4581,{"$f":"'16'!C86","v":0},{"$f":"'16'!D86","v":0},{"$f":"'16'!E86","v":0},{"$f":"'16'!F86","v":0}]
[null,4582,{"$f":"'16'!C87","v":0},{"$f":"'16'!D87","v":0},{"$f":"'16'!E87","v":0},{"$f":"'16'!F87","v":0}]
[null,4583,{"$f":"'16'!C88","v":0},{"$f":"'16'!D88","v":0},{"$f":"'16'!E88","v":0},{"$f":"'16'!F88","v":0}]
[null,4584,{"$f":"'16'!C89","v":0},{"$f":"'16'!D89","v":0},{"$f":"'16'!E89","v":0},{"$f":"'16'!F89","v":0}]
[null,4585,{"$f":"'16'!C90","v":0},{"$f":"'16'!D90","v":0},{"$f":"'16'!E90","v":0},{"$f":"'16'!F90","v":0}]
[null,4586,{"$f":"'16'!C91","v":0},{"$f":"'16'!D91","v":0},{"$f":"'16'!E91","v":0},{"$f":"'16'!F91","v":0}]
[null,4587,{"$f":"'16'!C92","v":0},{"$f":"'16'!D92","v":0},{"$f":"'16'!E92","v":0},{"$f":"'16'!F92","v":0}]
[null,4588,{"$f":"'16'!C93","v":0},{"$f":"'16'!D93","v":0},{"$f":"'16'!E93","v":0},{"$f":"'16'!F93","v":0}]
[null,4589,{"$f":"'16'!C94","v":0},{"$f":"'16'!D94","v":0},{"$f":"'16'!E94","v":0},{"$f":"'16'!F94","v":0}]
[null,4590,{"$f":"'16'!C95","v":0},{"$f":"'16'!D95","v":0},{"$f":"'16'!E95","v":0},{"$f":"'16'!F95","v":0}]
[null,4591,{"$f":"'16'!C96","v":0},{"$f":"'16'!D96","v":0},{"$f":"'16'!E96","v":0},{"$f":"'16'!F96","v":0}]
[null,4592,{"$f":"'16'!C97","v":0},{"$f":"'16'!D97","v":0},{"$f":"'16'!E97","v":0},{"$f":"'16'!F97","v":0}]
[null,4593,{"$f":"'16'!C98","v":0},{"$f":"'16'!D98","v":0},{"$f":"'16'!E98","v":0},{"$f":"'16'!F98","v":0}]
[null,4594,{"$f":"'16'!C99","v":0},{"$f":"'16'!D99","v":0},{"$f":"'16'!E99","v":0},{"$f":"'16'!F99","v":0}]
[null,4595,{"$f":"'16'!C100","v":0},{"$f":"'16'!D100","v":0},{"$f":"'16'!E100","v":0},{"$f":"'16'!F100","v":0}]
[null,4596,{"$f":"'16'!C101","v":0},{"$f":"'16'!D101","v":0},{"$f":"'16'!E101","v":0},{"$f":"'16'!F101","v":0}]
[null,4597,{"$f":"'16'!C102","v":0},{"$f":"'16'!D102","v":0},{"$f":"'16'!E102","v":0},{"$f":"'16'!F102","v":0}]
[null,4598,{"$f":"'16'!C103","v":0},{"$f":"'16'!D103","v":0},{"$f":"'16'!E103","v":0},{"$f":"'16'!F103","v":0}]
[null,4599,{"$f":"'16'!C104","v":0},{"$f":"'16'!D104","v":0},{"$f":"'16'!E104","v":0},{"$f":"'16'!F104","v":0}]
[null,4600,{"$f":"'16'!C105","v":0},{"$f":"'16'!D105","v":0},{"$f":"'16'!E105","v":0},{"$f":"'16'!F105","v":0}]
[null,4601,{"$f":"'16'!C106","v":0},{"$f":"'16'!D106","v":0},{"$f":"'16'!E106","v":0},{"$f":"'16'!F106","v":0}]
[null,4602,{"$f":"'16'!C107","v":0},{"$f":"'16'!D107","v":0},{"$f":"'16'!E107","v":0},{"$f":"'16'!F107","v":0}]
[null,4603,{"$f":"'16'!C108","v":0},{"$f":"'16'!D108","v":0},{"$f":"'16'!E108","v":0},{"$f":"'16'!F108","v":0}]
[null,4604,{"$f":"'16'!C109","v":0},{"$f":"'16'!D109","v":0},{"$f":"'16'!E109","v":0},{"$f":"'16'!F109","v":0}]
[null,4605,{"$f":"'16'!C110","v":0},{"$f":"'16'!D110","v":0},{"$f":"'16'!E110","v":0},{"$f":"'16'!F110","v":0}]
[null,4606,{"$f":"'16'!C111","v":0},{"$f":"'16'!D111","v":0},{"$f":"'16'!E111","v":0},{"$f":"'16'!F111","v":0}]
[null,4607,{"$f":"'16'!C112","v":0},{"$f":"'16'!D112","v":0},{"$f":"'16'!E112","v":0},{"$f":"'16'!F112","v":0}]
[null,4608,{"$f":"'16'!C113","v":0},{"$f":"'16'!D113","v":0},{"$f":"'16'!E113","v":0},{"$f":"'16'!F113","v":0}]
[null,4609,{"$f":"'16'!C114","v":0},{"$f":"'16'!D114","v":0},{"$f":"'16'!E114","v":0},{"$f":"'16'!F114","v":0}]
[null,4610,{"$f":"'16'!C115","v":0},{"$f":"'16'!D115","v":0},{"$f":"'16'!E115","v":0},{"$f":"'16'!F115","v":0}]
[null,4611,{"$f":"'16'!C116","v":0},{"$f":"'16'!D116","v":0},{"$f":"'16'!E116","v":0},{"$f":"'16'!F116","v":0}]
[null,4612,{"$f":"'16'!C117","v":0},{"$f":"'16'!D117","v":0},{"$f":"'16'!E117","v":0},{"$f":"'16'!F117","v":0}]
[null,4613,{"$f":"'16'!C118","v":0},{"$f":"'16'!D118","v":0},{"$f":"'16'!E118","v":0},{"$f":"'16'!F118","v":0}]
[null,4614,{"$f":"'16'!C119","v":0},{"$f":"'16'!D119","v":0},{"$f":"'16'!E119","v":0},{"$f":"'16'!F119","v":0}]
[null,4615,{"$f":"'16'!C120","v":0},{"$f":"'16'!D120","v":0},{"$f":"'16'!E120","v":0},{"$f":"'16'!F120","v":0}]
[null,4616,{"$f":"'16'!C121","v":0},{"$f":"'16'!D121","v":0},{"$f":"'16'!E121","v":0},{"$f":"'16'!F121","v":0}]
[null,4617,{"$f":"'16'!C122","v":0},{"$f":"'16'!D122","v":0},{"$f":"'16'!E122","v":0},{"$f":"'16'!F122","v":0}]
[null,4618,{"$f":"'16'!C123","v":0},{"$f":"'16'!D123","v":0},{"$f":"'16'!E123","v":0},{"$f":"'16'!F123","v":0}]
[null,4619,{"$f":"'16'!C124","v":0},{"$f":"'16'!D124","v":0},{"$f":"'16'!E124","v":0},{"$f":"'16'!F124","v":0}]
[null,4620,{"$f":"'16'!C125","v":0},{"$f":"'16'!D125","v":0},{"$f":"'16'!E125","v":0},{"$f":"'16'!F125","v":0}]
[null,4621,{"$f":"'16'!C126","v":0},{"$f":"'16'!D126","v":0},{"$f":"'16'!E126","v":0},{"$f":"'16'!F126","v":0}]
[null,4622,{"$f":"'16'!C127","v":0},{"$f":"'16'!D127","v":0},{"$f":"'16'!E127","v":0},{"$f":"'16'!F127","v":0}]
[null,4623,{"$f":"'16'!C128","v":0},{"$f":"'16'!D128","v":0},{"$f":"'16'!E128","v":0},{"$f":"'16'!F128","v":0}]
[null,4624,{"$f":"'16'!C129","v":0},{"$f":"'16'!D129","v":0},{"$f":"'16'!E129","v":0},{"$f":"'16'!F129","v":0}]
[null,4625,{"$f":"'16'!C130","v":0},{"$f":"'16'!D130","v":0},{"$f":"'16'!E130","v":0},{"$f":"'16'!F130","v":0}]
[null,4626,{"$f":"'16'!C131","v":0},{"$f":"'16'!D131","v":0},{"$f":"'16'!E131","v":0},{"$f":"'16'!F131","v":0}]
[null,4627,{"$f":"'16'!C132","v":0},{"$f":"'16'!D132","v":0},{"$f":"'16'!E132","v":0},{"$f":"'16'!F132","v":0}]
[null,4628,{"$f":"'16'!C133","v":0},{"$f":"'16'!D133","v":0},{"$f":"'16'!E133","v":0},{"$f":"'16'!F133","v":0}]
[null,4629,{"$f":"'16'!C134","v":0},{"$f":"'16'!D134","v":0},{"$f":"'16'!E134","v":0},{"$f":"'16'!F134","v":0}]
[null,4630,{"$f":"'16'!C135","v":0},{"$f":"'16'!D135","v":0},{"$f":"'16'!E135","v":0},{"$f":"'16'!F135","v":0}]
[null,4631,{"$f":"'16'!C136","v":0},{"$f":"'16'!D136","v":0},{"$f":"'16'!E136","v":0},{"$f":"'16'!F136","v":0}]
[null,4632,{"$f":"'16'!C137","v":0},{"$f":"'16'!D137","v":0},{"$f":"'16'!E137","v":0},{"$f":"'16'!F137","v":0}]
[null,4633,{"$f":"'16'!C138","v":0},{"$f":"'16'!D138","v":0},{"$f":"'16'!E138","v":0},{"$f":"'16'!F138","v":0}]
[null,4634,{"$f":"'16'!C139","v":0},{"$f":"'16'!D139","v":0},{"$f":"'16'!E139","v":0},{"$f":"'16'!F139","v":0}]
[null,4635,{"$f":"'16'!C140","v":0},{"$f":"'16'!D140","v":0},{"$f":"'16'!E140","v":0},{"$f":"'16'!F140","v":0}]
[null,4636,{"$f":"'16'!C141","v":0},{"$f":"'16'!D141","v":0},{"$f":"'16'!E141","v":0},{"$f":"'16'!F141","v":0}]
[null,4637,{"$f":"'16'!C142","v":0},{"$f":"'16'!D142","v":0},{"$f":"'16'!E142","v":0},{"$f":"'16'!F142","v":0}]
[null,4638,{"$f":"'16'!C143","v":0},{"$f":"'16'!D143","v":0},{"$f":"'16'!E143","v":0},{"$f":"'16'!F143","v":0}]
[null,4639,{"$f":"'16'!C144","v":0},{"$f":"'16'!D144","v":0},{"$f":"'16'!E144","v":0},{"$f":"'16'!F144","v":0}]
[null,4640,{"$f":"'16'!C145","v":0},{"$f":"'16'!D145","v":0},{"$f":"'16'!E145","v":0},{"$f":"'16'!F145","v":0}]
[null,4641,{"$f":"'16'!C146","v":0},{"$f":"'16'!D146","v":0},{"$f":"'16'!E146","v":0},{"$f":"'16'!F146","v":0}]
[null,4642,{"$f":"'16'!C147","v":0},{"$f":"'16'!D147","v":0},{"$f":"'16'!E147","v":0},{"$f":"'16'!F147","v":0}]
[null,4643,{"$f":"'16'!C148","v":0},{"$f":"'16'!D148","v":0},{"$f":"'16'!E148","v":0},{"$f":"'16'!F148","v":0}]
[null,4644,{"$f":"'16'!C149","v":0},{"$f":"'16'!D149","v":0},{"$f":"'16'!E149","v":0},{"$f":"'16'!F149","v":0}]
[null,4645,{"$f":"'16'!C150","v":0},{"$f":"'16'!D150","v":0},{"$f":"'16'!E150","v":0},{"$f":"'16'!F150","v":0}]
[null,4646,{"$f":"'16'!C151","v":0},{"$f":"'16'!D151","v":0},{"$f":"'16'!E151","v":0},{"$f":"'16'!F151","v":0}]
[null,4647,{"$f":"'16'!C152","v":0},{"$f":"'16'!D152","v":0},{"$f":"'16'!E152","v":0},{"$f":"'16'!F152","v":0}]
[null,4648,{"$f":"'16'!C153","v":0},{"$f":"'16'!D153","v":0},{"$f":"'16'!E153","v":0},{"$f":"'16'!F153","v":0}]
[null,4649,{"$f":"'16'!C154","v":0},{"$f":"'16'!D154","v":0},{"$f":"'16'!E154","v":0},{"$f":"'16'!F154","v":0}]
[null,4650,{"$f":"'16'!C155","v":0},{"$f":"'16'!D155","v":0},{"$f":"'16'!E155","v":0},{"$f":"'16'!F155","v":0}]
[null,4651,{"$f":"'16'!C156","v":0},{"$f":"'16'!D156","v":0},{"$f":"'16'!E156","v":0},{"$f":"'16'!F156","v":0}]
[null,4652,{"$f":"'16'!C157","v":0},{"$f":"'16'!D157","v":0},{"$f":"'16'!E157","v":0},{"$f":"'16'!F157","v":0}]
[null,4653,{"$f":"'16'!C158","v":0},{"$f":"'16'!D158","v":0},{"$f":"'16'!E158","v":0},{"$f":"'16'!F158","v":0}]
[null,4654,{"$f":"'16'!C159","v":0},{"$f":"'16'!D159","v":0},{"$f":"'16'!E159","v":0},{"$f":"'16'!F159","v":0}]
[null,4655,{"$f":"'16'!C160","v":0},{"$f":"'16'!D160","v":0},{"$f":"'16'!E160","v":0},{"$f":"'16'!F160","v":0}]
[null,4656,{"$f":"'16'!C161","v":0},{"$f":"'16'!D161","v":0},{"$f":"'16'!E161","v":0},{"$f":"'16'!F161","v":0}]
[null,4657,{"$f":"'16'!C162","v":0},{"$f":"'16'!D162","v":0},{"$f":"'16'!E162","v":0},{"$f":"'16'!F162","v":0}]
[null,4658,{"$f":"'16'!C163","v":0},{"$f":"'16'!D163","v":0},{"$f":"'16'!E163","v":0},{"$f":"'16'!F163","v":0}]
[null,4659,{"$f":"'16'!C164","v":0},{"$f":"'16'!D164","v":0},{"$f":"'16'!E164","v":0},{"$f":"'16'!F164","v":0}]
[null,4660,{"$f":"'16'!C165","v":0},{"$f":"'16'!D165","v":0},{"$f":"'16'!E165","v":0},{"$f":"'16'!F165","v":0}]
[null,4661,{"$f":"'16'!C166","v":0},{"$f":"'16'!D166","v":0},{"$f":"'16'!E166","v":0},{"$f":"'16'!F166","v":0}]
[null,4662,{"$f":"'16'!C167","v":0},{"$f":"'16'!D167","v":0},{"$f":"'16'!E167","v":0},{"$f":"'16'!F167","v":0}]
[null,4663,{"$f":"'16'!C168","v":0},{"$f":"'16'!D168","v":0},{"$f":"'16'!E168","v":0},{"$f":"'16'!F168","v":0}]
[null,4664,{"$f":"'16'!C169","v":0},{"$f":"'16'!D169","v":0},{"$f":"'16'!E169","v":0},{"$f":"'16'!F169","v":0}]
[null,4665,{"$f":"'16'!C170","v":0},{"$f":"'16'!D170","v":0},{"$f":"'16'!E170","v":0},{"$f":"'16'!F170","v":0}]
[null,4666,{"$f":"'16'!C171","v":0},{"$f":"'16'!D171","v":0},{"$f":"'16'!E171","v":0},{"$f":"'16'!F171","v":0}]
[null,4667,{"$f":"'16'!C172","v":0},{"$f":"'16'!D172","v":0},{"$f":"'16'!E172","v":0},{"$f":"'16'!F172","v":0}]
[null,4668,{"$f":"'16'!C173","v":0},{"$f":"'16'!D173","v":0},{"$f":"'16'!E173","v":0},{"$f":"'16'!F173","v":0}]
[null,4669,{"$f":"'16'!C174","v":0},{"$f":"'16'!D174","v":0},{"$f":"'16'!E174","v":0},{"$f":"'16'!F174","v":0}]
[null,4670,{"$f":"'16'!C175","v":0},{"$f":"'16'!D175","v":0},{"$f":"'16'!E175","v":0},{"$f":"'16'!F175","v":0}]
[null,4671,{"$f":"'16'!C176","v":0},{"$f":"'16'!D176","v":0},{"$f":"'16'!E176","v":0},{"$f":"'16'!F176","v":0}]
[null,4672,{"$f":"'16'!C177","v":0},{"$f":"'16'!D177","v":0},{"$f":"'16'!E177","v":0},{"$f":"'16'!F177","v":0}]
[null,4673,{"$f":"'16'!C178","v":0},{"$f":"'16'!D178","v":0},{"$f":"'16'!E178","v":0},{"$f":"'16'!F178","v":0}]
[null,4674,{"$f":"'16'!C179","v":0},{"$f":"'16'!D179","v":0},{"$f":"'16'!E179","v":0},{"$f":"'16'!F179","v":0}]
[null,4675,{"$f":"'16'!C180","v":0},{"$f":"'16'!D180","v":0},{"$f":"'16'!E180","v":0},{"$f":"'16'!F180","v":0}]
[null,4676,{"$f":"'16'!C181","v":0},{"$f":"'16'!D181","v":0},{"$f":"'16'!E181","v":0},{"$f":"'16'!F181","v":0}]
[null,4677,{"$f":"'16'!C182","v":0},{"$f":"'16'!D182","v":0},{"$f":"'16'!E182","v":0},{"$f":"'16'!F182","v":0}]
[null,4678,{"$f":"'16'!C183","v":0},{"$f":"'16'!D183","v":0},{"$f":"'16'!E183","v":0},{"$f":"'16'!F183","v":0}]
[null,4679,{"$f":"'16'!C184","v":0},{"$f":"'16'!D184","v":0},{"$f":"'16'!E184","v":0},{"$f":"'16'!F184","v":0}]
[null,4680,{"$f":"'16'!C185","v":0},{"$f":"'16'!D185","v":0},{"$f":"'16'!E185","v":0},{"$f":"'16'!F185","v":0}]
[null,4681,{"$f":"'16'!C186","v":0},{"$f":"'16'!D186","v":0},{"$f":"'16'!E186","v":0},{"$f":"'16'!F186","v":0}]
[null,4682,{"$f":"'16'!C187","v":0},{"$f":"'16'!D187","v":0},{"$f":"'16'!E187","v":0},{"$f":"'16'!F187","v":0}]
[null,4683,{"$f":"'16'!C188","v":0},{"$f":"'16'!D188","v":0},{"$f":"'16'!E188","v":0},{"$f":"'16'!F188","v":0}]
[null,4684,{"$f":"'16'!C189","v":0},{"$f":"'16'!D189","v":0},{"$f":"'16'!E189","v":0},{"$f":"'16'!F189","v":0}]
[null,4685,{"$f":"'16'!C190","v":0},{"$f":"'16'!D190","v":0},{"$f":"'16'!E190","v":0},{"$f":"'16'!F190","v":0}]
[null,4686,{"$f":"'16'!C191","v":0},{"$f":"'16'!D191","v":0},{"$f":"'16'!E191","v":0},{"$f":"'16'!F191","v":0}]
[null,4687,{"$f":"'16'!C192","v":0},{"$f":"'16'!D192","v":0},{"$f":"'16'!E192","v":0},{"$f":"'16'!F192","v":0}]
[null,4688,{"$f":"'16'!C193","v":0},{"$f":"'16'!D193","v":0},{"$f":"'16'!E193","v":0},{"$f":"'16'!F193","v":0}]
[null,4689,{"$f":"'16'!C194","v":0},{"$f":"'16'!D194","v":0},{"$f":"'16'!E194","v":0},{"$f":"'16'!F194","v":0}]
[null,4690,{"$f":"'16'!C195","v":0},{"$f":"'16'!D195","v":0},{"$f":"'16'!E195","v":0},{"$f":"'16'!F195","v":0}]
[null,4691,{"$f":"'16'!C196","v":0},{"$f":"'16'!D196","v":0},{"$f":"'16'!E196","v":0},{"$f":"'16'!F196","v":0}]
[null,4692,{"$f":"'16'!C197","v":0},{"$f":"'16'!D197","v":0},{"$f":"'16'!E197","v":0},{"$f":"'16'!F197","v":0}]
[null,4693,{"$f":"'16'!C198","v":0},{"$f":"'16'!D198","v":0},{"$f":"'16'!E198","v":0},{"$f":"'16'!F198","v":0}]
[null,4694,{"$f":"'16'!C199","v":0},{"$f":"'16'!D199","v":0},{"$f":"'16'!E199","v":0},{"$f":"'16'!F199","v":0}]
[null,4695,{"$f":"'16'!C200","v":0},{"$f":"'16'!D200","v":0},{"$f":"'16'!E200","v":0},{"$f":"'16'!F200","v":0}]
[null,4696,{"$f":"'16'!C201","v":0},{"$f":"'16'!D201","v":0},{"$f":"'16'!E201","v":0},{"$f":"'16'!F201","v":0}]
[null,4697,{"$f":"'16'!C202","v":0},{"$f":"'16'!D202","v":0},{"$f":"'16'!E202","v":0},{"$f":"'16'!F202","v":0}]
[null,4698,{"$f":"'16'!C203","v":0},{"$f":"'16'!D203","v":0},{"$f":"'16'!E203","v":0},{"$f":"'16'!F203","v":0}]
[null,4699,{"$f":"'16'!C204","v":0},{"$f":"'16'!D204","v":0},{"$f":"'16'!E204","v":0},{"$f":"'16'!F204","v":0}]
[null,4700,{"$f":"'16'!C205","v":0},{"$f":"'16'!D205","v":0},{"$f":"'16'!E205","v":0},{"$f":"'16'!F205","v":0}]
[null,4701,{"$f":"'16'!C206","v":0},{"$f":"'16'!D206","v":0},{"$f":"'16'!E206","v":0},{"$f":"'16'!F206","v":0}]
[null,4702,{"$f":"'16'!C207","v":0},{"$f":"'16'!D207","v":0},{"$f":"'16'!E207","v":0},{"$f":"'16'!F207","v":0}]
[null,4703,{"$f":"'16'!C208","v":0},{"$f":"'16'!D208","v":0},{"$f":"'16'!E208","v":0},{"$f":"'16'!F208","v":0}]
[null,4704,{"$f":"'16'!C209","v":0},{"$f":"'16'!D209","v":0},{"$f":"'16'!E209","v":0},{"$f":"'16'!F209","v":0}]
[null,4705,{"$f":"'16'!C210","v":0},{"$f":"'16'!D210","v":0},{"$f":"'16'!E210","v":0},{"$f":"'16'!F210","v":0}]
[null,4706,{"$f":"'16'!C211","v":0},{"$f":"'16'!D211","v":0},{"$f":"'16'!E211","v":0},{"$f":"'16'!F211","v":0}]
[null,4707,{"$f":"'16'!C212","v":0},{"$f":"'16'!D212","v":0},{"$f":"'16'!E212","v":0},{"$f":"'16'!F212","v":0}]
[null,4708,{"$f":"'16'!C213","v":0},{"$f":"'16'!D213","v":0},{"$f":"'16'!E213","v":0},{"$f":"'16'!F213","v":0}]
[null,4709,{"$f":"'16'!C214","v":0},{"$f":"'16'!D214","v":0},{"$f":"'16'!E214","v":0},{"$f":"'16'!F214","v":0}]
[null,4710,{"$f":"'16'!C215","v":0},{"$f":"'16'!D215","v":0},{"$f":"'16'!E215","v":0},{"$f":"'16'!F215","v":0}]
[null,4711,{"$f":"'16'!C216","v":0},{"$f":"'16'!D216","v":0},{"$f":"'16'!E216","v":0},{"$f":"'16'!F216","v":0}]
[null,4712,{"$f":"'16'!C217","v":0},{"$f":"'16'!D217","v":0},{"$f":"'16'!E217","v":0},{"$f":"'16'!F217","v":0}]
[null,4713,{"$f":"'16'!C218","v":0},{"$f":"'16'!D218","v":0},{"$f":"'16'!E218","v":0},{"$f":"'16'!F218","v":0}]
[null,4714,{"$f":"'16'!C219","v":0},{"$f":"'16'!D219","v":0},{"$f":"'16'!E219","v":0},{"$f":"'16'!F219","v":0}]
[null,4715,{"$f":"'16'!C220","v":0},{"$f":"'16'!D220","v":0},{"$f":"'16'!E220","v":0},{"$f":"'16'!F220","v":0}]
[null,4716,{"$f":"'16'!C221","v":0},{"$f":"'16'!D221","v":0},{"$f":"'16'!E221","v":0},{"$f":"'16'!F221","v":0}]
[null,4717,{"$f":"'16'!C222","v":0},{"$f":"'16'!D222","v":0},{"$f":"'16'!E222","v":0},{"$f":"'16'!F222","v":0}]
[null,4718,{"$f":"'16'!C223","v":0},{"$f":"'16'!D223","v":0},{"$f":"'16'!E223","v":0},{"$f":"'16'!F223","v":0}]
[null,4719,{"$f":"'16'!C224","v":0},{"$f":"'16'!D224","v":0},{"$f":"'16'!E224","v":0},{"$f":"'16'!F224","v":0}]
[null,4720,{"$f":"'16'!C225","v":0},{"$f":"'16'!D225","v":0},{"$f":"'16'!E225","v":0},{"$f":"'16'!F225","v":0}]
[null,4721,{"$f":"'16'!C226","v":0},{"$f":"'16'!D226","v":0},{"$f":"'16'!E226","v":0},{"$f":"'16'!F226","v":0}]
[null,4722,{"$f":"'16'!C227","v":0},{"$f":"'16'!D227","v":0},{"$f":"'16'!E227","v":0},{"$f":"'16'!F227","v":0}]
[null,4723,{"$f":"'16'!C228","v":0},{"$f":"'16'!D228","v":0},{"$f":"'16'!E228","v":0},{"$f":"'16'!F228","v":0}]
[null,4724,{"$f":"'16'!C229","v":0},{"$f":"'16'!D229","v":0},{"$f":"'16'!E229","v":0},{"$f":"'16'!F229","v":0}]
[null,4725,{"$f":"'16'!C230","v":0},{"$f":"'16'!D230","v":0},{"$f":"'16'!E230","v":0},{"$f":"'16'!F230","v":0}]
[null,4726,{"$f":"'16'!C231","v":0},{"$f":"'16'!D231","v":0},{"$f":"'16'!E231","v":0},{"$f":"'16'!F231","v":0}]
[null,4727,{"$f":"'16'!C232","v":0},{"$f":"'16'!D232","v":0},{"$f":"'16'!E232","v":0},{"$f":"'16'!F232","v":0}]
[null,4728,{"$f":"'16'!C233","v":0},{"$f":"'16'!D233","v":0},{"$f":"'16'!E233","v":0},{"$f":"'16'!F233","v":0}]
[null,4729,{"$f":"'16'!C234","v":0},{"$f":"'16'!D234","v":0},{"$f":"'16'!E234","v":0},{"$f":"'16'!F234","v":0}]
[null,4730,{"$f":"'16'!C235","v":0},{"$f":"'16'!D235","v":0},{"$f":"'16'!E235","v":0},{"$f":"'16'!F235","v":0}]
[null,4731,{"$f":"'16'!C236","v":0},{"$f":"'16'!D236","v":0},{"$f":"'16'!E236","v":0},{"$f":"'16'!F236","v":0}]
[null,4732,{"$f":"'16'!C237","v":0},{"$f":"'16'!D237","v":0},{"$f":"'16'!E237","v":0},{"$f":"'16'!F237","v":0}]
[null,4733,{"$f":"'16'!C238","v":0},{"$f":"'16'!D238","v":0},{"$f":"'16'!E238","v":0},{"$f":"'16'!F238","v":0}]
[null,4734,{"$f":"'16'!C239","v":0},{"$f":"'16'!D239","v":0},{"$f":"'16'!E239","v":0},{"$f":"'16'!F239","v":0}]
[null,4735,{"$f":"'16'!C240","v":0},{"$f":"'16'!D240","v":0},{"$f":"'16'!E240","v":0},{"$f":"'16'!F240","v":0}]
[null,4736,{"$f":"'16'!C241","v":0},{"$f":"'16'!D241","v":0},{"$f":"'16'!E241","v":0},{"$f":"'16'!F241","v":0}]
[null,4737,{"$f":"'16'!C242","v":0},{"$f":"'16'!D242","v":0},{"$f":"'16'!E242","v":0},{"$f":"'16'!F242","v":0}]
[null,4738,{"$f":"'16'!C243","v":0},{"$f":"'16'!D243","v":0},{"$f":"'16'!E243","v":0},{"$f":"'16'!F243","v":0}]
[null,4739,{"$f":"'16'!C244","v":0},{"$f":"'16'!D244","v":0},{"$f":"'16'!E244","v":0},{"$f":"'16'!F244","v":0}]
[null,4740,{"$f":"'16'!C245","v":0},{"$f":"'16'!D245","v":0},{"$f":"'16'!E245","v":0},{"$f":"'16'!F245","v":0}]
[null,4741,{"$f":"'16'!C246","v":0},{"$f":"'16'!D246","v":0},{"$f":"'16'!E246","v":0},{"$f":"'16'!F246","v":0}]
[null,4742,{"$f":"'16'!C247","v":0},{"$f":"'16'!D247","v":0},{"$f":"'16'!E247","v":0},{"$f":"'16'!F247","v":0}]
[null,4743,{"$f":"'16'!C248","v":0},{"$f":"'16'!D248","v":0},{"$f":"'16'!E248","v":0},{"$f":"'16'!F248","v":0}]
[null,4744,{"$f":"'16'!C249","v":0},{"$f":"'16'!D249","v":0},{"$f":"'16'!E249","v":0},{"$f":"'16'!F249","v":0}]
[null,4745,{"$f":"'16'!C250","v":0},{"$f":"'16'!D250","v":0},{"$f":"'16'!E250","v":0},{"$f":"'16'!F250","v":0}]
[null,4746,{"$f":"'16'!C251","v":0},{"$f":"'16'!D251","v":0},{"$f":"'16'!E251","v":0},{"$f":"'16'!F251","v":0}]
[null,4747,{"$f":"'16'!C252","v":0},{"$f":"'16'!D252","v":0},{"$f":"'16'!E252","v":0},{"$f":"'16'!F252","v":0}]
[null,4748,{"$f":"'16'!C253","v":0},{"$f":"'16'!D253","v":0},{"$f":"'16'!E253","v":0},{"$f":"'16'!F253","v":0}]
[null,4749,{"$f":"'16'!C254","v":0},{"$f":"'16'!D254","v":0},{"$f":"'16'!E254","v":0},{"$f":"'16'!F254","v":0}]
[null,4750,{"$f":"'16'!C255","v":0},{"$f":"'16'!D255","v":0},{"$f":"'16'!E255","v":0},{"$f":"'16'!F255","v":0}]
[null,4751,{"$f":"'16'!C256","v":0},{"$f":"'16'!D256","v":0},{"$f":"'16'!E256","v":0},{"$f":"'16'!F256","v":0}]
[null,4752,{"$f":"'16'!C257","v":0},{"$f":"'16'!D257","v":0},{"$f":"'16'!E257","v":0},{"$f":"'16'!F257","v":0}]
[null,4753,{"$f":"'16'!C258","v":0},{"$f":"'16'!D258","v":0},{"$f":"'16'!E258","v":0},{"$f":"'16'!F258","v":0}]
[null,4754,{"$f":"'16'!C259","v":0},{"$f":"'16'!D259","v":0},{"$f":"'16'!E259","v":0},{"$f":"'16'!F259","v":0}]
[null,4755,{"$f":"'16'!C260","v":0},{"$f":"'16'!D260","v":0},{"$f":"'16'!E260","v":0},{"$f":"'16'!F260","v":0}]
[null,4756,{"$f":"'16'!C261","v":0},{"$f":"'16'!D261","v":0},{"$f":"'16'!E261","v":0},{"$f":"'16'!F261","v":0}]
[null,4757,{"$f":"'16'!C262","v":0},{"$f":"'16'!D262","v":0},{"$f":"'16'!E262","v":0},{"$f":"'16'!F262","v":0}]
[null,4758,{"$f":"'16'!C263","v":0},{"$f":"'16'!D263","v":0},{"$f":"'16'!E263","v":0},{"$f":"'16'!F263","v":0}]
[null,4759,{"$f":"'16'!C264","v":0},{"$f":"'16'!D264","v":0},{"$f":"'16'!E264","v":0},{"$f":"'16'!F264","v":0}]
[null,4760,{"$f":"'16'!C265","v":0},{"$f":"'16'!D265","v":0},{"$f":"'16'!E265","v":0},{"$f":"'16'!F265","v":0}]
[null,4761,{"$f":"'16'!C266","v":0},{"$f":"'16'!D266","v":0},{"$f":"'16'!E266","v":0},{"$f":"'16'!F266","v":0}]
[null,4762,{"$f":"'16'!C267","v":0},{"$f":"'16'!D267","v":0},{"$f":"'16'!E267","v":0},{"$f":"'16'!F267","v":0}]
[null,4763,{"$f":"'16'!C268","v":0},{"$f":"'16'!D268","v":0},{"$f":"'16'!E268","v":0},{"$f":"'16'!F268","v":0}]
[null,4764,{"$f":"'16'!C269","v":0},{"$f":"'16'!D269","v":0},{"$f":"'16'!E269","v":0},{"$f":"'16'!F269","v":0}]
[null,4765,{"$f":"'16'!C270","v":0},{"$f":"'16'!D270","v":0},{"$f":"'16'!E270","v":0},{"$f":"'16'!F270","v":0}]
[null,4766,{"$f":"'16'!C271","v":0},{"$f":"'16'!D271","v":0},{"$f":"'16'!E271","v":0},{"$f":"'16'!F271","v":0}]
[null,4767,{"$f":"'16'!C272","v":0},{"$f":"'16'!D272","v":0},{"$f":"'16'!E272","v":0},{"$f":"'16'!F272","v":0}]
[null,4768,{"$f":"'16'!C273","v":0},{"$f":"'16'!D273","v":0},{"$f":"'16'!E273","v":0},{"$f":"'16'!F273","v":0}]
[null,4769,{"$f":"'16'!C274","v":0},{"$f":"'16'!D274","v":0},{"$f":"'16'!E274","v":0},{"$f":"'16'!F274","v":0}]
[null,4770,{"$f":"'16'!C275","v":0},{"$f":"'16'!D275","v":0},{"$f":"'16'!E275","v":0},{"$f":"'16'!F275","v":0}]
[null,4771,{"$f":"'16'!C276","v":0},{"$f":"'16'!D276","v":0},{"$f":"'16'!E276","v":0},{"$f":"'16'!F276","v":0}]
[null,4772,{"$f":"'16'!C277","v":0},{"$f":"'16'!D277","v":0},{"$f":"'16'!E277","v":0},{"$f":"'16'!F277","v":0}]
[null,4773,{"$f":"'16'!C278","v":0},{"$f":"'16'!D278","v":0},{"$f":"'16'!E278","v":0},{"$f":"'16'!F278","v":0}]
[null,4774,{"$f":"'16'!C279","v":0},{"$f":"'16'!D279","v":0},{"$f":"'16'!E279","v":0},{"$f":"'16'!F279","v":0}]
[null,4775,{"$f":"'16'!C280","v":0},{"$f":"'16'!D280","v":0},{"$f":"'16'!E280","v":0},{"$f":"'16'!F280","v":0}]
[null,4776,{"$f":"'16'!C281","v":0},{"$f":"'16'!D281","v":0},{"$f":"'16'!E281","v":0},{"$f":"'16'!F281","v":0}]
[null,4777,{"$f":"'16'!C282","v":0},{"$f":"'16'!D282","v":0},{"$f":"'16'!E282","v":0},{"$f":"'16'!F282","v":0}]
[null,4778,{"$f":"'16'!C283","v":0},{"$f":"'16'!D283","v":0},{"$f":"'16'!E283","v":0},{"$f":"'16'!F283","v":0}]
[null,4779,{"$f":"'16'!C284","v":0},{"$f":"'16'!D284","v":0},{"$f":"'16'!E284","v":0},{"$f":"'16'!F284","v":0}]
[null,4780,{"$f":"'16'!C285","v":0},{"$f":"'16'!D285","v":0},{"$f":"'16'!E285","v":0},{"$f":"'16'!F285","v":0}]
[null,4781,{"$f":"'16'!C286","v":0},{"$f":"'16'!D286","v":0},{"$f":"'16'!E286","v":0},{"$f":"'16'!F286","v":0}]
[null,4782,{"$f":"'16'!C287","v":0},{"$f":"'16'!D287","v":0},{"$f":"'16'!E287","v":0},{"$f":"'16'!F287","v":0}]
[null,4783,{"$f":"'16'!C288","v":0},{"$f":"'16'!D288","v":0},{"$f":"'16'!E288","v":0},{"$f":"'16'!F288","v":0}]
[null,4784,{"$f":"'16'!C289","v":0},{"$f":"'16'!D289","v":0},{"$f":"'16'!E289","v":0},{"$f":"'16'!F289","v":0}]
[null,4785,{"$f":"'16'!C290","v":0},{"$f":"'16'!D290","v":0},{"$f":"'16'!E290","v":0},{"$f":"'16'!F290","v":0}]
[null,4786,{"$f":"'16'!C291","v":0},{"$f":"'16'!D291","v":0},{"$f":"'16'!E291","v":0},{"$f":"'16'!F291","v":0}]
[null,4787,{"$f":"'16'!C292","v":0},{"$f":"'16'!D292","v":0},{"$f":"'16'!E292","v":0},{"$f":"'16'!F292","v":0}]
[null,4788,{"$f":"'16'!C293","v":0},{"$f":"'16'!D293","v":0},{"$f":"'16'!E293","v":0},{"$f":"'16'!F293","v":0}]
[null,4789,{"$f":"'16'!C294","v":0},{"$f":"'16'!D294","v":0},{"$f":"'16'!E294","v":0},{"$f":"'16'!F294","v":0}]
[null,4790,{"$f":"'16'!C295","v":0},{"$f":"'16'!D295","v":0},{"$f":"'16'!E295","v":0},{"$f":"'16'!F295","v":0}]
[null,4791,{"$f":"'16'!C296","v":0},{"$f":"'16'!D296","v":0},{"$f":"'16'!E296","v":0},{"$f":"'16'!F296","v":0}]
[null,4792,{"$f":"'16'!C297","v":0},{"$f":"'16'!D297","v":0},{"$f":"'16'!E297","v":0},{"$f":"'16'!F297","v":0}]
[null,4793,{"$f":"'16'!C298","v":0},{"$f":"'16'!D298","v":0},{"$f":"'16'!E298","v":0},{"$f":"'16'!F298","v":0}]
[null,4794,{"$f":"'16'!C299","v":0},{"$f":"'16'!D299","v":0},{"$f":"'16'!E299","v":0},{"$f":"'16'!F299","v":0}]
[null,4795,{"$f":"'16'!C300","v":0},{"$f":"'16'!D300","v":0},{"$f":"'16'!E300","v":0},{"$f":"'16'!F300","v":0}]
[null,4796,{"$f":"'16'!C301","v":0},{"$f":"'16'!D301","v":0},{"$f":"'16'!E301","v":0},{"$f":"'16'!F301","v":0}]
[null,4797,{"$f":"'16'!C302","v":0},{"$f":"'16'!D302","v":0},{"$f":"'16'!E302","v":0},{"$f":"'16'!F302","v":0}]
[null,4798,{"$f":"'16'!C303","v":0},{"$f":"'16'!D303","v":0},{"$f":"'16'!E303","v":0},{"$f":"'16'!F303","v":0}]
[null,4799,{"$f":"'16'!C304","v":0},{"$f":"'16'!D304","v":0},{"$f":"'16'!E304","v":0},{"$f":"'16'!F304","v":0}]
[null,4800,{"$f":"'16'!C305","v":0},{"$f":"'16'!D305","v":0},{"$f":"'16'!E305","v":0},{"$f":"'16'!F305","v":0}]
[null,4801,{"$f":"'17'!C6","v":0},{"$f":"'17'!D6","v":0},{"$f":"'17'!E6","v":0},{"$f":"'17'!F6","v":0}]
[null,4802,{"$f":"'17'!C7","v":0},{"$f":"'17'!D7","v":0},{"$f":"'17'!E7","v":0},{"$f":"'17'!F7","v":0}]
[null,4803,{"$f":"'17'!C8","v":0},{"$f":"'17'!D8","v":0},{"$f":"'17'!E8","v":0},{"$f":"'17'!F8","v":0}]
[null,4804,{"$f":"'17'!C9","v":0},{"$f":"'17'!D9","v":0},{"$f":"'17'!E9","v":0},{"$f":"'17'!F9","v":0}]
[null,4805,{"$f":"'17'!C10","v":0},{"$f":"'17'!D10","v":0},{"$f":"'17'!E10","v":0},{"$f":"'17'!F10","v":0}]
[null,4806,{"$f":"'17'!C11","v":0},{"$f":"'17'!D11","v":0},{"$f":"'17'!E11","v":0},{"$f":"'17'!F11","v":0}]
[null,4807,{"$f":"'17'!C12","v":0},{"$f":"'17'!D12","v":0},{"$f":"'17'!E12","v":0},{"$f":"'17'!F12","v":0}]
[null,4808,{"$f":"'17'!C13","v":0},{"$f":"'17'!D13","v":0},{"$f":"'17'!E13","v":0},{"$f":"'17'!F13","v":0}]
[null,4809,{"$f":"'17'!C14","v":0},{"$f":"'17'!D14","v":0},{"$f":"'17'!E14","v":0},{"$f":"'17'!F14","v":0}]
[null,4810,{"$f":"'17'!C15","v":0},{"$f":"'17'!D15","v":0},{"$f":"'17'!E15","v":0},{"$f":"'17'!F15","v":0}]
[null,4811,{"$f":"'17'!C16","v":0},{"$f":"'17'!D16","v":0},{"$f":"'17'!E16","v":0},{"$f":"'17'!F16","v":0}]
[null,4812,{"$f":"'17'!C17","v":0},{"$f":"'17'!D17","v":0},{"$f":"'17'!E17","v":0},{"$f":"'17'!F17","v":0}]
[null,4813,{"$f":"'17'!C18","v":0},{"$f":"'17'!D18","v":0},{"$f":"'17'!E18","v":0},{"$f":"'17'!F18","v":0}]
[null,4814,{"$f":"'17'!C19","v":0},{"$f":"'17'!D19","v":0},{"$f":"'17'!E19","v":0},{"$f":"'17'!F19","v":0}]
[null,4815,{"$f":"'17'!C20","v":0},{"$f":"'17'!D20","v":0},{"$f":"'17'!E20","v":0},{"$f":"'17'!F20","v":0}]
[null,4816,{"$f":"'17'!C21","v":0},{"$f":"'17'!D21","v":0},{"$f":"'17'!E21","v":0},{"$f":"'17'!F21","v":0}]
[null,4817,{"$f":"'17'!C22","v":0},{"$f":"'17'!D22","v":0},{"$f":"'17'!E22","v":0},{"$f":"'17'!F22","v":0}]
[null,4818,{"$f":"'17'!C23","v":0},{"$f":"'17'!D23","v":0},{"$f":"'17'!E23","v":0},{"$f":"'17'!F23","v":0}]
[null,4819,{"$f":"'17'!C24","v":0},{"$f":"'17'!D24","v":0},{"$f":"'17'!E24","v":0},{"$f":"'17'!F24","v":0}]
[null,4820,{"$f":"'17'!C25","v":0},{"$f":"'17'!D25","v":0},{"$f":"'17'!E25","v":0},{"$f":"'17'!F25","v":0}]
[null,4821,{"$f":"'17'!C26","v":0},{"$f":"'17'!D26","v":0},{"$f":"'17'!E26","v":0},{"$f":"'17'!F26","v":0}]
[null,4822,{"$f":"'17'!C27","v":0},{"$f":"'17'!D27","v":0},{"$f":"'17'!E27","v":0},{"$f":"'17'!F27","v":0}]
[null,4823,{"$f":"'17'!C28","v":0},{"$f":"'17'!D28","v":0},{"$f":"'17'!E28","v":0},{"$f":"'17'!F28","v":0}]
[null,4824,{"$f":"'17'!C29","v":0},{"$f":"'17'!D29","v":0},{"$f":"'17'!E29","v":0},{"$f":"'17'!F29","v":0}]
[null,4825,{"$f":"'17'!C30","v":0},{"$f":"'17'!D30","v":0},{"$f":"'17'!E30","v":0},{"$f":"'17'!F30","v":0}]
[null,4826,{"$f":"'17'!C31","v":0},{"$f":"'17'!D31","v":0},{"$f":"'17'!E31","v":0},{"$f":"'17'!F31","v":0}]
[null,4827,{"$f":"'17'!C32","v":0},{"$f":"'17'!D32","v":0},{"$f":"'17'!E32","v":0},{"$f":"'17'!F32","v":0}]
[null,4828,{"$f":"'17'!C33","v":0},{"$f":"'17'!D33","v":0},{"$f":"'17'!E33","v":0},{"$f":"'17'!F33","v":0}]
[null,4829,{"$f":"'17'!C34","v":0},{"$f":"'17'!D34","v":0},{"$f":"'17'!E34","v":0},{"$f":"'17'!F34","v":0}]
[null,4830,{"$f":"'17'!C35","v":0},{"$f":"'17'!D35","v":0},{"$f":"'17'!E35","v":0},{"$f":"'17'!F35","v":0}]
[null,4831,{"$f":"'17'!C36","v":0},{"$f":"'17'!D36","v":0},{"$f":"'17'!E36","v":0},{"$f":"'17'!F36","v":0}]
[null,4832,{"$f":"'17'!C37","v":0},{"$f":"'17'!D37","v":0},{"$f":"'17'!E37","v":0},{"$f":"'17'!F37","v":0}]
[null,4833,{"$f":"'17'!C38","v":0},{"$f":"'17'!D38","v":0},{"$f":"'17'!E38","v":0},{"$f":"'17'!F38","v":0}]
[null,4834,{"$f":"'17'!C39","v":0},{"$f":"'17'!D39","v":0},{"$f":"'17'!E39","v":0},{"$f":"'17'!F39","v":0}]
[null,4835,{"$f":"'17'!C40","v":0},{"$f":"'17'!D40","v":0},{"$f":"'17'!E40","v":0},{"$f":"'17'!F40","v":0}]
[null,4836,{"$f":"'17'!C41","v":0},{"$f":"'17'!D41","v":0},{"$f":"'17'!E41","v":0},{"$f":"'17'!F41","v":0}]
[null,4837,{"$f":"'17'!C42","v":0},{"$f":"'17'!D42","v":0},{"$f":"'17'!E42","v":0},{"$f":"'17'!F42","v":0}]
[null,4838,{"$f":"'17'!C43","v":0},{"$f":"'17'!D43","v":0},{"$f":"'17'!E43","v":0},{"$f":"'17'!F43","v":0}]
[null,4839,{"$f":"'17'!C44","v":0},{"$f":"'17'!D44","v":0},{"$f":"'17'!E44","v":0},{"$f":"'17'!F44","v":0}]
[null,4840,{"$f":"'17'!C45","v":0},{"$f":"'17'!D45","v":0},{"$f":"'17'!E45","v":0},{"$f":"'17'!F45","v":0}]
[null,4841,{"$f":"'17'!C46","v":0},{"$f":"'17'!D46","v":0},{"$f":"'17'!E46","v":0},{"$f":"'17'!F46","v":0}]
[null,4842,{"$f":"'17'!C47","v":0},{"$f":"'17'!D47","v":0},{"$f":"'17'!E47","v":0},{"$f":"'17'!F47","v":0}]
[null,4843,{"$f":"'17'!C48","v":0},{"$f":"'17'!D48","v":0},{"$f":"'17'!E48","v":0},{"$f":"'17'!F48","v":0}]
[null,4844,{"$f":"'17'!C49","v":0},{"$f":"'17'!D49","v":0},{"$f":"'17'!E49","v":0},{"$f":"'17'!F49","v":0}]
[null,4845,{"$f":"'17'!C50","v":0},{"$f":"'17'!D50","v":0},{"$f":"'17'!E50","v":0},{"$f":"'17'!F50","v":0}]
[null,4846,{"$f":"'17'!C51","v":0},{"$f":"'17'!D51","v":0},{"$f":"'17'!E51","v":0},{"$f":"'17'!F51","v":0}]
[null,4847,{"$f":"'17'!C52","v":0},{"$f":"'17'!D52","v":0},{"$f":"'17'!E52","v":0},{"$f":"'17'!F52","v":0}]
[null,4848,{"$f":"'17'!C53","v":0},{"$f":"'17'!D53","v":0},{"$f":"'17'!E53","v":0},{"$f":"'17'!F53","v":0}]
[null,4849,{"$f":"'17'!C54","v":0},{"$f":"'17'!D54","v":0},{"$f":"'17'!E54","v":0},{"$f":"'17'!F54","v":0}]
[null,4850,{"$f":"'17'!C55","v":0},{"$f":"'17'!D55","v":0},{"$f":"'17'!E55","v":0},{"$f":"'17'!F55","v":0}]
[null,4851,{"$f":"'17'!C56","v":0},{"$f":"'17'!D56","v":0},{"$f":"'17'!E56","v":0},{"$f":"'17'!F56","v":0}]
[null,4852,{"$f":"'17'!C57","v":0},{"$f":"'17'!D57","v":0},{"$f":"'17'!E57","v":0},{"$f":"'17'!F57","v":0}]
[null,4853,{"$f":"'17'!C58","v":0},{"$f":"'17'!D58","v":0},{"$f":"'17'!E58","v":0},{"$f":"'17'!F58","v":0}]
[null,4854,{"$f":"'17'!C59","v":0},{"$f":"'17'!D59","v":0},{"$f":"'17'!E59","v":0},{"$f":"'17'!F59","v":0}]
[null,4855,{"$f":"'17'!C60","v":0},{"$f":"'17'!D60","v":0},{"$f":"'17'!E60","v":0},{"$f":"'17'!F60","v":0}]
[null,4856,{"$f":"'17'!C61","v":0},{"$f":"'17'!D61","v":0},{"$f":"'17'!E61","v":0},{"$f":"'17'!F61","v":0}]
[null,4857,{"$f":"'17'!C62","v":0},{"$f":"'17'!D62","v":0},{"$f":"'17'!E62","v":0},{"$f":"'17'!F62","v":0}]
[null,4858,{"$f":"'17'!C63","v":0},{"$f":"'17'!D63","v":0},{"$f":"'17'!E63","v":0},{"$f":"'17'!F63","v":0}]
[null,4859,{"$f":"'17'!C64","v":0},{"$f":"'17'!D64","v":0},{"$f":"'17'!E64","v":0},{"$f":"'17'!F64","v":0}]
[null,4860,{"$f":"'17'!C65","v":0},{"$f":"'17'!D65","v":0},{"$f":"'17'!E65","v":0},{"$f":"'17'!F65","v":0}]
[null,4861,{"$f":"'17'!C66","v":0},{"$f":"'17'!D66","v":0},{"$f":"'17'!E66","v":0},{"$f":"'17'!F66","v":0}]
[null,4862,{"$f":"'17'!C67","v":0},{"$f":"'17'!D67","v":0},{"$f":"'17'!E67","v":0},{"$f":"'17'!F67","v":0}]
[null,4863,{"$f":"'17'!C68","v":0},{"$f":"'17'!D68","v":0},{"$f":"'17'!E68","v":0},{"$f":"'17'!F68","v":0}]
[null,4864,{"$f":"'17'!C69","v":0},{"$f":"'17'!D69","v":0},{"$f":"'17'!E69","v":0},{"$f":"'17'!F69","v":0}]
[null,4865,{"$f":"'17'!C70","v":0},{"$f":"'17'!D70","v":0},{"$f":"'17'!E70","v":0},{"$f":"'17'!F70","v":0}]
[null,4866,{"$f":"'17'!C71","v":0},{"$f":"'17'!D71","v":0},{"$f":"'17'!E71","v":0},{"$f":"'17'!F71","v":0}]
[null,4867,{"$f":"'17'!C72","v":0},{"$f":"'17'!D72","v":0},{"$f":"'17'!E72","v":0},{"$f":"'17'!F72","v":0}]
[null,4868,{"$f":"'17'!C73","v":0},{"$f":"'17'!D73","v":0},{"$f":"'17'!E73","v":0},{"$f":"'17'!F73","v":0}]
[null,4869,{"$f":"'17'!C74","v":0},{"$f":"'17'!D74","v":0},{"$f":"'17'!E74","v":0},{"$f":"'17'!F74","v":0}]
[null,4870,{"$f":"'17'!C75","v":0},{"$f":"'17'!D75","v":0},{"$f":"'17'!E75","v":0},{"$f":"'17'!F75","v":0}]
[null,4871,{"$f":"'17'!C76","v":0},{"$f":"'17'!D76","v":0},{"$f":"'17'!E76","v":0},{"$f":"'17'!F76","v":0}]
[null,4872,{"$f":"'17'!C77","v":0},{"$f":"'17'!D77","v":0},{"$f":"'17'!E77","v":0},{"$f":"'17'!F77","v":0}]
[null,4873,{"$f":"'17'!C78","v":0},{"$f":"'17'!D78","v":0},{"$f":"'17'!E78","v":0},{"$f":"'17'!F78","v":0}]
[null,4874,{"$f":"'17'!C79","v":0},{"$f":"'17'!D79","v":0},{"$f":"'17'!E79","v":0},{"$f":"'17'!F79","v":0}]
[null,4875,{"$f":"'17'!C80","v":0},{"$f":"'17'!D80","v":0},{"$f":"'17'!E80","v":0},{"$f":"'17'!F80","v":0}]
[null,4876,{"$f":"'17'!C81","v":0},{"$f":"'17'!D81","v":0},{"$f":"'17'!E81","v":0},{"$f":"'17'!F81","v":0}]
[null,4877,{"$f":"'17'!C82","v":0},{"$f":"'17'!D82","v":0},{"$f":"'17'!E82","v":0},{"$f":"'17'!F82","v":0}]
[null,4878,{"$f":"'17'!C83","v":0},{"$f":"'17'!D83","v":0},{"$f":"'17'!E83","v":0},{"$f":"'17'!F83","v":0}]
[null,4879,{"$f":"'17'!C84","v":0},{"$f":"'17'!D84","v":0},{"$f":"'17'!E84","v":0},{"$f":"'17'!F84","v":0}]
[null,4880,{"$f":"'17'!C85","v":0},{"$f":"'17'!D85","v":0},{"$f":"'17'!E85","v":0},{"$f":"'17'!F85","v":0}]
[null,4881,{"$f":"'17'!C86","v":0},{"$f":"'17'!D86","v":0},{"$f":"'17'!E86","v":0},{"$f":"'17'!F86","v":0}]
[null,4882,{"$f":"'17'!C87","v":0},{"$f":"'17'!D87","v":0},{"$f":"'17'!E87","v":0},{"$f":"'17'!F87","v":0}]
[null,4883,{"$f":"'17'!C88","v":0},{"$f":"'17'!D88","v":0},{"$f":"'17'!E88","v":0},{"$f":"'17'!F88","v":0}]
[null,4884,{"$f":"'17'!C89","v":0},{"$f":"'17'!D89","v":0},{"$f":"'17'!E89","v":0},{"$f":"'17'!F89","v":0}]
[null,4885,{"$f":"'17'!C90","v":0},{"$f":"'17'!D90","v":0},{"$f":"'17'!E90","v":0},{"$f":"'17'!F90","v":0}]
[null,4886,{"$f":"'17'!C91","v":0},{"$f":"'17'!D91","v":0},{"$f":"'17'!E91","v":0},{"$f":"'17'!F91","v":0}]
[null,4887,{"$f":"'17'!C92","v":0},{"$f":"'17'!D92","v":0},{"$f":"'17'!E92","v":0},{"$f":"'17'!F92","v":0}]
[null,4888,{"$f":"'17'!C93","v":0},{"$f":"'17'!D93","v":0},{"$f":"'17'!E93","v":0},{"$f":"'17'!F93","v":0}]
[null,4889,{"$f":"'17'!C94","v":0},{"$f":"'17'!D94","v":0},{"$f":"'17'!E94","v":0},{"$f":"'17'!F94","v":0}]
[null,4890,{"$f":"'17'!C95","v":0},{"$f":"'17'!D95","v":0},{"$f":"'17'!E95","v":0},{"$f":"'17'!F95","v":0}]
[null,4891,{"$f":"'17'!C96","v":0},{"$f":"'17'!D96","v":0},{"$f":"'17'!E96","v":0},{"$f":"'17'!F96","v":0}]
[null,4892,{"$f":"'17'!C97","v":0},{"$f":"'17'!D97","v":0},{"$f":"'17'!E97","v":0},{"$f":"'17'!F97","v":0}]
[null,4893,{"$f":"'17'!C98","v":0},{"$f":"'17'!D98","v":0},{"$f":"'17'!E98","v":0},{"$f":"'17'!F98","v":0}]
[null,4894,{"$f":"'17'!C99","v":0},{"$f":"'17'!D99","v":0},{"$f":"'17'!E99","v":0},{"$f":"'17'!F99","v":0}]
[null,4895,{"$f":"'17'!C100","v":0},{"$f":"'17'!D100","v":0},{"$f":"'17'!E100","v":0},{"$f":"'17'!F100","v":0}]
[null,4896,{"$f":"'17'!C101","v":0},{"$f":"'17'!D101","v":0},{"$f":"'17'!E101","v":0},{"$f":"'17'!F101","v":0}]
[null,4897,{"$f":"'17'!C102","v":0},{"$f":"'17'!D102","v":0},{"$f":"'17'!E102","v":0},{"$f":"'17'!F102","v":0}]
[null,4898,{"$f":"'17'!C103","v":0},{"$f":"'17'!D103","v":0},{"$f":"'17'!E103","v":0},{"$f":"'17'!F103","v":0}]
[null,4899,{"$f":"'17'!C104","v":0},{"$f":"'17'!D104","v":0},{"$f":"'17'!E104","v":0},{"$f":"'17'!F104","v":0}]
[null,4900,{"$f":"'17'!C105","v":0},{"$f":"'17'!D105","v":0},{"$f":"'17'!E105","v":0},{"$f":"'17'!F105","v":0}]
[null,4901,{"$f":"'17'!C106","v":0},{"$f":"'17'!D106","v":0},{"$f":"'17'!E106","v":0},{"$f":"'17'!F106","v":0}]
[null,4902,{"$f":"'17'!C107","v":0},{"$f":"'17'!D107","v":0},{"$f":"'17'!E107","v":0},{"$f":"'17'!F107","v":0}]
[null,4903,{"$f":"'17'!C108","v":0},{"$f":"'17'!D108","v":0},{"$f":"'17'!E108","v":0},{"$f":"'17'!F108","v":0}]
[null,4904,{"$f":"'17'!C109","v":0},{"$f":"'17'!D109","v":0},{"$f":"'17'!E109","v":0},{"$f":"'17'!F109","v":0}]
[null,4905,{"$f":"'17'!C110","v":0},{"$f":"'17'!D110","v":0},{"$f":"'17'!E110","v":0},{"$f":"'17'!F110","v":0}]
[null,4906,{"$f":"'17'!C111","v":0},{"$f":"'17'!D111","v":0},{"$f":"'17'!E111","v":0},{"$f":"'17'!F111","v":0}]
[null,4907,{"$f":"'17'!C112","v":0},{"$f":"'17'!D112","v":0},{"$f":"'17'!E112","v":0},{"$f":"'17'!F112","v":0}]
[null,4908,{"$f":"'17'!C113","v":0},{"$f":"'17'!D113","v":0},{"$f":"'17'!E113","v":0},{"$f":"'17'!F113","v":0}]
[null,4909,{"$f":"'17'!C114","v":0},{"$f":"'17'!D114","v":0},{"$f":"'17'!E114","v":0},{"$f":"'17'!F114","v":0}]
[null,4910,{"$f":"'17'!C115","v":0},{"$f":"'17'!D115","v":0},{"$f":"'17'!E115","v":0},{"$f":"'17'!F115","v":0}]
[null,4911,{"$f":"'17'!C116","v":0},{"$f":"'17'!D116","v":0},{"$f":"'17'!E116","v":0},{"$f":"'17'!F116","v":0}]
[null,4912,{"$f":"'17'!C117","v":0},{"$f":"'17'!D117","v":0},{"$f":"'17'!E117","v":0},{"$f":"'17'!F117","v":0}]
[null,4913,{"$f":"'17'!C118","v":0},{"$f":"'17'!D118","v":0},{"$f":"'17'!E118","v":0},{"$f":"'17'!F118","v":0}]
[null,4914,{"$f":"'17'!C119","v":0},{"$f":"'17'!D119","v":0},{"$f":"'17'!E119","v":0},{"$f":"'17'!F119","v":0}]
[null,4915,{"$f":"'17'!C120","v":0},{"$f":"'17'!D120","v":0},{"$f":"'17'!E120","v":0},{"$f":"'17'!F120","v":0}]
[null,4916,{"$f":"'17'!C121","v":0},{"$f":"'17'!D121","v":0},{"$f":"'17'!E121","v":0},{"$f":"'17'!F121","v":0}]
[null,4917,{"$f":"'17'!C122","v":0},{"$f":"'17'!D122","v":0},{"$f":"'17'!E122","v":0},{"$f":"'17'!F122","v":0}]
[null,4918,{"$f":"'17'!C123","v":0},{"$f":"'17'!D123","v":0},{"$f":"'17'!E123","v":0},{"$f":"'17'!F123","v":0}]
[null,4919,{"$f":"'17'!C124","v":0},{"$f":"'17'!D124","v":0},{"$f":"'17'!E124","v":0},{"$f":"'17'!F124","v":0}]
[null,4920,{"$f":"'17'!C125","v":0},{"$f":"'17'!D125","v":0},{"$f":"'17'!E125","v":0},{"$f":"'17'!F125","v":0}]
[null,4921,{"$f":"'17'!C126","v":0},{"$f":"'17'!D126","v":0},{"$f":"'17'!E126","v":0},{"$f":"'17'!F126","v":0}]
[null,4922,{"$f":"'17'!C127","v":0},{"$f":"'17'!D127","v":0},{"$f":"'17'!E127","v":0},{"$f":"'17'!F127","v":0}]
[null,4923,{"$f":"'17'!C128","v":0},{"$f":"'17'!D128","v":0},{"$f":"'17'!E128","v":0},{"$f":"'17'!F128","v":0}]
[null,4924,{"$f":"'17'!C129","v":0},{"$f":"'17'!D129","v":0},{"$f":"'17'!E129","v":0},{"$f":"'17'!F129","v":0}]
[null,4925,{"$f":"'17'!C130","v":0},{"$f":"'17'!D130","v":0},{"$f":"'17'!E130","v":0},{"$f":"'17'!F130","v":0}]
[null,4926,{"$f":"'17'!C131","v":0},{"$f":"'17'!D131","v":0},{"$f":"'17'!E131","v":0},{"$f":"'17'!F131","v":0}]
[null,4927,{"$f":"'17'!C132","v":0},{"$f":"'17'!D132","v":0},{"$f":"'17'!E132","v":0},{"$f":"'17'!F132","v":0}]
[null,4928,{"$f":"'17'!C133","v":0},{"$f":"'17'!D133","v":0},{"$f":"'17'!E133","v":0},{"$f":"'17'!F133","v":0}]
[null,4929,{"$f":"'17'!C134","v":0},{"$f":"'17'!D134","v":0},{"$f":"'17'!E134","v":0},{"$f":"'17'!F134","v":0}]
[null,4930,{"$f":"'17'!C135","v":0},{"$f":"'17'!D135","v":0},{"$f":"'17'!E135","v":0},{"$f":"'17'!F135","v":0}]
[null,4931,{"$f":"'17'!C136","v":0},{"$f":"'17'!D136","v":0},{"$f":"'17'!E136","v":0},{"$f":"'17'!F136","v":0}]
[null,4932,{"$f":"'17'!C137","v":0},{"$f":"'17'!D137","v":0},{"$f":"'17'!E137","v":0},{"$f":"'17'!F137","v":0}]
[null,4933,{"$f":"'17'!C138","v":0},{"$f":"'17'!D138","v":0},{"$f":"'17'!E138","v":0},{"$f":"'17'!F138","v":0}]
[null,4934,{"$f":"'17'!C139","v":0},{"$f":"'17'!D139","v":0},{"$f":"'17'!E139","v":0},{"$f":"'17'!F139","v":0}]
[null,4935,{"$f":"'17'!C140","v":0},{"$f":"'17'!D140","v":0},{"$f":"'17'!E140","v":0},{"$f":"'17'!F140","v":0}]
[null,4936,{"$f":"'17'!C141","v":0},{"$f":"'17'!D141","v":0},{"$f":"'17'!E141","v":0},{"$f":"'17'!F141","v":0}]
[null,4937,{"$f":"'17'!C142","v":0},{"$f":"'17'!D142","v":0},{"$f":"'17'!E142","v":0},{"$f":"'17'!F142","v":0}]
[null,4938,{"$f":"'17'!C143","v":0},{"$f":"'17'!D143","v":0},{"$f":"'17'!E143","v":0},{"$f":"'17'!F143","v":0}]
[null,4939,{"$f":"'17'!C144","v":0},{"$f":"'17'!D144","v":0},{"$f":"'17'!E144","v":0},{"$f":"'17'!F144","v":0}]
[null,4940,{"$f":"'17'!C145","v":0},{"$f":"'17'!D145","v":0},{"$f":"'17'!E145","v":0},{"$f":"'17'!F145","v":0}]
[null,4941,{"$f":"'17'!C146","v":0},{"$f":"'17'!D146","v":0},{"$f":"'17'!E146","v":0},{"$f":"'17'!F146","v":0}]
[null,4942,{"$f":"'17'!C147","v":0},{"$f":"'17'!D147","v":0},{"$f":"'17'!E147","v":0},{"$f":"'17'!F147","v":0}]
[null,4943,{"$f":"'17'!C148","v":0},{"$f":"'17'!D148","v":0},{"$f":"'17'!E148","v":0},{"$f":"'17'!F148","v":0}]
[null,4944,{"$f":"'17'!C149","v":0},{"$f":"'17'!D149","v":0},{"$f":"'17'!E149","v":0},{"$f":"'17'!F149","v":0}]
[null,4945,{"$f":"'17'!C150","v":0},{"$f":"'17'!D150","v":0},{"$f":"'17'!E150","v":0},{"$f":"'17'!F150","v":0}]
[null,4946,{"$f":"'17'!C151","v":0},{"$f":"'17'!D151","v":0},{"$f":"'17'!E151","v":0},{"$f":"'17'!F151","v":0}]
[null,4947,{"$f":"'17'!C152","v":0},{"$f":"'17'!D152","v":0},{"$f":"'17'!E152","v":0},{"$f":"'17'!F152","v":0}]
[null,4948,{"$f":"'17'!C153","v":0},{"$f":"'17'!D153","v":0},{"$f":"'17'!E153","v":0},{"$f":"'17'!F153","v":0}]
[null,4949,{"$f":"'17'!C154","v":0},{"$f":"'17'!D154","v":0},{"$f":"'17'!E154","v":0},{"$f":"'17'!F154","v":0}]
[null,4950,{"$f":"'17'!C155","v":0},{"$f":"'17'!D155","v":0},{"$f":"'17'!E155","v":0},{"$f":"'17'!F155","v":0}]
[null,4951,{"$f":"'17'!C156","v":0},{"$f":"'17'!D156","v":0},{"$f":"'17'!E156","v":0},{"$f":"'17'!F156","v":0}]
[null,4952,{"$f":"'17'!C157","v":0},{"$f":"'17'!D157","v":0},{"$f":"'17'!E157","v":0},{"$f":"'17'!F157","v":0}]
[null,4953,{"$f":"'17'!C158","v":0},{"$f":"'17'!D158","v":0},{"$f":"'17'!E158","v":0},{"$f":"'17'!F158","v":0}]
[null,4954,{"$f":"'17'!C159","v":0},{"$f":"'17'!D159","v":0},{"$f":"'17'!E159","v":0},{"$f":"'17'!F159","v":0}]
[null,4955,{"$f":"'17'!C160","v":0},{"$f":"'17'!D160","v":0},{"$f":"'17'!E160","v":0},{"$f":"'17'!F160","v":0}]
[null,4956,{"$f":"'17'!C161","v":0},{"$f":"'17'!D161","v":0},{"$f":"'17'!E161","v":0},{"$f":"'17'!F161","v":0}]
[null,4957,{"$f":"'17'!C162","v":0},{"$f":"'17'!D162","v":0},{"$f":"'17'!E162","v":0},{"$f":"'17'!F162","v":0}]
[null,4958,{"$f":"'17'!C163","v":0},{"$f":"'17'!D163","v":0},{"$f":"'17'!E163","v":0},{"$f":"'17'!F163","v":0}]
[null,4959,{"$f":"'17'!C164","v":0},{"$f":"'17'!D164","v":0},{"$f":"'17'!E164","v":0},{"$f":"'17'!F164","v":0}]
[null,4960,{"$f":"'17'!C165","v":0},{"$f":"'17'!D165","v":0},{"$f":"'17'!E165","v":0},{"$f":"'17'!F165","v":0}]
[null,4961,{"$f":"'17'!C166","v":0},{"$f":"'17'!D166","v":0},{"$f":"'17'!E166","v":0},{"$f":"'17'!F166","v":0}]
[null,4962,{"$f":"'17'!C167","v":0},{"$f":"'17'!D167","v":0},{"$f":"'17'!E167","v":0},{"$f":"'17'!F167","v":0}]
[null,4963,{"$f":"'17'!C168","v":0},{"$f":"'17'!D168","v":0},{"$f":"'17'!E168","v":0},{"$f":"'17'!F168","v":0}]
[null,4964,{"$f":"'17'!C169","v":0},{"$f":"'17'!D169","v":0},{"$f":"'17'!E169","v":0},{"$f":"'17'!F169","v":0}]
[null,4965,{"$f":"'17'!C170","v":0},{"$f":"'17'!D170","v":0},{"$f":"'17'!E170","v":0},{"$f":"'17'!F170","v":0}]
[null,4966,{"$f":"'17'!C171","v":0},{"$f":"'17'!D171","v":0},{"$f":"'17'!E171","v":0},{"$f":"'17'!F171","v":0}]
[null,4967,{"$f":"'17'!C172","v":0},{"$f":"'17'!D172","v":0},{"$f":"'17'!E172","v":0},{"$f":"'17'!F172","v":0}]
[null,4968,{"$f":"'17'!C173","v":0},{"$f":"'17'!D173","v":0},{"$f":"'17'!E173","v":0},{"$f":"'17'!F173","v":0}]
[null,4969,{"$f":"'17'!C174","v":0},{"$f":"'17'!D174","v":0},{"$f":"'17'!E174","v":0},{"$f":"'17'!F174","v":0}]
[null,4970,{"$f":"'17'!C175","v":0},{"$f":"'17'!D175","v":0},{"$f":"'17'!E175","v":0},{"$f":"'17'!F175","v":0}]
[null,4971,{"$f":"'17'!C176","v":0},{"$f":"'17'!D176","v":0},{"$f":"'17'!E176","v":0},{"$f":"'17'!F176","v":0}]
[null,4972,{"$f":"'17'!C177","v":0},{"$f":"'17'!D177","v":0},{"$f":"'17'!E177","v":0},{"$f":"'17'!F177","v":0}]
[null,4973,{"$f":"'17'!C178","v":0},{"$f":"'17'!D178","v":0},{"$f":"'17'!E178","v":0},{"$f":"'17'!F178","v":0}]
[null,4974,{"$f":"'17'!C179","v":0},{"$f":"'17'!D179","v":0},{"$f":"'17'!E179","v":0},{"$f":"'17'!F179","v":0}]
[null,4975,{"$f":"'17'!C180","v":0},{"$f":"'17'!D180","v":0},{"$f":"'17'!E180","v":0},{"$f":"'17'!F180","v":0}]
[null,4976,{"$f":"'17'!C181","v":0},{"$f":"'17'!D181","v":0},{"$f":"'17'!E181","v":0},{"$f":"'17'!F181","v":0}]
[null,4977,{"$f":"'17'!C182","v":0},{"$f":"'17'!D182","v":0},{"$f":"'17'!E182","v":0},{"$f":"'17'!F182","v":0}]
[null,4978,{"$f":"'17'!C183","v":0},{"$f":"'17'!D183","v":0},{"$f":"'17'!E183","v":0},{"$f":"'17'!F183","v":0}]
[null,4979,{"$f":"'17'!C184","v":0},{"$f":"'17'!D184","v":0},{"$f":"'17'!E184","v":0},{"$f":"'17'!F184","v":0}]
[null,4980,{"$f":"'17'!C185","v":0},{"$f":"'17'!D185","v":0},{"$f":"'17'!E185","v":0},{"$f":"'17'!F185","v":0}]
[null,4981,{"$f":"'17'!C186","v":0},{"$f":"'17'!D186","v":0},{"$f":"'17'!E186","v":0},{"$f":"'17'!F186","v":0}]
[null,4982,{"$f":"'17'!C187","v":0},{"$f":"'17'!D187","v":0},{"$f":"'17'!E187","v":0},{"$f":"'17'!F187","v":0}]
[null,4983,{"$f":"'17'!C188","v":0},{"$f":"'17'!D188","v":0},{"$f":"'17'!E188","v":0},{"$f":"'17'!F188","v":0}]
[null,4984,{"$f":"'17'!C189","v":0},{"$f":"'17'!D189","v":0},{"$f":"'17'!E189","v":0},{"$f":"'17'!F189","v":0}]
[null,4985,{"$f":"'17'!C190","v":0},{"$f":"'17'!D190","v":0},{"$f":"'17'!E190","v":0},{"$f":"'17'!F190","v":0}]
[null,4986,{"$f":"'17'!C191","v":0},{"$f":"'17'!D191","v":0},{"$f":"'17'!E191","v":0},{"$f":"'17'!F191","v":0}]
[null,4987,{"$f":"'17'!C192","v":0},{"$f":"'17'!D192","v":0},{"$f":"'17'!E192","v":0},{"$f":"'17'!F192","v":0}]
[null,4988,{"$f":"'17'!C193","v":0},{"$f":"'17'!D193","v":0},{"$f":"'17'!E193","v":0},{"$f":"'17'!F193","v":0}]
[null,4989,{"$f":"'17'!C194","v":0},{"$f":"'17'!D194","v":0},{"$f":"'17'!E194","v":0},{"$f":"'17'!F194","v":0}]
[null,4990,{"$f":"'17'!C195","v":0},{"$f":"'17'!D195","v":0},{"$f":"'17'!E195","v":0},{"$f":"'17'!F195","v":0}]
[null,4991,{"$f":"'17'!C196","v":0},{"$f":"'17'!D196","v":0},{"$f":"'17'!E196","v":0},{"$f":"'17'!F196","v":0}]
[null,4992,{"$f":"'17'!C197","v":0},{"$f":"'17'!D197","v":0},{"$f":"'17'!E197","v":0},{"$f":"'17'!F197","v":0}]
[null,4993,{"$f":"'17'!C198","v":0},{"$f":"'17'!D198","v":0},{"$f":"'17'!E198","v":0},{"$f":"'17'!F198","v":0}]
[null,4994,{"$f":"'17'!C199","v":0},{"$f":"'17'!D199","v":0},{"$f":"'17'!E199","v":0},{"$f":"'17'!F199","v":0}]
[null,4995,{"$f":"'17'!C200","v":0},{"$f":"'17'!D200","v":0},{"$f":"'17'!E200","v":0},{"$f":"'17'!F200","v":0}]
[null,4996,{"$f":"'17'!C201","v":0},{"$f":"'17'!D201","v":0},{"$f":"'17'!E201","v":0},{"$f":"'17'!F201","v":0}]
[null,4997,{"$f":"'17'!C202","v":0},{"$f":"'17'!D202","v":0},{"$f":"'17'!E202","v":0},{"$f":"'17'!F202","v":0}]
[null,4998,{"$f":"'17'!C203","v":0},{"$f":"'17'!D203","v":0},{"$f":"'17'!E203","v":0},{"$f":"'17'!F203","v":0}]
[null,4999,{"$f":"'17'!C204","v":0},{"$f":"'17'!D204","v":0},{"$f":"'17'!E204","v":0},{"$f":"'17'!F204","v":0}]
[null,5000,{"$f":"'17'!C205","v":0},{"$f":"'17'!D205","v":0},{"$f":"'17'!E205","v":0},{"$f":"'17'!F205","v":0}]
[null,5001,{"$f":"'17'!C206","v":0},{"$f":"'17'!D206","v":0},{"$f":"'17'!E206","v":0},{"$f":"'17'!F206","v":0}]
[null,5002,{"$f":"'17'!C207","v":0},{"$f":"'17'!D207","v":0},{"$f":"'17'!E207","v":0},{"$f":"'17'!F207","v":0}]
[null,5003,{"$f":"'17'!C208","v":0},{"$f":"'17'!D208","v":0},{"$f":"'17'!E208","v":0},{"$f":"'17'!F208","v":0}]
[null,5004,{"$f":"'17'!C209","v":0},{"$f":"'17'!D209","v":0},{"$f":"'17'!E209","v":0},{"$f":"'17'!F209","v":0}]
[null,5005,{"$f":"'17'!C210","v":0},{"$f":"'17'!D210","v":0},{"$f":"'17'!E210","v":0},{"$f":"'17'!F210","v":0}]
[null,5006,{"$f":"'17'!C211","v":0},{"$f":"'17'!D211","v":0},{"$f":"'17'!E211","v":0},{"$f":"'17'!F211","v":0}]
[null,5007,{"$f":"'17'!C212","v":0},{"$f":"'17'!D212","v":0},{"$f":"'17'!E212","v":0},{"$f":"'17'!F212","v":0}]
[null,5008,{"$f":"'17'!C213","v":0},{"$f":"'17'!D213","v":0},{"$f":"'17'!E213","v":0},{"$f":"'17'!F213","v":0}]
[null,5009,{"$f":"'17'!C214","v":0},{"$f":"'17'!D214","v":0},{"$f":"'17'!E214","v":0},{"$f":"'17'!F214","v":0}]
[null,5010,{"$f":"'17'!C215","v":0},{"$f":"'17'!D215","v":0},{"$f":"'17'!E215","v":0},{"$f":"'17'!F215","v":0}]
[null,5011,{"$f":"'17'!C216","v":0},{"$f":"'17'!D216","v":0},{"$f":"'17'!E216","v":0},{"$f":"'17'!F216","v":0}]
[null,5012,{"$f":"'17'!C217","v":0},{"$f":"'17'!D217","v":0},{"$f":"'17'!E217","v":0},{"$f":"'17'!F217","v":0}]
[null,5013,{"$f":"'17'!C218","v":0},{"$f":"'17'!D218","v":0},{"$f":"'17'!E218","v":0},{"$f":"'17'!F218","v":0}]
[null,5014,{"$f":"'17'!C219","v":0},{"$f":"'17'!D219","v":0},{"$f":"'17'!E219","v":0},{"$f":"'17'!F219","v":0}]
[null,5015,{"$f":"'17'!C220","v":0},{"$f":"'17'!D220","v":0},{"$f":"'17'!E220","v":0},{"$f":"'17'!F220","v":0}]
[null,5016,{"$f":"'17'!C221","v":0},{"$f":"'17'!D221","v":0},{"$f":"'17'!E221","v":0},{"$f":"'17'!F221","v":0}]
[null,5017,{"$f":"'17'!C222","v":0},{"$f":"'17'!D222","v":0},{"$f":"'17'!E222","v":0},{"$f":"'17'!F222","v":0}]
[null,5018,{"$f":"'17'!C223","v":0},{"$f":"'17'!D223","v":0},{"$f":"'17'!E223","v":0},{"$f":"'17'!F223","v":0}]
[null,5019,{"$f":"'17'!C224","v":0},{"$f":"'17'!D224","v":0},{"$f":"'17'!E224","v":0},{"$f":"'17'!F224","v":0}]
[null,5020,{"$f":"'17'!C225","v":0},{"$f":"'17'!D225","v":0},{"$f":"'17'!E225","v":0},{"$f":"'17'!F225","v":0}]
[null,5021,{"$f":"'17'!C226","v":0},{"$f":"'17'!D226","v":0},{"$f":"'17'!E226","v":0},{"$f":"'17'!F226","v":0}]
[null,5022,{"$f":"'17'!C227","v":0},{"$f":"'17'!D227","v":0},{"$f":"'17'!E227","v":0},{"$f":"'17'!F227","v":0}]
[null,5023,{"$f":"'17'!C228","v":0},{"$f":"'17'!D228","v":0},{"$f":"'17'!E228","v":0},{"$f":"'17'!F228","v":0}]
[null,5024,{"$f":"'17'!C229","v":0},{"$f":"'17'!D229","v":0},{"$f":"'17'!E229","v":0},{"$f":"'17'!F229","v":0}]
[null,5025,{"$f":"'17'!C230","v":0},{"$f":"'17'!D230","v":0},{"$f":"'17'!E230","v":0},{"$f":"'17'!F230","v":0}]
[null,5026,{"$f":"'17'!C231","v":0},{"$f":"'17'!D231","v":0},{"$f":"'17'!E231","v":0},{"$f":"'17'!F231","v":0}]
[null,5027,{"$f":"'17'!C232","v":0},{"$f":"'17'!D232","v":0},{"$f":"'17'!E232","v":0},{"$f":"'17'!F232","v":0}]
[null,5028,{"$f":"'17'!C233","v":0},{"$f":"'17'!D233","v":0},{"$f":"'17'!E233","v":0},{"$f":"'17'!F233","v":0}]
[null,5029,{"$f":"'17'!C234","v":0},{"$f":"'17'!D234","v":0},{"$f":"'17'!E234","v":0},{"$f":"'17'!F234","v":0}]
[null,5030,{"$f":"'17'!C235","v":0},{"$f":"'17'!D235","v":0},{"$f":"'17'!E235","v":0},{"$f":"'17'!F235","v":0}]
[null,5031,{"$f":"'17'!C236","v":0},{"$f":"'17'!D236","v":0},{"$f":"'17'!E236","v":0},{"$f":"'17'!F236","v":0}]
[null,5032,{"$f":"'17'!C237","v":0},{"$f":"'17'!D237","v":0},{"$f":"'17'!E237","v":0},{"$f":"'17'!F237","v":0}]
[null,5033,{"$f":"'17'!C238","v":0},{"$f":"'17'!D238","v":0},{"$f":"'17'!E238","v":0},{"$f":"'17'!F238","v":0}]
[null,5034,{"$f":"'17'!C239","v":0},{"$f":"'17'!D239","v":0},{"$f":"'17'!E239","v":0},{"$f":"'17'!F239","v":0}]
[null,5035,{"$f":"'17'!C240","v":0},{"$f":"'17'!D240","v":0},{"$f":"'17'!E240","v":0},{"$f":"'17'!F240","v":0}]
[null,5036,{"$f":"'17'!C241","v":0},{"$f":"'17'!D241","v":0},{"$f":"'17'!E241","v":0},{"$f":"'17'!F241","v":0}]
[null,5037,{"$f":"'17'!C242","v":0},{"$f":"'17'!D242","v":0},{"$f":"'17'!E242","v":0},{"$f":"'17'!F242","v":0}]
[null,5038,{"$f":"'17'!C243","v":0},{"$f":"'17'!D243","v":0},{"$f":"'17'!E243","v":0},{"$f":"'17'!F243","v":0}]
[null,5039,{"$f":"'17'!C244","v":0},{"$f":"'17'!D244","v":0},{"$f":"'17'!E244","v":0},{"$f":"'17'!F244","v":0}]
[null,5040,{"$f":"'17'!C245","v":0},{"$f":"'17'!D245","v":0},{"$f":"'17'!E245","v":0},{"$f":"'17'!F245","v":0}]
[null,5041,{"$f":"'17'!C246","v":0},{"$f":"'17'!D246","v":0},{"$f":"'17'!E246","v":0},{"$f":"'17'!F246","v":0}]
[null,5042,{"$f":"'17'!C247","v":0},{"$f":"'17'!D247","v":0},{"$f":"'17'!E247","v":0},{"$f":"'17'!F247","v":0}]
[null,5043,{"$f":"'17'!C248","v":0},{"$f":"'17'!D248","v":0},{"$f":"'17'!E248","v":0},{"$f":"'17'!F248","v":0}]
[null,5044,{"$f":"'17'!C249","v":0},{"$f":"'17'!D249","v":0},{"$f":"'17'!E249","v":0},{"$f":"'17'!F249","v":0}]
[null,5045,{"$f":"'17'!C250","v":0},{"$f":"'17'!D250","v":0},{"$f":"'17'!E250","v":0},{"$f":"'17'!F250","v":0}]
[null,5046,{"$f":"'17'!C251","v":0},{"$f":"'17'!D251","v":0},{"$f":"'17'!E251","v":0},{"$f":"'17'!F251","v":0}]
[null,5047,{"$f":"'17'!C252","v":0},{"$f":"'17'!D252","v":0},{"$f":"'17'!E252","v":0},{"$f":"'17'!F252","v":0}]
[null,5048,{"$f":"'17'!C253","v":0},{"$f":"'17'!D253","v":0},{"$f":"'17'!E253","v":0},{"$f":"'17'!F253","v":0}]
[null,5049,{"$f":"'17'!C254","v":0},{"$f":"'17'!D254","v":0},{"$f":"'17'!E254","v":0},{"$f":"'17'!F254","v":0}]
[null,5050,{"$f":"'17'!C255","v":0},{"$f":"'17'!D255","v":0},{"$f":"'17'!E255","v":0},{"$f":"'17'!F255","v":0}]
[null,5051,{"$f":"'17'!C256","v":0},{"$f":"'17'!D256","v":0},{"$f":"'17'!E256","v":0},{"$f":"'17'!F256","v":0}]
[null,5052,{"$f":"'17'!C257","v":0},{"$f":"'17'!D257","v":0},{"$f":"'17'!E257","v":0},{"$f":"'17'!F257","v":0}]
[null,5053,{"$f":"'17'!C258","v":0},{"$f":"'17'!D258","v":0},{"$f":"'17'!E258","v":0},{"$f":"'17'!F258","v":0}]
[null,5054,{"$f":"'17'!C259","v":0},{"$f":"'17'!D259","v":0},{"$f":"'17'!E259","v":0},{"$f":"'17'!F259","v":0}]
[null,5055,{"$f":"'17'!C260","v":0},{"$f":"'17'!D260","v":0},{"$f":"'17'!E260","v":0},{"$f":"'17'!F260","v":0}]
[null,5056,{"$f":"'17'!C261","v":0},{"$f":"'17'!D261","v":0},{"$f":"'17'!E261","v":0},{"$f":"'17'!F261","v":0}]
[null,5057,{"$f":"'17'!C262","v":0},{"$f":"'17'!D262","v":0},{"$f":"'17'!E262","v":0},{"$f":"'17'!F262","v":0}]
[null,5058,{"$f":"'17'!C263","v":0},{"$f":"'17'!D263","v":0},{"$f":"'17'!E263","v":0},{"$f":"'17'!F263","v":0}]
[null,5059,{"$f":"'17'!C264","v":0},{"$f":"'17'!D264","v":0},{"$f":"'17'!E264","v":0},{"$f":"'17'!F264","v":0}]
[null,5060,{"$f":"'17'!C265","v":0},{"$f":"'17'!D265","v":0},{"$f":"'17'!E265","v":0},{"$f":"'17'!F265","v":0}]
[null,5061,{"$f":"'17'!C266","v":0},{"$f":"'17'!D266","v":0},{"$f":"'17'!E266","v":0},{"$f":"'17'!F266","v":0}]
[null,5062,{"$f":"'17'!C267","v":0},{"$f":"'17'!D267","v":0},{"$f":"'17'!E267","v":0},{"$f":"'17'!F267","v":0}]
[null,5063,{"$f":"'17'!C268","v":0},{"$f":"'17'!D268","v":0},{"$f":"'17'!E268","v":0},{"$f":"'17'!F268","v":0}]
[null,5064,{"$f":"'17'!C269","v":0},{"$f":"'17'!D269","v":0},{"$f":"'17'!E269","v":0},{"$f":"'17'!F269","v":0}]
[null,5065,{"$f":"'17'!C270","v":0},{"$f":"'17'!D270","v":0},{"$f":"'17'!E270","v":0},{"$f":"'17'!F270","v":0}]
[null,5066,{"$f":"'17'!C271","v":0},{"$f":"'17'!D271","v":0},{"$f":"'17'!E271","v":0},{"$f":"'17'!F271","v":0}]
[null,5067,{"$f":"'17'!C272","v":0},{"$f":"'17'!D272","v":0},{"$f":"'17'!E272","v":0},{"$f":"'17'!F272","v":0}]
[null,5068,{"$f":"'17'!C273","v":0},{"$f":"'17'!D273","v":0},{"$f":"'17'!E273","v":0},{"$f":"'17'!F273","v":0}]
[null,5069,{"$f":"'17'!C274","v":0},{"$f":"'17'!D274","v":0},{"$f":"'17'!E274","v":0},{"$f":"'17'!F274","v":0}]
[null,5070,{"$f":"'17'!C275","v":0},{"$f":"'17'!D275","v":0},{"$f":"'17'!E275","v":0},{"$f":"'17'!F275","v":0}]
[null,5071,{"$f":"'17'!C276","v":0},{"$f":"'17'!D276","v":0},{"$f":"'17'!E276","v":0},{"$f":"'17'!F276","v":0}]
[null,5072,{"$f":"'17'!C277","v":0},{"$f":"'17'!D277","v":0},{"$f":"'17'!E277","v":0},{"$f":"'17'!F277","v":0}]
[null,5073,{"$f":"'17'!C278","v":0},{"$f":"'17'!D278","v":0},{"$f":"'17'!E278","v":0},{"$f":"'17'!F278","v":0}]
[null,5074,{"$f":"'17'!C279","v":0},{"$f":"'17'!D279","v":0},{"$f":"'17'!E279","v":0},{"$f":"'17'!F279","v":0}]
[null,5075,{"$f":"'17'!C280","v":0},{"$f":"'17'!D280","v":0},{"$f":"'17'!E280","v":0},{"$f":"'17'!F280","v":0}]
[null,5076,{"$f":"'17'!C281","v":0},{"$f":"'17'!D281","v":0},{"$f":"'17'!E281","v":0},{"$f":"'17'!F281","v":0}]
[null,5077,{"$f":"'17'!C282","v":0},{"$f":"'17'!D282","v":0},{"$f":"'17'!E282","v":0},{"$f":"'17'!F282","v":0}]
[null,5078,{"$f":"'17'!C283","v":0},{"$f":"'17'!D283","v":0},{"$f":"'17'!E283","v":0},{"$f":"'17'!F283","v":0}]
[null,5079,{"$f":"'17'!C284","v":0},{"$f":"'17'!D284","v":0},{"$f":"'17'!E284","v":0},{"$f":"'17'!F284","v":0}]
[null,5080,{"$f":"'17'!C285","v":0},{"$f":"'17'!D285","v":0},{"$f":"'17'!E285","v":0},{"$f":"'17'!F285","v":0}]
[null,5081,{"$f":"'17'!C286","v":0},{"$f":"'17'!D286","v":0},{"$f":"'17'!E286","v":0},{"$f":"'17'!F286","v":0}]
[null,5082,{"$f":"'17'!C287","v":0},{"$f":"'17'!D287","v":0},{"$f":"'17'!E287","v":0},{"$f":"'17'!F287","v":0}]
[null,5083,{"$f":"'17'!C288","v":0},{"$f":"'17'!D288","v":0},{"$f":"'17'!E288","v":0},{"$f":"'17'!F288","v":0}]
[null,5084,{"$f":"'17'!C289","v":0},{"$f":"'17'!D289","v":0},{"$f":"'17'!E289","v":0},{"$f":"'17'!F289","v":0}]
[null,5085,{"$f":"'17'!C290","v":0},{"$f":"'17'!D290","v":0},{"$f":"'17'!E290","v":0},{"$f":"'17'!F290","v":0}]
[null,5086,{"$f":"'17'!C291","v":0},{"$f":"'17'!D291","v":0},{"$f":"'17'!E291","v":0},{"$f":"'17'!F291","v":0}]
[null,5087,{"$f":"'17'!C292","v":0},{"$f":"'17'!D292","v":0},{"$f":"'17'!E292","v":0},{"$f":"'17'!F292","v":0}]
[null,5088,{"$f":"'17'!C293","v":0},{"$f":"'17'!D293","v":0},{"$f":"'17'!E293","v":0},{"$f":"'17'!F293","v":0}]
[null,5089,{"$f":"'17'!C294","v":0},{"$f":"'17'!D294","v":0},{"$f":"'17'!E294","v":0},{"$f":"'17'!F294","v":0}]
[null,5090,{"$f":"'17'!C295","v":0},{"$f":"'17'!D295","v":0},{"$f":"'17'!E295","v":0},{"$f":"'17'!F295","v":0}]
[null,5091,{"$f":"'17'!C296","v":0},{"$f":"'17'!D296","v":0},{"$f":"'17'!E296","v":0},{"$f":"'17'!F296","v":0}]
[null,5092,{"$f":"'17'!C297","v":0},{"$f":"'17'!D297","v":0},{"$f":"'17'!E297","v":0},{"$f":"'17'!F297","v":0}]
[null,5093,{"$f":"'17'!C298","v":0},{"$f":"'17'!D298","v":0},{"$f":"'17'!E298","v":0},{"$f":"'17'!F298","v":0}]
[null,5094,{"$f":"'17'!C299","v":0},{"$f":"'17'!D299","v":0},{"$f":"'17'!E299","v":0},{"$f":"'17'!F299","v":0}]
[null,5095,{"$f":"'17'!C300","v":0},{"$f":"'17'!D300","v":0},{"$f":"'17'!E300","v":0},{"$f":"'17'!F300","v":0}]
[null,5096,{"$f":"'17'!C301","v":0},{"$f":"'17'!D301","v":0},{"$f":"'17'!E301","v":0},{"$f":"'17'!F301","v":0}]
[null,5097,{"$f":"'17'!C302","v":0},{"$f":"'17'!D302","v":0},{"$f":"'17'!E302","v":0},{"$f":"'17'!F302","v":0}]
[null,5098,{"$f":"'17'!C303","v":0},{"$f":"'17'!D303","v":0},{"$f":"'17'!E303","v":0},{"$f":"'17'!F303","v":0}]
[null,5099,{"$f":"'17'!C304","v":0},{"$f":"'17'!D304","v":0},{"$f":"'17'!E304","v":0},{"$f":"'17'!F304","v":0}]
[null,5100,{"$f":"'17'!C305","v":0},{"$f":"'17'!D305","v":0},{"$f":"'17'!E305","v":0},{"$f":"'17'!F305","v":0}]
[null,5101,{"$f":"'18'!C6","v":0},{"$f":"'18'!D6","v":0},{"$f":"'18'!E6","v":0},{"$f":"'18'!F6","v":0}]
[null,5102,{"$f":"'18'!C7","v":0},{"$f":"'18'!D7","v":0},{"$f":"'18'!E7","v":0},{"$f":"'18'!F7","v":0}]
[null,5103,{"$f":"'18'!C8","v":0},{"$f":"'18'!D8","v":0},{"$f":"'18'!E8","v":0},{"$f":"'18'!F8","v":0}]
[null,5104,{"$f":"'18'!C9","v":0},{"$f":"'18'!D9","v":0},{"$f":"'18'!E9","v":0},{"$f":"'18'!F9","v":0}]
[null,5105,{"$f":"'18'!C10","v":0},{"$f":"'18'!D10","v":0},{"$f":"'18'!E10","v":0},{"$f":"'18'!F10","v":0}]
[null,5106,{"$f":"'18'!C11","v":0},{"$f":"'18'!D11","v":0},{"$f":"'18'!E11","v":0},{"$f":"'18'!F11","v":0}]
[null,5107,{"$f":"'18'!C12","v":0},{"$f":"'18'!D12","v":0},{"$f":"'18'!E12","v":0},{"$f":"'18'!F12","v":0}]
[null,5108,{"$f":"'18'!C13","v":0},{"$f":"'18'!D13","v":0},{"$f":"'18'!E13","v":0},{"$f":"'18'!F13","v":0}]
[null,5109,{"$f":"'18'!C14","v":0},{"$f":"'18'!D14","v":0},{"$f":"'18'!E14","v":0},{"$f":"'18'!F14","v":0}]
[null,5110,{"$f":"'18'!C15","v":0},{"$f":"'18'!D15","v":0},{"$f":"'18'!E15","v":0},{"$f":"'18'!F15","v":0}]
[null,5111,{"$f":"'18'!C16","v":0},{"$f":"'18'!D16","v":0},{"$f":"'18'!E16","v":0},{"$f":"'18'!F16","v":0}]
[null,5112,{"$f":"'18'!C17","v":0},{"$f":"'18'!D17","v":0},{"$f":"'18'!E17","v":0},{"$f":"'18'!F17","v":0}]
[null,5113,{"$f":"'18'!C18","v":0},{"$f":"'18'!D18","v":0},{"$f":"'18'!E18","v":0},{"$f":"'18'!F18","v":0}]
[null,5114,{"$f":"'18'!C19","v":0},{"$f":"'18'!D19","v":0},{"$f":"'18'!E19","v":0},{"$f":"'18'!F19","v":0}]
[null,5115,{"$f":"'18'!C20","v":0},{"$f":"'18'!D20","v":0},{"$f":"'18'!E20","v":0},{"$f":"'18'!F20","v":0}]
[null,5116,{"$f":"'18'!C21","v":0},{"$f":"'18'!D21","v":0},{"$f":"'18'!E21","v":0},{"$f":"'18'!F21","v":0}]
[null,5117,{"$f":"'18'!C22","v":0},{"$f":"'18'!D22","v":0},{"$f":"'18'!E22","v":0},{"$f":"'18'!F22","v":0}]
[null,5118,{"$f":"'18'!C23","v":0},{"$f":"'18'!D23","v":0},{"$f":"'18'!E23","v":0},{"$f":"'18'!F23","v":0}]
[null,5119,{"$f":"'18'!C24","v":0},{"$f":"'18'!D24","v":0},{"$f":"'18'!E24","v":0},{"$f":"'18'!F24","v":0}]
[null,5120,{"$f":"'18'!C25","v":0},{"$f":"'18'!D25","v":0},{"$f":"'18'!E25","v":0},{"$f":"'18'!F25","v":0}]
[null,5121,{"$f":"'18'!C26","v":0},{"$f":"'18'!D26","v":0},{"$f":"'18'!E26","v":0},{"$f":"'18'!F26","v":0}]
[null,5122,{"$f":"'18'!C27","v":0},{"$f":"'18'!D27","v":0},{"$f":"'18'!E27","v":0},{"$f":"'18'!F27","v":0}]
[null,5123,{"$f":"'18'!C28","v":0},{"$f":"'18'!D28","v":0},{"$f":"'18'!E28","v":0},{"$f":"'18'!F28","v":0}]
[null,5124,{"$f":"'18'!C29","v":0},{"$f":"'18'!D29","v":0},{"$f":"'18'!E29","v":0},{"$f":"'18'!F29","v":0}]
[null,5125,{"$f":"'18'!C30","v":0},{"$f":"'18'!D30","v":0},{"$f":"'18'!E30","v":0},{"$f":"'18'!F30","v":0}]
[null,5126,{"$f":"'18'!C31","v":0},{"$f":"'18'!D31","v":0},{"$f":"'18'!E31","v":0},{"$f":"'18'!F31","v":0}]
[null,5127,{"$f":"'18'!C32","v":0},{"$f":"'18'!D32","v":0},{"$f":"'18'!E32","v":0},{"$f":"'18'!F32","v":0}]
[null,5128,{"$f":"'18'!C33","v":0},{"$f":"'18'!D33","v":0},{"$f":"'18'!E33","v":0},{"$f":"'18'!F33","v":0}]
[null,5129,{"$f":"'18'!C34","v":0},{"$f":"'18'!D34","v":0},{"$f":"'18'!E34","v":0},{"$f":"'18'!F34","v":0}]
[null,5130,{"$f":"'18'!C35","v":0},{"$f":"'18'!D35","v":0},{"$f":"'18'!E35","v":0},{"$f":"'18'!F35","v":0}]
[null,5131,{"$f":"'18'!C36","v":0},{"$f":"'18'!D36","v":0},{"$f":"'18'!E36","v":0},{"$f":"'18'!F36","v":0}]
[null,5132,{"$f":"'18'!C37","v":0},{"$f":"'18'!D37","v":0},{"$f":"'18'!E37","v":0},{"$f":"'18'!F37","v":0}]
[null,5133,{"$f":"'18'!C38","v":0},{"$f":"'18'!D38","v":0},{"$f":"'18'!E38","v":0},{"$f":"'18'!F38","v":0}]
[null,5134,{"$f":"'18'!C39","v":0},{"$f":"'18'!D39","v":0},{"$f":"'18'!E39","v":0},{"$f":"'18'!F39","v":0}]
[null,5135,{"$f":"'18'!C40","v":0},{"$f":"'18'!D40","v":0},{"$f":"'18'!E40","v":0},{"$f":"'18'!F40","v":0}]
[null,5136,{"$f":"'18'!C41","v":0},{"$f":"'18'!D41","v":0},{"$f":"'18'!E41","v":0},{"$f":"'18'!F41","v":0}]
[null,5137,{"$f":"'18'!C42","v":0},{"$f":"'18'!D42","v":0},{"$f":"'18'!E42","v":0},{"$f":"'18'!F42","v":0}]
[null,5138,{"$f":"'18'!C43","v":0},{"$f":"'18'!D43","v":0},{"$f":"'18'!E43","v":0},{"$f":"'18'!F43","v":0}]
[null,5139,{"$f":"'18'!C44","v":0},{"$f":"'18'!D44","v":0},{"$f":"'18'!E44","v":0},{"$f":"'18'!F44","v":0}]
[null,5140,{"$f":"'18'!C45","v":0},{"$f":"'18'!D45","v":0},{"$f":"'18'!E45","v":0},{"$f":"'18'!F45","v":0}]
[null,5141,{"$f":"'18'!C46","v":0},{"$f":"'18'!D46","v":0},{"$f":"'18'!E46","v":0},{"$f":"'18'!F46","v":0}]
[null,5142,{"$f":"'18'!C47","v":0},{"$f":"'18'!D47","v":0},{"$f":"'18'!E47","v":0},{"$f":"'18'!F47","v":0}]
[null,5143,{"$f":"'18'!C48","v":0},{"$f":"'18'!D48","v":0},{"$f":"'18'!E48","v":0},{"$f":"'18'!F48","v":0}]
[null,5144,{"$f":"'18'!C49","v":0},{"$f":"'18'!D49","v":0},{"$f":"'18'!E49","v":0},{"$f":"'18'!F49","v":0}]
[null,5145,{"$f":"'18'!C50","v":0},{"$f":"'18'!D50","v":0},{"$f":"'18'!E50","v":0},{"$f":"'18'!F50","v":0}]
[null,5146,{"$f":"'18'!C51","v":0},{"$f":"'18'!D51","v":0},{"$f":"'18'!E51","v":0},{"$f":"'18'!F51","v":0}]
[null,5147,{"$f":"'18'!C52","v":0},{"$f":"'18'!D52","v":0},{"$f":"'18'!E52","v":0},{"$f":"'18'!F52","v":0}]
[null,5148,{"$f":"'18'!C53","v":0},{"$f":"'18'!D53","v":0},{"$f":"'18'!E53","v":0},{"$f":"'18'!F53","v":0}]
[null,5149,{"$f":"'18'!C54","v":0},{"$f":"'18'!D54","v":0},{"$f":"'18'!E54","v":0},{"$f":"'18'!F54","v":0}]
[null,5150,{"$f":"'18'!C55","v":0},{"$f":"'18'!D55","v":0},{"$f":"'18'!E55","v":0},{"$f":"'18'!F55","v":0}]
[null,5151,{"$f":"'18'!C56","v":0},{"$f":"'18'!D56","v":0},{"$f":"'18'!E56","v":0},{"$f":"'18'!F56","v":0}]
[null,5152,{"$f":"'18'!C57","v":0},{"$f":"'18'!D57","v":0},{"$f":"'18'!E57","v":0},{"$f":"'18'!F57","v":0}]
[null,5153,{"$f":"'18'!C58","v":0},{"$f":"'18'!D58","v":0},{"$f":"'18'!E58","v":0},{"$f":"'18'!F58","v":0}]
[null,5154,{"$f":"'18'!C59","v":0},{"$f":"'18'!D59","v":0},{"$f":"'18'!E59","v":0},{"$f":"'18'!F59","v":0}]
[null,5155,{"$f":"'18'!C60","v":0},{"$f":"'18'!D60","v":0},{"$f":"'18'!E60","v":0},{"$f":"'18'!F60","v":0}]
[null,5156,{"$f":"'18'!C61","v":0},{"$f":"'18'!D61","v":0},{"$f":"'18'!E61","v":0},{"$f":"'18'!F61","v":0}]
[null,5157,{"$f":"'18'!C62","v":0},{"$f":"'18'!D62","v":0},{"$f":"'18'!E62","v":0},{"$f":"'18'!F62","v":0}]
[null,5158,{"$f":"'18'!C63","v":0},{"$f":"'18'!D63","v":0},{"$f":"'18'!E63","v":0},{"$f":"'18'!F63","v":0}]
[null,5159,{"$f":"'18'!C64","v":0},{"$f":"'18'!D64","v":0},{"$f":"'18'!E64","v":0},{"$f":"'18'!F64","v":0}]
[null,5160,{"$f":"'18'!C65","v":0},{"$f":"'18'!D65","v":0},{"$f":"'18'!E65","v":0},{"$f":"'18'!F65","v":0}]
[null,5161,{"$f":"'18'!C66","v":0},{"$f":"'18'!D66","v":0},{"$f":"'18'!E66","v":0},{"$f":"'18'!F66","v":0}]
[null,5162,{"$f":"'18'!C67","v":0},{"$f":"'18'!D67","v":0},{"$f":"'18'!E67","v":0},{"$f":"'18'!F67","v":0}]
[null,5163,{"$f":"'18'!C68","v":0},{"$f":"'18'!D68","v":0},{"$f":"'18'!E68","v":0},{"$f":"'18'!F68","v":0}]
[null,5164,{"$f":"'18'!C69","v":0},{"$f":"'18'!D69","v":0},{"$f":"'18'!E69","v":0},{"$f":"'18'!F69","v":0}]
[null,5165,{"$f":"'18'!C70","v":0},{"$f":"'18'!D70","v":0},{"$f":"'18'!E70","v":0},{"$f":"'18'!F70","v":0}]
[null,5166,{"$f":"'18'!C71","v":0},{"$f":"'18'!D71","v":0},{"$f":"'18'!E71","v":0},{"$f":"'18'!F71","v":0}]
[null,5167,{"$f":"'18'!C72","v":0},{"$f":"'18'!D72","v":0},{"$f":"'18'!E72","v":0},{"$f":"'18'!F72","v":0}]
[null,5168,{"$f":"'18'!C73","v":0},{"$f":"'18'!D73","v":0},{"$f":"'18'!E73","v":0},{"$f":"'18'!F73","v":0}]
[null,5169,{"$f":"'18'!C74","v":0},{"$f":"'18'!D74","v":0},{"$f":"'18'!E74","v":0},{"$f":"'18'!F74","v":0}]
[null,5170,{"$f":"'18'!C75","v":0},{"$f":"'18'!D75","v":0},{"$f":"'18'!E75","v":0},{"$f":"'18'!F75","v":0}]
[null,5171,{"$f":"'18'!C76","v":0},{"$f":"'18'!D76","v":0},{"$f":"'18'!E76","v":0},{"$f":"'18'!F76","v":0}]
[null,5172,{"$f":"'18'!C77","v":0},{"$f":"'18'!D77","v":0},{"$f":"'18'!E77","v":0},{"$f":"'18'!F77","v":0}]
[null,5173,{"$f":"'18'!C78","v":0},{"$f":"'18'!D78","v":0},{"$f":"'18'!E78","v":0},{"$f":"'18'!F78","v":0}]
[null,5174,{"$f":"'18'!C79","v":0},{"$f":"'18'!D79","v":0},{"$f":"'18'!E79","v":0},{"$f":"'18'!F79","v":0}]
[null,5175,{"$f":"'18'!C80","v":0},{"$f":"'18'!D80","v":0},{"$f":"'18'!E80","v":0},{"$f":"'18'!F80","v":0}]
[null,5176,{"$f":"'18'!C81","v":0},{"$f":"'18'!D81","v":0},{"$f":"'18'!E81","v":0},{"$f":"'18'!F81","v":0}]
[null,5177,{"$f":"'18'!C82","v":0},{"$f":"'18'!D82","v":0},{"$f":"'18'!E82","v":0},{"$f":"'18'!F82","v":0}]
[null,5178,{"$f":"'18'!C83","v":0},{"$f":"'18'!D83","v":0},{"$f":"'18'!E83","v":0},{"$f":"'18'!F83","v":0}]
[null,5179,{"$f":"'18'!C84","v":0},{"$f":"'18'!D84","v":0},{"$f":"'18'!E84","v":0},{"$f":"'18'!F84","v":0}]
[null,5180,{"$f":"'18'!C85","v":0},{"$f":"'18'!D85","v":0},{"$f":"'18'!E85","v":0},{"$f":"'18'!F85","v":0}]
[null,5181,{"$f":"'18'!C86","v":0},{"$f":"'18'!D86","v":0},{"$f":"'18'!E86","v":0},{"$f":"'18'!F86","v":0}]
[null,5182,{"$f":"'18'!C87","v":0},{"$f":"'18'!D87","v":0},{"$f":"'18'!E87","v":0},{"$f":"'18'!F87","v":0}]
[null,5183,{"$f":"'18'!C88","v":0},{"$f":"'18'!D88","v":0},{"$f":"'18'!E88","v":0},{"$f":"'18'!F88","v":0}]
[null,5184,{"$f":"'18'!C89","v":0},{"$f":"'18'!D89","v":0},{"$f":"'18'!E89","v":0},{"$f":"'18'!F89","v":0}]
[null,5185,{"$f":"'18'!C90","v":0},{"$f":"'18'!D90","v":0},{"$f":"'18'!E90","v":0},{"$f":"'18'!F90","v":0}]
[null,5186,{"$f":"'18'!C91","v":0},{"$f":"'18'!D91","v":0},{"$f":"'18'!E91","v":0},{"$f":"'18'!F91","v":0}]
[null,5187,{"$f":"'18'!C92","v":0},{"$f":"'18'!D92","v":0},{"$f":"'18'!E92","v":0},{"$f":"'18'!F92","v":0}]
[null,5188,{"$f":"'18'!C93","v":0},{"$f":"'18'!D93","v":0},{"$f":"'18'!E93","v":0},{"$f":"'18'!F93","v":0}]
[null,5189,{"$f":"'18'!C94","v":0},{"$f":"'18'!D94","v":0},{"$f":"'18'!E94","v":0},{"$f":"'18'!F94","v":0}]
[null,5190,{"$f":"'18'!C95","v":0},{"$f":"'18'!D95","v":0},{"$f":"'18'!E95","v":0},{"$f":"'18'!F95","v":0}]
[null,5191,{"$f":"'18'!C96","v":0},{"$f":"'18'!D96","v":0},{"$f":"'18'!E96","v":0},{"$f":"'18'!F96","v":0}]
[null,5192,{"$f":"'18'!C97","v":0},{"$f":"'18'!D97","v":0},{"$f":"'18'!E97","v":0},{"$f":"'18'!F97","v":0}]
[null,5193,{"$f":"'18'!C98","v":0},{"$f":"'18'!D98","v":0},{"$f":"'18'!E98","v":0},{"$f":"'18'!F98","v":0}]
[null,5194,{"$f":"'18'!C99","v":0},{"$f":"'18'!D99","v":0},{"$f":"'18'!E99","v":0},{"$f":"'18'!F99","v":0}]
[null,5195,{"$f":"'18'!C100","v":0},{"$f":"'18'!D100","v":0},{"$f":"'18'!E100","v":0},{"$f":"'18'!F100","v":0}]
[null,5196,{"$f":"'18'!C101","v":0},{"$f":"'18'!D101","v":0},{"$f":"'18'!E101","v":0},{"$f":"'18'!F101","v":0}]
[null,5197,{"$f":"'18'!C102","v":0},{"$f":"'18'!D102","v":0},{"$f":"'18'!E102","v":0},{"$f":"'18'!F102","v":0}]
[null,5198,{"$f":"'18'!C103","v":0},{"$f":"'18'!D103","v":0},{"$f":"'18'!E103","v":0},{"$f":"'18'!F103","v":0}]
[null,5199,{"$f":"'18'!C104","v":0},{"$f":"'18'!D104","v":0},{"$f":"'18'!E104","v":0},{"$f":"'18'!F104","v":0}]
[null,5200,{"$f":"'18'!C105","v":0},{"$f":"'18'!D105","v":0},{"$f":"'18'!E105","v":0},{"$f":"'18'!F105","v":0}]
[null,5201,{"$f":"'18'!C106","v":0},{"$f":"'18'!D106","v":0},{"$f":"'18'!E106","v":0},{"$f":"'18'!F106","v":0}]
[null,5202,{"$f":"'18'!C107","v":0},{"$f":"'18'!D107","v":0},{"$f":"'18'!E107","v":0},{"$f":"'18'!F107","v":0}]
[null,5203,{"$f":"'18'!C108","v":0},{"$f":"'18'!D108","v":0},{"$f":"'18'!E108","v":0},{"$f":"'18'!F108","v":0}]
[null,5204,{"$f":"'18'!C109","v":0},{"$f":"'18'!D109","v":0},{"$f":"'18'!E109","v":0},{"$f":"'18'!F109","v":0}]
[null,5205,{"$f":"'18'!C110","v":0},{"$f":"'18'!D110","v":0},{"$f":"'18'!E110","v":0},{"$f":"'18'!F110","v":0}]
[null,5206,{"$f":"'18'!C111","v":0},{"$f":"'18'!D111","v":0},{"$f":"'18'!E111","v":0},{"$f":"'18'!F111","v":0}]
[null,5207,{"$f":"'18'!C112","v":0},{"$f":"'18'!D112","v":0},{"$f":"'18'!E112","v":0},{"$f":"'18'!F112","v":0}]
[null,5208,{"$f":"'18'!C113","v":0},{"$f":"'18'!D113","v":0},{"$f":"'18'!E113","v":0},{"$f":"'18'!F113","v":0}]
[null,5209,{"$f":"'18'!C114","v":0},{"$f":"'18'!D114","v":0},{"$f":"'18'!E114","v":0},{"$f":"'18'!F114","v":0}]
[null,5210,{"$f":"'18'!C115","v":0},{"$f":"'18'!D115","v":0},{"$f":"'18'!E115","v":0},{"$f":"'18'!F115","v":0}]
[null,5211,{"$f":"'18'!C116","v":0},{"$f":"'18'!D116","v":0},{"$f":"'18'!E116","v":0},{"$f":"'18'!F116","v":0}]
[null,5212,{"$f":"'18'!C117","v":0},{"$f":"'18'!D117","v":0},{"$f":"'18'!E117","v":0},{"$f":"'18'!F117","v":0}]
[null,5213,{"$f":"'18'!C118","v":0},{"$f":"'18'!D118","v":0},{"$f":"'18'!E118","v":0},{"$f":"'18'!F118","v":0}]
[null,5214,{"$f":"'18'!C119","v":0},{"$f":"'18'!D119","v":0},{"$f":"'18'!E119","v":0},{"$f":"'18'!F119","v":0}]
[null,5215,{"$f":"'18'!C120","v":0},{"$f":"'18'!D120","v":0},{"$f":"'18'!E120","v":0},{"$f":"'18'!F120","v":0}]
[null,5216,{"$f":"'18'!C121","v":0},{"$f":"'18'!D121","v":0},{"$f":"'18'!E121","v":0},{"$f":"'18'!F121","v":0}]
[null,5217,{"$f":"'18'!C122","v":0},{"$f":"'18'!D122","v":0},{"$f":"'18'!E122","v":0},{"$f":"'18'!F122","v":0}]
[null,5218,{"$f":"'18'!C123","v":0},{"$f":"'18'!D123","v":0},{"$f":"'18'!E123","v":0},{"$f":"'18'!F123","v":0}]
[null,5219,{"$f":"'18'!C124","v":0},{"$f":"'18'!D124","v":0},{"$f":"'18'!E124","v":0},{"$f":"'18'!F124","v":0}]
[null,5220,{"$f":"'18'!C125","v":0},{"$f":"'18'!D125","v":0},{"$f":"'18'!E125","v":0},{"$f":"'18'!F125","v":0}]
[null,5221,{"$f":"'18'!C126","v":0},{"$f":"'18'!D126","v":0},{"$f":"'18'!E126","v":0},{"$f":"'18'!F126","v":0}]
[null,5222,{"$f":"'18'!C127","v":0},{"$f":"'18'!D127","v":0},{"$f":"'18'!E127","v":0},{"$f":"'18'!F127","v":0}]
[null,5223,{"$f":"'18'!C128","v":0},{"$f":"'18'!D128","v":0},{"$f":"'18'!E128","v":0},{"$f":"'18'!F128","v":0}]
[null,5224,{"$f":"'18'!C129","v":0},{"$f":"'18'!D129","v":0},{"$f":"'18'!E129","v":0},{"$f":"'18'!F129","v":0}]
[null,5225,{"$f":"'18'!C130","v":0},{"$f":"'18'!D130","v":0},{"$f":"'18'!E130","v":0},{"$f":"'18'!F130","v":0}]
[null,5226,{"$f":"'18'!C131","v":0},{"$f":"'18'!D131","v":0},{"$f":"'18'!E131","v":0},{"$f":"'18'!F131","v":0}]
[null,5227,{"$f":"'18'!C132","v":0},{"$f":"'18'!D132","v":0},{"$f":"'18'!E132","v":0},{"$f":"'18'!F132","v":0}]
[null,5228,{"$f":"'18'!C133","v":0},{"$f":"'18'!D133","v":0},{"$f":"'18'!E133","v":0},{"$f":"'18'!F133","v":0}]
[null,5229,{"$f":"'18'!C134","v":0},{"$f":"'18'!D134","v":0},{"$f":"'18'!E134","v":0},{"$f":"'18'!F134","v":0}]
[null,5230,{"$f":"'18'!C135","v":0},{"$f":"'18'!D135","v":0},{"$f":"'18'!E135","v":0},{"$f":"'18'!F135","v":0}]
[null,5231,{"$f":"'18'!C136","v":0},{"$f":"'18'!D136","v":0},{"$f":"'18'!E136","v":0},{"$f":"'18'!F136","v":0}]
[null,5232,{"$f":"'18'!C137","v":0},{"$f":"'18'!D137","v":0},{"$f":"'18'!E137","v":0},{"$f":"'18'!F137","v":0}]
[null,5233,{"$f":"'18'!C138","v":0},{"$f":"'18'!D138","v":0},{"$f":"'18'!E138","v":0},{"$f":"'18'!F138","v":0}]
[null,5234,{"$f":"'18'!C139","v":0},{"$f":"'18'!D139","v":0},{"$f":"'18'!E139","v":0},{"$f":"'18'!F139","v":0}]
[null,5235,{"$f":"'18'!C140","v":0},{"$f":"'18'!D140","v":0},{"$f":"'18'!E140","v":0},{"$f":"'18'!F140","v":0}]
[null,5236,{"$f":"'18'!C141","v":0},{"$f":"'18'!D141","v":0},{"$f":"'18'!E141","v":0},{"$f":"'18'!F141","v":0}]
[null,5237,{"$f":"'18'!C142","v":0},{"$f":"'18'!D142","v":0},{"$f":"'18'!E142","v":0},{"$f":"'18'!F142","v":0}]
[null,5238,{"$f":"'18'!C143","v":0},{"$f":"'18'!D143","v":0},{"$f":"'18'!E143","v":0},{"$f":"'18'!F143","v":0}]
[null,5239,{"$f":"'18'!C144","v":0},{"$f":"'18'!D144","v":0},{"$f":"'18'!E144","v":0},{"$f":"'18'!F144","v":0}]
[null,5240,{"$f":"'18'!C145","v":0},{"$f":"'18'!D145","v":0},{"$f":"'18'!E145","v":0},{"$f":"'18'!F145","v":0}]
[null,5241,{"$f":"'18'!C146","v":0},{"$f":"'18'!D146","v":0},{"$f":"'18'!E146","v":0},{"$f":"'18'!F146","v":0}]
[null,5242,{"$f":"'18'!C147","v":0},{"$f":"'18'!D147","v":0},{"$f":"'18'!E147","v":0},{"$f":"'18'!F147","v":0}]
[null,5243,{"$f":"'18'!C148","v":0},{"$f":"'18'!D148","v":0},{"$f":"'18'!E148","v":0},{"$f":"'18'!F148","v":0}]
[null,5244,{"$f":"'18'!C149","v":0},{"$f":"'18'!D149","v":0},{"$f":"'18'!E149","v":0},{"$f":"'18'!F149","v":0}]
[null,5245,{"$f":"'18'!C150","v":0},{"$f":"'18'!D150","v":0},{"$f":"'18'!E150","v":0},{"$f":"'18'!F150","v":0}]
[null,5246,{"$f":"'18'!C151","v":0},{"$f":"'18'!D151","v":0},{"$f":"'18'!E151","v":0},{"$f":"'18'!F151","v":0}]
[null,5247,{"$f":"'18'!C152","v":0},{"$f":"'18'!D152","v":0},{"$f":"'18'!E152","v":0},{"$f":"'18'!F152","v":0}]
[null,5248,{"$f":"'18'!C153","v":0},{"$f":"'18'!D153","v":0},{"$f":"'18'!E153","v":0},{"$f":"'18'!F153","v":0}]
[null,5249,{"$f":"'18'!C154","v":0},{"$f":"'18'!D154","v":0},{"$f":"'18'!E154","v":0},{"$f":"'18'!F154","v":0}]
[null,5250,{"$f":"'18'!C155","v":0},{"$f":"'18'!D155","v":0},{"$f":"'18'!E155","v":0},{"$f":"'18'!F155","v":0}]
[null,5251,{"$f":"'18'!C156","v":0},{"$f":"'18'!D156","v":0},{"$f":"'18'!E156","v":0},{"$f":"'18'!F156","v":0}]
[null,5252,{"$f":"'18'!C157","v":0},{"$f":"'18'!D157","v":0},{"$f":"'18'!E157","v":0},{"$f":"'18'!F157","v":0}]
[null,5253,{"$f":"'18'!C158","v":0},{"$f":"'18'!D158","v":0},{"$f":"'18'!E158","v":0},{"$f":"'18'!F158","v":0}]
[null,5254,{"$f":"'18'!C159","v":0},{"$f":"'18'!D159","v":0},{"$f":"'18'!E159","v":0},{"$f":"'18'!F159","v":0}]
[null,5255,{"$f":"'18'!C160","v":0},{"$f":"'18'!D160","v":0},{"$f":"'18'!E160","v":0},{"$f":"'18'!F160","v":0}]
[null,5256,{"$f":"'18'!C161","v":0},{"$f":"'18'!D161","v":0},{"$f":"'18'!E161","v":0},{"$f":"'18'!F161","v":0}]
[null,5257,{"$f":"'18'!C162","v":0},{"$f":"'18'!D162","v":0},{"$f":"'18'!E162","v":0},{"$f":"'18'!F162","v":0}]
[null,5258,{"$f":"'18'!C163","v":0},{"$f":"'18'!D163","v":0},{"$f":"'18'!E163","v":0},{"$f":"'18'!F163","v":0}]
[null,5259,{"$f":"'18'!C164","v":0},{"$f":"'18'!D164","v":0},{"$f":"'18'!E164","v":0},{"$f":"'18'!F164","v":0}]
[null,5260,{"$f":"'18'!C165","v":0},{"$f":"'18'!D165","v":0},{"$f":"'18'!E165","v":0},{"$f":"'18'!F165","v":0}]
[null,5261,{"$f":"'18'!C166","v":0},{"$f":"'18'!D166","v":0},{"$f":"'18'!E166","v":0},{"$f":"'18'!F166","v":0}]
[null,5262,{"$f":"'18'!C167","v":0},{"$f":"'18'!D167","v":0},{"$f":"'18'!E167","v":0},{"$f":"'18'!F167","v":0}]
[null,5263,{"$f":"'18'!C168","v":0},{"$f":"'18'!D168","v":0},{"$f":"'18'!E168","v":0},{"$f":"'18'!F168","v":0}]
[null,5264,{"$f":"'18'!C169","v":0},{"$f":"'18'!D169","v":0},{"$f":"'18'!E169","v":0},{"$f":"'18'!F169","v":0}]
[null,5265,{"$f":"'18'!C170","v":0},{"$f":"'18'!D170","v":0},{"$f":"'18'!E170","v":0},{"$f":"'18'!F170","v":0}]
[null,5266,{"$f":"'18'!C171","v":0},{"$f":"'18'!D171","v":0},{"$f":"'18'!E171","v":0},{"$f":"'18'!F171","v":0}]
[null,5267,{"$f":"'18'!C172","v":0},{"$f":"'18'!D172","v":0},{"$f":"'18'!E172","v":0},{"$f":"'18'!F172","v":0}]
[null,5268,{"$f":"'18'!C173","v":0},{"$f":"'18'!D173","v":0},{"$f":"'18'!E173","v":0},{"$f":"'18'!F173","v":0}]
[null,5269,{"$f":"'18'!C174","v":0},{"$f":"'18'!D174","v":0},{"$f":"'18'!E174","v":0},{"$f":"'18'!F174","v":0}]
[null,5270,{"$f":"'18'!C175","v":0},{"$f":"'18'!D175","v":0},{"$f":"'18'!E175","v":0},{"$f":"'18'!F175","v":0}]
[null,5271,{"$f":"'18'!C176","v":0},{"$f":"'18'!D176","v":0},{"$f":"'18'!E176","v":0},{"$f":"'18'!F176","v":0}]
[null,5272,{"$f":"'18'!C177","v":0},{"$f":"'18'!D177","v":0},{"$f":"'18'!E177","v":0},{"$f":"'18'!F177","v":0}]
[null,5273,{"$f":"'18'!C178","v":0},{"$f":"'18'!D178","v":0},{"$f":"'18'!E178","v":0},{"$f":"'18'!F178","v":0}]
[null,5274,{"$f":"'18'!C179","v":0},{"$f":"'18'!D179","v":0},{"$f":"'18'!E179","v":0},{"$f":"'18'!F179","v":0}]
[null,5275,{"$f":"'18'!C180","v":0},{"$f":"'18'!D180","v":0},{"$f":"'18'!E180","v":0},{"$f":"'18'!F180","v":0}]
[null,5276,{"$f":"'18'!C181","v":0},{"$f":"'18'!D181","v":0},{"$f":"'18'!E181","v":0},{"$f":"'18'!F181","v":0}]
[null,5277,{"$f":"'18'!C182","v":0},{"$f":"'18'!D182","v":0},{"$f":"'18'!E182","v":0},{"$f":"'18'!F182","v":0}]
[null,5278,{"$f":"'18'!C183","v":0},{"$f":"'18'!D183","v":0},{"$f":"'18'!E183","v":0},{"$f":"'18'!F183","v":0}]
[null,5279,{"$f":"'18'!C184","v":0},{"$f":"'18'!D184","v":0},{"$f":"'18'!E184","v":0},{"$f":"'18'!F184","v":0}]
[null,5280,{"$f":"'18'!C185","v":0},{"$f":"'18'!D185","v":0},{"$f":"'18'!E185","v":0},{"$f":"'18'!F185","v":0}]
[null,5281,{"$f":"'18'!C186","v":0},{"$f":"'18'!D186","v":0},{"$f":"'18'!E186","v":0},{"$f":"'18'!F186","v":0}]
[null,5282,{"$f":"'18'!C187","v":0},{"$f":"'18'!D187","v":0},{"$f":"'18'!E187","v":0},{"$f":"'18'!F187","v":0}]
[null,5283,{"$f":"'18'!C188","v":0},{"$f":"'18'!D188","v":0},{"$f":"'18'!E188","v":0},{"$f":"'18'!F188","v":0}]
[null,5284,{"$f":"'18'!C189","v":0},{"$f":"'18'!D189","v":0},{"$f":"'18'!E189","v":0},{"$f":"'18'!F189","v":0}]
[null,5285,{"$f":"'18'!C190","v":0},{"$f":"'18'!D190","v":0},{"$f":"'18'!E190","v":0},{"$f":"'18'!F190","v":0}]
[null,5286,{"$f":"'18'!C191","v":0},{"$f":"'18'!D191","v":0},{"$f":"'18'!E191","v":0},{"$f":"'18'!F191","v":0}]
[null,5287,{"$f":"'18'!C192","v":0},{"$f":"'18'!D192","v":0},{"$f":"'18'!E192","v":0},{"$f":"'18'!F192","v":0}]
[null,5288,{"$f":"'18'!C193","v":0},{"$f":"'18'!D193","v":0},{"$f":"'18'!E193","v":0},{"$f":"'18'!F193","v":0}]
[null,5289,{"$f":"'18'!C194","v":0},{"$f":"'18'!D194","v":0},{"$f":"'18'!E194","v":0},{"$f":"'18'!F194","v":0}]
[null,5290,{"$f":"'18'!C195","v":0},{"$f":"'18'!D195","v":0},{"$f":"'18'!E195","v":0},{"$f":"'18'!F195","v":0}]
[null,5291,{"$f":"'18'!C196","v":0},{"$f":"'18'!D196","v":0},{"$f":"'18'!E196","v":0},{"$f":"'18'!F196","v":0}]
[null,5292,{"$f":"'18'!C197","v":0},{"$f":"'18'!D197","v":0},{"$f":"'18'!E197","v":0},{"$f":"'18'!F197","v":0}]
[null,5293,{"$f":"'18'!C198","v":0},{"$f":"'18'!D198","v":0},{"$f":"'18'!E198","v":0},{"$f":"'18'!F198","v":0}]
[null,5294,{"$f":"'18'!C199","v":0},{"$f":"'18'!D199","v":0},{"$f":"'18'!E199","v":0},{"$f":"'18'!F199","v":0}]
[null,5295,{"$f":"'18'!C200","v":0},{"$f":"'18'!D200","v":0},{"$f":"'18'!E200","v":0},{"$f":"'18'!F200","v":0}]
[null,5296,{"$f":"'18'!C201","v":0},{"$f":"'18'!D201","v":0},{"$f":"'18'!E201","v":0},{"$f":"'18'!F201","v":0}]
[null,5297,{"$f":"'18'!C202","v":0},{"$f":"'18'!D202","v":0},{"$f":"'18'!E202","v":0},{"$f":"'18'!F202","v":0}]
[null,5298,{"$f":"'18'!C203","v":0},{"$f":"'18'!D203","v":0},{"$f":"'18'!E203","v":0},{"$f":"'18'!F203","v":0}]
[null,5299,{"$f":"'18'!C204","v":0},{"$f":"'18'!D204","v":0},{"$f":"'18'!E204","v":0},{"$f":"'18'!F204","v":0}]
[null,5300,{"$f":"'18'!C205","v":0},{"$f":"'18'!D205","v":0},{"$f":"'18'!E205","v":0},{"$f":"'18'!F205","v":0}]
[null,5301,{"$f":"'18'!C206","v":0},{"$f":"'18'!D206","v":0},{"$f":"'18'!E206","v":0},{"$f":"'18'!F206","v":0}]
[null,5302,{"$f":"'18'!C207","v":0},{"$f":"'18'!D207","v":0},{"$f":"'18'!E207","v":0},{"$f":"'18'!F207","v":0}]
[null,5303,{"$f":"'18'!C208","v":0},{"$f":"'18'!D208","v":0},{"$f":"'18'!E208","v":0},{"$f":"'18'!F208","v":0}]
[null,5304,{"$f":"'18'!C209","v":0},{"$f":"'18'!D209","v":0},{"$f":"'18'!E209","v":0},{"$f":"'18'!F209","v":0}]
[null,5305,{"$f":"'18'!C210","v":0},{"$f":"'18'!D210","v":0},{"$f":"'18'!E210","v":0},{"$f":"'18'!F210","v":0}]
[null,5306,{"$f":"'18'!C211","v":0},{"$f":"'18'!D211","v":0},{"$f":"'18'!E211","v":0},{"$f":"'18'!F211","v":0}]
[null,5307,{"$f":"'18'!C212","v":0},{"$f":"'18'!D212","v":0},{"$f":"'18'!E212","v":0},{"$f":"'18'!F212","v":0}]
[null,5308,{"$f":"'18'!C213","v":0},{"$f":"'18'!D213","v":0},{"$f":"'18'!E213","v":0},{"$f":"'18'!F213","v":0}]
[null,5309,{"$f":"'18'!C214","v":0},{"$f":"'18'!D214","v":0},{"$f":"'18'!E214","v":0},{"$f":"'18'!F214","v":0}]
[null,5310,{"$f":"'18'!C215","v":0},{"$f":"'18'!D215","v":0},{"$f":"'18'!E215","v":0},{"$f":"'18'!F215","v":0}]
[null,5311,{"$f":"'18'!C216","v":0},{"$f":"'18'!D216","v":0},{"$f":"'18'!E216","v":0},{"$f":"'18'!F216","v":0}]
[null,5312,{"$f":"'18'!C217","v":0},{"$f":"'18'!D217","v":0},{"$f":"'18'!E217","v":0},{"$f":"'18'!F217","v":0}]
[null,5313,{"$f":"'18'!C218","v":0},{"$f":"'18'!D218","v":0},{"$f":"'18'!E218","v":0},{"$f":"'18'!F218","v":0}]
[null,5314,{"$f":"'18'!C219","v":0},{"$f":"'18'!D219","v":0},{"$f":"'18'!E219","v":0},{"$f":"'18'!F219","v":0}]
[null,5315,{"$f":"'18'!C220","v":0},{"$f":"'18'!D220","v":0},{"$f":"'18'!E220","v":0},{"$f":"'18'!F220","v":0}]
[null,5316,{"$f":"'18'!C221","v":0},{"$f":"'18'!D221","v":0},{"$f":"'18'!E221","v":0},{"$f":"'18'!F221","v":0}]
[null,5317,{"$f":"'18'!C222","v":0},{"$f":"'18'!D222","v":0},{"$f":"'18'!E222","v":0},{"$f":"'18'!F222","v":0}]
[null,5318,{"$f":"'18'!C223","v":0},{"$f":"'18'!D223","v":0},{"$f":"'18'!E223","v":0},{"$f":"'18'!F223","v":0}]
[null,5319,{"$f":"'18'!C224","v":0},{"$f":"'18'!D224","v":0},{"$f":"'18'!E224","v":0},{"$f":"'18'!F224","v":0}]
[null,5320,{"$f":"'18'!C225","v":0},{"$f":"'18'!D225","v":0},{"$f":"'18'!E225","v":0},{"$f":"'18'!F225","v":0}]
[null,5321,{"$f":"'18'!C226","v":0},{"$f":"'18'!D226","v":0},{"$f":"'18'!E226","v":0},{"$f":"'18'!F226","v":0}]
[null,5322,{"$f":"'18'!C227","v":0},{"$f":"'18'!D227","v":0},{"$f":"'18'!E227","v":0},{"$f":"'18'!F227","v":0}]
[null,5323,{"$f":"'18'!C228","v":0},{"$f":"'18'!D228","v":0},{"$f":"'18'!E228","v":0},{"$f":"'18'!F228","v":0}]
[null,5324,{"$f":"'18'!C229","v":0},{"$f":"'18'!D229","v":0},{"$f":"'18'!E229","v":0},{"$f":"'18'!F229","v":0}]
[null,5325,{"$f":"'18'!C230","v":0},{"$f":"'18'!D230","v":0},{"$f":"'18'!E230","v":0},{"$f":"'18'!F230","v":0}]
[null,5326,{"$f":"'18'!C231","v":0},{"$f":"'18'!D231","v":0},{"$f":"'18'!E231","v":0},{"$f":"'18'!F231","v":0}]
[null,5327,{"$f":"'18'!C232","v":0},{"$f":"'18'!D232","v":0},{"$f":"'18'!E232","v":0},{"$f":"'18'!F232","v":0}]
[null,5328,{"$f":"'18'!C233","v":0},{"$f":"'18'!D233","v":0},{"$f":"'18'!E233","v":0},{"$f":"'18'!F233","v":0}]
[null,5329,{"$f":"'18'!C234","v":0},{"$f":"'18'!D234","v":0},{"$f":"'18'!E234","v":0},{"$f":"'18'!F234","v":0}]
[null,5330,{"$f":"'18'!C235","v":0},{"$f":"'18'!D235","v":0},{"$f":"'18'!E235","v":0},{"$f":"'18'!F235","v":0}]
[null,5331,{"$f":"'18'!C236","v":0},{"$f":"'18'!D236","v":0},{"$f":"'18'!E236","v":0},{"$f":"'18'!F236","v":0}]
[null,5332,{"$f":"'18'!C237","v":0},{"$f":"'18'!D237","v":0},{"$f":"'18'!E237","v":0},{"$f":"'18'!F237","v":0}]
[null,5333,{"$f":"'18'!C238","v":0},{"$f":"'18'!D238","v":0},{"$f":"'18'!E238","v":0},{"$f":"'18'!F238","v":0}]
[null,5334,{"$f":"'18'!C239","v":0},{"$f":"'18'!D239","v":0},{"$f":"'18'!E239","v":0},{"$f":"'18'!F239","v":0}]
[null,5335,{"$f":"'18'!C240","v":0},{"$f":"'18'!D240","v":0},{"$f":"'18'!E240","v":0},{"$f":"'18'!F240","v":0}]
[null,5336,{"$f":"'18'!C241","v":0},{"$f":"'18'!D241","v":0},{"$f":"'18'!E241","v":0},{"$f":"'18'!F241","v":0}]
[null,5337,{"$f":"'18'!C242","v":0},{"$f":"'18'!D242","v":0},{"$f":"'18'!E242","v":0},{"$f":"'18'!F242","v":0}]
[null,5338,{"$f":"'18'!C243","v":0},{"$f":"'18'!D243","v":0},{"$f":"'18'!E243","v":0},{"$f":"'18'!F243","v":0}]
[null,5339,{"$f":"'18'!C244","v":0},{"$f":"'18'!D244","v":0},{"$f":"'18'!E244","v":0},{"$f":"'18'!F244","v":0}]
[null,5340,{"$f":"'18'!C245","v":0},{"$f":"'18'!D245","v":0},{"$f":"'18'!E245","v":0},{"$f":"'18'!F245","v":0}]
[null,5341,{"$f":"'18'!C246","v":0},{"$f":"'18'!D246","v":0},{"$f":"'18'!E246","v":0},{"$f":"'18'!F246","v":0}]
[null,5342,{"$f":"'18'!C247","v":0},{"$f":"'18'!D247","v":0},{"$f":"'18'!E247","v":0},{"$f":"'18'!F247","v":0}]
[null,5343,{"$f":"'18'!C248","v":0},{"$f":"'18'!D248","v":0},{"$f":"'18'!E248","v":0},{"$f":"'18'!F248","v":0}]
[null,5344,{"$f":"'18'!C249","v":0},{"$f":"'18'!D249","v":0},{"$f":"'18'!E249","v":0},{"$f":"'18'!F249","v":0}]
[null,5345,{"$f":"'18'!C250","v":0},{"$f":"'18'!D250","v":0},{"$f":"'18'!E250","v":0},{"$f":"'18'!F250","v":0}]
[null,5346,{"$f":"'18'!C251","v":0},{"$f":"'18'!D251","v":0},{"$f":"'18'!E251","v":0},{"$f":"'18'!F251","v":0}]
[null,5347,{"$f":"'18'!C252","v":0},{"$f":"'18'!D252","v":0},{"$f":"'18'!E252","v":0},{"$f":"'18'!F252","v":0}]
[null,5348,{"$f":"'18'!C253","v":0},{"$f":"'18'!D253","v":0},{"$f":"'18'!E253","v":0},{"$f":"'18'!F253","v":0}]
[null,5349,{"$f":"'18'!C254","v":0},{"$f":"'18'!D254","v":0},{"$f":"'18'!E254","v":0},{"$f":"'18'!F254","v":0}]
[null,5350,{"$f":"'18'!C255","v":0},{"$f":"'18'!D255","v":0},{"$f":"'18'!E255","v":0},{"$f":"'18'!F255","v":0}]
[null,5351,{"$f":"'18'!C256","v":0},{"$f":"'18'!D256","v":0},{"$f":"'18'!E256","v":0},{"$f":"'18'!F256","v":0}]
[null,5352,{"$f":"'18'!C257","v":0},{"$f":"'18'!D257","v":0},{"$f":"'18'!E257","v":0},{"$f":"'18'!F257","v":0}]
[null,5353,{"$f":"'18'!C258","v":0},{"$f":"'18'!D258","v":0},{"$f":"'18'!E258","v":0},{"$f":"'18'!F258","v":0}]
[null,5354,{"$f":"'18'!C259","v":0},{"$f":"'18'!D259","v":0},{"$f":"'18'!E259","v":0},{"$f":"'18'!F259","v":0}]
[null,5355,{"$f":"'18'!C260","v":0},{"$f":"'18'!D260","v":0},{"$f":"'18'!E260","v":0},{"$f":"'18'!F260","v":0}]
[null,5356,{"$f":"'18'!C261","v":0},{"$f":"'18'!D261","v":0},{"$f":"'18'!E261","v":0},{"$f":"'18'!F261","v":0}]
[null,5357,{"$f":"'18'!C262","v":0},{"$f":"'18'!D262","v":0},{"$f":"'18'!E262","v":0},{"$f":"'18'!F262","v":0}]
[null,5358,{"$f":"'18'!C263","v":0},{"$f":"'18'!D263","v":0},{"$f":"'18'!E263","v":0},{"$f":"'18'!F263","v":0}]
[null,5359,{"$f":"'18'!C264","v":0},{"$f":"'18'!D264","v":0},{"$f":"'18'!E264","v":0},{"$f":"'18'!F264","v":0}]
[null,5360,{"$f":"'18'!C265","v":0},{"$f":"'18'!D265","v":0},{"$f":"'18'!E265","v":0},{"$f":"'18'!F265","v":0}]
[null,5361,{"$f":"'18'!C266","v":0},{"$f":"'18'!D266","v":0},{"$f":"'18'!E266","v":0},{"$f":"'18'!F266","v":0}]
[null,5362,{"$f":"'18'!C267","v":0},{"$f":"'18'!D267","v":0},{"$f":"'18'!E267","v":0},{"$f":"'18'!F267","v":0}]
[null,5363,{"$f":"'18'!C268","v":0},{"$f":"'18'!D268","v":0},{"$f":"'18'!E268","v":0},{"$f":"'18'!F268","v":0}]
[null,5364,{"$f":"'18'!C269","v":0},{"$f":"'18'!D269","v":0},{"$f":"'18'!E269","v":0},{"$f":"'18'!F269","v":0}]
[null,5365,{"$f":"'18'!C270","v":0},{"$f":"'18'!D270","v":0},{"$f":"'18'!E270","v":0},{"$f":"'18'!F270","v":0}]
[null,5366,{"$f":"'18'!C271","v":0},{"$f":"'18'!D271","v":0},{"$f":"'18'!E271","v":0},{"$f":"'18'!F271","v":0}]
[null,5367,{"$f":"'18'!C272","v":0},{"$f":"'18'!D272","v":0},{"$f":"'18'!E272","v":0},{"$f":"'18'!F272","v":0}]
[null,5368,{"$f":"'18'!C273","v":0},{"$f":"'18'!D273","v":0},{"$f":"'18'!E273","v":0},{"$f":"'18'!F273","v":0}]
[null,5369,{"$f":"'18'!C274","v":0},{"$f":"'18'!D274","v":0},{"$f":"'18'!E274","v":0},{"$f":"'18'!F274","v":0}]
[null,5370,{"$f":"'18'!C275","v":0},{"$f":"'18'!D275","v":0},{"$f":"'18'!E275","v":0},{"$f":"'18'!F275","v":0}]
[null,5371,{"$f":"'18'!C276","v":0},{"$f":"'18'!D276","v":0},{"$f":"'18'!E276","v":0},{"$f":"'18'!F276","v":0}]
[null,5372,{"$f":"'18'!C277","v":0},{"$f":"'18'!D277","v":0},{"$f":"'18'!E277","v":0},{"$f":"'18'!F277","v":0}]
[null,5373,{"$f":"'18'!C278","v":0},{"$f":"'18'!D278","v":0},{"$f":"'18'!E278","v":0},{"$f":"'18'!F278","v":0}]
[null,5374,{"$f":"'18'!C279","v":0},{"$f":"'18'!D279","v":0},{"$f":"'18'!E279","v":0},{"$f":"'18'!F279","v":0}]
[null,5375,{"$f":"'18'!C280","v":0},{"$f":"'18'!D280","v":0},{"$f":"'18'!E280","v":0},{"$f":"'18'!F280","v":0}]
[null,5376,{"$f":"'18'!C281","v":0},{"$f":"'18'!D281","v":0},{"$f":"'18'!E281","v":0},{"$f":"'18'!F281","v":0}]
[null,5377,{"$f":"'18'!C282","v":0},{"$f":"'18'!D282","v":0},{"$f":"'18'!E282","v":0},{"$f":"'18'!F282","v":0}]
[null,5378,{"$f":"'18'!C283","v":0},{"$f":"'18'!D283","v":0},{"$f":"'18'!E283","v":0},{"$f":"'18'!F283","v":0}]
[null,5379,{"$f":"'18'!C284","v":0},{"$f":"'18'!D284","v":0},{"$f":"'18'!E284","v":0},{"$f":"'18'!F284","v":0}]
[null,5380,{"$f":"'18'!C285","v":0},{"$f":"'18'!D285","v":0},{"$f":"'18'!E285","v":0},{"$f":"'18'!F285","v":0}]
[null,5381,{"$f":"'18'!C286","v":0},{"$f":"'18'!D286","v":0},{"$f":"'18'!E286","v":0},{"$f":"'18'!F286","v":0}]
[null,5382,{"$f":"'18'!C287","v":0},{"$f":"'18'!D287","v":0},{"$f":"'18'!E287","v":0},{"$f":"'18'!F287","v":0}]
[null,5383,{"$f":"'18'!C288","v":0},{"$f":"'18'!D288","v":0},{"$f":"'18'!E288","v":0},{"$f":"'18'!F288","v":0}]
[null,5384,{"$f":"'18'!C289","v":0},{"$f":"'18'!D289","v":0},{"$f":"'18'!E289","v":0},{"$f":"'18'!F289","v":0}]
[null,5385,{"$f":"'18'!C290","v":0},{"$f":"'18'!D290","v":0},{"$f":"'18'!E290","v":0},{"$f":"'18'!F290","v":0}]
[null,5386,{"$f":"'18'!C291","v":0},{"$f":"'18'!D291","v":0},{"$f":"'18'!E291","v":0},{"$f":"'18'!F291","v":0}]
[null,5387,{"$f":"'18'!C292","v":0},{"$f":"'18'!D292","v":0},{"$f":"'18'!E292","v":0},{"$f":"'18'!F292","v":0}]
[null,5388,{"$f":"'18'!C293","v":0},{"$f":"'18'!D293","v":0},{"$f":"'18'!E293","v":0},{"$f":"'18'!F293","v":0}]
[null,5389,{"$f":"'18'!C294","v":0},{"$f":"'18'!D294","v":0},{"$f":"'18'!E294","v":0},{"$f":"'18'!F294","v":0}]
[null,5390,{"$f":"'18'!C295","v":0},{"$f":"'18'!D295","v":0},{"$f":"'18'!E295","v":0},{"$f":"'18'!F295","v":0}]
[null,5391,{"$f":"'18'!C296","v":0},{"$f":"'18'!D296","v":0},{"$f":"'18'!E296","v":0},{"$f":"'18'!F296","v":0}]
[null,5392,{"$f":"'18'!C297","v":0},{"$f":"'18'!D297","v":0},{"$f":"'18'!E297","v":0},{"$f":"'18'!F297","v":0}]
[null,5393,{"$f":"'18'!C298","v":0},{"$f":"'18'!D298","v":0},{"$f":"'18'!E298","v":0},{"$f":"'18'!F298","v":0}]
[null,5394,{"$f":"'18'!C299","v":0},{"$f":"'18'!D299","v":0},{"$f":"'18'!E299","v":0},{"$f":"'18'!F299","v":0}]
[null,5395,{"$f":"'18'!C300","v":0},{"$f":"'18'!D300","v":0},{"$f":"'18'!E300","v":0},{"$f":"'18'!F300","v":0}]
[null,5396,{"$f":"'18'!C301","v":0},{"$f":"'18'!D301","v":0},{"$f":"'18'!E301","v":0},{"$f":"'18'!F301","v":0}]
[null,5397,{"$f":"'18'!C302","v":0},{"$f":"'18'!D302","v":0},{"$f":"'18'!E302","v":0},{"$f":"'18'!F302","v":0}]
[null,5398,{"$f":"'18'!C303","v":0},{"$f":"'18'!D303","v":0},{"$f":"'18'!E303","v":0},{"$f":"'18'!F303","v":0}]
[null,5399,{"$f":"'18'!C304","v":0},{"$f":"'18'!D304","v":0},{"$f":"'18'!E304","v":0},{"$f":"'18'!F304","v":0}]
[null,5400,{"$f":"'18'!C305","v":0},{"$f":"'18'!D305","v":0},{"$f":"'18'!E305","v":0},{"$f":"'18'!F305","v":0}]
[null,5401,{"$f":"'19'!C6","v":0},{"$f":"'19'!D6","v":0},{"$f":"'19'!E6","v":0},{"$f":"'19'!F6","v":0}]
[null,5402,{"$f":"'19'!C7","v":0},{"$f":"'19'!D7","v":0},{"$f":"'19'!E7","v":0},{"$f":"'19'!F7","v":0}]
[null,5403,{"$f":"'19'!C8","v":0},{"$f":"'19'!D8","v":0},{"$f":"'19'!E8","v":0},{"$f":"'19'!F8","v":0}]
[null,5404,{"$f":"'19'!C9","v":0},{"$f":"'19'!D9","v":0},{"$f":"'19'!E9","v":0},{"$f":"'19'!F9","v":0}]
[null,5405,{"$f":"'19'!C10","v":0},{"$f":"'19'!D10","v":0},{"$f":"'19'!E10","v":0},{"$f":"'19'!F10","v":0}]
[null,5406,{"$f":"'19'!C11","v":0},{"$f":"'19'!D11","v":0},{"$f":"'19'!E11","v":0},{"$f":"'19'!F11","v":0}]
[null,5407,{"$f":"'19'!C12","v":0},{"$f":"'19'!D12","v":0},{"$f":"'19'!E12","v":0},{"$f":"'19'!F12","v":0}]
[null,5408,{"$f":"'19'!C13","v":0},{"$f":"'19'!D13","v":0},{"$f":"'19'!E13","v":0},{"$f":"'19'!F13","v":0}]
[null,5409,{"$f":"'19'!C14","v":0},{"$f":"'19'!D14","v":0},{"$f":"'19'!E14","v":0},{"$f":"'19'!F14","v":0}]
[null,5410,{"$f":"'19'!C15","v":0},{"$f":"'19'!D15","v":0},{"$f":"'19'!E15","v":0},{"$f":"'19'!F15","v":0}]
[null,5411,{"$f":"'19'!C16","v":0},{"$f":"'19'!D16","v":0},{"$f":"'19'!E16","v":0},{"$f":"'19'!F16","v":0}]
[null,5412,{"$f":"'19'!C17","v":0},{"$f":"'19'!D17","v":0},{"$f":"'19'!E17","v":0},{"$f":"'19'!F17","v":0}]
[null,5413,{"$f":"'19'!C18","v":0},{"$f":"'19'!D18","v":0},{"$f":"'19'!E18","v":0},{"$f":"'19'!F18","v":0}]
[null,5414,{"$f":"'19'!C19","v":0},{"$f":"'19'!D19","v":0},{"$f":"'19'!E19","v":0},{"$f":"'19'!F19","v":0}]
[null,5415,{"$f":"'19'!C20","v":0},{"$f":"'19'!D20","v":0},{"$f":"'19'!E20","v":0},{"$f":"'19'!F20","v":0}]
[null,5416,{"$f":"'19'!C21","v":0},{"$f":"'19'!D21","v":0},{"$f":"'19'!E21","v":0},{"$f":"'19'!F21","v":0}]
[null,5417,{"$f":"'19'!C22","v":0},{"$f":"'19'!D22","v":0},{"$f":"'19'!E22","v":0},{"$f":"'19'!F22","v":0}]
[null,5418,{"$f":"'19'!C23","v":0},{"$f":"'19'!D23","v":0},{"$f":"'19'!E23","v":0},{"$f":"'19'!F23","v":0}]
[null,5419,{"$f":"'19'!C24","v":0},{"$f":"'19'!D24","v":0},{"$f":"'19'!E24","v":0},{"$f":"'19'!F24","v":0}]
[null,5420,{"$f":"'19'!C25","v":0},{"$f":"'19'!D25","v":0},{"$f":"'19'!E25","v":0},{"$f":"'19'!F25","v":0}]
[null,5421,{"$f":"'19'!C26","v":0},{"$f":"'19'!D26","v":0},{"$f":"'19'!E26","v":0},{"$f":"'19'!F26","v":0}]
[null,5422,{"$f":"'19'!C27","v":0},{"$f":"'19'!D27","v":0},{"$f":"'19'!E27","v":0},{"$f":"'19'!F27","v":0}]
[null,5423,{"$f":"'19'!C28","v":0},{"$f":"'19'!D28","v":0},{"$f":"'19'!E28","v":0},{"$f":"'19'!F28","v":0}]
[null,5424,{"$f":"'19'!C29","v":0},{"$f":"'19'!D29","v":0},{"$f":"'19'!E29","v":0},{"$f":"'19'!F29","v":0}]
[null,5425,{"$f":"'19'!C30","v":0},{"$f":"'19'!D30","v":0},{"$f":"'19'!E30","v":0},{"$f":"'19'!F30","v":0}]
[null,5426,{"$f":"'19'!C31","v":0},{"$f":"'19'!D31","v":0},{"$f":"'19'!E31","v":0},{"$f":"'19'!F31","v":0}]
[null,5427,{"$f":"'19'!C32","v":0},{"$f":"'19'!D32","v":0},{"$f":"'19'!E32","v":0},{"$f":"'19'!F32","v":0}]
[null,5428,{"$f":"'19'!C33","v":0},{"$f":"'19'!D33","v":0},{"$f":"'19'!E33","v":0},{"$f":"'19'!F33","v":0}]
[null,5429,{"$f":"'19'!C34","v":0},{"$f":"'19'!D34","v":0},{"$f":"'19'!E34","v":0},{"$f":"'19'!F34","v":0}]
[null,5430,{"$f":"'19'!C35","v":0},{"$f":"'19'!D35","v":0},{"$f":"'19'!E35","v":0},{"$f":"'19'!F35","v":0}]
[null,5431,{"$f":"'19'!C36","v":0},{"$f":"'19'!D36","v":0},{"$f":"'19'!E36","v":0},{"$f":"'19'!F36","v":0}]
[null,5432,{"$f":"'19'!C37","v":0},{"$f":"'19'!D37","v":0},{"$f":"'19'!E37","v":0},{"$f":"'19'!F37","v":0}]
[null,5433,{"$f":"'19'!C38","v":0},{"$f":"'19'!D38","v":0},{"$f":"'19'!E38","v":0},{"$f":"'19'!F38","v":0}]
[null,5434,{"$f":"'19'!C39","v":0},{"$f":"'19'!D39","v":0},{"$f":"'19'!E39","v":0},{"$f":"'19'!F39","v":0}]
[null,5435,{"$f":"'19'!C40","v":0},{"$f":"'19'!D40","v":0},{"$f":"'19'!E40","v":0},{"$f":"'19'!F40","v":0}]
[null,5436,{"$f":"'19'!C41","v":0},{"$f":"'19'!D41","v":0},{"$f":"'19'!E41","v":0},{"$f":"'19'!F41","v":0}]
[null,5437,{"$f":"'19'!C42","v":0},{"$f":"'19'!D42","v":0},{"$f":"'19'!E42","v":0},{"$f":"'19'!F42","v":0}]
[null,5438,{"$f":"'19'!C43","v":0},{"$f":"'19'!D43","v":0},{"$f":"'19'!E43","v":0},{"$f":"'19'!F43","v":0}]
[null,5439,{"$f":"'19'!C44","v":0},{"$f":"'19'!D44","v":0},{"$f":"'19'!E44","v":0},{"$f":"'19'!F44","v":0}]
[null,5440,{"$f":"'19'!C45","v":0},{"$f":"'19'!D45","v":0},{"$f":"'19'!E45","v":0},{"$f":"'19'!F45","v":0}]
[null,5441,{"$f":"'19'!C46","v":0},{"$f":"'19'!D46","v":0},{"$f":"'19'!E46","v":0},{"$f":"'19'!F46","v":0}]
[null,5442,{"$f":"'19'!C47","v":0},{"$f":"'19'!D47","v":0},{"$f":"'19'!E47","v":0},{"$f":"'19'!F47","v":0}]
[null,5443,{"$f":"'19'!C48","v":0},{"$f":"'19'!D48","v":0},{"$f":"'19'!E48","v":0},{"$f":"'19'!F48","v":0}]
[null,5444,{"$f":"'19'!C49","v":0},{"$f":"'19'!D49","v":0},{"$f":"'19'!E49","v":0},{"$f":"'19'!F49","v":0}]
[null,5445,{"$f":"'19'!C50","v":0},{"$f":"'19'!D50","v":0},{"$f":"'19'!E50","v":0},{"$f":"'19'!F50","v":0}]
[null,5446,{"$f":"'19'!C51","v":0},{"$f":"'19'!D51","v":0},{"$f":"'19'!E51","v":0},{"$f":"'19'!F51","v":0}]
[null,5447,{"$f":"'19'!C52","v":0},{"$f":"'19'!D52","v":0},{"$f":"'19'!E52","v":0},{"$f":"'19'!F52","v":0}]
[null,5448,{"$f":"'19'!C53","v":0},{"$f":"'19'!D53","v":0},{"$f":"'19'!E53","v":0},{"$f":"'19'!F53","v":0}]
[null,5449,{"$f":"'19'!C54","v":0},{"$f":"'19'!D54","v":0},{"$f":"'19'!E54","v":0},{"$f":"'19'!F54","v":0}]
[null,5450,{"$f":"'19'!C55","v":0},{"$f":"'19'!D55","v":0},{"$f":"'19'!E55","v":0},{"$f":"'19'!F55","v":0}]
[null,5451,{"$f":"'19'!C56","v":0},{"$f":"'19'!D56","v":0},{"$f":"'19'!E56","v":0},{"$f":"'19'!F56","v":0}]
[null,5452,{"$f":"'19'!C57","v":0},{"$f":"'19'!D57","v":0},{"$f":"'19'!E57","v":0},{"$f":"'19'!F57","v":0}]
[null,5453,{"$f":"'19'!C58","v":0},{"$f":"'19'!D58","v":0},{"$f":"'19'!E58","v":0},{"$f":"'19'!F58","v":0}]
[null,5454,{"$f":"'19'!C59","v":0},{"$f":"'19'!D59","v":0},{"$f":"'19'!E59","v":0},{"$f":"'19'!F59","v":0}]
[null,5455,{"$f":"'19'!C60","v":0},{"$f":"'19'!D60","v":0},{"$f":"'19'!E60","v":0},{"$f":"'19'!F60","v":0}]
[null,5456,{"$f":"'19'!C61","v":0},{"$f":"'19'!D61","v":0},{"$f":"'19'!E61","v":0},{"$f":"'19'!F61","v":0}]
[null,5457,{"$f":"'19'!C62","v":0},{"$f":"'19'!D62","v":0},{"$f":"'19'!E62","v":0},{"$f":"'19'!F62","v":0}]
[null,5458,{"$f":"'19'!C63","v":0},{"$f":"'19'!D63","v":0},{"$f":"'19'!E63","v":0},{"$f":"'19'!F63","v":0}]
[null,5459,{"$f":"'19'!C64","v":0},{"$f":"'19'!D64","v":0},{"$f":"'19'!E64","v":0},{"$f":"'19'!F64","v":0}]
[null,5460,{"$f":"'19'!C65","v":0},{"$f":"'19'!D65","v":0},{"$f":"'19'!E65","v":0},{"$f":"'19'!F65","v":0}]
[null,5461,{"$f":"'19'!C66","v":0},{"$f":"'19'!D66","v":0},{"$f":"'19'!E66","v":0},{"$f":"'19'!F66","v":0}]
[null,5462,{"$f":"'19'!C67","v":0},{"$f":"'19'!D67","v":0},{"$f":"'19'!E67","v":0},{"$f":"'19'!F67","v":0}]
[null,5463,{"$f":"'19'!C68","v":0},{"$f":"'19'!D68","v":0},{"$f":"'19'!E68","v":0},{"$f":"'19'!F68","v":0}]
[null,5464,{"$f":"'19'!C69","v":0},{"$f":"'19'!D69","v":0},{"$f":"'19'!E69","v":0},{"$f":"'19'!F69","v":0}]
[null,5465,{"$f":"'19'!C70","v":0},{"$f":"'19'!D70","v":0},{"$f":"'19'!E70","v":0},{"$f":"'19'!F70","v":0}]
[null,5466,{"$f":"'19'!C71","v":0},{"$f":"'19'!D71","v":0},{"$f":"'19'!E71","v":0},{"$f":"'19'!F71","v":0}]
[null,5467,{"$f":"'19'!C72","v":0},{"$f":"'19'!D72","v":0},{"$f":"'19'!E72","v":0},{"$f":"'19'!F72","v":0}]
[null,5468,{"$f":"'19'!C73","v":0},{"$f":"'19'!D73","v":0},{"$f":"'19'!E73","v":0},{"$f":"'19'!F73","v":0}]
[null,5469,{"$f":"'19'!C74","v":0},{"$f":"'19'!D74","v":0},{"$f":"'19'!E74","v":0},{"$f":"'19'!F74","v":0}]
[null,5470,{"$f":"'19'!C75","v":0},{"$f":"'19'!D75","v":0},{"$f":"'19'!E75","v":0},{"$f":"'19'!F75","v":0}]
[null,5471,{"$f":"'19'!C76","v":0},{"$f":"'19'!D76","v":0},{"$f":"'19'!E76","v":0},{"$f":"'19'!F76","v":0}]
[null,5472,{"$f":"'19'!C77","v":0},{"$f":"'19'!D77","v":0},{"$f":"'19'!E77","v":0},{"$f":"'19'!F77","v":0}]
[null,5473,{"$f":"'19'!C78","v":0},{"$f":"'19'!D78","v":0},{"$f":"'19'!E78","v":0},{"$f":"'19'!F78","v":0}]
[null,5474,{"$f":"'19'!C79","v":0},{"$f":"'19'!D79","v":0},{"$f":"'19'!E79","v":0},{"$f":"'19'!F79","v":0}]
[null,5475,{"$f":"'19'!C80","v":0},{"$f":"'19'!D80","v":0},{"$f":"'19'!E80","v":0},{"$f":"'19'!F80","v":0}]
[null,5476,{"$f":"'19'!C81","v":0},{"$f":"'19'!D81","v":0},{"$f":"'19'!E81","v":0},{"$f":"'19'!F81","v":0}]
[null,5477,{"$f":"'19'!C82","v":0},{"$f":"'19'!D82","v":0},{"$f":"'19'!E82","v":0},{"$f":"'19'!F82","v":0}]
[null,5478,{"$f":"'19'!C83","v":0},{"$f":"'19'!D83","v":0},{"$f":"'19'!E83","v":0},{"$f":"'19'!F83","v":0}]
[null,5479,{"$f":"'19'!C84","v":0},{"$f":"'19'!D84","v":0},{"$f":"'19'!E84","v":0},{"$f":"'19'!F84","v":0}]
[null,5480,{"$f":"'19'!C85","v":0},{"$f":"'19'!D85","v":0},{"$f":"'19'!E85","v":0},{"$f":"'19'!F85","v":0}]
[null,5481,{"$f":"'19'!C86","v":0},{"$f":"'19'!D86","v":0},{"$f":"'19'!E86","v":0},{"$f":"'19'!F86","v":0}]
[null,5482,{"$f":"'19'!C87","v":0},{"$f":"'19'!D87","v":0},{"$f":"'19'!E87","v":0},{"$f":"'19'!F87","v":0}]
[null,5483,{"$f":"'19'!C88","v":0},{"$f":"'19'!D88","v":0},{"$f":"'19'!E88","v":0},{"$f":"'19'!F88","v":0}]
[null,5484,{"$f":"'19'!C89","v":0},{"$f":"'19'!D89","v":0},{"$f":"'19'!E89","v":0},{"$f":"'19'!F89","v":0}]
[null,5485,{"$f":"'19'!C90","v":0},{"$f":"'19'!D90","v":0},{"$f":"'19'!E90","v":0},{"$f":"'19'!F90","v":0}]
[null,5486,{"$f":"'19'!C91","v":0},{"$f":"'19'!D91","v":0},{"$f":"'19'!E91","v":0},{"$f":"'19'!F91","v":0}]
[null,5487,{"$f":"'19'!C92","v":0},{"$f":"'19'!D92","v":0},{"$f":"'19'!E92","v":0},{"$f":"'19'!F92","v":0}]
[null,5488,{"$f":"'19'!C93","v":0},{"$f":"'19'!D93","v":0},{"$f":"'19'!E93","v":0},{"$f":"'19'!F93","v":0}]
[null,5489,{"$f":"'19'!C94","v":0},{"$f":"'19'!D94","v":0},{"$f":"'19'!E94","v":0},{"$f":"'19'!F94","v":0}]
[null,5490,{"$f":"'19'!C95","v":0},{"$f":"'19'!D95","v":0},{"$f":"'19'!E95","v":0},{"$f":"'19'!F95","v":0}]
[null,5491,{"$f":"'19'!C96","v":0},{"$f":"'19'!D96","v":0},{"$f":"'19'!E96","v":0},{"$f":"'19'!F96","v":0}]
[null,5492,{"$f":"'19'!C97","v":0},{"$f":"'19'!D97","v":0},{"$f":"'19'!E97","v":0},{"$f":"'19'!F97","v":0}]
[null,5493,{"$f":"'19'!C98","v":0},{"$f":"'19'!D98","v":0},{"$f":"'19'!E98","v":0},{"$f":"'19'!F98","v":0}]
[null,5494,{"$f":"'19'!C99","v":0},{"$f":"'19'!D99","v":0},{"$f":"'19'!E99","v":0},{"$f":"'19'!F99","v":0}]
[null,5495,{"$f":"'19'!C100","v":0},{"$f":"'19'!D100","v":0},{"$f":"'19'!E100","v":0},{"$f":"'19'!F100","v":0}]
[null,5496,{"$f":"'19'!C101","v":0},{"$f":"'19'!D101","v":0},{"$f":"'19'!E101","v":0},{"$f":"'19'!F101","v":0}]
[null,5497,{"$f":"'19'!C102","v":0},{"$f":"'19'!D102","v":0},{"$f":"'19'!E102","v":0},{"$f":"'19'!F102","v":0}]
[null,5498,{"$f":"'19'!C103","v":0},{"$f":"'19'!D103","v":0},{"$f":"'19'!E103","v":0},{"$f":"'19'!F103","v":0}]
[null,5499,{"$f":"'19'!C104","v":0},{"$f":"'19'!D104","v":0},{"$f":"'19'!E104","v":0},{"$f":"'19'!F104","v":0}]
[null,5500,{"$f":"'19'!C105","v":0},{"$f":"'19'!D105","v":0},{"$f":"'19'!E105","v":0},{"$f":"'19'!F105","v":0}]
[null,5501,{"$f":"'19'!C106","v":0},{"$f":"'19'!D106","v":0},{"$f":"'19'!E106","v":0},{"$f":"'19'!F106","v":0}]
[null,5502,{"$f":"'19'!C107","v":0},{"$f":"'19'!D107","v":0},{"$f":"'19'!E107","v":0},{"$f":"'19'!F107","v":0}]
[null,5503,{"$f":"'19'!C108","v":0},{"$f":"'19'!D108","v":0},{"$f":"'19'!E108","v":0},{"$f":"'19'!F108","v":0}]
[null,5504,{"$f":"'19'!C109","v":0},{"$f":"'19'!D109","v":0},{"$f":"'19'!E109","v":0},{"$f":"'19'!F109","v":0}]
[null,5505,{"$f":"'19'!C110","v":0},{"$f":"'19'!D110","v":0},{"$f":"'19'!E110","v":0},{"$f":"'19'!F110","v":0}]
[null,5506,{"$f":"'19'!C111","v":0},{"$f":"'19'!D111","v":0},{"$f":"'19'!E111","v":0},{"$f":"'19'!F111","v":0}]
[null,5507,{"$f":"'19'!C112","v":0},{"$f":"'19'!D112","v":0},{"$f":"'19'!E112","v":0},{"$f":"'19'!F112","v":0}]
[null,5508,{"$f":"'19'!C113","v":0},{"$f":"'19'!D113","v":0},{"$f":"'19'!E113","v":0},{"$f":"'19'!F113","v":0}]
[null,5509,{"$f":"'19'!C114","v":0},{"$f":"'19'!D114","v":0},{"$f":"'19'!E114","v":0},{"$f":"'19'!F114","v":0}]
[null,5510,{"$f":"'19'!C115","v":0},{"$f":"'19'!D115","v":0},{"$f":"'19'!E115","v":0},{"$f":"'19'!F115","v":0}]
[null,5511,{"$f":"'19'!C116","v":0},{"$f":"'19'!D116","v":0},{"$f":"'19'!E116","v":0},{"$f":"'19'!F116","v":0}]
[null,5512,{"$f":"'19'!C117","v":0},{"$f":"'19'!D117","v":0},{"$f":"'19'!E117","v":0},{"$f":"'19'!F117","v":0}]
[null,5513,{"$f":"'19'!C118","v":0},{"$f":"'19'!D118","v":0},{"$f":"'19'!E118","v":0},{"$f":"'19'!F118","v":0}]
[null,5514,{"$f":"'19'!C119","v":0},{"$f":"'19'!D119","v":0},{"$f":"'19'!E119","v":0},{"$f":"'19'!F119","v":0}]
[null,5515,{"$f":"'19'!C120","v":0},{"$f":"'19'!D120","v":0},{"$f":"'19'!E120","v":0},{"$f":"'19'!F120","v":0}]
[null,5516,{"$f":"'19'!C121","v":0},{"$f":"'19'!D121","v":0},{"$f":"'19'!E121","v":0},{"$f":"'19'!F121","v":0}]
[null,5517,{"$f":"'19'!C122","v":0},{"$f":"'19'!D122","v":0},{"$f":"'19'!E122","v":0},{"$f":"'19'!F122","v":0}]
[null,5518,{"$f":"'19'!C123","v":0},{"$f":"'19'!D123","v":0},{"$f":"'19'!E123","v":0},{"$f":"'19'!F123","v":0}]
[null,5519,{"$f":"'19'!C124","v":0},{"$f":"'19'!D124","v":0},{"$f":"'19'!E124","v":0},{"$f":"'19'!F124","v":0}]
[null,5520,{"$f":"'19'!C125","v":0},{"$f":"'19'!D125","v":0},{"$f":"'19'!E125","v":0},{"$f":"'19'!F125","v":0}]
[null,5521,{"$f":"'19'!C126","v":0},{"$f":"'19'!D126","v":0},{"$f":"'19'!E126","v":0},{"$f":"'19'!F126","v":0}]
[null,5522,{"$f":"'19'!C127","v":0},{"$f":"'19'!D127","v":0},{"$f":"'19'!E127","v":0},{"$f":"'19'!F127","v":0}]
[null,5523,{"$f":"'19'!C128","v":0},{"$f":"'19'!D128","v":0},{"$f":"'19'!E128","v":0},{"$f":"'19'!F128","v":0}]
[null,5524,{"$f":"'19'!C129","v":0},{"$f":"'19'!D129","v":0},{"$f":"'19'!E129","v":0},{"$f":"'19'!F129","v":0}]
[null,5525,{"$f":"'19'!C130","v":0},{"$f":"'19'!D130","v":0},{"$f":"'19'!E130","v":0},{"$f":"'19'!F130","v":0}]
[null,5526,{"$f":"'19'!C131","v":0},{"$f":"'19'!D131","v":0},{"$f":"'19'!E131","v":0},{"$f":"'19'!F131","v":0}]
[null,5527,{"$f":"'19'!C132","v":0},{"$f":"'19'!D132","v":0},{"$f":"'19'!E132","v":0},{"$f":"'19'!F132","v":0}]
[null,5528,{"$f":"'19'!C133","v":0},{"$f":"'19'!D133","v":0},{"$f":"'19'!E133","v":0},{"$f":"'19'!F133","v":0}]
[null,5529,{"$f":"'19'!C134","v":0},{"$f":"'19'!D134","v":0},{"$f":"'19'!E134","v":0},{"$f":"'19'!F134","v":0}]
[null,5530,{"$f":"'19'!C135","v":0},{"$f":"'19'!D135","v":0},{"$f":"'19'!E135","v":0},{"$f":"'19'!F135","v":0}]
[null,5531,{"$f":"'19'!C136","v":0},{"$f":"'19'!D136","v":0},{"$f":"'19'!E136","v":0},{"$f":"'19'!F136","v":0}]
[null,5532,{"$f":"'19'!C137","v":0},{"$f":"'19'!D137","v":0},{"$f":"'19'!E137","v":0},{"$f":"'19'!F137","v":0}]
[null,5533,{"$f":"'19'!C138","v":0},{"$f":"'19'!D138","v":0},{"$f":"'19'!E138","v":0},{"$f":"'19'!F138","v":0}]
[null,5534,{"$f":"'19'!C139","v":0},{"$f":"'19'!D139","v":0},{"$f":"'19'!E139","v":0},{"$f":"'19'!F139","v":0}]
[null,5535,{"$f":"'19'!C140","v":0},{"$f":"'19'!D140","v":0},{"$f":"'19'!E140","v":0},{"$f":"'19'!F140","v":0}]
[null,5536,{"$f":"'19'!C141","v":0},{"$f":"'19'!D141","v":0},{"$f":"'19'!E141","v":0},{"$f":"'19'!F141","v":0}]
[null,5537,{"$f":"'19'!C142","v":0},{"$f":"'19'!D142","v":0},{"$f":"'19'!E142","v":0},{"$f":"'19'!F142","v":0}]
[null,5538,{"$f":"'19'!C143","v":0},{"$f":"'19'!D143","v":0},{"$f":"'19'!E143","v":0},{"$f":"'19'!F143","v":0}]
[null,5539,{"$f":"'19'!C144","v":0},{"$f":"'19'!D144","v":0},{"$f":"'19'!E144","v":0},{"$f":"'19'!F144","v":0}]
[null,5540,{"$f":"'19'!C145","v":0},{"$f":"'19'!D145","v":0},{"$f":"'19'!E145","v":0},{"$f":"'19'!F145","v":0}]
[null,5541,{"$f":"'19'!C146","v":0},{"$f":"'19'!D146","v":0},{"$f":"'19'!E146","v":0},{"$f":"'19'!F146","v":0}]
[null,5542,{"$f":"'19'!C147","v":0},{"$f":"'19'!D147","v":0},{"$f":"'19'!E147","v":0},{"$f":"'19'!F147","v":0}]
[null,5543,{"$f":"'19'!C148","v":0},{"$f":"'19'!D148","v":0},{"$f":"'19'!E148","v":0},{"$f":"'19'!F148","v":0}]
[null,5544,{"$f":"'19'!C149","v":0},{"$f":"'19'!D149","v":0},{"$f":"'19'!E149","v":0},{"$f":"'19'!F149","v":0}]
[null,5545,{"$f":"'19'!C150","v":0},{"$f":"'19'!D150","v":0},{"$f":"'19'!E150","v":0},{"$f":"'19'!F150","v":0}]
[null,5546,{"$f":"'19'!C151","v":0},{"$f":"'19'!D151","v":0},{"$f":"'19'!E151","v":0},{"$f":"'19'!F151","v":0}]
[null,5547,{"$f":"'19'!C152","v":0},{"$f":"'19'!D152","v":0},{"$f":"'19'!E152","v":0},{"$f":"'19'!F152","v":0}]
[null,5548,{"$f":"'19'!C153","v":0},{"$f":"'19'!D153","v":0},{"$f":"'19'!E153","v":0},{"$f":"'19'!F153","v":0}]
[null,5549,{"$f":"'19'!C154","v":0},{"$f":"'19'!D154","v":0},{"$f":"'19'!E154","v":0},{"$f":"'19'!F154","v":0}]
[null,5550,{"$f":"'19'!C155","v":0},{"$f":"'19'!D155","v":0},{"$f":"'19'!E155","v":0},{"$f":"'19'!F155","v":0}]
[null,5551,{"$f":"'19'!C156","v":0},{"$f":"'19'!D156","v":0},{"$f":"'19'!E156","v":0},{"$f":"'19'!F156","v":0}]
[null,5552,{"$f":"'19'!C157","v":0},{"$f":"'19'!D157","v":0},{"$f":"'19'!E157","v":0},{"$f":"'19'!F157","v":0}]
[null,5553,{"$f":"'19'!C158","v":0},{"$f":"'19'!D158","v":0},{"$f":"'19'!E158","v":0},{"$f":"'19'!F158","v":0}]
[null,5554,{"$f":"'19'!C159","v":0},{"$f":"'19'!D159","v":0},{"$f":"'19'!E159","v":0},{"$f":"'19'!F159","v":0}]
[null,5555,{"$f":"'19'!C160","v":0},{"$f":"'19'!D160","v":0},{"$f":"'19'!E160","v":0},{"$f":"'19'!F160","v":0}]
[null,5556,{"$f":"'19'!C161","v":0},{"$f":"'19'!D161","v":0},{"$f":"'19'!E161","v":0},{"$f":"'19'!F161","v":0}]
[null,5557,{"$f":"'19'!C162","v":0},{"$f":"'19'!D162","v":0},{"$f":"'19'!E162","v":0},{"$f":"'19'!F162","v":0}]
[null,5558,{"$f":"'19'!C163","v":0},{"$f":"'19'!D163","v":0},{"$f":"'19'!E163","v":0},{"$f":"'19'!F163","v":0}]
[null,5559,{"$f":"'19'!C164","v":0},{"$f":"'19'!D164","v":0},{"$f":"'19'!E164","v":0},{"$f":"'19'!F164","v":0}]
[null,5560,{"$f":"'19'!C165","v":0},{"$f":"'19'!D165","v":0},{"$f":"'19'!E165","v":0},{"$f":"'19'!F165","v":0}]
[null,5561,{"$f":"'19'!C166","v":0},{"$f":"'19'!D166","v":0},{"$f":"'19'!E166","v":0},{"$f":"'19'!F166","v":0}]
[null,5562,{"$f":"'19'!C167","v":0},{"$f":"'19'!D167","v":0},{"$f":"'19'!E167","v":0},{"$f":"'19'!F167","v":0}]
[null,5563,{"$f":"'19'!C168","v":0},{"$f":"'19'!D168","v":0},{"$f":"'19'!E168","v":0},{"$f":"'19'!F168","v":0}]
[null,5564,{"$f":"'19'!C169","v":0},{"$f":"'19'!D169","v":0},{"$f":"'19'!E169","v":0},{"$f":"'19'!F169","v":0}]
[null,5565,{"$f":"'19'!C170","v":0},{"$f":"'19'!D170","v":0},{"$f":"'19'!E170","v":0},{"$f":"'19'!F170","v":0}]
[null,5566,{"$f":"'19'!C171","v":0},{"$f":"'19'!D171","v":0},{"$f":"'19'!E171","v":0},{"$f":"'19'!F171","v":0}]
[null,5567,{"$f":"'19'!C172","v":0},{"$f":"'19'!D172","v":0},{"$f":"'19'!E172","v":0},{"$f":"'19'!F172","v":0}]
[null,5568,{"$f":"'19'!C173","v":0},{"$f":"'19'!D173","v":0},{"$f":"'19'!E173","v":0},{"$f":"'19'!F173","v":0}]
[null,5569,{"$f":"'19'!C174","v":0},{"$f":"'19'!D174","v":0},{"$f":"'19'!E174","v":0},{"$f":"'19'!F174","v":0}]
[null,5570,{"$f":"'19'!C175","v":0},{"$f":"'19'!D175","v":0},{"$f":"'19'!E175","v":0},{"$f":"'19'!F175","v":0}]
[null,5571,{"$f":"'19'!C176","v":0},{"$f":"'19'!D176","v":0},{"$f":"'19'!E176","v":0},{"$f":"'19'!F176","v":0}]
[null,5572,{"$f":"'19'!C177","v":0},{"$f":"'19'!D177","v":0},{"$f":"'19'!E177","v":0},{"$f":"'19'!F177","v":0}]
[null,5573,{"$f":"'19'!C178","v":0},{"$f":"'19'!D178","v":0},{"$f":"'19'!E178","v":0},{"$f":"'19'!F178","v":0}]
[null,5574,{"$f":"'19'!C179","v":0},{"$f":"'19'!D179","v":0},{"$f":"'19'!E179","v":0},{"$f":"'19'!F179","v":0}]
[null,5575,{"$f":"'19'!C180","v":0},{"$f":"'19'!D180","v":0},{"$f":"'19'!E180","v":0},{"$f":"'19'!F180","v":0}]
[null,5576,{"$f":"'19'!C181","v":0},{"$f":"'19'!D181","v":0},{"$f":"'19'!E181","v":0},{"$f":"'19'!F181","v":0}]
[null,5577,{"$f":"'19'!C182","v":0},{"$f":"'19'!D182","v":0},{"$f":"'19'!E182","v":0},{"$f":"'19'!F182","v":0}]
[null,5578,{"$f":"'19'!C183","v":0},{"$f":"'19'!D183","v":0},{"$f":"'19'!E183","v":0},{"$f":"'19'!F183","v":0}]
[null,5579,{"$f":"'19'!C184","v":0},{"$f":"'19'!D184","v":0},{"$f":"'19'!E184","v":0},{"$f":"'19'!F184","v":0}]
[null,5580,{"$f":"'19'!C185","v":0},{"$f":"'19'!D185","v":0},{"$f":"'19'!E185","v":0},{"$f":"'19'!F185","v":0}]
[null,5581,{"$f":"'19'!C186","v":0},{"$f":"'19'!D186","v":0},{"$f":"'19'!E186","v":0},{"$f":"'19'!F186","v":0}]
[null,5582,{"$f":"'19'!C187","v":0},{"$f":"'19'!D187","v":0},{"$f":"'19'!E187","v":0},{"$f":"'19'!F187","v":0}]
[null,5583,{"$f":"'19'!C188","v":0},{"$f":"'19'!D188","v":0},{"$f":"'19'!E188","v":0},{"$f":"'19'!F188","v":0}]
[null,5584,{"$f":"'19'!C189","v":0},{"$f":"'19'!D189","v":0},{"$f":"'19'!E189","v":0},{"$f":"'19'!F189","v":0}]
[null,5585,{"$f":"'19'!C190","v":0},{"$f":"'19'!D190","v":0},{"$f":"'19'!E190","v":0},{"$f":"'19'!F190","v":0}]
[null,5586,{"$f":"'19'!C191","v":0},{"$f":"'19'!D191","v":0},{"$f":"'19'!E191","v":0},{"$f":"'19'!F191","v":0}]
[null,5587,{"$f":"'19'!C192","v":0},{"$f":"'19'!D192","v":0},{"$f":"'19'!E192","v":0},{"$f":"'19'!F192","v":0}]
[null,5588,{"$f":"'19'!C193","v":0},{"$f":"'19'!D193","v":0},{"$f":"'19'!E193","v":0},{"$f":"'19'!F193","v":0}]
[null,5589,{"$f":"'19'!C194","v":0},{"$f":"'19'!D194","v":0},{"$f":"'19'!E194","v":0},{"$f":"'19'!F194","v":0}]
[null,5590,{"$f":"'19'!C195","v":0},{"$f":"'19'!D195","v":0},{"$f":"'19'!E195","v":0},{"$f":"'19'!F195","v":0}]
[null,5591,{"$f":"'19'!C196","v":0},{"$f":"'19'!D196","v":0},{"$f":"'19'!E196","v":0},{"$f":"'19'!F196","v":0}]
[null,5592,{"$f":"'19'!C197","v":0},{"$f":"'19'!D197","v":0},{"$f":"'19'!E197","v":0},{"$f":"'19'!F197","v":0}]
[null,5593,{"$f":"'19'!C198","v":0},{"$f":"'19'!D198","v":0},{"$f":"'19'!E198","v":0},{"$f":"'19'!F198","v":0}]
[null,5594,{"$f":"'19'!C199","v":0},{"$f":"'19'!D199","v":0},{"$f":"'19'!E199","v":0},{"$f":"'19'!F199","v":0}]
[null,5595,{"$f":"'19'!C200","v":0},{"$f":"'19'!D200","v":0},{"$f":"'19'!E200","v":0},{"$f":"'19'!F200","v":0}]
[null,5596,{"$f":"'19'!C201","v":0},{"$f":"'19'!D201","v":0},{"$f":"'19'!E201","v":0},{"$f":"'19'!F201","v":0}]
[null,5597,{"$f":"'19'!C202","v":0},{"$f":"'19'!D202","v":0},{"$f":"'19'!E202","v":0},{"$f":"'19'!F202","v":0}]
[null,5598,{"$f":"'19'!C203","v":0},{"$f":"'19'!D203","v":0},{"$f":"'19'!E203","v":0},{"$f":"'19'!F203","v":0}]
[null,5599,{"$f":"'19'!C204","v":0},{"$f":"'19'!D204","v":0},{"$f":"'19'!E204","v":0},{"$f":"'19'!F204","v":0}]
[null,5600,{"$f":"'19'!C205","v":0},{"$f":"'19'!D205","v":0},{"$f":"'19'!E205","v":0},{"$f":"'19'!F205","v":0}]
[null,5601,{"$f":"'19'!C206","v":0},{"$f":"'19'!D206","v":0},{"$f":"'19'!E206","v":0},{"$f":"'19'!F206","v":0}]
[null,5602,{"$f":"'19'!C207","v":0},{"$f":"'19'!D207","v":0},{"$f":"'19'!E207","v":0},{"$f":"'19'!F207","v":0}]
[null,5603,{"$f":"'19'!C208","v":0},{"$f":"'19'!D208","v":0},{"$f":"'19'!E208","v":0},{"$f":"'19'!F208","v":0}]
[null,5604,{"$f":"'19'!C209","v":0},{"$f":"'19'!D209","v":0},{"$f":"'19'!E209","v":0},{"$f":"'19'!F209","v":0}]
[null,5605,{"$f":"'19'!C210","v":0},{"$f":"'19'!D210","v":0},{"$f":"'19'!E210","v":0},{"$f":"'19'!F210","v":0}]
[null,5606,{"$f":"'19'!C211","v":0},{"$f":"'19'!D211","v":0},{"$f":"'19'!E211","v":0},{"$f":"'19'!F211","v":0}]
[null,5607,{"$f":"'19'!C212","v":0},{"$f":"'19'!D212","v":0},{"$f":"'19'!E212","v":0},{"$f":"'19'!F212","v":0}]
[null,5608,{"$f":"'19'!C213","v":0},{"$f":"'19'!D213","v":0},{"$f":"'19'!E213","v":0},{"$f":"'19'!F213","v":0}]
[null,5609,{"$f":"'19'!C214","v":0},{"$f":"'19'!D214","v":0},{"$f":"'19'!E214","v":0},{"$f":"'19'!F214","v":0}]
[null,5610,{"$f":"'19'!C215","v":0},{"$f":"'19'!D215","v":0},{"$f":"'19'!E215","v":0},{"$f":"'19'!F215","v":0}]
[null,5611,{"$f":"'19'!C216","v":0},{"$f":"'19'!D216","v":0},{"$f":"'19'!E216","v":0},{"$f":"'19'!F216","v":0}]
[null,5612,{"$f":"'19'!C217","v":0},{"$f":"'19'!D217","v":0},{"$f":"'19'!E217","v":0},{"$f":"'19'!F217","v":0}]
[null,5613,{"$f":"'19'!C218","v":0},{"$f":"'19'!D218","v":0},{"$f":"'19'!E218","v":0},{"$f":"'19'!F218","v":0}]
[null,5614,{"$f":"'19'!C219","v":0},{"$f":"'19'!D219","v":0},{"$f":"'19'!E219","v":0},{"$f":"'19'!F219","v":0}]
[null,5615,{"$f":"'19'!C220","v":0},{"$f":"'19'!D220","v":0},{"$f":"'19'!E220","v":0},{"$f":"'19'!F220","v":0}]
[null,5616,{"$f":"'19'!C221","v":0},{"$f":"'19'!D221","v":0},{"$f":"'19'!E221","v":0},{"$f":"'19'!F221","v":0}]
[null,5617,{"$f":"'19'!C222","v":0},{"$f":"'19'!D222","v":0},{"$f":"'19'!E222","v":0},{"$f":"'19'!F222","v":0}]
[null,5618,{"$f":"'19'!C223","v":0},{"$f":"'19'!D223","v":0},{"$f":"'19'!E223","v":0},{"$f":"'19'!F223","v":0}]
[null,5619,{"$f":"'19'!C224","v":0},{"$f":"'19'!D224","v":0},{"$f":"'19'!E224","v":0},{"$f":"'19'!F224","v":0}]
[null,5620,{"$f":"'19'!C225","v":0},{"$f":"'19'!D225","v":0},{"$f":"'19'!E225","v":0},{"$f":"'19'!F225","v":0}]
[null,5621,{"$f":"'19'!C226","v":0},{"$f":"'19'!D226","v":0},{"$f":"'19'!E226","v":0},{"$f":"'19'!F226","v":0}]
[null,5622,{"$f":"'19'!C227","v":0},{"$f":"'19'!D227","v":0},{"$f":"'19'!E227","v":0},{"$f":"'19'!F227","v":0}]
[null,5623,{"$f":"'19'!C228","v":0},{"$f":"'19'!D228","v":0},{"$f":"'19'!E228","v":0},{"$f":"'19'!F228","v":0}]
[null,5624,{"$f":"'19'!C229","v":0},{"$f":"'19'!D229","v":0},{"$f":"'19'!E229","v":0},{"$f":"'19'!F229","v":0}]
[null,5625,{"$f":"'19'!C230","v":0},{"$f":"'19'!D230","v":0},{"$f":"'19'!E230","v":0},{"$f":"'19'!F230","v":0}]
[null,5626,{"$f":"'19'!C231","v":0},{"$f":"'19'!D231","v":0},{"$f":"'19'!E231","v":0},{"$f":"'19'!F231","v":0}]
[null,5627,{"$f":"'19'!C232","v":0},{"$f":"'19'!D232","v":0},{"$f":"'19'!E232","v":0},{"$f":"'19'!F232","v":0}]
[null,5628,{"$f":"'19'!C233","v":0},{"$f":"'19'!D233","v":0},{"$f":"'19'!E233","v":0},{"$f":"'19'!F233","v":0}]
[null,5629,{"$f":"'19'!C234","v":0},{"$f":"'19'!D234","v":0},{"$f":"'19'!E234","v":0},{"$f":"'19'!F234","v":0}]
[null,5630,{"$f":"'19'!C235","v":0},{"$f":"'19'!D235","v":0},{"$f":"'19'!E235","v":0},{"$f":"'19'!F235","v":0}]
[null,5631,{"$f":"'19'!C236","v":0},{"$f":"'19'!D236","v":0},{"$f":"'19'!E236","v":0},{"$f":"'19'!F236","v":0}]
[null,5632,{"$f":"'19'!C237","v":0},{"$f":"'19'!D237","v":0},{"$f":"'19'!E237","v":0},{"$f":"'19'!F237","v":0}]
[null,5633,{"$f":"'19'!C238","v":0},{"$f":"'19'!D238","v":0},{"$f":"'19'!E238","v":0},{"$f":"'19'!F238","v":0}]
[null,5634,{"$f":"'19'!C239","v":0},{"$f":"'19'!D239","v":0},{"$f":"'19'!E239","v":0},{"$f":"'19'!F239","v":0}]
[null,5635,{"$f":"'19'!C240","v":0},{"$f":"'19'!D240","v":0},{"$f":"'19'!E240","v":0},{"$f":"'19'!F240","v":0}]
[null,5636,{"$f":"'19'!C241","v":0},{"$f":"'19'!D241","v":0},{"$f":"'19'!E241","v":0},{"$f":"'19'!F241","v":0}]
[null,5637,{"$f":"'19'!C242","v":0},{"$f":"'19'!D242","v":0},{"$f":"'19'!E242","v":0},{"$f":"'19'!F242","v":0}]
[null,5638,{"$f":"'19'!C243","v":0},{"$f":"'19'!D243","v":0},{"$f":"'19'!E243","v":0},{"$f":"'19'!F243","v":0}]
[null,5639,{"$f":"'19'!C244","v":0},{"$f":"'19'!D244","v":0},{"$f":"'19'!E244","v":0},{"$f":"'19'!F244","v":0}]
[null,5640,{"$f":"'19'!C245","v":0},{"$f":"'19'!D245","v":0},{"$f":"'19'!E245","v":0},{"$f":"'19'!F245","v":0}]
[null,5641,{"$f":"'19'!C246","v":0},{"$f":"'19'!D246","v":0},{"$f":"'19'!E246","v":0},{"$f":"'19'!F246","v":0}]
[null,5642,{"$f":"'19'!C247","v":0},{"$f":"'19'!D247","v":0},{"$f":"'19'!E247","v":0},{"$f":"'19'!F247","v":0}]
[null,5643,{"$f":"'19'!C248","v":0},{"$f":"'19'!D248","v":0},{"$f":"'19'!E248","v":0},{"$f":"'19'!F248","v":0}]
[null,5644,{"$f":"'19'!C249","v":0},{"$f":"'19'!D249","v":0},{"$f":"'19'!E249","v":0},{"$f":"'19'!F249","v":0}]
[null,5645,{"$f":"'19'!C250","v":0},{"$f":"'19'!D250","v":0},{"$f":"'19'!E250","v":0},{"$f":"'19'!F250","v":0}]
[null,5646,{"$f":"'19'!C251","v":0},{"$f":"'19'!D251","v":0},{"$f":"'19'!E251","v":0},{"$f":"'19'!F251","v":0}]
[null,5647,{"$f":"'19'!C252","v":0},{"$f":"'19'!D252","v":0},{"$f":"'19'!E252","v":0},{"$f":"'19'!F252","v":0}]
[null,5648,{"$f":"'19'!C253","v":0},{"$f":"'19'!D253","v":0},{"$f":"'19'!E253","v":0},{"$f":"'19'!F253","v":0}]
[null,5649,{"$f":"'19'!C254","v":0},{"$f":"'19'!D254","v":0},{"$f":"'19'!E254","v":0},{"$f":"'19'!F254","v":0}]
[null,5650,{"$f":"'19'!C255","v":0},{"$f":"'19'!D255","v":0},{"$f":"'19'!E255","v":0},{"$f":"'19'!F255","v":0}]
[null,5651,{"$f":"'19'!C256","v":0},{"$f":"'19'!D256","v":0},{"$f":"'19'!E256","v":0},{"$f":"'19'!F256","v":0}]
[null,5652,{"$f":"'19'!C257","v":0},{"$f":"'19'!D257","v":0},{"$f":"'19'!E257","v":0},{"$f":"'19'!F257","v":0}]
[null,5653,{"$f":"'19'!C258","v":0},{"$f":"'19'!D258","v":0},{"$f":"'19'!E258","v":0},{"$f":"'19'!F258","v":0}]
[null,5654,{"$f":"'19'!C259","v":0},{"$f":"'19'!D259","v":0},{"$f":"'19'!E259","v":0},{"$f":"'19'!F259","v":0}]
[null,5655,{"$f":"'19'!C260","v":0},{"$f":"'19'!D260","v":0},{"$f":"'19'!E260","v":0},{"$f":"'19'!F260","v":0}]
[null,5656,{"$f":"'19'!C261","v":0},{"$f":"'19'!D261","v":0},{"$f":"'19'!E261","v":0},{"$f":"'19'!F261","v":0}]
[null,5657,{"$f":"'19'!C262","v":0},{"$f":"'19'!D262","v":0},{"$f":"'19'!E262","v":0},{"$f":"'19'!F262","v":0}]
[null,5658,{"$f":"'19'!C263","v":0},{"$f":"'19'!D263","v":0},{"$f":"'19'!E263","v":0},{"$f":"'19'!F263","v":0}]
[null,5659,{"$f":"'19'!C264","v":0},{"$f":"'19'!D264","v":0},{"$f":"'19'!E264","v":0},{"$f":"'19'!F264","v":0}]
[null,5660,{"$f":"'19'!C265","v":0},{"$f":"'19'!D265","v":0},{"$f":"'19'!E265","v":0},{"$f":"'19'!F265","v":0}]
[null,5661,{"$f":"'19'!C266","v":0},{"$f":"'19'!D266","v":0},{"$f":"'19'!E266","v":0},{"$f":"'19'!F266","v":0}]
[null,5662,{"$f":"'19'!C267","v":0},{"$f":"'19'!D267","v":0},{"$f":"'19'!E267","v":0},{"$f":"'19'!F267","v":0}]
[null,5663,{"$f":"'19'!C268","v":0},{"$f":"'19'!D268","v":0},{"$f":"'19'!E268","v":0},{"$f":"'19'!F268","v":0}]
[null,5664,{"$f":"'19'!C269","v":0},{"$f":"'19'!D269","v":0},{"$f":"'19'!E269","v":0},{"$f":"'19'!F269","v":0}]
[null,5665,{"$f":"'19'!C270","v":0},{"$f":"'19'!D270","v":0},{"$f":"'19'!E270","v":0},{"$f":"'19'!F270","v":0}]
[null,5666,{"$f":"'19'!C271","v":0},{"$f":"'19'!D271","v":0},{"$f":"'19'!E271","v":0},{"$f":"'19'!F271","v":0}]
[null,5667,{"$f":"'19'!C272","v":0},{"$f":"'19'!D272","v":0},{"$f":"'19'!E272","v":0},{"$f":"'19'!F272","v":0}]
[null,5668,{"$f":"'19'!C273","v":0},{"$f":"'19'!D273","v":0},{"$f":"'19'!E273","v":0},{"$f":"'19'!F273","v":0}]
[null,5669,{"$f":"'19'!C274","v":0},{"$f":"'19'!D274","v":0},{"$f":"'19'!E274","v":0},{"$f":"'19'!F274","v":0}]
[null,5670,{"$f":"'19'!C275","v":0},{"$f":"'19'!D275","v":0},{"$f":"'19'!E275","v":0},{"$f":"'19'!F275","v":0}]
[null,5671,{"$f":"'19'!C276","v":0},{"$f":"'19'!D276","v":0},{"$f":"'19'!E276","v":0},{"$f":"'19'!F276","v":0}]
[null,5672,{"$f":"'19'!C277","v":0},{"$f":"'19'!D277","v":0},{"$f":"'19'!E277","v":0},{"$f":"'19'!F277","v":0}]
[null,5673,{"$f":"'19'!C278","v":0},{"$f":"'19'!D278","v":0},{"$f":"'19'!E278","v":0},{"$f":"'19'!F278","v":0}]
[null,5674,{"$f":"'19'!C279","v":0},{"$f":"'19'!D279","v":0},{"$f":"'19'!E279","v":0},{"$f":"'19'!F279","v":0}]
[null,5675,{"$f":"'19'!C280","v":0},{"$f":"'19'!D280","v":0},{"$f":"'19'!E280","v":0},{"$f":"'19'!F280","v":0}]
[null,5676,{"$f":"'19'!C281","v":0},{"$f":"'19'!D281","v":0},{"$f":"'19'!E281","v":0},{"$f":"'19'!F281","v":0}]
[null,5677,{"$f":"'19'!C282","v":0},{"$f":"'19'!D282","v":0},{"$f":"'19'!E282","v":0},{"$f":"'19'!F282","v":0}]
[null,5678,{"$f":"'19'!C283","v":0},{"$f":"'19'!D283","v":0},{"$f":"'19'!E283","v":0},{"$f":"'19'!F283","v":0}]
[null,5679,{"$f":"'19'!C284","v":0},{"$f":"'19'!D284","v":0},{"$f":"'19'!E284","v":0},{"$f":"'19'!F284","v":0}]
[null,5680,{"$f":"'19'!C285","v":0},{"$f":"'19'!D285","v":0},{"$f":"'19'!E285","v":0},{"$f":"'19'!F285","v":0}]
[null,5681,{"$f":"'19'!C286","v":0},{"$f":"'19'!D286","v":0},{"$f":"'19'!E286","v":0},{"$f":"'19'!F286","v":0}]
[null,5682,{"$f":"'19'!C287","v":0},{"$f":"'19'!D287","v":0},{"$f":"'19'!E287","v":0},{"$f":"'19'!F287","v":0}]
[null,5683,{"$f":"'19'!C288","v":0},{"$f":"'19'!D288","v":0},{"$f":"'19'!E288","v":0},{"$f":"'19'!F288","v":0}]
[null,5684,{"$f":"'19'!C289","v":0},{"$f":"'19'!D289","v":0},{"$f":"'19'!E289","v":0},{"$f":"'19'!F289","v":0}]
[null,5685,{"$f":"'19'!C290","v":0},{"$f":"'19'!D290","v":0},{"$f":"'19'!E290","v":0},{"$f":"'19'!F290","v":0}]
[null,5686,{"$f":"'19'!C291","v":0},{"$f":"'19'!D291","v":0},{"$f":"'19'!E291","v":0},{"$f":"'19'!F291","v":0}]
[null,5687,{"$f":"'19'!C292","v":0},{"$f":"'19'!D292","v":0},{"$f":"'19'!E292","v":0},{"$f":"'19'!F292","v":0}]
[null,5688,{"$f":"'19'!C293","v":0},{"$f":"'19'!D293","v":0},{"$f":"'19'!E293","v":0},{"$f":"'19'!F293","v":0}]
[null,5689,{"$f":"'19'!C294","v":0},{"$f":"'19'!D294","v":0},{"$f":"'19'!E294","v":0},{"$f":"'19'!F294","v":0}]
[null,5690,{"$f":"'19'!C295","v":0},{"$f":"'19'!D295","v":0},{"$f":"'19'!E295","v":0},{"$f":"'19'!F295","v":0}]
[null,5691,{"$f":"'19'!C296","v":0},{"$f":"'19'!D296","v":0},{"$f":"'19'!E296","v":0},{"$f":"'19'!F296","v":0}]
[null,5692,{"$f":"'19'!C297","v":0},{"$f":"'19'!D297","v":0},{"$f":"'19'!E297","v":0},{"$f":"'19'!F297","v":0}]
[null,5693,{"$f":"'19'!C298","v":0},{"$f":"'19'!D298","v":0},{"$f":"'19'!E298","v":0},{"$f":"'19'!F298","v":0}]
[null,5694,{"$f":"'19'!C299","v":0},{"$f":"'19'!D299","v":0},{"$f":"'19'!E299","v":0},{"$f":"'19'!F299","v":0}]
[null,5695,{"$f":"'19'!C300","v":0},{"$f":"'19'!D300","v":0},{"$f":"'19'!E300","v":0},{"$f":"'19'!F300","v":0}]
[null,5696,{"$f":"'19'!C301","v":0},{"$f":"'19'!D301","v":0},{"$f":"'19'!E301","v":0},{"$f":"'19'!F301","v":0}]
[null,5697,{"$f":"'19'!C302","v":0},{"$f":"'19'!D302","v":0},{"$f":"'19'!E302","v":0},{"$f":"'19'!F302","v":0}]
[null,5698,{"$f":"'19'!C303","v":0},{"$f":"'19'!D303","v":0},{"$f":"'19'!E303","v":0},{"$f":"'19'!F303","v":0}]
[null,5699,{"$f":"'19'!C304","v":0},{"$f":"'19'!D304","v":0},{"$f":"'19'!E304","v":0},{"$f":"'19'!F304","v":0}]
[null,5700,{"$f":"'19'!C305","v":0},{"$f":"'19'!D305","v":0},{"$f":"'19'!E305","v":0},{"$f":"'19'!F305","v":0}]
[null,5701,{"$f":"'20'!C6","v":0},{"$f":"'20'!D6","v":0},{"$f":"'20'!E6","v":0},{"$f":"'20'!F6","v":0}]
[null,5702,{"$f":"'20'!C7","v":0},{"$f":"'20'!D7","v":0},{"$f":"'20'!E7","v":0},{"$f":"'20'!F7","v":0}]
[null,5703,{"$f":"'20'!C8","v":0},{"$f":"'20'!D8","v":0},{"$f":"'20'!E8","v":0},{"$f":"'20'!F8","v":0}]
[null,5704,{"$f":"'20'!C9","v":0},{"$f":"'20'!D9","v":0},{"$f":"'20'!E9","v":0},{"$f":"'20'!F9","v":0}]
[null,5705,{"$f":"'20'!C10","v":0},{"$f":"'20'!D10","v":0},{"$f":"'20'!E10","v":0},{"$f":"'20'!F10","v":0}]
[null,5706,{"$f":"'20'!C11","v":0},{"$f":"'20'!D11","v":0},{"$f":"'20'!E11","v":0},{"$f":"'20'!F11","v":0}]
[null,5707,{"$f":"'20'!C12","v":0},{"$f":"'20'!D12","v":0},{"$f":"'20'!E12","v":0},{"$f":"'20'!F12","v":0}]
[null,5708,{"$f":"'20'!C13","v":0},{"$f":"'20'!D13","v":0},{"$f":"'20'!E13","v":0},{"$f":"'20'!F13","v":0}]
[null,5709,{"$f":"'20'!C14","v":0},{"$f":"'20'!D14","v":0},{"$f":"'20'!E14","v":0},{"$f":"'20'!F14","v":0}]
[null,5710,{"$f":"'20'!C15","v":0},{"$f":"'20'!D15","v":0},{"$f":"'20'!E15","v":0},{"$f":"'20'!F15","v":0}]
[null,5711,{"$f":"'20'!C16","v":0},{"$f":"'20'!D16","v":0},{"$f":"'20'!E16","v":0},{"$f":"'20'!F16","v":0}]
[null,5712,{"$f":"'20'!C17","v":0},{"$f":"'20'!D17","v":0},{"$f":"'20'!E17","v":0},{"$f":"'20'!F17","v":0}]
[null,5713,{"$f":"'20'!C18","v":0},{"$f":"'20'!D18","v":0},{"$f":"'20'!E18","v":0},{"$f":"'20'!F18","v":0}]
[null,5714,{"$f":"'20'!C19","v":0},{"$f":"'20'!D19","v":0},{"$f":"'20'!E19","v":0},{"$f":"'20'!F19","v":0}]
[null,5715,{"$f":"'20'!C20","v":0},{"$f":"'20'!D20","v":0},{"$f":"'20'!E20","v":0},{"$f":"'20'!F20","v":0}]
[null,5716,{"$f":"'20'!C21","v":0},{"$f":"'20'!D21","v":0},{"$f":"'20'!E21","v":0},{"$f":"'20'!F21","v":0}]
[null,5717,{"$f":"'20'!C22","v":0},{"$f":"'20'!D22","v":0},{"$f":"'20'!E22","v":0},{"$f":"'20'!F22","v":0}]
[null,5718,{"$f":"'20'!C23","v":0},{"$f":"'20'!D23","v":0},{"$f":"'20'!E23","v":0},{"$f":"'20'!F23","v":0}]
[null,5719,{"$f":"'20'!C24","v":0},{"$f":"'20'!D24","v":0},{"$f":"'20'!E24","v":0},{"$f":"'20'!F24","v":0}]
[null,5720,{"$f":"'20'!C25","v":0},{"$f":"'20'!D25","v":0},{"$f":"'20'!E25","v":0},{"$f":"'20'!F25","v":0}]
[null,5721,{"$f":"'20'!C26","v":0},{"$f":"'20'!D26","v":0},{"$f":"'20'!E26","v":0},{"$f":"'20'!F26","v":0}]
[null,5722,{"$f":"'20'!C27","v":0},{"$f":"'20'!D27","v":0},{"$f":"'20'!E27","v":0},{"$f":"'20'!F27","v":0}]
[null,5723,{"$f":"'20'!C28","v":0},{"$f":"'20'!D28","v":0},{"$f":"'20'!E28","v":0},{"$f":"'20'!F28","v":0}]
[null,5724,{"$f":"'20'!C29","v":0},{"$f":"'20'!D29","v":0},{"$f":"'20'!E29","v":0},{"$f":"'20'!F29","v":0}]
[null,5725,{"$f":"'20'!C30","v":0},{"$f":"'20'!D30","v":0},{"$f":"'20'!E30","v":0},{"$f":"'20'!F30","v":0}]
[null,5726,{"$f":"'20'!C31","v":0},{"$f":"'20'!D31","v":0},{"$f":"'20'!E31","v":0},{"$f":"'20'!F31","v":0}]
[null,5727,{"$f":"'20'!C32","v":0},{"$f":"'20'!D32","v":0},{"$f":"'20'!E32","v":0},{"$f":"'20'!F32","v":0}]
[null,5728,{"$f":"'20'!C33","v":0},{"$f":"'20'!D33","v":0},{"$f":"'20'!E33","v":0},{"$f":"'20'!F33","v":0}]
[null,5729,{"$f":"'20'!C34","v":0},{"$f":"'20'!D34","v":0},{"$f":"'20'!E34","v":0},{"$f":"'20'!F34","v":0}]
[null,5730,{"$f":"'20'!C35","v":0},{"$f":"'20'!D35","v":0},{"$f":"'20'!E35","v":0},{"$f":"'20'!F35","v":0}]
[null,5731,{"$f":"'20'!C36","v":0},{"$f":"'20'!D36","v":0},{"$f":"'20'!E36","v":0},{"$f":"'20'!F36","v":0}]
[null,5732,{"$f":"'20'!C37","v":0},{"$f":"'20'!D37","v":0},{"$f":"'20'!E37","v":0},{"$f":"'20'!F37","v":0}]
[null,5733,{"$f":"'20'!C38","v":0},{"$f":"'20'!D38","v":0},{"$f":"'20'!E38","v":0},{"$f":"'20'!F38","v":0}]
[null,5734,{"$f":"'20'!C39","v":0},{"$f":"'20'!D39","v":0},{"$f":"'20'!E39","v":0},{"$f":"'20'!F39","v":0}]
[null,5735,{"$f":"'20'!C40","v":0},{"$f":"'20'!D40","v":0},{"$f":"'20'!E40","v":0},{"$f":"'20'!F40","v":0}]
[null,5736,{"$f":"'20'!C41","v":0},{"$f":"'20'!D41","v":0},{"$f":"'20'!E41","v":0},{"$f":"'20'!F41","v":0}]
[null,5737,{"$f":"'20'!C42","v":0},{"$f":"'20'!D42","v":0},{"$f":"'20'!E42","v":0},{"$f":"'20'!F42","v":0}]
[null,5738,{"$f":"'20'!C43","v":0},{"$f":"'20'!D43","v":0},{"$f":"'20'!E43","v":0},{"$f":"'20'!F43","v":0}]
[null,5739,{"$f":"'20'!C44","v":0},{"$f":"'20'!D44","v":0},{"$f":"'20'!E44","v":0},{"$f":"'20'!F44","v":0}]
[null,5740,{"$f":"'20'!C45","v":0},{"$f":"'20'!D45","v":0},{"$f":"'20'!E45","v":0},{"$f":"'20'!F45","v":0}]
[null,5741,{"$f":"'20'!C46","v":0},{"$f":"'20'!D46","v":0},{"$f":"'20'!E46","v":0},{"$f":"'20'!F46","v":0}]
[null,5742,{"$f":"'20'!C47","v":0},{"$f":"'20'!D47","v":0},{"$f":"'20'!E47","v":0},{"$f":"'20'!F47","v":0}]
[null,5743,{"$f":"'20'!C48","v":0},{"$f":"'20'!D48","v":0},{"$f":"'20'!E48","v":0},{"$f":"'20'!F48","v":0}]
[null,5744,{"$f":"'20'!C49","v":0},{"$f":"'20'!D49","v":0},{"$f":"'20'!E49","v":0},{"$f":"'20'!F49","v":0}]
[null,5745,{"$f":"'20'!C50","v":0},{"$f":"'20'!D50","v":0},{"$f":"'20'!E50","v":0},{"$f":"'20'!F50","v":0}]
[null,5746,{"$f":"'20'!C51","v":0},{"$f":"'20'!D51","v":0},{"$f":"'20'!E51","v":0},{"$f":"'20'!F51","v":0}]
[null,5747,{"$f":"'20'!C52","v":0},{"$f":"'20'!D52","v":0},{"$f":"'20'!E52","v":0},{"$f":"'20'!F52","v":0}]
[null,5748,{"$f":"'20'!C53","v":0},{"$f":"'20'!D53","v":0},{"$f":"'20'!E53","v":0},{"$f":"'20'!F53","v":0}]
[null,5749,{"$f":"'20'!C54","v":0},{"$f":"'20'!D54","v":0},{"$f":"'20'!E54","v":0},{"$f":"'20'!F54","v":0}]
[null,5750,{"$f":"'20'!C55","v":0},{"$f":"'20'!D55","v":0},{"$f":"'20'!E55","v":0},{"$f":"'20'!F55","v":0}]
[null,5751,{"$f":"'20'!C56","v":0},{"$f":"'20'!D56","v":0},{"$f":"'20'!E56","v":0},{"$f":"'20'!F56","v":0}]
[null,5752,{"$f":"'20'!C57","v":0},{"$f":"'20'!D57","v":0},{"$f":"'20'!E57","v":0},{"$f":"'20'!F57","v":0}]
[null,5753,{"$f":"'20'!C58","v":0},{"$f":"'20'!D58","v":0},{"$f":"'20'!E58","v":0},{"$f":"'20'!F58","v":0}]
[null,5754,{"$f":"'20'!C59","v":0},{"$f":"'20'!D59","v":0},{"$f":"'20'!E59","v":0},{"$f":"'20'!F59","v":0}]
[null,5755,{"$f":"'20'!C60","v":0},{"$f":"'20'!D60","v":0},{"$f":"'20'!E60","v":0},{"$f":"'20'!F60","v":0}]
[null,5756,{"$f":"'20'!C61","v":0},{"$f":"'20'!D61","v":0},{"$f":"'20'!E61","v":0},{"$f":"'20'!F61","v":0}]
[null,5757,{"$f":"'20'!C62","v":0},{"$f":"'20'!D62","v":0},{"$f":"'20'!E62","v":0},{"$f":"'20'!F62","v":0}]
[null,5758,{"$f":"'20'!C63","v":0},{"$f":"'20'!D63","v":0},{"$f":"'20'!E63","v":0},{"$f":"'20'!F63","v":0}]
[null,5759,{"$f":"'20'!C64","v":0},{"$f":"'20'!D64","v":0},{"$f":"'20'!E64","v":0},{"$f":"'20'!F64","v":0}]
[null,5760,{"$f":"'20'!C65","v":0},{"$f":"'20'!D65","v":0},{"$f":"'20'!E65","v":0},{"$f":"'20'!F65","v":0}]
[null,5761,{"$f":"'20'!C66","v":0},{"$f":"'20'!D66","v":0},{"$f":"'20'!E66","v":0},{"$f":"'20'!F66","v":0}]
[null,5762,{"$f":"'20'!C67","v":0},{"$f":"'20'!D67","v":0},{"$f":"'20'!E67","v":0},{"$f":"'20'!F67","v":0}]
[null,5763,{"$f":"'20'!C68","v":0},{"$f":"'20'!D68","v":0},{"$f":"'20'!E68","v":0},{"$f":"'20'!F68","v":0}]
[null,5764,{"$f":"'20'!C69","v":0},{"$f":"'20'!D69","v":0},{"$f":"'20'!E69","v":0},{"$f":"'20'!F69","v":0}]
[null,5765,{"$f":"'20'!C70","v":0},{"$f":"'20'!D70","v":0},{"$f":"'20'!E70","v":0},{"$f":"'20'!F70","v":0}]
[null,5766,{"$f":"'20'!C71","v":0},{"$f":"'20'!D71","v":0},{"$f":"'20'!E71","v":0},{"$f":"'20'!F71","v":0}]
[null,5767,{"$f":"'20'!C72","v":0},{"$f":"'20'!D72","v":0},{"$f":"'20'!E72","v":0},{"$f":"'20'!F72","v":0}]
[null,5768,{"$f":"'20'!C73","v":0},{"$f":"'20'!D73","v":0},{"$f":"'20'!E73","v":0},{"$f":"'20'!F73","v":0}]
[null,5769,{"$f":"'20'!C74","v":0},{"$f":"'20'!D74","v":0},{"$f":"'20'!E74","v":0},{"$f":"'20'!F74","v":0}]
[null,5770,{"$f":"'20'!C75","v":0},{"$f":"'20'!D75","v":0},{"$f":"'20'!E75","v":0},{"$f":"'20'!F75","v":0}]
[null,5771,{"$f":"'20'!C76","v":0},{"$f":"'20'!D76","v":0},{"$f":"'20'!E76","v":0},{"$f":"'20'!F76","v":0}]
[null,5772,{"$f":"'20'!C77","v":0},{"$f":"'20'!D77","v":0},{"$f":"'20'!E77","v":0},{"$f":"'20'!F77","v":0}]
[null,5773,{"$f":"'20'!C78","v":0},{"$f":"'20'!D78","v":0},{"$f":"'20'!E78","v":0},{"$f":"'20'!F78","v":0}]
[null,5774,{"$f":"'20'!C79","v":0},{"$f":"'20'!D79","v":0},{"$f":"'20'!E79","v":0},{"$f":"'20'!F79","v":0}]
[null,5775,{"$f":"'20'!C80","v":0},{"$f":"'20'!D80","v":0},{"$f":"'20'!E80","v":0},{"$f":"'20'!F80","v":0}]
[null,5776,{"$f":"'20'!C81","v":0},{"$f":"'20'!D81","v":0},{"$f":"'20'!E81","v":0},{"$f":"'20'!F81","v":0}]
[null,5777,{"$f":"'20'!C82","v":0},{"$f":"'20'!D82","v":0},{"$f":"'20'!E82","v":0},{"$f":"'20'!F82","v":0}]
[null,5778,{"$f":"'20'!C83","v":0},{"$f":"'20'!D83","v":0},{"$f":"'20'!E83","v":0},{"$f":"'20'!F83","v":0}]
[null,5779,{"$f":"'20'!C84","v":0},{"$f":"'20'!D84","v":0},{"$f":"'20'!E84","v":0},{"$f":"'20'!F84","v":0}]
[null,5780,{"$f":"'20'!C85","v":0},{"$f":"'20'!D85","v":0},{"$f":"'20'!E85","v":0},{"$f":"'20'!F85","v":0}]
[null,5781,{"$f":"'20'!C86","v":0},{"$f":"'20'!D86","v":0},{"$f":"'20'!E86","v":0},{"$f":"'20'!F86","v":0}]
[null,5782,{"$f":"'20'!C87","v":0},{"$f":"'20'!D87","v":0},{"$f":"'20'!E87","v":0},{"$f":"'20'!F87","v":0}]
[null,5783,{"$f":"'20'!C88","v":0},{"$f":"'20'!D88","v":0},{"$f":"'20'!E88","v":0},{"$f":"'20'!F88","v":0}]
[null,5784,{"$f":"'20'!C89","v":0},{"$f":"'20'!D89","v":0},{"$f":"'20'!E89","v":0},{"$f":"'20'!F89","v":0}]
[null,5785,{"$f":"'20'!C90","v":0},{"$f":"'20'!D90","v":0},{"$f":"'20'!E90","v":0},{"$f":"'20'!F90","v":0}]
[null,5786,{"$f":"'20'!C91","v":0},{"$f":"'20'!D91","v":0},{"$f":"'20'!E91","v":0},{"$f":"'20'!F91","v":0}]
[null,5787,{"$f":"'20'!C92","v":0},{"$f":"'20'!D92","v":0},{"$f":"'20'!E92","v":0},{"$f":"'20'!F92","v":0}]
[null,5788,{"$f":"'20'!C93","v":0},{"$f":"'20'!D93","v":0},{"$f":"'20'!E93","v":0},{"$f":"'20'!F93","v":0}]
[null,5789,{"$f":"'20'!C94","v":0},{"$f":"'20'!D94","v":0},{"$f":"'20'!E94","v":0},{"$f":"'20'!F94","v":0}]
[null,5790,{"$f":"'20'!C95","v":0},{"$f":"'20'!D95","v":0},{"$f":"'20'!E95","v":0},{"$f":"'20'!F95","v":0}]
[null,5791,{"$f":"'20'!C96","v":0},{"$f":"'20'!D96","v":0},{"$f":"'20'!E96","v":0},{"$f":"'20'!F96","v":0}]
[null,5792,{"$f":"'20'!C97","v":0},{"$f":"'20'!D97","v":0},{"$f":"'20'!E97","v":0},{"$f":"'20'!F97","v":0}]
[null,5793,{"$f":"'20'!C98","v":0},{"$f":"'20'!D98","v":0},{"$f":"'20'!E98","v":0},{"$f":"'20'!F98","v":0}]
[null,5794,{"$f":"'20'!C99","v":0},{"$f":"'20'!D99","v":0},{"$f":"'20'!E99","v":0},{"$f":"'20'!F99","v":0}]
[null,5795,{"$f":"'20'!C100","v":0},{"$f":"'20'!D100","v":0},{"$f":"'20'!E100","v":0},{"$f":"'20'!F100","v":0}]
[null,5796,{"$f":"'20'!C101","v":0},{"$f":"'20'!D101","v":0},{"$f":"'20'!E101","v":0},{"$f":"'20'!F101","v":0}]
[null,5797,{"$f":"'20'!C102","v":0},{"$f":"'20'!D102","v":0},{"$f":"'20'!E102","v":0},{"$f":"'20'!F102","v":0}]
[null,5798,{"$f":"'20'!C103","v":0},{"$f":"'20'!D103","v":0},{"$f":"'20'!E103","v":0},{"$f":"'20'!F103","v":0}]
[null,5799,{"$f":"'20'!C104","v":0},{"$f":"'20'!D104","v":0},{"$f":"'20'!E104","v":0},{"$f":"'20'!F104","v":0}]
[null,5800,{"$f":"'20'!C105","v":0},{"$f":"'20'!D105","v":0},{"$f":"'20'!E105","v":0},{"$f":"'20'!F105","v":0}]
[null,5801,{"$f":"'20'!C106","v":0},{"$f":"'20'!D106","v":0},{"$f":"'20'!E106","v":0},{"$f":"'20'!F106","v":0}]
[null,5802,{"$f":"'20'!C107","v":0},{"$f":"'20'!D107","v":0},{"$f":"'20'!E107","v":0},{"$f":"'20'!F107","v":0}]
[null,5803,{"$f":"'20'!C108","v":0},{"$f":"'20'!D108","v":0},{"$f":"'20'!E108","v":0},{"$f":"'20'!F108","v":0}]
[null,5804,{"$f":"'20'!C109","v":0},{"$f":"'20'!D109","v":0},{"$f":"'20'!E109","v":0},{"$f":"'20'!F109","v":0}]
[null,5805,{"$f":"'20'!C110","v":0},{"$f":"'20'!D110","v":0},{"$f":"'20'!E110","v":0},{"$f":"'20'!F110","v":0}]
[null,5806,{"$f":"'20'!C111","v":0},{"$f":"'20'!D111","v":0},{"$f":"'20'!E111","v":0},{"$f":"'20'!F111","v":0}]
[null,5807,{"$f":"'20'!C112","v":0},{"$f":"'20'!D112","v":0},{"$f":"'20'!E112","v":0},{"$f":"'20'!F112","v":0}]
[null,5808,{"$f":"'20'!C113","v":0},{"$f":"'20'!D113","v":0},{"$f":"'20'!E113","v":0},{"$f":"'20'!F113","v":0}]
[null,5809,{"$f":"'20'!C114","v":0},{"$f":"'20'!D114","v":0},{"$f":"'20'!E114","v":0},{"$f":"'20'!F114","v":0}]
[null,5810,{"$f":"'20'!C115","v":0},{"$f":"'20'!D115","v":0},{"$f":"'20'!E115","v":0},{"$f":"'20'!F115","v":0}]
[null,5811,{"$f":"'20'!C116","v":0},{"$f":"'20'!D116","v":0},{"$f":"'20'!E116","v":0},{"$f":"'20'!F116","v":0}]
[null,5812,{"$f":"'20'!C117","v":0},{"$f":"'20'!D117","v":0},{"$f":"'20'!E117","v":0},{"$f":"'20'!F117","v":0}]
[null,5813,{"$f":"'20'!C118","v":0},{"$f":"'20'!D118","v":0},{"$f":"'20'!E118","v":0},{"$f":"'20'!F118","v":0}]
[null,5814,{"$f":"'20'!C119","v":0},{"$f":"'20'!D119","v":0},{"$f":"'20'!E119","v":0},{"$f":"'20'!F119","v":0}]
[null,5815,{"$f":"'20'!C120","v":0},{"$f":"'20'!D120","v":0},{"$f":"'20'!E120","v":0},{"$f":"'20'!F120","v":0}]
[null,5816,{"$f":"'20'!C121","v":0},{"$f":"'20'!D121","v":0},{"$f":"'20'!E121","v":0},{"$f":"'20'!F121","v":0}]
[null,5817,{"$f":"'20'!C122","v":0},{"$f":"'20'!D122","v":0},{"$f":"'20'!E122","v":0},{"$f":"'20'!F122","v":0}]
[null,5818,{"$f":"'20'!C123","v":0},{"$f":"'20'!D123","v":0},{"$f":"'20'!E123","v":0},{"$f":"'20'!F123","v":0}]
[null,5819,{"$f":"'20'!C124","v":0},{"$f":"'20'!D124","v":0},{"$f":"'20'!E124","v":0},{"$f":"'20'!F124","v":0}]
[null,5820,{"$f":"'20'!C125","v":0},{"$f":"'20'!D125","v":0},{"$f":"'20'!E125","v":0},{"$f":"'20'!F125","v":0}]
[null,5821,{"$f":"'20'!C126","v":0},{"$f":"'20'!D126","v":0},{"$f":"'20'!E126","v":0},{"$f":"'20'!F126","v":0}]
[null,5822,{"$f":"'20'!C127","v":0},{"$f":"'20'!D127","v":0},{"$f":"'20'!E127","v":0},{"$f":"'20'!F127","v":0}]
[null,5823,{"$f":"'20'!C128","v":0},{"$f":"'20'!D128","v":0},{"$f":"'20'!E128","v":0},{"$f":"'20'!F128","v":0}]
[null,5824,{"$f":"'20'!C129","v":0},{"$f":"'20'!D129","v":0},{"$f":"'20'!E129","v":0},{"$f":"'20'!F129","v":0}]
[null,5825,{"$f":"'20'!C130","v":0},{"$f":"'20'!D130","v":0},{"$f":"'20'!E130","v":0},{"$f":"'20'!F130","v":0}]
[null,5826,{"$f":"'20'!C131","v":0},{"$f":"'20'!D131","v":0},{"$f":"'20'!E131","v":0},{"$f":"'20'!F131","v":0}]
[null,5827,{"$f":"'20'!C132","v":0},{"$f":"'20'!D132","v":0},{"$f":"'20'!E132","v":0},{"$f":"'20'!F132","v":0}]
[null,5828,{"$f":"'20'!C133","v":0},{"$f":"'20'!D133","v":0},{"$f":"'20'!E133","v":0},{"$f":"'20'!F133","v":0}]
[null,5829,{"$f":"'20'!C134","v":0},{"$f":"'20'!D134","v":0},{"$f":"'20'!E134","v":0},{"$f":"'20'!F134","v":0}]
[null,5830,{"$f":"'20'!C135","v":0},{"$f":"'20'!D135","v":0},{"$f":"'20'!E135","v":0},{"$f":"'20'!F135","v":0}]
[null,5831,{"$f":"'20'!C136","v":0},{"$f":"'20'!D136","v":0},{"$f":"'20'!E136","v":0},{"$f":"'20'!F136","v":0}]
[null,5832,{"$f":"'20'!C137","v":0},{"$f":"'20'!D137","v":0},{"$f":"'20'!E137","v":0},{"$f":"'20'!F137","v":0}]
[null,5833,{"$f":"'20'!C138","v":0},{"$f":"'20'!D138","v":0},{"$f":"'20'!E138","v":0},{"$f":"'20'!F138","v":0}]
[null,5834,{"$f":"'20'!C139","v":0},{"$f":"'20'!D139","v":0},{"$f":"'20'!E139","v":0},{"$f":"'20'!F139","v":0}]
[null,5835,{"$f":"'20'!C140","v":0},{"$f":"'20'!D140","v":0},{"$f":"'20'!E140","v":0},{"$f":"'20'!F140","v":0}]
[null,5836,{"$f":"'20'!C141","v":0},{"$f":"'20'!D141","v":0},{"$f":"'20'!E141","v":0},{"$f":"'20'!F141","v":0}]
[null,5837,{"$f":"'20'!C142","v":0},{"$f":"'20'!D142","v":0},{"$f":"'20'!E142","v":0},{"$f":"'20'!F142","v":0}]
[null,5838,{"$f":"'20'!C143","v":0},{"$f":"'20'!D143","v":0},{"$f":"'20'!E143","v":0},{"$f":"'20'!F143","v":0}]
[null,5839,{"$f":"'20'!C144","v":0},{"$f":"'20'!D144","v":0},{"$f":"'20'!E144","v":0},{"$f":"'20'!F144","v":0}]
[null,5840,{"$f":"'20'!C145","v":0},{"$f":"'20'!D145","v":0},{"$f":"'20'!E145","v":0},{"$f":"'20'!F145","v":0}]
[null,5841,{"$f":"'20'!C146","v":0},{"$f":"'20'!D146","v":0},{"$f":"'20'!E146","v":0},{"$f":"'20'!F146","v":0}]
[null,5842,{"$f":"'20'!C147","v":0},{"$f":"'20'!D147","v":0},{"$f":"'20'!E147","v":0},{"$f":"'20'!F147","v":0}]
[null,5843,{"$f":"'20'!C148","v":0},{"$f":"'20'!D148","v":0},{"$f":"'20'!E148","v":0},{"$f":"'20'!F148","v":0}]
[null,5844,{"$f":"'20'!C149","v":0},{"$f":"'20'!D149","v":0},{"$f":"'20'!E149","v":0},{"$f":"'20'!F149","v":0}]
[null,5845,{"$f":"'20'!C150","v":0},{"$f":"'20'!D150","v":0},{"$f":"'20'!E150","v":0},{"$f":"'20'!F150","v":0}]
[null,5846,{"$f":"'20'!C151","v":0},{"$f":"'20'!D151","v":0},{"$f":"'20'!E151","v":0},{"$f":"'20'!F151","v":0}]
[null,5847,{"$f":"'20'!C152","v":0},{"$f":"'20'!D152","v":0},{"$f":"'20'!E152","v":0},{"$f":"'20'!F152","v":0}]
[null,5848,{"$f":"'20'!C153","v":0},{"$f":"'20'!D153","v":0},{"$f":"'20'!E153","v":0},{"$f":"'20'!F153","v":0}]
[null,5849,{"$f":"'20'!C154","v":0},{"$f":"'20'!D154","v":0},{"$f":"'20'!E154","v":0},{"$f":"'20'!F154","v":0}]
[null,5850,{"$f":"'20'!C155","v":0},{"$f":"'20'!D155","v":0},{"$f":"'20'!E155","v":0},{"$f":"'20'!F155","v":0}]
[null,5851,{"$f":"'20'!C156","v":0},{"$f":"'20'!D156","v":0},{"$f":"'20'!E156","v":0},{"$f":"'20'!F156","v":0}]
[null,5852,{"$f":"'20'!C157","v":0},{"$f":"'20'!D157","v":0},{"$f":"'20'!E157","v":0},{"$f":"'20'!F157","v":0}]
[null,5853,{"$f":"'20'!C158","v":0},{"$f":"'20'!D158","v":0},{"$f":"'20'!E158","v":0},{"$f":"'20'!F158","v":0}]
[null,5854,{"$f":"'20'!C159","v":0},{"$f":"'20'!D159","v":0},{"$f":"'20'!E159","v":0},{"$f":"'20'!F159","v":0}]
[null,5855,{"$f":"'20'!C160","v":0},{"$f":"'20'!D160","v":0},{"$f":"'20'!E160","v":0},{"$f":"'20'!F160","v":0}]
[null,5856,{"$f":"'20'!C161","v":0},{"$f":"'20'!D161","v":0},{"$f":"'20'!E161","v":0},{"$f":"'20'!F161","v":0}]
[null,5857,{"$f":"'20'!C162","v":0},{"$f":"'20'!D162","v":0},{"$f":"'20'!E162","v":0},{"$f":"'20'!F162","v":0}]
[null,5858,{"$f":"'20'!C163","v":0},{"$f":"'20'!D163","v":0},{"$f":"'20'!E163","v":0},{"$f":"'20'!F163","v":0}]
[null,5859,{"$f":"'20'!C164","v":0},{"$f":"'20'!D164","v":0},{"$f":"'20'!E164","v":0},{"$f":"'20'!F164","v":0}]
[null,5860,{"$f":"'20'!C165","v":0},{"$f":"'20'!D165","v":0},{"$f":"'20'!E165","v":0},{"$f":"'20'!F165","v":0}]
[null,5861,{"$f":"'20'!C166","v":0},{"$f":"'20'!D166","v":0},{"$f":"'20'!E166","v":0},{"$f":"'20'!F166","v":0}]
[null,5862,{"$f":"'20'!C167","v":0},{"$f":"'20'!D167","v":0},{"$f":"'20'!E167","v":0},{"$f":"'20'!F167","v":0}]
[null,5863,{"$f":"'20'!C168","v":0},{"$f":"'20'!D168","v":0},{"$f":"'20'!E168","v":0},{"$f":"'20'!F168","v":0}]
[null,5864,{"$f":"'20'!C169","v":0},{"$f":"'20'!D169","v":0},{"$f":"'20'!E169","v":0},{"$f":"'20'!F169","v":0}]
[null,5865,{"$f":"'20'!C170","v":0},{"$f":"'20'!D170","v":0},{"$f":"'20'!E170","v":0},{"$f":"'20'!F170","v":0}]
[null,5866,{"$f":"'20'!C171","v":0},{"$f":"'20'!D171","v":0},{"$f":"'20'!E171","v":0},{"$f":"'20'!F171","v":0}]
[null,5867,{"$f":"'20'!C172","v":0},{"$f":"'20'!D172","v":0},{"$f":"'20'!E172","v":0},{"$f":"'20'!F172","v":0}]
[null,5868,{"$f":"'20'!C173","v":0},{"$f":"'20'!D173","v":0},{"$f":"'20'!E173","v":0},{"$f":"'20'!F173","v":0}]
[null,5869,{"$f":"'20'!C174","v":0},{"$f":"'20'!D174","v":0},{"$f":"'20'!E174","v":0},{"$f":"'20'!F174","v":0}]
[null,5870,{"$f":"'20'!C175","v":0},{"$f":"'20'!D175","v":0},{"$f":"'20'!E175","v":0},{"$f":"'20'!F175","v":0}]
[null,5871,{"$f":"'20'!C176","v":0},{"$f":"'20'!D176","v":0},{"$f":"'20'!E176","v":0},{"$f":"'20'!F176","v":0}]
[null,5872,{"$f":"'20'!C177","v":0},{"$f":"'20'!D177","v":0},{"$f":"'20'!E177","v":0},{"$f":"'20'!F177","v":0}]
[null,5873,{"$f":"'20'!C178","v":0},{"$f":"'20'!D178","v":0},{"$f":"'20'!E178","v":0},{"$f":"'20'!F178","v":0}]
[null,5874,{"$f":"'20'!C179","v":0},{"$f":"'20'!D179","v":0},{"$f":"'20'!E179","v":0},{"$f":"'20'!F179","v":0}]
[null,5875,{"$f":"'20'!C180","v":0},{"$f":"'20'!D180","v":0},{"$f":"'20'!E180","v":0},{"$f":"'20'!F180","v":0}]
[null,5876,{"$f":"'20'!C181","v":0},{"$f":"'20'!D181","v":0},{"$f":"'20'!E181","v":0},{"$f":"'20'!F181","v":0}]
[null,5877,{"$f":"'20'!C182","v":0},{"$f":"'20'!D182","v":0},{"$f":"'20'!E182","v":0},{"$f":"'20'!F182","v":0}]
[null,5878,{"$f":"'20'!C183","v":0},{"$f":"'20'!D183","v":0},{"$f":"'20'!E183","v":0},{"$f":"'20'!F183","v":0}]
[null,5879,{"$f":"'20'!C184","v":0},{"$f":"'20'!D184","v":0},{"$f":"'20'!E184","v":0},{"$f":"'20'!F184","v":0}]
[null,5880,{"$f":"'20'!C185","v":0},{"$f":"'20'!D185","v":0},{"$f":"'20'!E185","v":0},{"$f":"'20'!F185","v":0}]
[null,5881,{"$f":"'20'!C186","v":0},{"$f":"'20'!D186","v":0},{"$f":"'20'!E186","v":0},{"$f":"'20'!F186","v":0}]
[null,5882,{"$f":"'20'!C187","v":0},{"$f":"'20'!D187","v":0},{"$f":"'20'!E187","v":0},{"$f":"'20'!F187","v":0}]
[null,5883,{"$f":"'20'!C188","v":0},{"$f":"'20'!D188","v":0},{"$f":"'20'!E188","v":0},{"$f":"'20'!F188","v":0}]
[null,5884,{"$f":"'20'!C189","v":0},{"$f":"'20'!D189","v":0},{"$f":"'20'!E189","v":0},{"$f":"'20'!F189","v":0}]
[null,5885,{"$f":"'20'!C190","v":0},{"$f":"'20'!D190","v":0},{"$f":"'20'!E190","v":0},{"$f":"'20'!F190","v":0}]
[null,5886,{"$f":"'20'!C191","v":0},{"$f":"'20'!D191","v":0},{"$f":"'20'!E191","v":0},{"$f":"'20'!F191","v":0}]
[null,5887,{"$f":"'20'!C192","v":0},{"$f":"'20'!D192","v":0},{"$f":"'20'!E192","v":0},{"$f":"'20'!F192","v":0}]
[null,5888,{"$f":"'20'!C193","v":0},{"$f":"'20'!D193","v":0},{"$f":"'20'!E193","v":0},{"$f":"'20'!F193","v":0}]
[null,5889,{"$f":"'20'!C194","v":0},{"$f":"'20'!D194","v":0},{"$f":"'20'!E194","v":0},{"$f":"'20'!F194","v":0}]
[null,5890,{"$f":"'20'!C195","v":0},{"$f":"'20'!D195","v":0},{"$f":"'20'!E195","v":0},{"$f":"'20'!F195","v":0}]
[null,5891,{"$f":"'20'!C196","v":0},{"$f":"'20'!D196","v":0},{"$f":"'20'!E196","v":0},{"$f":"'20'!F196","v":0}]
[null,5892,{"$f":"'20'!C197","v":0},{"$f":"'20'!D197","v":0},{"$f":"'20'!E197","v":0},{"$f":"'20'!F197","v":0}]
[null,5893,{"$f":"'20'!C198","v":0},{"$f":"'20'!D198","v":0},{"$f":"'20'!E198","v":0},{"$f":"'20'!F198","v":0}]
[null,5894,{"$f":"'20'!C199","v":0},{"$f":"'20'!D199","v":0},{"$f":"'20'!E199","v":0},{"$f":"'20'!F199","v":0}]
[null,5895,{"$f":"'20'!C200","v":0},{"$f":"'20'!D200","v":0},{"$f":"'20'!E200","v":0},{"$f":"'20'!F200","v":0}]
[null,5896,{"$f":"'20'!C201","v":0},{"$f":"'20'!D201","v":0},{"$f":"'20'!E201","v":0},{"$f":"'20'!F201","v":0}]
[null,5897,{"$f":"'20'!C202","v":0},{"$f":"'20'!D202","v":0},{"$f":"'20'!E202","v":0},{"$f":"'20'!F202","v":0}]
[null,5898,{"$f":"'20'!C203","v":0},{"$f":"'20'!D203","v":0},{"$f":"'20'!E203","v":0},{"$f":"'20'!F203","v":0}]
[null,5899,{"$f":"'20'!C204","v":0},{"$f":"'20'!D204","v":0},{"$f":"'20'!E204","v":0},{"$f":"'20'!F204","v":0}]
[null,5900,{"$f":"'20'!C205","v":0},{"$f":"'20'!D205","v":0},{"$f":"'20'!E205","v":0},{"$f":"'20'!F205","v":0}]
[null,5901,{"$f":"'20'!C206","v":0},{"$f":"'20'!D206","v":0},{"$f":"'20'!E206","v":0},{"$f":"'20'!F206","v":0}]
[null,5902,{"$f":"'20'!C207","v":0},{"$f":"'20'!D207","v":0},{"$f":"'20'!E207","v":0},{"$f":"'20'!F207","v":0}]
[null,5903,{"$f":"'20'!C208","v":0},{"$f":"'20'!D208","v":0},{"$f":"'20'!E208","v":0},{"$f":"'20'!F208","v":0}]
[null,5904,{"$f":"'20'!C209","v":0},{"$f":"'20'!D209","v":0},{"$f":"'20'!E209","v":0},{"$f":"'20'!F209","v":0}]
[null,5905,{"$f":"'20'!C210","v":0},{"$f":"'20'!D210","v":0},{"$f":"'20'!E210","v":0},{"$f":"'20'!F210","v":0}]
[null,5906,{"$f":"'20'!C211","v":0},{"$f":"'20'!D211","v":0},{"$f":"'20'!E211","v":0},{"$f":"'20'!F211","v":0}]
[null,5907,{"$f":"'20'!C212","v":0},{"$f":"'20'!D212","v":0},{"$f":"'20'!E212","v":0},{"$f":"'20'!F212","v":0}]
[null,5908,{"$f":"'20'!C213","v":0},{"$f":"'20'!D213","v":0},{"$f":"'20'!E213","v":0},{"$f":"'20'!F213","v":0}]
[null,5909,{"$f":"'20'!C214","v":0},{"$f":"'20'!D214","v":0},{"$f":"'20'!E214","v":0},{"$f":"'20'!F214","v":0}]
[null,5910,{"$f":"'20'!C215","v":0},{"$f":"'20'!D215","v":0},{"$f":"'20'!E215","v":0},{"$f":"'20'!F215","v":0}]
[null,5911,{"$f":"'20'!C216","v":0},{"$f":"'20'!D216","v":0},{"$f":"'20'!E216","v":0},{"$f":"'20'!F216","v":0}]
[null,5912,{"$f":"'20'!C217","v":0},{"$f":"'20'!D217","v":0},{"$f":"'20'!E217","v":0},{"$f":"'20'!F217","v":0}]
[null,5913,{"$f":"'20'!C218","v":0},{"$f":"'20'!D218","v":0},{"$f":"'20'!E218","v":0},{"$f":"'20'!F218","v":0}]
[null,5914,{"$f":"'20'!C219","v":0},{"$f":"'20'!D219","v":0},{"$f":"'20'!E219","v":0},{"$f":"'20'!F219","v":0}]
[null,5915,{"$f":"'20'!C220","v":0},{"$f":"'20'!D220","v":0},{"$f":"'20'!E220","v":0},{"$f":"'20'!F220","v":0}]
[null,5916,{"$f":"'20'!C221","v":0},{"$f":"'20'!D221","v":0},{"$f":"'20'!E221","v":0},{"$f":"'20'!F221","v":0}]
[null,5917,{"$f":"'20'!C222","v":0},{"$f":"'20'!D222","v":0},{"$f":"'20'!E222","v":0},{"$f":"'20'!F222","v":0}]
[null,5918,{"$f":"'20'!C223","v":0},{"$f":"'20'!D223","v":0},{"$f":"'20'!E223","v":0},{"$f":"'20'!F223","v":0}]
[null,5919,{"$f":"'20'!C224","v":0},{"$f":"'20'!D224","v":0},{"$f":"'20'!E224","v":0},{"$f":"'20'!F224","v":0}]
[null,5920,{"$f":"'20'!C225","v":0},{"$f":"'20'!D225","v":0},{"$f":"'20'!E225","v":0},{"$f":"'20'!F225","v":0}]
[null,5921,{"$f":"'20'!C226","v":0},{"$f":"'20'!D226","v":0},{"$f":"'20'!E226","v":0},{"$f":"'20'!F226","v":0}]
[null,5922,{"$f":"'20'!C227","v":0},{"$f":"'20'!D227","v":0},{"$f":"'20'!E227","v":0},{"$f":"'20'!F227","v":0}]
[null,5923,{"$f":"'20'!C228","v":0},{"$f":"'20'!D228","v":0},{"$f":"'20'!E228","v":0},{"$f":"'20'!F228","v":0}]
[null,5924,{"$f":"'20'!C229","v":0},{"$f":"'20'!D229","v":0},{"$f":"'20'!E229","v":0},{"$f":"'20'!F229","v":0}]
[null,5925,{"$f":"'20'!C230","v":0},{"$f":"'20'!D230","v":0},{"$f":"'20'!E230","v":0},{"$f":"'20'!F230","v":0}]
[null,5926,{"$f":"'20'!C231","v":0},{"$f":"'20'!D231","v":0},{"$f":"'20'!E231","v":0},{"$f":"'20'!F231","v":0}]
[null,5927,{"$f":"'20'!C232","v":0},{"$f":"'20'!D232","v":0},{"$f":"'20'!E232","v":0},{"$f":"'20'!F232","v":0}]
[null,5928,{"$f":"'20'!C233","v":0},{"$f":"'20'!D233","v":0},{"$f":"'20'!E233","v":0},{"$f":"'20'!F233","v":0}]
[null,5929,{"$f":"'20'!C234","v":0},{"$f":"'20'!D234","v":0},{"$f":"'20'!E234","v":0},{"$f":"'20'!F234","v":0}]
[null,5930,{"$f":"'20'!C235","v":0},{"$f":"'20'!D235","v":0},{"$f":"'20'!E235","v":0},{"$f":"'20'!F235","v":0}]
[null,5931,{"$f":"'20'!C236","v":0},{"$f":"'20'!D236","v":0},{"$f":"'20'!E236","v":0},{"$f":"'20'!F236","v":0}]
[null,5932,{"$f":"'20'!C237","v":0},{"$f":"'20'!D237","v":0},{"$f":"'20'!E237","v":0},{"$f":"'20'!F237","v":0}]
[null,5933,{"$f":"'20'!C238","v":0},{"$f":"'20'!D238","v":0},{"$f":"'20'!E238","v":0},{"$f":"'20'!F238","v":0}]
[null,5934,{"$f":"'20'!C239","v":0},{"$f":"'20'!D239","v":0},{"$f":"'20'!E239","v":0},{"$f":"'20'!F239","v":0}]
[null,5935,{"$f":"'20'!C240","v":0},{"$f":"'20'!D240","v":0},{"$f":"'20'!E240","v":0},{"$f":"'20'!F240","v":0}]
[null,5936,{"$f":"'20'!C241","v":0},{"$f":"'20'!D241","v":0},{"$f":"'20'!E241","v":0},{"$f":"'20'!F241","v":0}]
[null,5937,{"$f":"'20'!C242","v":0},{"$f":"'20'!D242","v":0},{"$f":"'20'!E242","v":0},{"$f":"'20'!F242","v":0}]
[null,5938,{"$f":"'20'!C243","v":0},{"$f":"'20'!D243","v":0},{"$f":"'20'!E243","v":0},{"$f":"'20'!F243","v":0}]
[null,5939,{"$f":"'20'!C244","v":0},{"$f":"'20'!D244","v":0},{"$f":"'20'!E244","v":0},{"$f":"'20'!F244","v":0}]
[null,5940,{"$f":"'20'!C245","v":0},{"$f":"'20'!D245","v":0},{"$f":"'20'!E245","v":0},{"$f":"'20'!F245","v":0}]
[null,5941,{"$f":"'20'!C246","v":0},{"$f":"'20'!D246","v":0},{"$f":"'20'!E246","v":0},{"$f":"'20'!F246","v":0}]
[null,5942,{"$f":"'20'!C247","v":0},{"$f":"'20'!D247","v":0},{"$f":"'20'!E247","v":0},{"$f":"'20'!F247","v":0}]
[null,5943,{"$f":"'20'!C248","v":0},{"$f":"'20'!D248","v":0},{"$f":"'20'!E248","v":0},{"$f":"'20'!F248","v":0}]
[null,5944,{"$f":"'20'!C249","v":0},{"$f":"'20'!D249","v":0},{"$f":"'20'!E249","v":0},{"$f":"'20'!F249","v":0}]
[null,5945,{"$f":"'20'!C250","v":0},{"$f":"'20'!D250","v":0},{"$f":"'20'!E250","v":0},{"$f":"'20'!F250","v":0}]
[null,5946,{"$f":"'20'!C251","v":0},{"$f":"'20'!D251","v":0},{"$f":"'20'!E251","v":0},{"$f":"'20'!F251","v":0}]
[null,5947,{"$f":"'20'!C252","v":0},{"$f":"'20'!D252","v":0},{"$f":"'20'!E252","v":0},{"$f":"'20'!F252","v":0}]
[null,5948,{"$f":"'20'!C253","v":0},{"$f":"'20'!D253","v":0},{"$f":"'20'!E253","v":0},{"$f":"'20'!F253","v":0}]
[null,5949,{"$f":"'20'!C254","v":0},{"$f":"'20'!D254","v":0},{"$f":"'20'!E254","v":0},{"$f":"'20'!F254","v":0}]
[null,5950,{"$f":"'20'!C255","v":0},{"$f":"'20'!D255","v":0},{"$f":"'20'!E255","v":0},{"$f":"'20'!F255","v":0}]
[null,5951,{"$f":"'20'!C256","v":0},{"$f":"'20'!D256","v":0},{"$f":"'20'!E256","v":0},{"$f":"'20'!F256","v":0}]
[null,5952,{"$f":"'20'!C257","v":0},{"$f":"'20'!D257","v":0},{"$f":"'20'!E257","v":0},{"$f":"'20'!F257","v":0}]
[null,5953,{"$f":"'20'!C258","v":0},{"$f":"'20'!D258","v":0},{"$f":"'20'!E258","v":0},{"$f":"'20'!F258","v":0}]
[null,5954,{"$f":"'20'!C259","v":0},{"$f":"'20'!D259","v":0},{"$f":"'20'!E259","v":0},{"$f":"'20'!F259","v":0}]
[null,5955,{"$f":"'20'!C260","v":0},{"$f":"'20'!D260","v":0},{"$f":"'20'!E260","v":0},{"$f":"'20'!F260","v":0}]
[null,5956,{"$f":"'20'!C261","v":0},{"$f":"'20'!D261","v":0},{"$f":"'20'!E261","v":0},{"$f":"'20'!F261","v":0}]
[null,5957,{"$f":"'20'!C262","v":0},{"$f":"'20'!D262","v":0},{"$f":"'20'!E262","v":0},{"$f":"'20'!F262","v":0}]
[null,5958,{"$f":"'20'!C263","v":0},{"$f":"'20'!D263","v":0},{"$f":"'20'!E263","v":0},{"$f":"'20'!F263","v":0}]
[null,5959,{"$f":"'20'!C264","v":0},{"$f":"'20'!D264","v":0},{"$f":"'20'!E264","v":0},{"$f":"'20'!F264","v":0}]
[null,5960,{"$f":"'20'!C265","v":0},{"$f":"'20'!D265","v":0},{"$f":"'20'!E265","v":0},{"$f":"'20'!F265","v":0}]
[null,5961,{"$f":"'20'!C266","v":0},{"$f":"'20'!D266","v":0},{"$f":"'20'!E266","v":0},{"$f":"'20'!F266","v":0}]
[null,5962,{"$f":"'20'!C267","v":0},{"$f":"'20'!D267","v":0},{"$f":"'20'!E267","v":0},{"$f":"'20'!F267","v":0}]
[null,5963,{"$f":"'20'!C268","v":0},{"$f":"'20'!D268","v":0},{"$f":"'20'!E268","v":0},{"$f":"'20'!F268","v":0}]
[null,5964,{"$f":"'20'!C269","v":0},{"$f":"'20'!D269","v":0},{"$f":"'20'!E269","v":0},{"$f":"'20'!F269","v":0}]
[null,5965,{"$f":"'20'!C270","v":0},{"$f":"'20'!D270","v":0},{"$f":"'20'!E270","v":0},{"$f":"'20'!F270","v":0}]
[null,5966,{"$f":"'20'!C271","v":0},{"$f":"'20'!D271","v":0},{"$f":"'20'!E271","v":0},{"$f":"'20'!F271","v":0}]
[null,5967,{"$f":"'20'!C272","v":0},{"$f":"'20'!D272","v":0},{"$f":"'20'!E272","v":0},{"$f":"'20'!F272","v":0}]
[null,5968,{"$f":"'20'!C273","v":0},{"$f":"'20'!D273","v":0},{"$f":"'20'!E273","v":0},{"$f":"'20'!F273","v":0}]
[null,5969,{"$f":"'20'!C274","v":0},{"$f":"'20'!D274","v":0},{"$f":"'20'!E274","v":0},{"$f":"'20'!F274","v":0}]
[null,5970,{"$f":"'20'!C275","v":0},{"$f":"'20'!D275","v":0},{"$f":"'20'!E275","v":0},{"$f":"'20'!F275","v":0}]
[null,5971,{"$f":"'20'!C276","v":0},{"$f":"'20'!D276","v":0},{"$f":"'20'!E276","v":0},{"$f":"'20'!F276","v":0}]
[null,5972,{"$f":"'20'!C277","v":0},{"$f":"'20'!D277","v":0},{"$f":"'20'!E277","v":0},{"$f":"'20'!F277","v":0}]
[null,5973,{"$f":"'20'!C278","v":0},{"$f":"'20'!D278","v":0},{"$f":"'20'!E278","v":0},{"$f":"'20'!F278","v":0}]
[null,5974,{"$f":"'20'!C279","v":0},{"$f":"'20'!D279","v":0},{"$f":"'20'!E279","v":0},{"$f":"'20'!F279","v":0}]
[null,5975,{"$f":"'20'!C280","v":0},{"$f":"'20'!D280","v":0},{"$f":"'20'!E280","v":0},{"$f":"'20'!F280","v":0}]
[null,5976,{"$f":"'20'!C281","v":0},{"$f":"'20'!D281","v":0},{"$f":"'20'!E281","v":0},{"$f":"'20'!F281","v":0}]
[null,5977,{"$f":"'20'!C282","v":0},{"$f":"'20'!D282","v":0},{"$f":"'20'!E282","v":0},{"$f":"'20'!F282","v":0}]
[null,5978,{"$f":"'20'!C283","v":0},{"$f":"'20'!D283","v":0},{"$f":"'20'!E283","v":0},{"$f":"'20'!F283","v":0}]
[null,5979,{"$f":"'20'!C284","v":0},{"$f":"'20'!D284","v":0},{"$f":"'20'!E284","v":0},{"$f":"'20'!F284","v":0}]
[null,5980,{"$f":"'20'!C285","v":0},{"$f":"'20'!D285","v":0},{"$f":"'20'!E285","v":0},{"$f":"'20'!F285","v":0}]
[null,5981,{"$f":"'20'!C286","v":0},{"$f":"'20'!D286","v":0},{"$f":"'20'!E286","v":0},{"$f":"'20'!F286","v":0}]
[null,5982,{"$f":"'20'!C287","v":0},{"$f":"'20'!D287","v":0},{"$f":"'20'!E287","v":0},{"$f":"'20'!F287","v":0}]
[null,5983,{"$f":"'20'!C288","v":0},{"$f":"'20'!D288","v":0},{"$f":"'20'!E288","v":0},{"$f":"'20'!F288","v":0}]
[null,5984,{"$f":"'20'!C289","v":0},{"$f":"'20'!D289","v":0},{"$f":"'20'!E289","v":0},{"$f":"'20'!F289","v":0}]
[null,5985,{"$f":"'20'!C290","v":0},{"$f":"'20'!D290","v":0},{"$f":"'20'!E290","v":0},{"$f":"'20'!F290","v":0}]
[null,5986,{"$f":"'20'!C291","v":0},{"$f":"'20'!D291","v":0},{"$f":"'20'!E291","v":0},{"$f":"'20'!F291","v":0}]
[null,5987,{"$f":"'20'!C292","v":0},{"$f":"'20'!D292","v":0},{"$f":"'20'!E292","v":0},{"$f":"'20'!F292","v":0}]
[null,5988,{"$f":"'20'!C293","v":0},{"$f":"'20'!D293","v":0},{"$f":"'20'!E293","v":0},{"$f":"'20'!F293","v":0}]
[null,5989,{"$f":"'20'!C294","v":0},{"$f":"'20'!D294","v":0},{"$f":"'20'!E294","v":0},{"$f":"'20'!F294","v":0}]
[null,5990,{"$f":"'20'!C295","v":0},{"$f":"'20'!D295","v":0},{"$f":"'20'!E295","v":0},{"$f":"'20'!F295","v":0}]
[null,5991,{"$f":"'20'!C296","v":0},{"$f":"'20'!D296","v":0},{"$f":"'20'!E296","v":0},{"$f":"'20'!F296","v":0}]
[null,5992,{"$f":"'20'!C297","v":0},{"$f":"'20'!D297","v":0},{"$f":"'20'!E297","v":0},{"$f":"'20'!F297","v":0}]
[null,5993,{"$f":"'20'!C298","v":0},{"$f":"'20'!D298","v":0},{"$f":"'20'!E298","v":0},{"$f":"'20'!F298","v":0}]
[null,5994,{"$f":"'20'!C299","v":0},{"$f":"'20'!D299","v":0},{"$f":"'20'!E299","v":0},{"$f":"'20'!F299","v":0}]
[null,5995,{"$f":"'20'!C300","v":0},{"$f":"'20'!D300","v":0},{"$f":"'20'!E300","v":0},{"$f":"'20'!F300","v":0}]
[null,5996,{"$f":"'20'!C301","v":0},{"$f":"'20'!D301","v":0},{"$f":"'20'!E301","v":0},{"$f":"'20'!F301","v":0}]
[null,5997,{"$f":"'20'!C302","v":0},{"$f":"'20'!D302","v":0},{"$f":"'20'!E302","v":0},{"$f":"'20'!F302","v":0}]
[null,5998,{"$f":"'20'!C303","v":0},{"$f":"'20'!D303","v":0},{"$f":"'20'!E303","v":0},{"$f":"'20'!F303","v":0}]
[null,5999,{"$f":"'20'!C304","v":0},{"$f":"'20'!D304","v":0},{"$f":"'20'!E304","v":0},{"$f":"'20'!F304","v":0}]
[null,6000,{"$f":"'20'!C305","v":0},{"$f":"'20'!D305","v":0},{"$f":"'20'!E305","v":0},{"$f":"'20'!F305","v":0}]
[]
[]
[null,null,null,null,"INGRESOS",{"$f":"X18","v":0}]
[null,null,null,null,"GASTOS",{"$f":"Y18","v":0}]
[null,null,null,null,"RESULTADO",{"$f":"F6008-F6009","v":0}]